{"text_format":"1","workbook":"xlsx","n_sheets":92,"sheets":["RaceDraw","SCHEDULE","DBSA RACE SHEET","List_Names","TEAMS","RESULTS","sorted schedule","Race Printout","BCS 10","BCS 20","SENIOR A MIXED 10s","SENIOR A MIXED 20","SENIOR A OPEN 10","SENIOR A OPEN 20","SENIOR A WOMEN 10","SENIOR A WOMEN 20","SENIOR B MIXED 10s","SENIOR B MIXED 20s","SENIOR B OPEN 10","SENIOR B OPEN 20","SENIOR B WOMEN 10","SENIOR B WOMEN 20","SENIOR C MIXED 10","SENIOR C OPEN 10s","SENIOR C WOMEN 10","Sheet1","Lynx files","ADD TIMES (2.1)","ADD TIMES (2.2)","1","2","3","4","5","6","7","8","9","10","11","12","13","14","15","16","17","18","19","20","21","22","23","24","25","26","27","28","29","30","31","32","33","34","35","36","37","38","39","40","41","42","43","44","45","46","47","48","49","50","51","52","53","54","55","56","57","58","59","60","Ladder","SEASON","TIMECODE"],"not_rendered":{"charts":0,"images":124,"macros":1,"external_links":0,"defined_names":81,"comments":0,"pivot_tables":0},"unopened":[],"bounds":{"document_bytes":16777216,"sheet_cells":100000,"rows_first":2000,"rows_last":500,"rows_between":2000,"halvings":0,"cell_chars":16384,"cell_head_chars":4096},"cells_cut":0,"cells_raw":0,"read":"whole","date_system":"1900"}

{"sheet":"RaceDraw","index":0,"n_rows":429,"n_cols":16,"rows_kept":429,"cut":false,"hidden":false,"merged":[[426,7,426,15],[243,1,243,5],[243,6,243,8],[243,9,243,13],[411,7,411,15],[414,7,414,15],[417,7,417,15],[420,7,420,15],[423,7,423,15],[396,7,396,15],[399,7,399,15],[402,7,402,15],[405,7,405,15],[408,7,408,15],[381,7,381,15],[384,7,384,15],[387,7,387,15],[390,7,390,15],[393,7,393,15],[366,7,366,15],[369,7,369,15],[372,7,372,15],[375,7,375,15],[378,7,378,15],[351,7,351,15],[354,7,354,15],[357,7,357,15],[360,7,360,15],[363,7,363,15],[336,7,336,15],[339,7,339,15],[342,7,342,15],[345,7,345,15],[348,7,348,15],[321,7,321,15],[324,7,324,15],[327,7,327,15],[330,7,330,15],[333,7,333,15],[306,7,306,15],[309,7,309,15],[312,7,312,15],[315,7,315,15],[318,7,318,15],[291,7,291,15],[294,7,294,15],[297,7,297,15],[300,7,300,15],[303,7,303,15],[276,7,276,15],[279,7,279,15],[282,7,282,15],[285,7,285,15],[288,7,288,15],[261,7,261,15],[264,7,264,15],[267,7,267,15],[270,7,270,15],[273,7,273,15],[246,7,246,15],[249,7,249,15],[252,7,252,15],[255,7,255,15],[258,7,258,15],[230,7,230,15],[233,7,233,15],[236,7,236,15],[239,7,239,15],[242,7,242,15],[215,7,215,15],[218,7,218,15],[221,7,221,15],[224,7,224,15],[227,7,227,15],[200,7,200,15],[203,7,203,15],[206,7,206,15],[209,7,209,15],[212,7,212,15],[185,7,185,15],[188,7,188,15],[191,7,191,15],[194,7,194,15],[197,7,197,15],[170,7,170,15],[173,7,173,15],[176,7,176,15],[179,7,179,15],[182,7,182,15],[152,7,152,15],[158,7,158,15],[161,7,161,15],[164,7,164,15],[167,7,167,15],[137,7,137,15],[140,7,140,15],[143,7,143,15],[146,7,146,15],[149,7,149,15],[122,7,122,15],[125,7,125,15],[128,7,128,15],[131,7,131,15],[134,7,134,15],[107,7,107,15],[110,7,110,15],[113,7,113,15],[116,7,116,15],[119,7,119,15],[92,7,92,15],[95,7,95,15],[98,7,98,15],[101,7,101,15],[104,7,104,15],[77,7,77,15],[80,7,80,15],[83,7,83,15],[86,7,86,15],[89,7,89,15],[62,7,62,15],[65,7,65,15],[68,7,68,15],[71,7,71,15],[74,7,74,15],[47,7,47,15],[50,7,50,15],[53,7,53,15],[56,7,56,15],[59,7,59,15],[3,9,5,12],[9,7,9,10],[14,7,14,15],[17,7,17,15],[20,7,20,15],[23,7,23,15],[26,7,26,15],[29,7,29,15],[32,7,32,15],[35,7,35,15],[38,7,38,15],[41,7,41,15],[44,7,44,15]]}
[]
[null,null," "]
[null,"Friday 13th October 2023"]
[null,"Location:  - SCULLERS RESERVE - Rowing Course West Lakes",null,null,null,null,null,null,null,"2023 AMG DRAGON BOAT REGATTA  Version 2"]
[]
[null,"7:30AM",null,"Volunteers Meeting",null,">>>>",null,"Marshalling Tent "]
[]
[null,"7:45AM ",null,"Team Managers Meeting",null,">>>>",null,"This will occur at this time please have a representative present!"]
[]
[null,"  8:00 AM"," ","Race 1 Marshalled"," ",">>>>",null,"Teams in race ONE  need to depart by 8:20 to keep the day on track!"]
[]
[null,"Time","R","Category","Dist","Rnd","Ht","Lane 1  Red","Lane 2  Blue","Lane 3 Yellow","Lane 4  Pink","Lane 5 Green","Lane 6 Orange","Lane 7 White","Lane 8 Black","Lane 9 Purple"]
[null,"8.30",1,"Senior C Mixed 10",200,1,1,"Kombo Dragons Black","Mildura","Black Sea Dragons","Dragon Masters - Red","Motley Crew ","Southern Warriors"]
[null,null,null,null,null,null,"Times>"]
[]
[null,"8.36",2,"Senior C Mixed 10",200,1,2,"Deepwater Dragons","Peninsula Dragonflys","SADA Sonix Yellow","Gippsland United Orange","Newcastle Dragon Hunters - Red","Rainbow Dragons Teal"]
[null,null,null,null,null,null,"Times>"]
[]
[null,"8.42",3,"Senior C Mixed 10",200,1,3,"Gypsy Dragons","Dragon Masters  Yellow","Kombo Dragons Purple ","FNC","Kangaroo Island Dragons","Outback Dragons"]
[null,null,null,null,null,null,"Times>"]
[]
[null,"8.48",4,"Senior C Mixed 10",200,1,4,"Newcastle Dragon Hunters - Purple","Gippsland United Blue","Rainbow Dragons White","Goolwa River Dragons","SADA Sonix Blue","Powerblades"]
[null,null,null,null,null,null,"Times>"]
[]
[null,"8.54",5,"Senior B Mixed 10's",200,1,1,"Kombo Dragons Purple","Deepwater Dragons","Newcastle Dragon Hunters - Red","Hunter River Dragons","SADA Sonix Yellow","Southern Warriors"]
[null,null,null,null,null,null,"Times>"]
[null,null,null,null,null,null,"01:01:00"]
[null,"9.00",6,"Senior B Mixed 10's",200,1,2,"Gippsland United ","SADA Sonix Blue","Kombo Dragons Black","Newcastle Dragon Hunters - Purple","Mildura","Powerblades"]
[null,null,null,null,null,null,"Times>"]
[]
[null,"9.06",7,"Senior B Mixed 10's",200,1,3,"Outback Dragons","Black Sea Dragons","FNC","Gypsy Dragons","Goolwa River Dragons","Mannum"]
[null,null,null,null,null,null,"Times>"]
[]
[null,"9.12",8,"Senior B Mixed 20's",200,1,1,"Hunter River Dragons","Deep Water Dragons","Motley Crew","Mildura","SADA Sonix","Newcastle Dragon Hunters - Red"]
[null,null,null,null,null,null,"Times>"]
[]
[null,"9.18",9,"Senior B Mixed 20's",200,1,2,"Kombo Dragons Black","Rainbow Dragons","Dragon Masters","Powerblades","Newcastle Dragon Hunters - Purple","Gippsland United "]
[null,null,null,null,null,null,"Times>"]
[]
[null,"9.24",10,"Senior A Mixed 10's",200,1,1,"Hunter River Dragons","Goolwa River Dragons","Broadwater Dragons","Deepwater Dragons","Peninsula Dragonfly"]
[null,null,null,null,null,null,"Times>"]
[]
[null,"9.30",11,"Senior A Mixed 10's",200,1,2,"Mildura","Rainbow Dragons","Gippsland United","Kombo Dragons Black","Kombo Dragons Purple"]
[null,null,null,null,null,null,"Times>"]
[]
[null,"9.36",12,"Senior A Mixed 10's",200,1,3,"Southern Warriors","Powerblades","Black Sea Dragons","Dragonfire","Newcastle Dragon Hunters"]
[null,null,null,null,null,null,"Times>"]
[]
[null,"9.42",13,"Senior A Mixed 20",200,1,1,"Gippsland United","Motley Crew","Kombo Dragons Black","Mildura","Deepwater Dragons","Hunter River Dragons"]
[null,null,null,null,null,null,"Times>"]
[]
[null,"9.48",14,"Senior C Women 10",200,1,1,"FNC","Southern Warriors Blue","Black Sea Dragons","Gypsy Dragons","SADA Sonix Yellow","Rainbow Dragons Blue"]
[null,null,null,null,null,null,"Times>"]
[]
[null,"9.54",15,"Senior C Women 10",200,1,2,"Gippsland Orange","Deepwater Purple","SADA Sonix Blue","Dragons Afloat Bendigo","Kombo Dragons Black","Newcastle Dragon Hunters Red","Hunter River Dragons"]
[null,null,null,null,null,null,"Times>"]
[]
[null,"10.00",16,"Senior C Women 10",200,1,3,"DA Bendigo Pink","Dragons Afloat Port Lincoln","Dragon Masters","Juggernauts","Deepwater Green","Outback Dragons"]
[null,null,null,null,null,null,"Times>"]
[]
[null,"10.06",17,"Senior C Women 10",200,1,4,"Motley Crew","Southern Warriors White","Kangaroo Island Dragons","Powerblades","Rainbow Dragons Red","Mildura"]
[null,null,null,null,null,null,"Times>"]
[]
[null,"10.12",18,"Senior C Women 10",200,1,5,"Newcastle Dragon Hunters Purple","SCD Warrnambool","Peninsuls Dragonflys","Gippsland Blue","DA Bendigo Blue","Golden Dragons"]
[null,null,null,null,null,null,"Times>"]
[]
[null,"10.18",19,"Senior C Open 10's",200,1,1,"Southern Warriors Blue","ASA","Kombo Dragons Black","FNC","Outback Dragons","Gypsy Dragons","Rainbow Dragons"]
[null,null,null,null,null,null,"Times>"]
[]
[null,"10.24",20,"Senior C Open 10's",200,1,2,"Powerblades","Motley Crew","Dragon Masters","Deepwater","Gippsland United","Kombo Dragons Purple"]
[null,null,null,null,null,null,"Times>"]
[]
[null,"10.30",21,"Senior C Open 10's",200,1,3,"Newcastle Dragon Hunters Red","Kangaroo Island Dragons","Hunter River Dragons","Southern Warriors White","Mildura","SADA Sonix"]
[null,null,null,null,null,null,"Times>"]
[]
[null,"10.36",22,"BCS 10",200,1,1,"Motley Crew","DA Bendigo Blue","ASA","Juggernauts"]
[null,null,null,null,null,null,"Times>"]
[]
[null,"10.42",23,"BCS 10",200,1,2,"SADA Sonix","Dragons Abreast Adelaide","Rainbow Dragons","DA Bendigo Pink","Pink Dragons"]
[null,null,null,null,null,null,"Times>"]
[]
[null,"10.48",24,"Senior B Women 10",200,1,1,"Goolwa River Dragons","Deepwater Dragons","Dragonfire","Newcastle Dragon Hunters Red","Hunter River Dragons","Mildura"]
[null,null,null,null,null,null,"Times>"]
[]
[null,"10.54",25,"Senior B Women 10",200,1,2,"DA Bendigo","SADA Sonix Yellow","Powerblades","Black Sea Dragons","Kombo Dragons Purple","Gypsy Dragons","Outback Dragons"]
[null,null,null,null,null,null,"Times>"]
[]
[null,"11.00",26,"Senior B Women 10",200,1,3,"SCD Warrnambool","Kombo Dragons Black","Gippsland United","Dragons Afloat Bendigo","Southern Warriors","SADA Sonix Blue"]
[null,null,null,null,null,null,"Times>"]
[]
[null,"11.06",27,"Senior B Women 10",200,1,4,"Broadwater Dragons","Golden Dragons","Newcastle Dragon Hunters Purple","Juggernauts","Dragons Afloat Port Lincoln","FNC"]
[null,null,null,null,null,null,"Times>"]
[]
[null,"11.12",28,"Senior B Open 10",200,1,1,"SADA Sonix","Gippsland United","Outback Dragons","Dragonfire","Kombo Dragons Black","Mildura"]
[null,null,null,null,null,null,"Times>"]
[]
[null,"11.18",29,"Senior B Open 10",200,1,2,"Gypsy Dragons","Southern Warriors","Deepwater","Kombo Dragons Purple","ASA","Newcastle Dragon Hunters Red"]
[null,null,null,null,null,null,"Times>"]
[]
[null,"11.24",30,"Senior B Open 10",200,1,3,"Kombo Dragons Green","Hunter River Dragons","Black Sea Dragons","Goolwa River Dragons","Mannum"]
[null,null,null,null,null,null,"Times>"]
[]
[null,"11.30",31,"BCS 20",200,1,1,null,"DA Bendigo","Dragons Afloat Port Lincoln","Juggernauts"]
[null,null,null,null,null,null,"Times>"]
[]
[null,"11.36",32,"Senior B Women 20",200,1,1,"Gippsland United","Hunter River Dragons","Deepwater Purple","Newcastle Dragon Hunters Red","Southern Warriors","FNC","Kombo Dragons Black"]
[null,null,null,null,null,null,"Times>"]
[]
[null,"11.42",33,"Senior B Women 20",200,1,2,"Dragons Afloat Bendigo","Mildura","Motley Crew","Rainbow Dragons","Newcastle Dragon Hunters Purple","Deepwater Green","SADA Sonix"]
[null,null,null,null,null,null,"Times>"]
[]
[null,"11.48",34,"Senior B Open 20",200,1,1,"Gypsy Dragons","Newcastle Dragon Hunters Red","Kombo Dragons","Gippsland United","Hunter River Dragons"]
[null,null,null,null,null,null,"Times>"]
[]
[null,"11.54",35,"Senior B Open 20",200,1,2,"Newcastle Dragon Hunters Purple","Motley Crew","Southern Warriors","Deepwater","Outback Dragons"]
[null,null,null,null,null,null,"Times>"]
[]
[null,"12.00",36,"Senior A Women 10",200,1,1,"Hunter River Dragons","Mildura","FNC","Kombo Dragons Purple","Dragonfire","Gippsland United","Black Sea Dragons"]
[null,null,null,null,null,null,"Times>"]
[]
[null,"12.06",37,"Senior A Women 10",200,1,2,"Pink Dragons","Kombo Dragons Black","Deepwater Dragons","Goolwa River Dragons","Diamond Phoenix","Southern Warriors"]
[null,null,null,null,null,null,"Times>"]
[]
[null,"12.12",38,"Senior A Women 10",200,1,3,"Rainbow Dragons","Dragons Abreast Adelaide","Newcastle Dragon Hunters","SADA Sonix","Peninsula Dragonflys","Powerblades","Golden Dragons"]
[null,null,null,null,null,null,"Times>"]
[]
[null,"12.18",39,"Senior A Open 10",200,1,1,"Hunter River Dragons","Pink Dragons","Broadwater Dragons","Kombo Dragons Purple","Black Sea Dragons"]
[null,null,null,null,null,null,"Times>"]
[]
[null,"12.24",40,"Senior A Open 10",200,1,2,"Kombo Dragons Black","Southern Warriors","Gippsland United","Deepwater Dragons","Dragonfire"]
[null,null,null,null,null,null,"Times>"]
[]
[null,"12.30",41,"Senior A Open 10",200,1,3,"Goolwa River Dragons","Kombo Dragons Green","Diamond Phoenix","Mildura","FNC"]
[null,null,null,null,null,null,"Times>"]
[]
[null,"12.36",42,"Senior A Women 20",200,1,1,"Motley Crew","Deepwater Dragons","Black Sea Dragons","Kombo Dragons Black","Hunter River Dragons"]
[null,null,null,null,null,null,"Times>"]
[]
[null,"12.42",43,"Senior A Women 20",200,1,2,"Powerblades","Peninsula Dragonflys","Broadwater Dragons","SADA Sonix","Southern Warriors"]
[null,null,null,null,null,null,"Times>"]
[]
[null,"12.48",44,"Senior A Women 20",200,1,3,"Newcastle Dragon Hunters","Gippsland United","Pink Dragons","Dragons Abreast Adelaide","Golden Dragons"]
[null,null,null,null,null,null,"Times>"]
[]
[null,"12.54",45,"Senior A Open 20",200,1,1,"Deepwater Hunter","Kombo Dragons Black","Dragonfire","Southern Warriors","Motley Crew"]
[null,null,null,null,null,null,"Times>"]
[]
[null,"13.00",46,"Senior A Open 20",200,1,2,"Peninsula Dragonflys","Goolwa River Dragons","FNC","Gippsland United","Kombo Dragons Purple"]
[null,null,null,null,null,null,"Times>"]
[]
[null,"13.30",47,"Senior C Mixed 10",200,2,1,"SADA Sonix Yellow","Motley Crew","Rainbow Dragons Teal","Deepwater Dragons","Peninsula Dragonflys","Dragon Masters Red"]
[null,null,null,null,null,null,"Times>"]
[]
[null,"13.36",48,"Senior C Mixed 10",200,2,2,"Black Sea Dragons","Newcastle Dragon Hunters Red","Kombo Dragons Black","Southern Warriors","Mildura","Gippsland United Orange"]
[null,null,null,null,null,null,"Times>"]
[]
[null,"13.42",49,"Senior C Mixed 10",200,2,3,"Goolwa River Dragons","Kangaroo Island Dragons","Outback Dragons","Powerblades","SADA Sonix Blue","Kombo Dragons Purple"]
[null,null,null,null,null,null,"Times>"]
[]
[null,"13.48",50,"Senior C Mixed 10",200,2,4,"FNC","Dragon Masters Yellow","Newcastle Dragon Hunters Purple","Gypsy Dragons","Gippsland United Blue","Rainbow Dragons White"]
[null,null,null,null,null,null,"Times>"]
[]
[null,"13.54",51,"Senior B Mixed 10's",200,2,1,"Newcastle Dragon Hunters Red","Black Sea Dragons","Gippsland United","Powerblades","Deepwater Dragons","Kombo Dragons Black"]
[null,null,null,null,null,null,"Times>"]
[]
[null,"14.00",52,"Senior B Mixed 10's",200,2,2,"Gypsy Dragons","Goolwa River Dragons","Kombo Dragons Purple","Outback Dragons","SADA Sonix Yellow","FNC"]
[null,null,null,null,null,null,"Times>"]
[]
[null,"14.06",53,"Senior B Mixed 10's",200,2,3,"Newcastle Dragon Hunters Purple","SADA Sonix Blue","Mannum","Southern Warriors","Mildura","Hunter River Dragons"]
[null,null,null,null,null,null,"Times>"]
[]
[null,"14.12",54,"Senior B Mixed 20's",200,2,1,"Dragon Masters","Rainbow Dragons","Kombo Dragons Black","Newcastle Dragon Hunters Red","Deepwater Dragons","Powerblades"]
[null,null,null,null,null,null,"Times>"]
[]
[null,"14.18",55,"Senior B Mixed 20's",200,2,2,"Motley Crew","Newcastle Dragon Hunters Purple","Hunter River Dragons","Gippsland United","Mildura","SADA Sonix"]
[null,null,null,null,null,null,"Times>"]
[]
[null,"14.24",56,"Senior A Mixed 10's",200,2,1,"Black Sea Dragons","Newcastle Dragon Hunters","Mildura","Powerblades","Kombo Dragons Black"]
[null,null,null,null,null,null,"Times>"]
[]
[null,"14.30",57,"Senior A Mixed 10's",200,2,2,"Rainbow Dragons","Kombo Dragons Black","Hunter River Dragons","Broadwater Dragons","Deepwater Dragons"]
[null,null,null,null,null,null,"Times>"]
[]
[null,"14.36",58,"Senior A Mixed 10's",200,2,3,"Gippsland United","Peninsula Dragonfly","Southern Warriors","Goolwa River Dragons","Dragonfire"]
[null,null,null,null,null,null,"Times>"]
[]
[null,"14.42",59,"Senior A Mixed 20",200,2,1,"Kombo Dragons Black","Hunter River Dragons","Deepwater Dragons","Motley Crew","Gippsland United","Mildura"]
[null,null,null,null,null,null,"Times>"]
[]
[null,"14.48",60,"Senior C Women 10",200,2,1,"Black Sea Dragons","Rainbow Dragons Blue","SADA Sonix Blue","Newcastle Dragon Hunters Red","Dragons Afloat Port Lincoln","Deepwater Green"]
[null,null,null,null,null,null,"Times>"]
[]
[null,"14.54",61,"Senior C Women 10",200,2,2,"Southern Warriors White","Rainbow Dragons Red","SCD Warrnambool","DA Bendigo Blue","FNC","Gypsy Dragons"]
[null,null,null,null,null,null,"Times>"]
[]
[null,"15.00",62,"Senior C Women 10",200,2,3,"Gippsland Blue","Dragons Afloat Bendigo","Hunter River Dragons","Dragon Masters","Outback Dragons","Kangaroo Island Dragons"]
[null,null,null,null,null,null,"Times>"]
[]
[null,"15.06",63,"Senior C Women 10",200,2,4,"Mildura","Peninsula Dragonfly","Golden Dragons","Southern Warriors Blue","SADA Sonix Yellow","Deepwater Purple"]
[null,null,null,null,null,null,"Times>"]
[]
[null,"15.12",64,"Senior C Women 10",200,2,5,"Kombo Dragons Black","DA Bendigo Pink","Juggernauts","Motley Crew","Powerblades","Newcastle Dragon Hunters Purple","Gippsland Orange"]
[null,null,null,null,null,null,"Times>"]
[]
[null,"15.18",65,"Senior C Open 10's",200,2,1,"Rainbow Dragons","Mildura","PowerBlades","SADA Sonix","Kangaroo Island Dragons","Hunter River Dragons"]
[null,null,null,null,null,null,"Times>"]
[]
[null,"15.24",66,"Senior C Open 10's",200,2,2,"Deepwater","Gippsland United","Southern Warriors Blue","FNC","Gypsy Dragons","Kombo Dragons Black","ASA"]
[null,null,null,null,null,null,"Times>"]
[]
[null,"15.30",67,"Senior C Open 10's",200,2,3,"Southern Warriors White","Outback Dragons","Newcastle Dragon Hunters Red","Kombo Dragons Purple","Motley Crew","Dragon Masters"]
[null,null,null,null,null,null,"Times>"]
[]
[null,"15.36",68,"BCS 10",200,2,1,"Rainbow Dragons","SADA Sonix","Pink Dragons","DA Bendigo Blue","Juggernauts"]
[null,null,null,null,null,null,"Times>"]
[]
[null,"15.42",69,"BCS 10",200,2,2,"DA Bendigo Pink","Motley Crew","Dragons Abreast Adelaide","ASA"]
[null,null,null,null,null,null,"Times>"]
[]
[null,"15.48",70,"Senior B Women 10",200,2,1,"Newcastle Dragon Hunters Purple","Outback Dragons","Golden Dragons","Kombo Dragons Purple","Goolwa River Dragons","Black Sea Dragons"]
[null,null,null,null,null,null,"Times>"]
[]
[null,"15.54",71,"Senior B Women 10",200,2,2,"Dragonfire","Mildura","Kombo Dragons Black","Dragons Afloat Port Lincoln","Broadwater Dragons","Newcastle Dragon Hunters Red","SCD Warrnambool"]
[null,null,null,null,null,null,"Times>"]
[]
[null,"16.00",72,"Senior B Women 10",200,2,3,"Deepwater","SADA Sonix Blue","Gypsy Dragons","Southern Warriors","Gippsland United","Juggernauts"]
[null,null,null,null,null,null,"Times>"]
[]
[null,"16.06",73,"Senior B Women 10",200,2,4,"Powerblades","FNC","SADA Sonix Yellow","Hunter River Dragons","DA Bendigo","Dragons Afloat Bendigo"]
[null,null,null,null,null,null,"Times>"]
[]
[null,"16.12",74,"Senior B Open 10",200,2,1,"Kombo Dragons Purple","ASA","Mannum","Gypsy Dragons","Southern Warriors","Black Sea Dragons"]
[null,null,null,null,null,null,"Times>"]
[]
[null,"16.18",75,"Senior B Open 10",200,2,2,"Goolwa River Dragons","Kombo Dragons Black","Newcastle Dragon Hunters Red","SADA Sonix","Gippsland United","Outback Dragons"]
[null,null,null,null,null,null,"Times>"]
[]
[null,"16.24",76,"Senior B Open 10",200,2,3,"Dragonfire","Mildura","Kombo Dragons Green","Hunter River Dragons","Deepwater"]
[null,null,null,null,null,null,"Times>"]
[]
[null,"16.30",77,"BCS 20",200,2,1,null,"Dragons Afloat Port Lincoln","DA Bendigo","Juggernauts"]
[null,null,null,null,null,null,"Times>"]
[]
[null," Saturday 14th October 2023",null,null,null,null,"8.15am Team Managers Meeting                                     8.30am Race 78 Marshalled",null,null,"2023 AMG DRAGON BOAT REGATTA"]
[null,"9.00",78,"Senior B Women 20",200,2,1,"Deepwater Purple","Kombo Dragons Black","Rainbow Dragons","Newcastle Dragon Hunters Purple","FNC","Mildura","Motley Crew"]
[null,null,null,null,null,null,"Times>"]
[]
[null,"9.32",79,"Senior B Women 20",200,2,2,"Gippsland United","SADA Sonix","Newcastle Dsragon Hunters Red","Southern Warriors","Deepwater Green","Hunter River Dragons","Gragons Afloat Bendigo"]
[null,null,null,null,null,null,"Times>"]
[]
[null,"9.40",80,"Senior B Open 20",200,2,1,"Southern Warriors","Deepwater","Outback Dragons","Newcastle Dragon Hunters Purple","Motley Crew"]
[null,null,null,null,null,null,"Times>"]
[]
[null,"9.48",81,"Senior B Open 20",200,2,2,"Kombo Dragons","Gippsland United","Hunter River Dragons","Gypsy Dragons","Newcastle Dsragon Hunters Red"]
[null,null,null,null,null,null,"Times>"]
[]
[null,"9.54",82,"Senior A Women 10",200,2,1,"Sada Sonix","Dragonfire","Southern Warriors","Pink Dragons","Powerblades","Newcastle Dragon Hunters","Mildura"]
[null,null,null,null,null,null,"Times>"]
[]
[null,"10.00",83,"Senior A Women 10",200,2,2,"Kombo Dragons Purple","Peninsula Dragonflys","Golden Dragons","Hunter River Dragons","FNC","Dragons Abreast Adelaide"]
[null,null,null,null,null,null,"Times>"]
[]
[null,"10.06",84,"Senior A Women 10",200,2,3,"Goolwa River Dragons","Diamond Phoenix","Black Sea Dragons","Rainbow Dragons","Gippsland United","Deepwater","Kombo Dragons Black"]
[null,null,null,null,null,null,"Times>"]
[]
[null,"10.12",85,"Senior A Open 10",200,2,1,"Pink Dragons","Mildura","Goolwa River Dragons","Black Sea Dragons","Gippsland United"]
[null,null,null,null,null,null,"Times>"]
[]
[null,"10.18",86,"Senior A Open 10",200,2,2,"Southern Warriors","Kombo Dragons Purple","Kombo Dragons Black","FNC","Diamond Phoenix"]
[null,null,null,null,null,null,"Times>"]
[]
[null,"10.24",87,"Senior A Open 10",200,2,3,"Kombo Dragons Green","Deepwater Dragons","Hunter River Dragons","Dragonfire","Broadwater Dragons"]
[null,null,null,null,null,null,"Times>"]
[]
[null,"10.30",88,"Senior A Women 20",200,2,1,"Pink Dragons","Golden Dragons","Powerblades","Peninsula Dragonflys","SADA Sonix"]
[null,null,null,null,null,null,"Times>"]
[]
[null,"10.36",89,"Senior A Women 20",200,2,2,"Black Sea Dragons","Southern Warriors","Motley Crew","Gippsland United","Kombo Dragons Black"]
[null,null,null,null,null,null,"Times>"]
[]
[null,"10.42",90,"Senior A Women 20",200,2,3,"Broadwater Dragons","Hunter River Dragons","Newcastle Dragon Hunters","Deepwater","Dragons Abreast Adelaide"]
[null,null,null,null,null,null,"Times>"]
[]
[null,"10.48",91,"Senior A Open 20",200,2,1,"FNC","Kombo Dragons Purple","Peninsula Dragonflys","Goolwa River Dragons","Southern Warriors"]
[null,null,null,null,null,null,"Times>"]
[]
[null,"10.54",92,"Senior A Open 20",200,2,2,"Dragonfire","Motley Crew","Deepwater Hunter","Kombo Dragons Black","Gippsland United"]
[null,null,null,null,null,null,"Times>"]
[]
[null,"11.06",93,"Senior C Mixed 10",200,3,1,"Rainbow Dragons Teal","SADA Sonix Yellow","Newcastle Dragon Hunters Red","Mildura","Dragon Masters Red","Powerblades"]
[null,null,null,null,null,null,"Times>"]
[]
[null,"11.12",94,"Senior C Mixed 10",200,3,2,"Southern Warriors","Black Sea Dragons","Motley Crew","Peninsula Dragonflys","Gippsland United Orange","Kombo Dragons Black"]
[]
[]
[null,"11.18",95,"Senior C Mixed 10",200,3,3,"Deepwater Dragons","Kombo Dragons Purple","Kangaroo Island Dragons","Gippsland United Blue","FNC","Newcastle Dragon Hunters Purple"]
[null,null,null,null,null,null,"Times>"]
[]
[null,"11.24",96,"Senior C Mixed 10",200,3,4,"Outback Dragons","Goolwa River Dragons","SADA Sonix Blue","Dragon Masters Yellow","Rainbow Dragons White","Gypsy Dragons"]
[null,null,null,null,null,null,"Times>"]
[]
[null,"11.30",97,"Senior B Mixed 10's",200,3,1,"Hunter River Dragons","Mannum","Black Sea Dragons","Mildura","Kombo Dragons Purple","Newcastle Dragon Hunters Purple"]
[null,null,null,null,null,null,"Times>"]
[]
[null,"11.36",98,"Senior B Mixed 10's",200,3,2,"FNC","Southern Warriors","SADA Sonix Blue","Deepwater Dragons","Powerblades","Newcastle Dragon Hunters Red"]
[null,null,null,null,null,null,"Times>"]
[]
[null,"11.42",99,"Senior B Mixed 10's",200,3,3,"Kombo Dragons Black","Outback Dragons","Goolwa River Dragons","SADA Sonix Yellow","Gippsland United","Gypsy Dragons"]
[null,null,null,null,null,null,"Times>"]
[]
[null,"11.48",100,"Senior B Mixed 20's",200,3,1,"Newcastle Dragon Hunters Red","Powerblades","Deepwater Dragons","Mildura","Dragon Masters","Hunter River Dragons"]
[null,null,null,null,null,null,"Times>"]
[]
[null,"11.54",101,"Senior B Mixed 20's",200,3,2,"Gippsland United","Rainbow Dragons","Newcastle Dragon Hunters Purple","SADA Sonix","Motley Crew","Kombo Dragons Black"]
[null,null,null,null,null,null,"Times>"]
[]
[null,"12.00",102,"Senior A Mixed 10's",200,3,1,"Goolwa River Dragons","Deepwater Dragons","Southern Warriors","Peninsula Dragonfly","Gippsland United"]
[null,null,null,null,null,null,"Times>"]
[]
[null,"12.06",103,"Senior A Mixed 10's",200,3,2,"Powerblades","Kombo Dragons Black","Mildura","Kombo Dragons Purple","Black Sea Dragons"]
[null,null,null,null,null,null,"Times>"]
[]
[null,"12.12",104,"Senior A Mixed 10's",200,3,3,"Rainbow Dragons","Dragonfire","Hunter River Dragons","Newcastle Dragon Hunters","Broadwater Dragons"]
[null,null,null,null,null,null,"Times>"]
[]
[null,"12.42",105,"Senior A Mixed 20",200,3,1,"Mildura","Deepwater Dragons","Hunter River Dragons","Gippsland United","Motley Crew","Kombo Dragons Black"]
[null,null,null,null,null,null,"Times>"]
[]
[null,"12.48",106,"Senior C Women 10",200,3,1,"SADA Sonix Yellow","FNC","Dragons Afloat Bendigo","Dragons Afloat Port Lincoln","Motley Crew","Mildura"]
[null,null,null,null,null,null,"Times>"]
[]
[null,"12.54",107,"Senior C Women 10",200,3,2,"DA Bendigo Blue","Southern Warriors Blue","Gippsland Orange","Newcastle Dragon Hunters Red","Juggernauts","Kangaroo Island Dragons"]
[null,null,null,null,null,null,"Times>"]
[]
[null,"13.00",108,"Senior C Women 10",200,3,3,"Scd Warrnambool","Rainbow Dragons Blue","Deepwater Purple","Hunter River Dragons","Outback Dragons","Powerblades"]
[null,null,null,null,null,null,"Times>"]
[]
[null,"13.06",109,"Senior C Women 10",200,3,4,"Peninsula Dragonfly","Gypsy Dragons","SADA Sonix Blue","DA Bendigo Pink","Deepwater Green","Rainbow Dragons Red"]
[null,null,null,null,null,null,"Times>"]
[]
[null,"13.12",110,"Senior C Women 10",200,3,5,"Gippsland Blue","Black Sea Dragons","Kombo Dragons Black","Golden Dragons","Southern Warriors White","Newcastle Dragon Hunters Purple","Dragon Masters"]
[null,null,null,null,null,null,"Times>"]
[]
[null,"13.18",111,"Senior C Open 10's",200,3,1,"Rainbow Dragons","Hunter River Dragons","Gippsland United","Motley Crew","FNC","Southern Warriors Blue"]
[null,null,null,null,null,null,"Times>"]
[]
[null,"13.24",112,"Senior C Open 10's",200,2,2,"Kombo Dragons Purple","Dragon Masters","Outback Dragons","Kangaroo Island Dragons","Gypsy Dragons","Southern Warriors White","Powerblades"]
[null,null,null,null,null,null,"Times>"]
[]
[null,"13.30",113,"Senior C Open 10's",200,3,3,"SADA Sonix","Kombo Dragons Black","Mildura","ASA","Deepwater","Newcastle Dragon Hunters Red"]
[null,null,null,null,null,null,"Times>"]
[]
[null,"13.36",114,"BCS 10",200,3,1,"DA Bendigo Pink","Dragons Abreast Adelaide","ASA","SADA Sonix"]
[null,null,null,null,null,null,"Times>"]
[]
[null,"13.42",115,"BCS 10",200,3,2,"Pink Dragons","Rainbow Dragons","DA Bendigo Blue","Juggernauts","Motley Crew"]
[null,null,null,null,null,null,"Times>"]
[]
[null,"13.48",116,"Senior B Women 10",200,3,1,"Dragons Afloat Bendigo","Dragons Afloat Port Lincoln","SCD Warrnambool","Outback Dragons","Sada Sonix Yellow","Powerblades"]
[null,null,null,null,null,null,"Times>"]
[]
[null,"13.54",117,"Senior B Women 10",200,3,2,"Newcastle Dragon Hunters Red","Kombo Dragons Purple","Broadwater Dragons","Mildura","Gypsy Dragons","Deepwater","Gippsland United"]
[null,null,null,null,null,null,"Times>"]
[]
[null,"14.00",118,"Senior B Women 10",200,3,3,"Juggernauts","Hunter River Dragons","Goolwa River Dragons","FNC","Kombo Dragons Black","Newcastle Dragon Hunters Purple"]
[null,null,null,null,null,null,"Times>"]
[]
[null,"14.06",119,"Senior B Women 10",200,3,4,"Black Sea Dragons","Southern Warriors","DA Bendigo","SADA Sonix Blue","Golden Dragons","Dragonfire"]
[null,null,null,null,null,null,"Times>"]
[]
[null,"14.12",120,"Senior B Open 10",200,3,1,"Hunter River Dragons","Deepwater","Kombo Dragons Black","Southern Warriors","Goolwa River Dragons","Newcastle Dragon Hunters Red"]
[null,null,null,null,null,null,"Times>"]
[]
[null,"14.18",121,"Senior B Open 10",200,3,2,"SADA Sonix","Outback Dragons","ASA","Gippsland United","Dragonfire","Kombo Dragons Green"]
[null,null,null,null,null,null,"Times>"]
[]
[null,"14.24",122,"Senior B Open 10",200,3,3,"Black Sea Dragons","Gypsy Dragons","Mildura","Kombo Dragons Purple","Mannum"]
[null,null,null,null,null,null,"Times>"]
[]
[null,"14.30",123,"BCS 20",200,3,1,null,"Juggernauts","DA Bendigo","Dragons Afloat Port Lincoln"]
[null,null,null,null,null,null,"Times>"]
[]
[null,"14.36",124,"Senior B Women 20",200,3,1,"Newcastle Dragon Hunters Red","Deepwater Green","Gippsland United","SADA Sonix","Hunter River Dragons","Motley Crew","Southern Warriors"]
[null,null,null,null,null,null,"Times>"]
[]
[null,"14.42",125,"Senior B Women 20",200,3,2,"Rainbow Dragons","FNC","Dragons Afloat Bendigo","Kombo Dragons Black","Mildura","Deepwater Purple","Newcastle Dragon Hunters Purple"]
[null,null,null,null,null,null,"Times>"]
[]
[null,"14.48",126,"Senior B Open 20",200,3,1,"Hunter River Dragons","Gypsy Dragons","Newcastle Dragon Hunters Red","Southern Warriors","Gippsland United"]
[null,null,null,null,null,null,"Times>"]
[]
[null,"14.54",127,"Senior B Open 20",200,3,2,"Outback Dragons","Newcastle Dragon Hunters Purple","Motley Crew","Kombo Dragons","Deepwater"]
[null,null,null,null,null,null,"Times>"]
[]
[null,"15.00",128,"Senior A Women 10",200,3,1,"Gippsland United","Rainbow Dragons","Mildura","Goolwa River Dragons","Golden Dragons","Diamond Phoenix"]
[null,null,null,null,null,null,"Times>"]
[]
[null,"15.06",129,"Senior A Women 10",200,3,2,"FNC","Hunter River Dragons","Dragons Abreast Adelaide","Kombo Dragons Purple","Black Sea Dragons","Peninsula Dragonflys","Deepwater"]
[null,null,null,null,null,null,"Times>"]
[]
[null,"15.12",130,"Senior A Women 10",200,3,3,"Powerblades","Pink Dragons","Kombo Dragons Black","SADA Sonix","Southern Warriors","Dragonfire","Newcastle Dragon Hunters"]
[null,null,null,null,null,null,"Times>"]
[]
[null,"15.18",131,"Senior A Open 10",200,3,1,"Diamond Phoenix","FNC","Hunter River Dragons","Kombo Dragons Green","Deepwater"]
[null,null,null,null,null,null,"Times>"]
[]
[null,"15.24",132,"Senior A Open 10",200,3,2,"Broadwater Dragons","Dragonfire","Kombo Dragons Black","Southern Warriors","Mildura"]
[null,null,null,null,null,null,"Times>"]
[]
[null,"15.30",133,"Senior A Open 10",200,3,3,"Gippsland United","Black Sea Dragons","Goolwa River Dragons","Pink Dragons","Kombo Dragons Purple"]
[null,null,null,null,null,null,"Times>"]
[]
[null,"15.36",134,"Senior A Women 20",200,3,1,"Deepwater Dragons","Dragons Abreast Adelaide","Newcastle Dragon Hunters","Hunter River dragons","Broadwater Dragons"]
[null,null,null,null,null,null,"Times>"]
[]
[null,"15.42",135,"Senior A Women 20",200,3,2,"Peninsula Dragonflys","Kombo Dragons Black","Powerblades","Golden Dragons","Pink Dragons"]
[null,null,null,null,null,null,"Times>"]
[]
[null,"15.48",136,"Senior A Women 20",200,3,3,"Gippsland United","SADA Sonix","Motley Crew","Southern Warriors","Black Sea Dragons"]
[null,null,null,null,null,null,"Times>"]
[]
[null,"15.54",137,"Senior A Open 20",200,3,1,"Southern Warriors","Goolwa River Dragons","Kombo Dragons Purple","Dragonfire","Deepwater Hunter"]
[null,null,null,null,null,null,"Times>"]
[]
[null,"16.00",138,"Senior A Open 20",200,3,2,"Gippsland United","Kombo Dragons Black","Motley Crew","FNC","Peninsula Dragonflys"]
[null,null,null,null,null,null,"Times>"]
[]
[]
[null,"MEDAL PRESENTATION WILL COMMENCE IMMEDIATELY AFTER THE LAST RACE  NEXT TO THE FINISH LINE CARAVAN"]

{"sheet":"SCHEDULE","index":1,"n_rows":143,"n_cols":16,"rows_kept":143,"cut":false,"hidden":false,"merged":[[1,4,1,6],[81,2,81,3],[0,2,0,3]]}
[null,null,"2023-10-13"]
[null,null,null,"Location:","Scullers Reserve, West Lakes"]
["Time","Race","CATEGORY","DISTANCE","ROUND/FINAL","HEAT","1  RED","2  BLUE","3  YELLOW","4  PINK","5  GREEN","6 ORANGE","7 BLACK","8 WHITE","9 PURPLE"]
[]
[{"$f":"IF(ISERROR(INDEX(RaceDraw!$B$10:$B$440,MATCH(B5,RaceDraw!$C$10:$C$440,0))),\"\",INDEX(RaceDraw!$B$10:$B$440,MATCH(B5,RaceDraw!$C$10:$C$440,0)))","v":"8.30"},1,{"$f":"IF(ISERROR(VLOOKUP($B5,RaceDraw!$C$10:$P$440,COLUMN()-1,FALSE)),\"\",IF(ISBLANK(VLOOKUP($B5,RaceDraw!$C$10:$P$440,COLUMN()-1,FALSE)),\"\",VLOOKUP($B5,RaceDraw!$C$10:$P$440,COLUMN()-1,FALSE)))","v":"Senior C Mixed 10"},{"$f":"IF(ISERROR(VLOOKUP($B5,RaceDraw!$C$10:$P$440,COLUMN()-1,FALSE)),\"\",IF(ISBLANK(VLOOKUP($B5,RaceDraw!$C$10:$P$440,COLUMN()-1,FALSE)),\"\",VLOOKUP($B5,RaceDraw!$C$10:$P$440,COLUMN()-1,FALSE)))","v":200},{"$f":"IF(ISERROR(VLOOKUP($B5,RaceDraw!$C$10:$P$440,COLUMN()-1,FALSE)),\"\",IF(ISBLANK(VLOOKUP($B5,RaceDraw!$C$10:$P$440,COLUMN()-1,FALSE)),F5,VLOOKUP($B5,RaceDraw!$C$10:$P$440,COLUMN()-1,FALSE)))","v":1},{"$f":"IF(ISERROR(VLOOKUP($B5,RaceDraw!$C$10:$P$440,COLUMN()-1,FALSE)),\"\",IF(ISBLANK(VLOOKUP($B5,RaceDraw!$C$10:$P$440,COLUMN()-1,FALSE)),\"\",VLOOKUP($B5,RaceDraw!$C$10:$P$440,COLUMN()-1,FALSE)))","v":1},{"$f":"IF(ISERROR(VLOOKUP($B5,RaceDraw!$C$10:$P$440,COLUMN()-1,FALSE)),\" \",IF(ISBLANK(VLOOKUP($B5,RaceDraw!$C$10:$P$440,COLUMN()-1,FALSE)),\" \",VLOOKUP($B5,RaceDraw!$C$10:$P$440,COLUMN()-1,FALSE)))","v":"Kombo Dragons Black"},{"$f":"IF(ISERROR(VLOOKUP($B5,RaceDraw!$C$10:$P$440,COLUMN()-1,FALSE)),\" \",IF(ISBLANK(VLOOKUP($B5,RaceDraw!$C$10:$P$440,COLUMN()-1,FALSE)),\" \",VLOOKUP($B5,RaceDraw!$C$10:$P$440,COLUMN()-1,FALSE)))","v":"Mildura"},{"$f":"IF(ISERROR(VLOOKUP($B5,RaceDraw!$C$10:$P$440,COLUMN()-1,FALSE)),\" \",IF(ISBLANK(VLOOKUP($B5,RaceDraw!$C$10:$P$440,COLUMN()-1,FALSE)),\" \",VLOOKUP($B5,RaceDraw!$C$10:$P$440,COLUMN()-1,FALSE)))","v":"Black Sea Dragons"},{"$f":"IF(ISERROR(VLOOKUP($B5,RaceDraw!$C$10:$P$440,COLUMN()-1,FALSE)),\" \",IF(ISBLANK(VLOOKUP($B5,RaceDraw!$C$10:$P$440,COLUMN()-1,FALSE)),\" \",VLOOKUP($B5,RaceDraw!$C$10:$P$440,COLUMN()-1,FALSE)))","v":"Dragon Masters - Red"},{"$f":"IF(ISERROR(VLOOKUP($B5,RaceDraw!$C$10:$P$440,COLUMN()-1,FALSE)),\" \",IF(ISBLANK(VLOOKUP($B5,RaceDraw!$C$10:$P$440,COLUMN()-1,FALSE)),\" \",VLOOKUP($B5,RaceDraw!$C$10:$P$440,COLUMN()-1,FALSE)))","v":"Motley Crew "},{"$f":"IF(ISERROR(VLOOKUP($B5,RaceDraw!$C$10:$P$440,COLUMN()-1,FALSE)),\" \",IF(ISBLANK(VLOOKUP($B5,RaceDraw!$C$10:$P$440,COLUMN()-1,FALSE)),\" \",VLOOKUP($B5,RaceDraw!$C$10:$P$440,COLUMN()-1,FALSE)))","v":"Southern Warriors"},{"$f":"IF(ISERROR(VLOOKUP($B5,RaceDraw!$C$10:$P$440,COLUMN()-1,FALSE)),\" \",IF(ISBLANK(VLOOKUP($B5,RaceDraw!$C$10:$P$440,COLUMN()-1,FALSE)),\" \",VLOOKUP($B5,RaceDraw!$C$10:$P$440,COLUMN()-1,FALSE)))","v":" "},{"$f":"IF(ISERROR(VLOOKUP($B5,RaceDraw!$C$10:$P$440,COLUMN()-1,FALSE)),\" \",IF(ISBLANK(VLOOKUP($B5,RaceDraw!$C$10:$P$440,COLUMN()-1,FALSE)),\" \",VLOOKUP($B5,RaceDraw!$C$10:$P$440,COLUMN()-1,FALSE)))","v":" "},{"$f":"IF(ISERROR(VLOOKUP($B5,RaceDraw!$C$10:$P$440,COLUMN()-1,FALSE)),\" \",IF(ISBLANK(VLOOKUP($B5,RaceDraw!$C$10:$P$440,COLUMN()-1,FALSE)),\" \",VLOOKUP($B5,RaceDraw!$C$10:$P$440,COLUMN()-1,FALSE)))","v":" "},"Fri"]
[{"$f":"IF(ISERROR(INDEX(RaceDraw!$B$10:$B$440,MATCH(B6,RaceDraw!$C$10:$C$440,0))),\"\",INDEX(RaceDraw!$B$10:$B$440,MATCH(B6,RaceDraw!$C$10:$C$440,0)))","v":"8.36"},2,{"$f":"IF(ISERROR(VLOOKUP($B6,RaceDraw!$C$10:$P$440,COLUMN()-1,FALSE)),\"\",IF(ISBLANK(VLOOKUP($B6,RaceDraw!$C$10:$P$440,COLUMN()-1,FALSE)),\"\",VLOOKUP($B6,RaceDraw!$C$10:$P$440,COLUMN()-1,FALSE)))","v":"Senior C Mixed 10"},{"$f":"IF(ISERROR(VLOOKUP($B6,RaceDraw!$C$10:$P$440,COLUMN()-1,FALSE)),\"\",IF(ISBLANK(VLOOKUP($B6,RaceDraw!$C$10:$P$440,COLUMN()-1,FALSE)),\"\",VLOOKUP($B6,RaceDraw!$C$10:$P$440,COLUMN()-1,FALSE)))","v":200},{"$f":"IF(ISERROR(VLOOKUP($B6,RaceDraw!$C$10:$P$440,COLUMN()-1,FALSE)),\"\",IF(ISBLANK(VLOOKUP($B6,RaceDraw!$C$10:$P$440,COLUMN()-1,FALSE)),F6,VLOOKUP($B6,RaceDraw!$C$10:$P$440,COLUMN()-1,FALSE)))","v":1},{"$f":"IF(ISERROR(VLOOKUP($B6,RaceDraw!$C$10:$P$440,COLUMN()-1,FALSE)),\"\",IF(ISBLANK(VLOOKUP($B6,RaceDraw!$C$10:$P$440,COLUMN()-1,FALSE)),\"\",VLOOKUP($B6,RaceDraw!$C$10:$P$440,COLUMN()-1,FALSE)))","v":2},{"$f":"IF(ISERROR(VLOOKUP($B6,RaceDraw!$C$10:$P$440,COLUMN()-1,FALSE)),\" \",IF(ISBLANK(VLOOKUP($B6,RaceDraw!$C$10:$P$440,COLUMN()-1,FALSE)),\" \",VLOOKUP($B6,RaceDraw!$C$10:$P$440,COLUMN()-1,FALSE)))","v":"Deepwater Dragons"},{"$f":"IF(ISERROR(VLOOKUP($B6,RaceDraw!$C$10:$P$440,COLUMN()-1,FALSE)),\" \",IF(ISBLANK(VLOOKUP($B6,RaceDraw!$C$10:$P$440,COLUMN()-1,FALSE)),\" \",VLOOKUP($B6,RaceDraw!$C$10:$P$440,COLUMN()-1,FALSE)))","v":"Peninsula Dragonflys"},{"$f":"IF(ISERROR(VLOOKUP($B6,RaceDraw!$C$10:$P$440,COLUMN()-1,FALSE)),\" \",IF(ISBLANK(VLOOKUP($B6,RaceDraw!$C$10:$P$440,COLUMN()-1,FALSE)),\" \",VLOOKUP($B6,RaceDraw!$C$10:$P$440,COLUMN()-1,FALSE)))","v":"SADA Sonix Yellow"},{"$f":"IF(ISERROR(VLOOKUP($B6,RaceDraw!$C$10:$P$440,COLUMN()-1,FALSE)),\" \",IF(ISBLANK(VLOOKUP($B6,RaceDraw!$C$10:$P$440,COLUMN()-1,FALSE)),\" \",VLOOKUP($B6,RaceDraw!$C$10:$P$440,COLUMN()-1,FALSE)))","v":"Gippsland United Orange"},{"$f":"IF(ISERROR(VLOOKUP($B6,RaceDraw!$C$10:$P$440,COLUMN()-1,FALSE)),\" \",IF(ISBLANK(VLOOKUP($B6,RaceDraw!$C$10:$P$440,COLUMN()-1,FALSE)),\" \",VLOOKUP($B6,RaceDraw!$C$10:$P$440,COLUMN()-1,FALSE)))","v":"Newcastle Dragon Hunters - Red"},{"$f":"IF(ISERROR(VLOOKUP($B6,RaceDraw!$C$10:$P$440,COLUMN()-1,FALSE)),\" \",IF(ISBLANK(VLOOKUP($B6,RaceDraw!$C$10:$P$440,COLUMN()-1,FALSE)),\" \",VLOOKUP($B6,RaceDraw!$C$10:$P$440,COLUMN()-1,FALSE)))","v":"Rainbow Dragons Teal"},{"$f":"IF(ISERROR(VLOOKUP($B6,RaceDraw!$C$10:$P$440,COLUMN()-1,FALSE)),\" \",IF(ISBLANK(VLOOKUP($B6,RaceDraw!$C$10:$P$440,COLUMN()-1,FALSE)),\" \",VLOOKUP($B6,RaceDraw!$C$10:$P$440,COLUMN()-1,FALSE)))","v":" "},{"$f":"IF(ISERROR(VLOOKUP($B6,RaceDraw!$C$10:$P$440,COLUMN()-1,FALSE)),\" \",IF(ISBLANK(VLOOKUP($B6,RaceDraw!$C$10:$P$440,COLUMN()-1,FALSE)),\" \",VLOOKUP($B6,RaceDraw!$C$10:$P$440,COLUMN()-1,FALSE)))","v":" "},{"$f":"IF(ISERROR(VLOOKUP($B6,RaceDraw!$C$10:$P$440,COLUMN()-1,FALSE)),\" \",IF(ISBLANK(VLOOKUP($B6,RaceDraw!$C$10:$P$440,COLUMN()-1,FALSE)),\" \",VLOOKUP($B6,RaceDraw!$C$10:$P$440,COLUMN()-1,FALSE)))","v":" "},"Fri"]
[{"$f":"IF(ISERROR(INDEX(RaceDraw!$B$10:$B$440,MATCH(B7,RaceDraw!$C$10:$C$440,0))),\"\",INDEX(RaceDraw!$B$10:$B$440,MATCH(B7,RaceDraw!$C$10:$C$440,0)))","v":"8.42"},3,{"$f":"IF(ISERROR(VLOOKUP($B7,RaceDraw!$C$10:$P$440,COLUMN()-1,FALSE)),\"\",IF(ISBLANK(VLOOKUP($B7,RaceDraw!$C$10:$P$440,COLUMN()-1,FALSE)),\"\",VLOOKUP($B7,RaceDraw!$C$10:$P$440,COLUMN()-1,FALSE)))","v":"Senior C Mixed 10"},{"$f":"IF(ISERROR(VLOOKUP($B7,RaceDraw!$C$10:$P$440,COLUMN()-1,FALSE)),\"\",IF(ISBLANK(VLOOKUP($B7,RaceDraw!$C$10:$P$440,COLUMN()-1,FALSE)),\"\",VLOOKUP($B7,RaceDraw!$C$10:$P$440,COLUMN()-1,FALSE)))","v":200},{"$f":"IF(ISERROR(VLOOKUP($B7,RaceDraw!$C$10:$P$440,COLUMN()-1,FALSE)),\"\",IF(ISBLANK(VLOOKUP($B7,RaceDraw!$C$10:$P$440,COLUMN()-1,FALSE)),F7,VLOOKUP($B7,RaceDraw!$C$10:$P$440,COLUMN()-1,FALSE)))","v":1},{"$f":"IF(ISERROR(VLOOKUP($B7,RaceDraw!$C$10:$P$440,COLUMN()-1,FALSE)),\"\",IF(ISBLANK(VLOOKUP($B7,RaceDraw!$C$10:$P$440,COLUMN()-1,FALSE)),\"\",VLOOKUP($B7,RaceDraw!$C$10:$P$440,COLUMN()-1,FALSE)))","v":3},{"$f":"IF(ISERROR(VLOOKUP($B7,RaceDraw!$C$10:$P$440,COLUMN()-1,FALSE)),\" \",IF(ISBLANK(VLOOKUP($B7,RaceDraw!$C$10:$P$440,COLUMN()-1,FALSE)),\" \",VLOOKUP($B7,RaceDraw!$C$10:$P$440,COLUMN()-1,FALSE)))","v":"Gypsy Dragons"},{"$f":"IF(ISERROR(VLOOKUP($B7,RaceDraw!$C$10:$P$440,COLUMN()-1,FALSE)),\" \",IF(ISBLANK(VLOOKUP($B7,RaceDraw!$C$10:$P$440,COLUMN()-1,FALSE)),\" \",VLOOKUP($B7,RaceDraw!$C$10:$P$440,COLUMN()-1,FALSE)))","v":"Dragon Masters  Yellow"},{"$f":"IF(ISERROR(VLOOKUP($B7,RaceDraw!$C$10:$P$440,COLUMN()-1,FALSE)),\" \",IF(ISBLANK(VLOOKUP($B7,RaceDraw!$C$10:$P$440,COLUMN()-1,FALSE)),\" \",VLOOKUP($B7,RaceDraw!$C$10:$P$440,COLUMN()-1,FALSE)))","v":"Kombo Dragons Purple "},{"$f":"IF(ISERROR(VLOOKUP($B7,RaceDraw!$C$10:$P$440,COLUMN()-1,FALSE)),\" \",IF(ISBLANK(VLOOKUP($B7,RaceDraw!$C$10:$P$440,COLUMN()-1,FALSE)),\" \",VLOOKUP($B7,RaceDraw!$C$10:$P$440,COLUMN()-1,FALSE)))","v":"FNC"},{"$f":"IF(ISERROR(VLOOKUP($B7,RaceDraw!$C$10:$P$440,COLUMN()-1,FALSE)),\" \",IF(ISBLANK(VLOOKUP($B7,RaceDraw!$C$10:$P$440,COLUMN()-1,FALSE)),\" \",VLOOKUP($B7,RaceDraw!$C$10:$P$440,COLUMN()-1,FALSE)))","v":"Kangaroo Island Dragons"},{"$f":"IF(ISERROR(VLOOKUP($B7,RaceDraw!$C$10:$P$440,COLUMN()-1,FALSE)),\" \",IF(ISBLANK(VLOOKUP($B7,RaceDraw!$C$10:$P$440,COLUMN()-1,FALSE)),\" \",VLOOKUP($B7,RaceDraw!$C$10:$P$440,COLUMN()-1,FALSE)))","v":"Outback Dragons"},{"$f":"IF(ISERROR(VLOOKUP($B7,RaceDraw!$C$10:$P$440,COLUMN()-1,FALSE)),\" \",IF(ISBLANK(VLOOKUP($B7,RaceDraw!$C$10:$P$440,COLUMN()-1,FALSE)),\" \",VLOOKUP($B7,RaceDraw!$C$10:$P$440,COLUMN()-1,FALSE)))","v":" "},{"$f":"IF(ISERROR(VLOOKUP($B7,RaceDraw!$C$10:$P$440,COLUMN()-1,FALSE)),\" \",IF(ISBLANK(VLOOKUP($B7,RaceDraw!$C$10:$P$440,COLUMN()-1,FALSE)),\" \",VLOOKUP($B7,RaceDraw!$C$10:$P$440,COLUMN()-1,FALSE)))","v":" "},{"$f":"IF(ISERROR(VLOOKUP($B7,RaceDraw!$C$10:$P$440,COLUMN()-1,FALSE)),\" \",IF(ISBLANK(VLOOKUP($B7,RaceDraw!$C$10:$P$440,COLUMN()-1,FALSE)),\" \",VLOOKUP($B7,RaceDraw!$C$10:$P$440,COLUMN()-1,FALSE)))","v":" "},"Fri"]
[{"$f":"IF(ISERROR(INDEX(RaceDraw!$B$10:$B$440,MATCH(B8,RaceDraw!$C$10:$C$440,0))),\"\",INDEX(RaceDraw!$B$10:$B$440,MATCH(B8,RaceDraw!$C$10:$C$440,0)))","v":"8.48"},4,{"$f":"IF(ISERROR(VLOOKUP($B8,RaceDraw!$C$10:$P$440,COLUMN()-1,FALSE)),\"\",IF(ISBLANK(VLOOKUP($B8,RaceDraw!$C$10:$P$440,COLUMN()-1,FALSE)),\"\",VLOOKUP($B8,RaceDraw!$C$10:$P$440,COLUMN()-1,FALSE)))","v":"Senior C Mixed 10"},{"$f":"IF(ISERROR(VLOOKUP($B8,RaceDraw!$C$10:$P$440,COLUMN()-1,FALSE)),\"\",IF(ISBLANK(VLOOKUP($B8,RaceDraw!$C$10:$P$440,COLUMN()-1,FALSE)),\"\",VLOOKUP($B8,RaceDraw!$C$10:$P$440,COLUMN()-1,FALSE)))","v":200},{"$f":"IF(ISERROR(VLOOKUP($B8,RaceDraw!$C$10:$P$440,COLUMN()-1,FALSE)),\"\",IF(ISBLANK(VLOOKUP($B8,RaceDraw!$C$10:$P$440,COLUMN()-1,FALSE)),F8,VLOOKUP($B8,RaceDraw!$C$10:$P$440,COLUMN()-1,FALSE)))","v":1},{"$f":"IF(ISERROR(VLOOKUP($B8,RaceDraw!$C$10:$P$440,COLUMN()-1,FALSE)),\"\",IF(ISBLANK(VLOOKUP($B8,RaceDraw!$C$10:$P$440,COLUMN()-1,FALSE)),\"\",VLOOKUP($B8,RaceDraw!$C$10:$P$440,COLUMN()-1,FALSE)))","v":4},{"$f":"IF(ISERROR(VLOOKUP($B8,RaceDraw!$C$10:$P$440,COLUMN()-1,FALSE)),\" \",IF(ISBLANK(VLOOKUP($B8,RaceDraw!$C$10:$P$440,COLUMN()-1,FALSE)),\" \",VLOOKUP($B8,RaceDraw!$C$10:$P$440,COLUMN()-1,FALSE)))","v":"Newcastle Dragon Hunters - Purple"},{"$f":"IF(ISERROR(VLOOKUP($B8,RaceDraw!$C$10:$P$440,COLUMN()-1,FALSE)),\" \",IF(ISBLANK(VLOOKUP($B8,RaceDraw!$C$10:$P$440,COLUMN()-1,FALSE)),\" \",VLOOKUP($B8,RaceDraw!$C$10:$P$440,COLUMN()-1,FALSE)))","v":"Gippsland United Blue"},{"$f":"IF(ISERROR(VLOOKUP($B8,RaceDraw!$C$10:$P$440,COLUMN()-1,FALSE)),\" \",IF(ISBLANK(VLOOKUP($B8,RaceDraw!$C$10:$P$440,COLUMN()-1,FALSE)),\" \",VLOOKUP($B8,RaceDraw!$C$10:$P$440,COLUMN()-1,FALSE)))","v":"Rainbow Dragons White"},{"$f":"IF(ISERROR(VLOOKUP($B8,RaceDraw!$C$10:$P$440,COLUMN()-1,FALSE)),\" \",IF(ISBLANK(VLOOKUP($B8,RaceDraw!$C$10:$P$440,COLUMN()-1,FALSE)),\" \",VLOOKUP($B8,RaceDraw!$C$10:$P$440,COLUMN()-1,FALSE)))","v":"Goolwa River Dragons"},{"$f":"IF(ISERROR(VLOOKUP($B8,RaceDraw!$C$10:$P$440,COLUMN()-1,FALSE)),\" \",IF(ISBLANK(VLOOKUP($B8,RaceDraw!$C$10:$P$440,COLUMN()-1,FALSE)),\" \",VLOOKUP($B8,RaceDraw!$C$10:$P$440,COLUMN()-1,FALSE)))","v":"SADA Sonix Blue"},{"$f":"IF(ISERROR(VLOOKUP($B8,RaceDraw!$C$10:$P$440,COLUMN()-1,FALSE)),\" \",IF(ISBLANK(VLOOKUP($B8,RaceDraw!$C$10:$P$440,COLUMN()-1,FALSE)),\" \",VLOOKUP($B8,RaceDraw!$C$10:$P$440,COLUMN()-1,FALSE)))","v":"Powerblades"},{"$f":"IF(ISERROR(VLOOKUP($B8,RaceDraw!$C$10:$P$440,COLUMN()-1,FALSE)),\" \",IF(ISBLANK(VLOOKUP($B8,RaceDraw!$C$10:$P$440,COLUMN()-1,FALSE)),\" \",VLOOKUP($B8,RaceDraw!$C$10:$P$440,COLUMN()-1,FALSE)))","v":" "},{"$f":"IF(ISERROR(VLOOKUP($B8,RaceDraw!$C$10:$P$440,COLUMN()-1,FALSE)),\" \",IF(ISBLANK(VLOOKUP($B8,RaceDraw!$C$10:$P$440,COLUMN()-1,FALSE)),\" \",VLOOKUP($B8,RaceDraw!$C$10:$P$440,COLUMN()-1,FALSE)))","v":" "},{"$f":"IF(ISERROR(VLOOKUP($B8,RaceDraw!$C$10:$P$440,COLUMN()-1,FALSE)),\" \",IF(ISBLANK(VLOOKUP($B8,RaceDraw!$C$10:$P$440,COLUMN()-1,FALSE)),\" \",VLOOKUP($B8,RaceDraw!$C$10:$P$440,COLUMN()-1,FALSE)))","v":" "},"Fri"]
[{"$f":"IF(ISERROR(INDEX(RaceDraw!$B$10:$B$440,MATCH(B9,RaceDraw!$C$10:$C$440,0))),\"\",INDEX(RaceDraw!$B$10:$B$440,MATCH(B9,RaceDraw!$C$10:$C$440,0)))","v":"8.54"},5,{"$f":"IF(ISERROR(VLOOKUP($B9,RaceDraw!$C$10:$P$440,COLUMN()-1,FALSE)),\"\",IF(ISBLANK(VLOOKUP($B9,RaceDraw!$C$10:$P$440,COLUMN()-1,FALSE)),\"\",VLOOKUP($B9,RaceDraw!$C$10:$P$440,COLUMN()-1,FALSE)))","v":"Senior B Mixed 10's"},{"$f":"IF(ISERROR(VLOOKUP($B9,RaceDraw!$C$10:$P$440,COLUMN()-1,FALSE)),\"\",IF(ISBLANK(VLOOKUP($B9,RaceDraw!$C$10:$P$440,COLUMN()-1,FALSE)),\"\",VLOOKUP($B9,RaceDraw!$C$10:$P$440,COLUMN()-1,FALSE)))","v":200},{"$f":"IF(ISERROR(VLOOKUP($B9,RaceDraw!$C$10:$P$440,COLUMN()-1,FALSE)),\"\",IF(ISBLANK(VLOOKUP($B9,RaceDraw!$C$10:$P$440,COLUMN()-1,FALSE)),F9,VLOOKUP($B9,RaceDraw!$C$10:$P$440,COLUMN()-1,FALSE)))","v":1},{"$f":"IF(ISERROR(VLOOKUP($B9,RaceDraw!$C$10:$P$440,COLUMN()-1,FALSE)),\"\",IF(ISBLANK(VLOOKUP($B9,RaceDraw!$C$10:$P$440,COLUMN()-1,FALSE)),\"\",VLOOKUP($B9,RaceDraw!$C$10:$P$440,COLUMN()-1,FALSE)))","v":1},{"$f":"IF(ISERROR(VLOOKUP($B9,RaceDraw!$C$10:$P$440,COLUMN()-1,FALSE)),\" \",IF(ISBLANK(VLOOKUP($B9,RaceDraw!$C$10:$P$440,COLUMN()-1,FALSE)),\" \",VLOOKUP($B9,RaceDraw!$C$10:$P$440,COLUMN()-1,FALSE)))","v":"Kombo Dragons Purple"},{"$f":"IF(ISERROR(VLOOKUP($B9,RaceDraw!$C$10:$P$440,COLUMN()-1,FALSE)),\" \",IF(ISBLANK(VLOOKUP($B9,RaceDraw!$C$10:$P$440,COLUMN()-1,FALSE)),\" \",VLOOKUP($B9,RaceDraw!$C$10:$P$440,COLUMN()-1,FALSE)))","v":"Deepwater Dragons"},{"$f":"IF(ISERROR(VLOOKUP($B9,RaceDraw!$C$10:$P$440,COLUMN()-1,FALSE)),\" \",IF(ISBLANK(VLOOKUP($B9,RaceDraw!$C$10:$P$440,COLUMN()-1,FALSE)),\" \",VLOOKUP($B9,RaceDraw!$C$10:$P$440,COLUMN()-1,FALSE)))","v":"Newcastle Dragon Hunters - Red"},{"$f":"IF(ISERROR(VLOOKUP($B9,RaceDraw!$C$10:$P$440,COLUMN()-1,FALSE)),\" \",IF(ISBLANK(VLOOKUP($B9,RaceDraw!$C$10:$P$440,COLUMN()-1,FALSE)),\" \",VLOOKUP($B9,RaceDraw!$C$10:$P$440,COLUMN()-1,FALSE)))","v":"Hunter River Dragons"},{"$f":"IF(ISERROR(VLOOKUP($B9,RaceDraw!$C$10:$P$440,COLUMN()-1,FALSE)),\" \",IF(ISBLANK(VLOOKUP($B9,RaceDraw!$C$10:$P$440,COLUMN()-1,FALSE)),\" \",VLOOKUP($B9,RaceDraw!$C$10:$P$440,COLUMN()-1,FALSE)))","v":"SADA Sonix Yellow"},{"$f":"IF(ISERROR(VLOOKUP($B9,RaceDraw!$C$10:$P$440,COLUMN()-1,FALSE)),\" \",IF(ISBLANK(VLOOKUP($B9,RaceDraw!$C$10:$P$440,COLUMN()-1,FALSE)),\" \",VLOOKUP($B9,RaceDraw!$C$10:$P$440,COLUMN()-1,FALSE)))","v":"Southern Warriors"},{"$f":"IF(ISERROR(VLOOKUP($B9,RaceDraw!$C$10:$P$440,COLUMN()-1,FALSE)),\" \",IF(ISBLANK(VLOOKUP($B9,RaceDraw!$C$10:$P$440,COLUMN()-1,FALSE)),\" \",VLOOKUP($B9,RaceDraw!$C$10:$P$440,COLUMN()-1,FALSE)))","v":" "},{"$f":"IF(ISERROR(VLOOKUP($B9,RaceDraw!$C$10:$P$440,COLUMN()-1,FALSE)),\" \",IF(ISBLANK(VLOOKUP($B9,RaceDraw!$C$10:$P$440,COLUMN()-1,FALSE)),\" \",VLOOKUP($B9,RaceDraw!$C$10:$P$440,COLUMN()-1,FALSE)))","v":" "},{"$f":"IF(ISERROR(VLOOKUP($B9,RaceDraw!$C$10:$P$440,COLUMN()-1,FALSE)),\" \",IF(ISBLANK(VLOOKUP($B9,RaceDraw!$C$10:$P$440,COLUMN()-1,FALSE)),\" \",VLOOKUP($B9,RaceDraw!$C$10:$P$440,COLUMN()-1,FALSE)))","v":" "},"Fri"]
[{"$f":"IF(ISERROR(INDEX(RaceDraw!$B$10:$B$440,MATCH(B10,RaceDraw!$C$10:$C$440,0))),\"\",INDEX(RaceDraw!$B$10:$B$440,MATCH(B10,RaceDraw!$C$10:$C$440,0)))","v":"9.00"},6,{"$f":"IF(ISERROR(VLOOKUP($B10,RaceDraw!$C$10:$P$440,COLUMN()-1,FALSE)),\"\",IF(ISBLANK(VLOOKUP($B10,RaceDraw!$C$10:$P$440,COLUMN()-1,FALSE)),\"\",VLOOKUP($B10,RaceDraw!$C$10:$P$440,COLUMN()-1,FALSE)))","v":"Senior B Mixed 10's"},{"$f":"IF(ISERROR(VLOOKUP($B10,RaceDraw!$C$10:$P$440,COLUMN()-1,FALSE)),\"\",IF(ISBLANK(VLOOKUP($B10,RaceDraw!$C$10:$P$440,COLUMN()-1,FALSE)),\"\",VLOOKUP($B10,RaceDraw!$C$10:$P$440,COLUMN()-1,FALSE)))","v":200},{"$f":"IF(ISERROR(VLOOKUP($B10,RaceDraw!$C$10:$P$440,COLUMN()-1,FALSE)),\"\",IF(ISBLANK(VLOOKUP($B10,RaceDraw!$C$10:$P$440,COLUMN()-1,FALSE)),F10,VLOOKUP($B10,RaceDraw!$C$10:$P$440,COLUMN()-1,FALSE)))","v":1},{"$f":"IF(ISERROR(VLOOKUP($B10,RaceDraw!$C$10:$P$440,COLUMN()-1,FALSE)),\"\",IF(ISBLANK(VLOOKUP($B10,RaceDraw!$C$10:$P$440,COLUMN()-1,FALSE)),\"\",VLOOKUP($B10,RaceDraw!$C$10:$P$440,COLUMN()-1,FALSE)))","v":2},{"$f":"IF(ISERROR(VLOOKUP($B10,RaceDraw!$C$10:$P$440,COLUMN()-1,FALSE)),\" \",IF(ISBLANK(VLOOKUP($B10,RaceDraw!$C$10:$P$440,COLUMN()-1,FALSE)),\" \",VLOOKUP($B10,RaceDraw!$C$10:$P$440,COLUMN()-1,FALSE)))","v":"Gippsland United "},{"$f":"IF(ISERROR(VLOOKUP($B10,RaceDraw!$C$10:$P$440,COLUMN()-1,FALSE)),\" \",IF(ISBLANK(VLOOKUP($B10,RaceDraw!$C$10:$P$440,COLUMN()-1,FALSE)),\" \",VLOOKUP($B10,RaceDraw!$C$10:$P$440,COLUMN()-1,FALSE)))","v":"SADA Sonix Blue"},{"$f":"IF(ISERROR(VLOOKUP($B10,RaceDraw!$C$10:$P$440,COLUMN()-1,FALSE)),\" \",IF(ISBLANK(VLOOKUP($B10,RaceDraw!$C$10:$P$440,COLUMN()-1,FALSE)),\" \",VLOOKUP($B10,RaceDraw!$C$10:$P$440,COLUMN()-1,FALSE)))","v":"Kombo Dragons Black"},{"$f":"IF(ISERROR(VLOOKUP($B10,RaceDraw!$C$10:$P$440,COLUMN()-1,FALSE)),\" \",IF(ISBLANK(VLOOKUP($B10,RaceDraw!$C$10:$P$440,COLUMN()-1,FALSE)),\" \",VLOOKUP($B10,RaceDraw!$C$10:$P$440,COLUMN()-1,FALSE)))","v":"Newcastle Dragon Hunters - Purple"},{"$f":"IF(ISERROR(VLOOKUP($B10,RaceDraw!$C$10:$P$440,COLUMN()-1,FALSE)),\" \",IF(ISBLANK(VLOOKUP($B10,RaceDraw!$C$10:$P$440,COLUMN()-1,FALSE)),\" \",VLOOKUP($B10,RaceDraw!$C$10:$P$440,COLUMN()-1,FALSE)))","v":"Mildura"},{"$f":"IF(ISERROR(VLOOKUP($B10,RaceDraw!$C$10:$P$440,COLUMN()-1,FALSE)),\" \",IF(ISBLANK(VLOOKUP($B10,RaceDraw!$C$10:$P$440,COLUMN()-1,FALSE)),\" \",VLOOKUP($B10,RaceDraw!$C$10:$P$440,COLUMN()-1,FALSE)))","v":"Powerblades"},{"$f":"IF(ISERROR(VLOOKUP($B10,RaceDraw!$C$10:$P$440,COLUMN()-1,FALSE)),\" \",IF(ISBLANK(VLOOKUP($B10,RaceDraw!$C$10:$P$440,COLUMN()-1,FALSE)),\" \",VLOOKUP($B10,RaceDraw!$C$10:$P$440,COLUMN()-1,FALSE)))","v":" "},{"$f":"IF(ISERROR(VLOOKUP($B10,RaceDraw!$C$10:$P$440,COLUMN()-1,FALSE)),\" \",IF(ISBLANK(VLOOKUP($B10,RaceDraw!$C$10:$P$440,COLUMN()-1,FALSE)),\" \",VLOOKUP($B10,RaceDraw!$C$10:$P$440,COLUMN()-1,FALSE)))","v":" "},{"$f":"IF(ISERROR(VLOOKUP($B10,RaceDraw!$C$10:$P$440,COLUMN()-1,FALSE)),\" \",IF(ISBLANK(VLOOKUP($B10,RaceDraw!$C$10:$P$440,COLUMN()-1,FALSE)),\" \",VLOOKUP($B10,RaceDraw!$C$10:$P$440,COLUMN()-1,FALSE)))","v":" "},"Fri"]
[{"$f":"IF(ISERROR(INDEX(RaceDraw!$B$10:$B$440,MATCH(B11,RaceDraw!$C$10:$C$440,0))),\"\",INDEX(RaceDraw!$B$10:$B$440,MATCH(B11,RaceDraw!$C$10:$C$440,0)))","v":"9.06"},7,{"$f":"IF(ISERROR(VLOOKUP($B11,RaceDraw!$C$10:$P$440,COLUMN()-1,FALSE)),\"\",IF(ISBLANK(VLOOKUP($B11,RaceDraw!$C$10:$P$440,COLUMN()-1,FALSE)),\"\",VLOOKUP($B11,RaceDraw!$C$10:$P$440,COLUMN()-1,FALSE)))","v":"Senior B Mixed 10's"},{"$f":"IF(ISERROR(VLOOKUP($B11,RaceDraw!$C$10:$P$440,COLUMN()-1,FALSE)),\"\",IF(ISBLANK(VLOOKUP($B11,RaceDraw!$C$10:$P$440,COLUMN()-1,FALSE)),\"\",VLOOKUP($B11,RaceDraw!$C$10:$P$440,COLUMN()-1,FALSE)))","v":200},{"$f":"IF(ISERROR(VLOOKUP($B11,RaceDraw!$C$10:$P$440,COLUMN()-1,FALSE)),\"\",IF(ISBLANK(VLOOKUP($B11,RaceDraw!$C$10:$P$440,COLUMN()-1,FALSE)),F11,VLOOKUP($B11,RaceDraw!$C$10:$P$440,COLUMN()-1,FALSE)))","v":1},{"$f":"IF(ISERROR(VLOOKUP($B11,RaceDraw!$C$10:$P$440,COLUMN()-1,FALSE)),\"\",IF(ISBLANK(VLOOKUP($B11,RaceDraw!$C$10:$P$440,COLUMN()-1,FALSE)),\"\",VLOOKUP($B11,RaceDraw!$C$10:$P$440,COLUMN()-1,FALSE)))","v":3},{"$f":"IF(ISERROR(VLOOKUP($B11,RaceDraw!$C$10:$P$440,COLUMN()-1,FALSE)),\" \",IF(ISBLANK(VLOOKUP($B11,RaceDraw!$C$10:$P$440,COLUMN()-1,FALSE)),\" \",VLOOKUP($B11,RaceDraw!$C$10:$P$440,COLUMN()-1,FALSE)))","v":"Outback Dragons"},{"$f":"IF(ISERROR(VLOOKUP($B11,RaceDraw!$C$10:$P$440,COLUMN()-1,FALSE)),\" \",IF(ISBLANK(VLOOKUP($B11,RaceDraw!$C$10:$P$440,COLUMN()-1,FALSE)),\" \",VLOOKUP($B11,RaceDraw!$C$10:$P$440,COLUMN()-1,FALSE)))","v":"Black Sea Dragons"},{"$f":"IF(ISERROR(VLOOKUP($B11,RaceDraw!$C$10:$P$440,COLUMN()-1,FALSE)),\" \",IF(ISBLANK(VLOOKUP($B11,RaceDraw!$C$10:$P$440,COLUMN()-1,FALSE)),\" \",VLOOKUP($B11,RaceDraw!$C$10:$P$440,COLUMN()-1,FALSE)))","v":"FNC"},{"$f":"IF(ISERROR(VLOOKUP($B11,RaceDraw!$C$10:$P$440,COLUMN()-1,FALSE)),\" \",IF(ISBLANK(VLOOKUP($B11,RaceDraw!$C$10:$P$440,COLUMN()-1,FALSE)),\" \",VLOOKUP($B11,RaceDraw!$C$10:$P$440,COLUMN()-1,FALSE)))","v":"Gypsy Dragons"},{"$f":"IF(ISERROR(VLOOKUP($B11,RaceDraw!$C$10:$P$440,COLUMN()-1,FALSE)),\" \",IF(ISBLANK(VLOOKUP($B11,RaceDraw!$C$10:$P$440,COLUMN()-1,FALSE)),\" \",VLOOKUP($B11,RaceDraw!$C$10:$P$440,COLUMN()-1,FALSE)))","v":"Goolwa River Dragons"},{"$f":"IF(ISERROR(VLOOKUP($B11,RaceDraw!$C$10:$P$440,COLUMN()-1,FALSE)),\" \",IF(ISBLANK(VLOOKUP($B11,RaceDraw!$C$10:$P$440,COLUMN()-1,FALSE)),\" \",VLOOKUP($B11,RaceDraw!$C$10:$P$440,COLUMN()-1,FALSE)))","v":"Mannum"},{"$f":"IF(ISERROR(VLOOKUP($B11,RaceDraw!$C$10:$P$440,COLUMN()-1,FALSE)),\" \",IF(ISBLANK(VLOOKUP($B11,RaceDraw!$C$10:$P$440,COLUMN()-1,FALSE)),\" \",VLOOKUP($B11,RaceDraw!$C$10:$P$440,COLUMN()-1,FALSE)))","v":" "},{"$f":"IF(ISERROR(VLOOKUP($B11,RaceDraw!$C$10:$P$440,COLUMN()-1,FALSE)),\" \",IF(ISBLANK(VLOOKUP($B11,RaceDraw!$C$10:$P$440,COLUMN()-1,FALSE)),\" \",VLOOKUP($B11,RaceDraw!$C$10:$P$440,COLUMN()-1,FALSE)))","v":" "},{"$f":"IF(ISERROR(VLOOKUP($B11,RaceDraw!$C$10:$P$440,COLUMN()-1,FALSE)),\" \",IF(ISBLANK(VLOOKUP($B11,RaceDraw!$C$10:$P$440,COLUMN()-1,FALSE)),\" \",VLOOKUP($B11,RaceDraw!$C$10:$P$440,COLUMN()-1,FALSE)))","v":" "},"Fri"]
[{"$f":"IF(ISERROR(INDEX(RaceDraw!$B$10:$B$440,MATCH(B12,RaceDraw!$C$10:$C$440,0))),\"\",INDEX(RaceDraw!$B$10:$B$440,MATCH(B12,RaceDraw!$C$10:$C$440,0)))","v":"9.12"},8,{"$f":"IF(ISERROR(VLOOKUP($B12,RaceDraw!$C$10:$P$440,COLUMN()-1,FALSE)),\"\",IF(ISBLANK(VLOOKUP($B12,RaceDraw!$C$10:$P$440,COLUMN()-1,FALSE)),\"\",VLOOKUP($B12,RaceDraw!$C$10:$P$440,COLUMN()-1,FALSE)))","v":"Senior B Mixed 20's"},{"$f":"IF(ISERROR(VLOOKUP($B12,RaceDraw!$C$10:$P$440,COLUMN()-1,FALSE)),\"\",IF(ISBLANK(VLOOKUP($B12,RaceDraw!$C$10:$P$440,COLUMN()-1,FALSE)),\"\",VLOOKUP($B12,RaceDraw!$C$10:$P$440,COLUMN()-1,FALSE)))","v":200},{"$f":"IF(ISERROR(VLOOKUP($B12,RaceDraw!$C$10:$P$440,COLUMN()-1,FALSE)),\"\",IF(ISBLANK(VLOOKUP($B12,RaceDraw!$C$10:$P$440,COLUMN()-1,FALSE)),F12,VLOOKUP($B12,RaceDraw!$C$10:$P$440,COLUMN()-1,FALSE)))","v":1},{"$f":"IF(ISERROR(VLOOKUP($B12,RaceDraw!$C$10:$P$440,COLUMN()-1,FALSE)),\"\",IF(ISBLANK(VLOOKUP($B12,RaceDraw!$C$10:$P$440,COLUMN()-1,FALSE)),\"\",VLOOKUP($B12,RaceDraw!$C$10:$P$440,COLUMN()-1,FALSE)))","v":1},{"$f":"IF(ISERROR(VLOOKUP($B12,RaceDraw!$C$10:$P$440,COLUMN()-1,FALSE)),\" \",IF(ISBLANK(VLOOKUP($B12,RaceDraw!$C$10:$P$440,COLUMN()-1,FALSE)),\" \",VLOOKUP($B12,RaceDraw!$C$10:$P$440,COLUMN()-1,FALSE)))","v":"Hunter River Dragons"},{"$f":"IF(ISERROR(VLOOKUP($B12,RaceDraw!$C$10:$P$440,COLUMN()-1,FALSE)),\" \",IF(ISBLANK(VLOOKUP($B12,RaceDraw!$C$10:$P$440,COLUMN()-1,FALSE)),\" \",VLOOKUP($B12,RaceDraw!$C$10:$P$440,COLUMN()-1,FALSE)))","v":"Deep Water Dragons"},{"$f":"IF(ISERROR(VLOOKUP($B12,RaceDraw!$C$10:$P$440,COLUMN()-1,FALSE)),\" \",IF(ISBLANK(VLOOKUP($B12,RaceDraw!$C$10:$P$440,COLUMN()-1,FALSE)),\" \",VLOOKUP($B12,RaceDraw!$C$10:$P$440,COLUMN()-1,FALSE)))","v":"Motley Crew"},{"$f":"IF(ISERROR(VLOOKUP($B12,RaceDraw!$C$10:$P$440,COLUMN()-1,FALSE)),\" \",IF(ISBLANK(VLOOKUP($B12,RaceDraw!$C$10:$P$440,COLUMN()-1,FALSE)),\" \",VLOOKUP($B12,RaceDraw!$C$10:$P$440,COLUMN()-1,FALSE)))","v":"Mildura"},{"$f":"IF(ISERROR(VLOOKUP($B12,RaceDraw!$C$10:$P$440,COLUMN()-1,FALSE)),\" \",IF(ISBLANK(VLOOKUP($B12,RaceDraw!$C$10:$P$440,COLUMN()-1,FALSE)),\" \",VLOOKUP($B12,RaceDraw!$C$10:$P$440,COLUMN()-1,FALSE)))","v":"SADA Sonix"},{"$f":"IF(ISERROR(VLOOKUP($B12,RaceDraw!$C$10:$P$440,COLUMN()-1,FALSE)),\" \",IF(ISBLANK(VLOOKUP($B12,RaceDraw!$C$10:$P$440,COLUMN()-1,FALSE)),\" \",VLOOKUP($B12,RaceDraw!$C$10:$P$440,COLUMN()-1,FALSE)))","v":"Newcastle Dragon Hunters - Red"},{"$f":"IF(ISERROR(VLOOKUP($B12,RaceDraw!$C$10:$P$440,COLUMN()-1,FALSE)),\" \",IF(ISBLANK(VLOOKUP($B12,RaceDraw!$C$10:$P$440,COLUMN()-1,FALSE)),\" \",VLOOKUP($B12,RaceDraw!$C$10:$P$440,COLUMN()-1,FALSE)))","v":" "},{"$f":"IF(ISERROR(VLOOKUP($B12,RaceDraw!$C$10:$P$440,COLUMN()-1,FALSE)),\" \",IF(ISBLANK(VLOOKUP($B12,RaceDraw!$C$10:$P$440,COLUMN()-1,FALSE)),\" \",VLOOKUP($B12,RaceDraw!$C$10:$P$440,COLUMN()-1,FALSE)))","v":" "},{"$f":"IF(ISERROR(VLOOKUP($B12,RaceDraw!$C$10:$P$440,COLUMN()-1,FALSE)),\" \",IF(ISBLANK(VLOOKUP($B12,RaceDraw!$C$10:$P$440,COLUMN()-1,FALSE)),\" \",VLOOKUP($B12,RaceDraw!$C$10:$P$440,COLUMN()-1,FALSE)))","v":" "},"Fri"]
[{"$f":"IF(ISERROR(INDEX(RaceDraw!$B$10:$B$440,MATCH(B13,RaceDraw!$C$10:$C$440,0))),\"\",INDEX(RaceDraw!$B$10:$B$440,MATCH(B13,RaceDraw!$C$10:$C$440,0)))","v":"9.18"},9,{"$f":"IF(ISERROR(VLOOKUP($B13,RaceDraw!$C$10:$P$440,COLUMN()-1,FALSE)),\"\",IF(ISBLANK(VLOOKUP($B13,RaceDraw!$C$10:$P$440,COLUMN()-1,FALSE)),\"\",VLOOKUP($B13,RaceDraw!$C$10:$P$440,COLUMN()-1,FALSE)))","v":"Senior B Mixed 20's"},{"$f":"IF(ISERROR(VLOOKUP($B13,RaceDraw!$C$10:$P$440,COLUMN()-1,FALSE)),\"\",IF(ISBLANK(VLOOKUP($B13,RaceDraw!$C$10:$P$440,COLUMN()-1,FALSE)),\"\",VLOOKUP($B13,RaceDraw!$C$10:$P$440,COLUMN()-1,FALSE)))","v":200},{"$f":"IF(ISERROR(VLOOKUP($B13,RaceDraw!$C$10:$P$440,COLUMN()-1,FALSE)),\"\",IF(ISBLANK(VLOOKUP($B13,RaceDraw!$C$10:$P$440,COLUMN()-1,FALSE)),F13,VLOOKUP($B13,RaceDraw!$C$10:$P$440,COLUMN()-1,FALSE)))","v":1},{"$f":"IF(ISERROR(VLOOKUP($B13,RaceDraw!$C$10:$P$440,COLUMN()-1,FALSE)),\"\",IF(ISBLANK(VLOOKUP($B13,RaceDraw!$C$10:$P$440,COLUMN()-1,FALSE)),\"\",VLOOKUP($B13,RaceDraw!$C$10:$P$440,COLUMN()-1,FALSE)))","v":2},{"$f":"IF(ISERROR(VLOOKUP($B13,RaceDraw!$C$10:$P$440,COLUMN()-1,FALSE)),\" \",IF(ISBLANK(VLOOKUP($B13,RaceDraw!$C$10:$P$440,COLUMN()-1,FALSE)),\" \",VLOOKUP($B13,RaceDraw!$C$10:$P$440,COLUMN()-1,FALSE)))","v":"Kombo Dragons Black"},{"$f":"IF(ISERROR(VLOOKUP($B13,RaceDraw!$C$10:$P$440,COLUMN()-1,FALSE)),\" \",IF(ISBLANK(VLOOKUP($B13,RaceDraw!$C$10:$P$440,COLUMN()-1,FALSE)),\" \",VLOOKUP($B13,RaceDraw!$C$10:$P$440,COLUMN()-1,FALSE)))","v":"Rainbow Dragons"},{"$f":"IF(ISERROR(VLOOKUP($B13,RaceDraw!$C$10:$P$440,COLUMN()-1,FALSE)),\" \",IF(ISBLANK(VLOOKUP($B13,RaceDraw!$C$10:$P$440,COLUMN()-1,FALSE)),\" \",VLOOKUP($B13,RaceDraw!$C$10:$P$440,COLUMN()-1,FALSE)))","v":"Dragon Masters"},{"$f":"IF(ISERROR(VLOOKUP($B13,RaceDraw!$C$10:$P$440,COLUMN()-1,FALSE)),\" \",IF(ISBLANK(VLOOKUP($B13,RaceDraw!$C$10:$P$440,COLUMN()-1,FALSE)),\" \",VLOOKUP($B13,RaceDraw!$C$10:$P$440,COLUMN()-1,FALSE)))","v":"Powerblades"},{"$f":"IF(ISERROR(VLOOKUP($B13,RaceDraw!$C$10:$P$440,COLUMN()-1,FALSE)),\" \",IF(ISBLANK(VLOOKUP($B13,RaceDraw!$C$10:$P$440,COLUMN()-1,FALSE)),\" \",VLOOKUP($B13,RaceDraw!$C$10:$P$440,COLUMN()-1,FALSE)))","v":"Newcastle Dragon Hunters - Purple"},{"$f":"IF(ISERROR(VLOOKUP($B13,RaceDraw!$C$10:$P$440,COLUMN()-1,FALSE)),\" \",IF(ISBLANK(VLOOKUP($B13,RaceDraw!$C$10:$P$440,COLUMN()-1,FALSE)),\" \",VLOOKUP($B13,RaceDraw!$C$10:$P$440,COLUMN()-1,FALSE)))","v":"Gippsland United "},{"$f":"IF(ISERROR(VLOOKUP($B13,RaceDraw!$C$10:$P$440,COLUMN()-1,FALSE)),\" \",IF(ISBLANK(VLOOKUP($B13,RaceDraw!$C$10:$P$440,COLUMN()-1,FALSE)),\" \",VLOOKUP($B13,RaceDraw!$C$10:$P$440,COLUMN()-1,FALSE)))","v":" "},{"$f":"IF(ISERROR(VLOOKUP($B13,RaceDraw!$C$10:$P$440,COLUMN()-1,FALSE)),\" \",IF(ISBLANK(VLOOKUP($B13,RaceDraw!$C$10:$P$440,COLUMN()-1,FALSE)),\" \",VLOOKUP($B13,RaceDraw!$C$10:$P$440,COLUMN()-1,FALSE)))","v":" "},{"$f":"IF(ISERROR(VLOOKUP($B13,RaceDraw!$C$10:$P$440,COLUMN()-1,FALSE)),\" \",IF(ISBLANK(VLOOKUP($B13,RaceDraw!$C$10:$P$440,COLUMN()-1,FALSE)),\" \",VLOOKUP($B13,RaceDraw!$C$10:$P$440,COLUMN()-1,FALSE)))","v":" "},"Fri"]
[{"$f":"IF(ISERROR(INDEX(RaceDraw!$B$10:$B$440,MATCH(B14,RaceDraw!$C$10:$C$440,0))),\"\",INDEX(RaceDraw!$B$10:$B$440,MATCH(B14,RaceDraw!$C$10:$C$440,0)))","v":"9.24"},10,{"$f":"IF(ISERROR(VLOOKUP($B14,RaceDraw!$C$10:$P$440,COLUMN()-1,FALSE)),\"\",IF(ISBLANK(VLOOKUP($B14,RaceDraw!$C$10:$P$440,COLUMN()-1,FALSE)),\"\",VLOOKUP($B14,RaceDraw!$C$10:$P$440,COLUMN()-1,FALSE)))","v":"Senior A Mixed 10's"},{"$f":"IF(ISERROR(VLOOKUP($B14,RaceDraw!$C$10:$P$440,COLUMN()-1,FALSE)),\"\",IF(ISBLANK(VLOOKUP($B14,RaceDraw!$C$10:$P$440,COLUMN()-1,FALSE)),\"\",VLOOKUP($B14,RaceDraw!$C$10:$P$440,COLUMN()-1,FALSE)))","v":200},{"$f":"IF(ISERROR(VLOOKUP($B14,RaceDraw!$C$10:$P$440,COLUMN()-1,FALSE)),\"\",IF(ISBLANK(VLOOKUP($B14,RaceDraw!$C$10:$P$440,COLUMN()-1,FALSE)),F14,VLOOKUP($B14,RaceDraw!$C$10:$P$440,COLUMN()-1,FALSE)))","v":1},{"$f":"IF(ISERROR(VLOOKUP($B14,RaceDraw!$C$10:$P$440,COLUMN()-1,FALSE)),\"\",IF(ISBLANK(VLOOKUP($B14,RaceDraw!$C$10:$P$440,COLUMN()-1,FALSE)),\"\",VLOOKUP($B14,RaceDraw!$C$10:$P$440,COLUMN()-1,FALSE)))","v":1},{"$f":"IF(ISERROR(VLOOKUP($B14,RaceDraw!$C$10:$P$440,COLUMN()-1,FALSE)),\" \",IF(ISBLANK(VLOOKUP($B14,RaceDraw!$C$10:$P$440,COLUMN()-1,FALSE)),\" \",VLOOKUP($B14,RaceDraw!$C$10:$P$440,COLUMN()-1,FALSE)))","v":"Hunter River Dragons"},{"$f":"IF(ISERROR(VLOOKUP($B14,RaceDraw!$C$10:$P$440,COLUMN()-1,FALSE)),\" \",IF(ISBLANK(VLOOKUP($B14,RaceDraw!$C$10:$P$440,COLUMN()-1,FALSE)),\" \",VLOOKUP($B14,RaceDraw!$C$10:$P$440,COLUMN()-1,FALSE)))","v":"Goolwa River Dragons"},{"$f":"IF(ISERROR(VLOOKUP($B14,RaceDraw!$C$10:$P$440,COLUMN()-1,FALSE)),\" \",IF(ISBLANK(VLOOKUP($B14,RaceDraw!$C$10:$P$440,COLUMN()-1,FALSE)),\" \",VLOOKUP($B14,RaceDraw!$C$10:$P$440,COLUMN()-1,FALSE)))","v":"Broadwater Dragons"},{"$f":"IF(ISERROR(VLOOKUP($B14,RaceDraw!$C$10:$P$440,COLUMN()-1,FALSE)),\" \",IF(ISBLANK(VLOOKUP($B14,RaceDraw!$C$10:$P$440,COLUMN()-1,FALSE)),\" \",VLOOKUP($B14,RaceDraw!$C$10:$P$440,COLUMN()-1,FALSE)))","v":"Deepwater Dragons"},{"$f":"IF(ISERROR(VLOOKUP($B14,RaceDraw!$C$10:$P$440,COLUMN()-1,FALSE)),\" \",IF(ISBLANK(VLOOKUP($B14,RaceDraw!$C$10:$P$440,COLUMN()-1,FALSE)),\" \",VLOOKUP($B14,RaceDraw!$C$10:$P$440,COLUMN()-1,FALSE)))","v":"Peninsula Dragonfly"},{"$f":"IF(ISERROR(VLOOKUP($B14,RaceDraw!$C$10:$P$440,COLUMN()-1,FALSE)),\" \",IF(ISBLANK(VLOOKUP($B14,RaceDraw!$C$10:$P$440,COLUMN()-1,FALSE)),\" \",VLOOKUP($B14,RaceDraw!$C$10:$P$440,COLUMN()-1,FALSE)))","v":" "},{"$f":"IF(ISERROR(VLOOKUP($B14,RaceDraw!$C$10:$P$440,COLUMN()-1,FALSE)),\" \",IF(ISBLANK(VLOOKUP($B14,RaceDraw!$C$10:$P$440,COLUMN()-1,FALSE)),\" \",VLOOKUP($B14,RaceDraw!$C$10:$P$440,COLUMN()-1,FALSE)))","v":" "},{"$f":"IF(ISERROR(VLOOKUP($B14,RaceDraw!$C$10:$P$440,COLUMN()-1,FALSE)),\" \",IF(ISBLANK(VLOOKUP($B14,RaceDraw!$C$10:$P$440,COLUMN()-1,FALSE)),\" \",VLOOKUP($B14,RaceDraw!$C$10:$P$440,COLUMN()-1,FALSE)))","v":" "},{"$f":"IF(ISERROR(VLOOKUP($B14,RaceDraw!$C$10:$P$440,COLUMN()-1,FALSE)),\" \",IF(ISBLANK(VLOOKUP($B14,RaceDraw!$C$10:$P$440,COLUMN()-1,FALSE)),\" \",VLOOKUP($B14,RaceDraw!$C$10:$P$440,COLUMN()-1,FALSE)))","v":" "},"Fri"]
[{"$f":"IF(ISERROR(INDEX(RaceDraw!$B$10:$B$440,MATCH(B15,RaceDraw!$C$10:$C$440,0))),\"\",INDEX(RaceDraw!$B$10:$B$440,MATCH(B15,RaceDraw!$C$10:$C$440,0)))","v":"9.30"},11,{"$f":"IF(ISERROR(VLOOKUP($B15,RaceDraw!$C$10:$P$440,COLUMN()-1,FALSE)),\"\",IF(ISBLANK(VLOOKUP($B15,RaceDraw!$C$10:$P$440,COLUMN()-1,FALSE)),\"\",VLOOKUP($B15,RaceDraw!$C$10:$P$440,COLUMN()-1,FALSE)))","v":"Senior A Mixed 10's"},{"$f":"IF(ISERROR(VLOOKUP($B15,RaceDraw!$C$10:$P$440,COLUMN()-1,FALSE)),\"\",IF(ISBLANK(VLOOKUP($B15,RaceDraw!$C$10:$P$440,COLUMN()-1,FALSE)),\"\",VLOOKUP($B15,RaceDraw!$C$10:$P$440,COLUMN()-1,FALSE)))","v":200},{"$f":"IF(ISERROR(VLOOKUP($B15,RaceDraw!$C$10:$P$440,COLUMN()-1,FALSE)),\"\",IF(ISBLANK(VLOOKUP($B15,RaceDraw!$C$10:$P$440,COLUMN()-1,FALSE)),F15,VLOOKUP($B15,RaceDraw!$C$10:$P$440,COLUMN()-1,FALSE)))","v":1},{"$f":"IF(ISERROR(VLOOKUP($B15,RaceDraw!$C$10:$P$440,COLUMN()-1,FALSE)),\"\",IF(ISBLANK(VLOOKUP($B15,RaceDraw!$C$10:$P$440,COLUMN()-1,FALSE)),\"\",VLOOKUP($B15,RaceDraw!$C$10:$P$440,COLUMN()-1,FALSE)))","v":2},{"$f":"IF(ISERROR(VLOOKUP($B15,RaceDraw!$C$10:$P$440,COLUMN()-1,FALSE)),\" \",IF(ISBLANK(VLOOKUP($B15,RaceDraw!$C$10:$P$440,COLUMN()-1,FALSE)),\" \",VLOOKUP($B15,RaceDraw!$C$10:$P$440,COLUMN()-1,FALSE)))","v":"Mildura"},{"$f":"IF(ISERROR(VLOOKUP($B15,RaceDraw!$C$10:$P$440,COLUMN()-1,FALSE)),\" \",IF(ISBLANK(VLOOKUP($B15,RaceDraw!$C$10:$P$440,COLUMN()-1,FALSE)),\" \",VLOOKUP($B15,RaceDraw!$C$10:$P$440,COLUMN()-1,FALSE)))","v":"Rainbow Dragons"},{"$f":"IF(ISERROR(VLOOKUP($B15,RaceDraw!$C$10:$P$440,COLUMN()-1,FALSE)),\" \",IF(ISBLANK(VLOOKUP($B15,RaceDraw!$C$10:$P$440,COLUMN()-1,FALSE)),\" \",VLOOKUP($B15,RaceDraw!$C$10:$P$440,COLUMN()-1,FALSE)))","v":"Gippsland United"},{"$f":"IF(ISERROR(VLOOKUP($B15,RaceDraw!$C$10:$P$440,COLUMN()-1,FALSE)),\" \",IF(ISBLANK(VLOOKUP($B15,RaceDraw!$C$10:$P$440,COLUMN()-1,FALSE)),\" \",VLOOKUP($B15,RaceDraw!$C$10:$P$440,COLUMN()-1,FALSE)))","v":"Kombo Dragons Black"},{"$f":"IF(ISERROR(VLOOKUP($B15,RaceDraw!$C$10:$P$440,COLUMN()-1,FALSE)),\" \",IF(ISBLANK(VLOOKUP($B15,RaceDraw!$C$10:$P$440,COLUMN()-1,FALSE)),\" \",VLOOKUP($B15,RaceDraw!$C$10:$P$440,COLUMN()-1,FALSE)))","v":"Kombo Dragons Purple"},{"$f":"IF(ISERROR(VLOOKUP($B15,RaceDraw!$C$10:$P$440,COLUMN()-1,FALSE)),\" \",IF(ISBLANK(VLOOKUP($B15,RaceDraw!$C$10:$P$440,COLUMN()-1,FALSE)),\" \",VLOOKUP($B15,RaceDraw!$C$10:$P$440,COLUMN()-1,FALSE)))","v":" "},{"$f":"IF(ISERROR(VLOOKUP($B15,RaceDraw!$C$10:$P$440,COLUMN()-1,FALSE)),\" \",IF(ISBLANK(VLOOKUP($B15,RaceDraw!$C$10:$P$440,COLUMN()-1,FALSE)),\" \",VLOOKUP($B15,RaceDraw!$C$10:$P$440,COLUMN()-1,FALSE)))","v":" "},{"$f":"IF(ISERROR(VLOOKUP($B15,RaceDraw!$C$10:$P$440,COLUMN()-1,FALSE)),\" \",IF(ISBLANK(VLOOKUP($B15,RaceDraw!$C$10:$P$440,COLUMN()-1,FALSE)),\" \",VLOOKUP($B15,RaceDraw!$C$10:$P$440,COLUMN()-1,FALSE)))","v":" "},{"$f":"IF(ISERROR(VLOOKUP($B15,RaceDraw!$C$10:$P$440,COLUMN()-1,FALSE)),\" \",IF(ISBLANK(VLOOKUP($B15,RaceDraw!$C$10:$P$440,COLUMN()-1,FALSE)),\" \",VLOOKUP($B15,RaceDraw!$C$10:$P$440,COLUMN()-1,FALSE)))","v":" "},"Fri"]
[{"$f":"IF(ISERROR(INDEX(RaceDraw!$B$10:$B$440,MATCH(B16,RaceDraw!$C$10:$C$440,0))),\"\",INDEX(RaceDraw!$B$10:$B$440,MATCH(B16,RaceDraw!$C$10:$C$440,0)))","v":"9.36"},12,{"$f":"IF(ISERROR(VLOOKUP($B16,RaceDraw!$C$10:$P$440,COLUMN()-1,FALSE)),\"\",IF(ISBLANK(VLOOKUP($B16,RaceDraw!$C$10:$P$440,COLUMN()-1,FALSE)),\"\",VLOOKUP($B16,RaceDraw!$C$10:$P$440,COLUMN()-1,FALSE)))","v":"Senior A Mixed 10's"},{"$f":"IF(ISERROR(VLOOKUP($B16,RaceDraw!$C$10:$P$440,COLUMN()-1,FALSE)),\"\",IF(ISBLANK(VLOOKUP($B16,RaceDraw!$C$10:$P$440,COLUMN()-1,FALSE)),\"\",VLOOKUP($B16,RaceDraw!$C$10:$P$440,COLUMN()-1,FALSE)))","v":200},{"$f":"IF(ISERROR(VLOOKUP($B16,RaceDraw!$C$10:$P$440,COLUMN()-1,FALSE)),\"\",IF(ISBLANK(VLOOKUP($B16,RaceDraw!$C$10:$P$440,COLUMN()-1,FALSE)),F16,VLOOKUP($B16,RaceDraw!$C$10:$P$440,COLUMN()-1,FALSE)))","v":1},{"$f":"IF(ISERROR(VLOOKUP($B16,RaceDraw!$C$10:$P$440,COLUMN()-1,FALSE)),\"\",IF(ISBLANK(VLOOKUP($B16,RaceDraw!$C$10:$P$440,COLUMN()-1,FALSE)),\"\",VLOOKUP($B16,RaceDraw!$C$10:$P$440,COLUMN()-1,FALSE)))","v":3},{"$f":"IF(ISERROR(VLOOKUP($B16,RaceDraw!$C$10:$P$440,COLUMN()-1,FALSE)),\" \",IF(ISBLANK(VLOOKUP($B16,RaceDraw!$C$10:$P$440,COLUMN()-1,FALSE)),\" \",VLOOKUP($B16,RaceDraw!$C$10:$P$440,COLUMN()-1,FALSE)))","v":"Southern Warriors"},{"$f":"IF(ISERROR(VLOOKUP($B16,RaceDraw!$C$10:$P$440,COLUMN()-1,FALSE)),\" \",IF(ISBLANK(VLOOKUP($B16,RaceDraw!$C$10:$P$440,COLUMN()-1,FALSE)),\" \",VLOOKUP($B16,RaceDraw!$C$10:$P$440,COLUMN()-1,FALSE)))","v":"Powerblades"},{"$f":"IF(ISERROR(VLOOKUP($B16,RaceDraw!$C$10:$P$440,COLUMN()-1,FALSE)),\" \",IF(ISBLANK(VLOOKUP($B16,RaceDraw!$C$10:$P$440,COLUMN()-1,FALSE)),\" \",VLOOKUP($B16,RaceDraw!$C$10:$P$440,COLUMN()-1,FALSE)))","v":"Black Sea Dragons"},{"$f":"IF(ISERROR(VLOOKUP($B16,RaceDraw!$C$10:$P$440,COLUMN()-1,FALSE)),\" \",IF(ISBLANK(VLOOKUP($B16,RaceDraw!$C$10:$P$440,COLUMN()-1,FALSE)),\" \",VLOOKUP($B16,RaceDraw!$C$10:$P$440,COLUMN()-1,FALSE)))","v":"Dragonfire"},{"$f":"IF(ISERROR(VLOOKUP($B16,RaceDraw!$C$10:$P$440,COLUMN()-1,FALSE)),\" \",IF(ISBLANK(VLOOKUP($B16,RaceDraw!$C$10:$P$440,COLUMN()-1,FALSE)),\" \",VLOOKUP($B16,RaceDraw!$C$10:$P$440,COLUMN()-1,FALSE)))","v":"Newcastle Dragon Hunters"},{"$f":"IF(ISERROR(VLOOKUP($B16,RaceDraw!$C$10:$P$440,COLUMN()-1,FALSE)),\" \",IF(ISBLANK(VLOOKUP($B16,RaceDraw!$C$10:$P$440,COLUMN()-1,FALSE)),\" \",VLOOKUP($B16,RaceDraw!$C$10:$P$440,COLUMN()-1,FALSE)))","v":" "},{"$f":"IF(ISERROR(VLOOKUP($B16,RaceDraw!$C$10:$P$440,COLUMN()-1,FALSE)),\" \",IF(ISBLANK(VLOOKUP($B16,RaceDraw!$C$10:$P$440,COLUMN()-1,FALSE)),\" \",VLOOKUP($B16,RaceDraw!$C$10:$P$440,COLUMN()-1,FALSE)))","v":" "},{"$f":"IF(ISERROR(VLOOKUP($B16,RaceDraw!$C$10:$P$440,COLUMN()-1,FALSE)),\" \",IF(ISBLANK(VLOOKUP($B16,RaceDraw!$C$10:$P$440,COLUMN()-1,FALSE)),\" \",VLOOKUP($B16,RaceDraw!$C$10:$P$440,COLUMN()-1,FALSE)))","v":" "},{"$f":"IF(ISERROR(VLOOKUP($B16,RaceDraw!$C$10:$P$440,COLUMN()-1,FALSE)),\" \",IF(ISBLANK(VLOOKUP($B16,RaceDraw!$C$10:$P$440,COLUMN()-1,FALSE)),\" \",VLOOKUP($B16,RaceDraw!$C$10:$P$440,COLUMN()-1,FALSE)))","v":" "},"Fri"]
[{"$f":"IF(ISERROR(INDEX(RaceDraw!$B$10:$B$440,MATCH(B17,RaceDraw!$C$10:$C$440,0))),\"\",INDEX(RaceDraw!$B$10:$B$440,MATCH(B17,RaceDraw!$C$10:$C$440,0)))","v":"9.42"},13,{"$f":"IF(ISERROR(VLOOKUP($B17,RaceDraw!$C$10:$P$440,COLUMN()-1,FALSE)),\"\",IF(ISBLANK(VLOOKUP($B17,RaceDraw!$C$10:$P$440,COLUMN()-1,FALSE)),\"\",VLOOKUP($B17,RaceDraw!$C$10:$P$440,COLUMN()-1,FALSE)))","v":"Senior A Mixed 20"},{"$f":"IF(ISERROR(VLOOKUP($B17,RaceDraw!$C$10:$P$440,COLUMN()-1,FALSE)),\"\",IF(ISBLANK(VLOOKUP($B17,RaceDraw!$C$10:$P$440,COLUMN()-1,FALSE)),\"\",VLOOKUP($B17,RaceDraw!$C$10:$P$440,COLUMN()-1,FALSE)))","v":200},{"$f":"IF(ISERROR(VLOOKUP($B17,RaceDraw!$C$10:$P$440,COLUMN()-1,FALSE)),\"\",IF(ISBLANK(VLOOKUP($B17,RaceDraw!$C$10:$P$440,COLUMN()-1,FALSE)),F17,VLOOKUP($B17,RaceDraw!$C$10:$P$440,COLUMN()-1,FALSE)))","v":1},{"$f":"IF(ISERROR(VLOOKUP($B17,RaceDraw!$C$10:$P$440,COLUMN()-1,FALSE)),\"\",IF(ISBLANK(VLOOKUP($B17,RaceDraw!$C$10:$P$440,COLUMN()-1,FALSE)),\"\",VLOOKUP($B17,RaceDraw!$C$10:$P$440,COLUMN()-1,FALSE)))","v":1},{"$f":"IF(ISERROR(VLOOKUP($B17,RaceDraw!$C$10:$P$440,COLUMN()-1,FALSE)),\" \",IF(ISBLANK(VLOOKUP($B17,RaceDraw!$C$10:$P$440,COLUMN()-1,FALSE)),\" \",VLOOKUP($B17,RaceDraw!$C$10:$P$440,COLUMN()-1,FALSE)))","v":"Gippsland United"},{"$f":"IF(ISERROR(VLOOKUP($B17,RaceDraw!$C$10:$P$440,COLUMN()-1,FALSE)),\" \",IF(ISBLANK(VLOOKUP($B17,RaceDraw!$C$10:$P$440,COLUMN()-1,FALSE)),\" \",VLOOKUP($B17,RaceDraw!$C$10:$P$440,COLUMN()-1,FALSE)))","v":"Motley Crew"},{"$f":"IF(ISERROR(VLOOKUP($B17,RaceDraw!$C$10:$P$440,COLUMN()-1,FALSE)),\" \",IF(ISBLANK(VLOOKUP($B17,RaceDraw!$C$10:$P$440,COLUMN()-1,FALSE)),\" \",VLOOKUP($B17,RaceDraw!$C$10:$P$440,COLUMN()-1,FALSE)))","v":"Kombo Dragons Black"},{"$f":"IF(ISERROR(VLOOKUP($B17,RaceDraw!$C$10:$P$440,COLUMN()-1,FALSE)),\" \",IF(ISBLANK(VLOOKUP($B17,RaceDraw!$C$10:$P$440,COLUMN()-1,FALSE)),\" \",VLOOKUP($B17,RaceDraw!$C$10:$P$440,COLUMN()-1,FALSE)))","v":"Mildura"},{"$f":"IF(ISERROR(VLOOKUP($B17,RaceDraw!$C$10:$P$440,COLUMN()-1,FALSE)),\" \",IF(ISBLANK(VLOOKUP($B17,RaceDraw!$C$10:$P$440,COLUMN()-1,FALSE)),\" \",VLOOKUP($B17,RaceDraw!$C$10:$P$440,COLUMN()-1,FALSE)))","v":"Deepwater Dragons"},{"$f":"IF(ISERROR(VLOOKUP($B17,RaceDraw!$C$10:$P$440,COLUMN()-1,FALSE)),\" \",IF(ISBLANK(VLOOKUP($B17,RaceDraw!$C$10:$P$440,COLUMN()-1,FALSE)),\" \",VLOOKUP($B17,RaceDraw!$C$10:$P$440,COLUMN()-1,FALSE)))","v":"Hunter River Dragons"},{"$f":"IF(ISERROR(VLOOKUP($B17,RaceDraw!$C$10:$P$440,COLUMN()-1,FALSE)),\" \",IF(ISBLANK(VLOOKUP($B17,RaceDraw!$C$10:$P$440,COLUMN()-1,FALSE)),\" \",VLOOKUP($B17,RaceDraw!$C$10:$P$440,COLUMN()-1,FALSE)))","v":" "},{"$f":"IF(ISERROR(VLOOKUP($B17,RaceDraw!$C$10:$P$440,COLUMN()-1,FALSE)),\" \",IF(ISBLANK(VLOOKUP($B17,RaceDraw!$C$10:$P$440,COLUMN()-1,FALSE)),\" \",VLOOKUP($B17,RaceDraw!$C$10:$P$440,COLUMN()-1,FALSE)))","v":" "},{"$f":"IF(ISERROR(VLOOKUP($B17,RaceDraw!$C$10:$P$440,COLUMN()-1,FALSE)),\" \",IF(ISBLANK(VLOOKUP($B17,RaceDraw!$C$10:$P$440,COLUMN()-1,FALSE)),\" \",VLOOKUP($B17,RaceDraw!$C$10:$P$440,COLUMN()-1,FALSE)))","v":" "},"Fri"]
[{"$f":"IF(ISERROR(INDEX(RaceDraw!$B$10:$B$440,MATCH(B18,RaceDraw!$C$10:$C$440,0))),\"\",INDEX(RaceDraw!$B$10:$B$440,MATCH(B18,RaceDraw!$C$10:$C$440,0)))","v":"9.48"},14,{"$f":"IF(ISERROR(VLOOKUP($B18,RaceDraw!$C$10:$P$440,COLUMN()-1,FALSE)),\"\",IF(ISBLANK(VLOOKUP($B18,RaceDraw!$C$10:$P$440,COLUMN()-1,FALSE)),\"\",VLOOKUP($B18,RaceDraw!$C$10:$P$440,COLUMN()-1,FALSE)))","v":"Senior C Women 10"},{"$f":"IF(ISERROR(VLOOKUP($B18,RaceDraw!$C$10:$P$440,COLUMN()-1,FALSE)),\"\",IF(ISBLANK(VLOOKUP($B18,RaceDraw!$C$10:$P$440,COLUMN()-1,FALSE)),\"\",VLOOKUP($B18,RaceDraw!$C$10:$P$440,COLUMN()-1,FALSE)))","v":200},{"$f":"IF(ISERROR(VLOOKUP($B18,RaceDraw!$C$10:$P$440,COLUMN()-1,FALSE)),\"\",IF(ISBLANK(VLOOKUP($B18,RaceDraw!$C$10:$P$440,COLUMN()-1,FALSE)),F18,VLOOKUP($B18,RaceDraw!$C$10:$P$440,COLUMN()-1,FALSE)))","v":1},{"$f":"IF(ISERROR(VLOOKUP($B18,RaceDraw!$C$10:$P$440,COLUMN()-1,FALSE)),\"\",IF(ISBLANK(VLOOKUP($B18,RaceDraw!$C$10:$P$440,COLUMN()-1,FALSE)),\"\",VLOOKUP($B18,RaceDraw!$C$10:$P$440,COLUMN()-1,FALSE)))","v":1},{"$f":"IF(ISERROR(VLOOKUP($B18,RaceDraw!$C$10:$P$440,COLUMN()-1,FALSE)),\" \",IF(ISBLANK(VLOOKUP($B18,RaceDraw!$C$10:$P$440,COLUMN()-1,FALSE)),\" \",VLOOKUP($B18,RaceDraw!$C$10:$P$440,COLUMN()-1,FALSE)))","v":"FNC"},{"$f":"IF(ISERROR(VLOOKUP($B18,RaceDraw!$C$10:$P$440,COLUMN()-1,FALSE)),\" \",IF(ISBLANK(VLOOKUP($B18,RaceDraw!$C$10:$P$440,COLUMN()-1,FALSE)),\" \",VLOOKUP($B18,RaceDraw!$C$10:$P$440,COLUMN()-1,FALSE)))","v":"Southern Warriors Blue"},{"$f":"IF(ISERROR(VLOOKUP($B18,RaceDraw!$C$10:$P$440,COLUMN()-1,FALSE)),\" \",IF(ISBLANK(VLOOKUP($B18,RaceDraw!$C$10:$P$440,COLUMN()-1,FALSE)),\" \",VLOOKUP($B18,RaceDraw!$C$10:$P$440,COLUMN()-1,FALSE)))","v":"Black Sea Dragons"},{"$f":"IF(ISERROR(VLOOKUP($B18,RaceDraw!$C$10:$P$440,COLUMN()-1,FALSE)),\" \",IF(ISBLANK(VLOOKUP($B18,RaceDraw!$C$10:$P$440,COLUMN()-1,FALSE)),\" \",VLOOKUP($B18,RaceDraw!$C$10:$P$440,COLUMN()-1,FALSE)))","v":"Gypsy Dragons"},{"$f":"IF(ISERROR(VLOOKUP($B18,RaceDraw!$C$10:$P$440,COLUMN()-1,FALSE)),\" \",IF(ISBLANK(VLOOKUP($B18,RaceDraw!$C$10:$P$440,COLUMN()-1,FALSE)),\" \",VLOOKUP($B18,RaceDraw!$C$10:$P$440,COLUMN()-1,FALSE)))","v":"SADA Sonix Yellow"},{"$f":"IF(ISERROR(VLOOKUP($B18,RaceDraw!$C$10:$P$440,COLUMN()-1,FALSE)),\" \",IF(ISBLANK(VLOOKUP($B18,RaceDraw!$C$10:$P$440,COLUMN()-1,FALSE)),\" \",VLOOKUP($B18,RaceDraw!$C$10:$P$440,COLUMN()-1,FALSE)))","v":"Rainbow Dragons Blue"},{"$f":"IF(ISERROR(VLOOKUP($B18,RaceDraw!$C$10:$P$440,COLUMN()-1,FALSE)),\" \",IF(ISBLANK(VLOOKUP($B18,RaceDraw!$C$10:$P$440,COLUMN()-1,FALSE)),\" \",VLOOKUP($B18,RaceDraw!$C$10:$P$440,COLUMN()-1,FALSE)))","v":" "},{"$f":"IF(ISERROR(VLOOKUP($B18,RaceDraw!$C$10:$P$440,COLUMN()-1,FALSE)),\" \",IF(ISBLANK(VLOOKUP($B18,RaceDraw!$C$10:$P$440,COLUMN()-1,FALSE)),\" \",VLOOKUP($B18,RaceDraw!$C$10:$P$440,COLUMN()-1,FALSE)))","v":" "},{"$f":"IF(ISERROR(VLOOKUP($B18,RaceDraw!$C$10:$P$440,COLUMN()-1,FALSE)),\" \",IF(ISBLANK(VLOOKUP($B18,RaceDraw!$C$10:$P$440,COLUMN()-1,FALSE)),\" \",VLOOKUP($B18,RaceDraw!$C$10:$P$440,COLUMN()-1,FALSE)))","v":" "},"Fri"]
[{"$f":"IF(ISERROR(INDEX(RaceDraw!$B$10:$B$440,MATCH(B19,RaceDraw!$C$10:$C$440,0))),\"\",INDEX(RaceDraw!$B$10:$B$440,MATCH(B19,RaceDraw!$C$10:$C$440,0)))","v":"9.54"},15,{"$f":"IF(ISERROR(VLOOKUP($B19,RaceDraw!$C$10:$P$440,COLUMN()-1,FALSE)),\"\",IF(ISBLANK(VLOOKUP($B19,RaceDraw!$C$10:$P$440,COLUMN()-1,FALSE)),\"\",VLOOKUP($B19,RaceDraw!$C$10:$P$440,COLUMN()-1,FALSE)))","v":"Senior C Women 10"},{"$f":"IF(ISERROR(VLOOKUP($B19,RaceDraw!$C$10:$P$440,COLUMN()-1,FALSE)),\"\",IF(ISBLANK(VLOOKUP($B19,RaceDraw!$C$10:$P$440,COLUMN()-1,FALSE)),\"\",VLOOKUP($B19,RaceDraw!$C$10:$P$440,COLUMN()-1,FALSE)))","v":200},{"$f":"IF(ISERROR(VLOOKUP($B19,RaceDraw!$C$10:$P$440,COLUMN()-1,FALSE)),\"\",IF(ISBLANK(VLOOKUP($B19,RaceDraw!$C$10:$P$440,COLUMN()-1,FALSE)),F19,VLOOKUP($B19,RaceDraw!$C$10:$P$440,COLUMN()-1,FALSE)))","v":1},{"$f":"IF(ISERROR(VLOOKUP($B19,RaceDraw!$C$10:$P$440,COLUMN()-1,FALSE)),\"\",IF(ISBLANK(VLOOKUP($B19,RaceDraw!$C$10:$P$440,COLUMN()-1,FALSE)),\"\",VLOOKUP($B19,RaceDraw!$C$10:$P$440,COLUMN()-1,FALSE)))","v":2},{"$f":"IF(ISERROR(VLOOKUP($B19,RaceDraw!$C$10:$P$440,COLUMN()-1,FALSE)),\" \",IF(ISBLANK(VLOOKUP($B19,RaceDraw!$C$10:$P$440,COLUMN()-1,FALSE)),\" \",VLOOKUP($B19,RaceDraw!$C$10:$P$440,COLUMN()-1,FALSE)))","v":"Gippsland Orange"},{"$f":"IF(ISERROR(VLOOKUP($B19,RaceDraw!$C$10:$P$440,COLUMN()-1,FALSE)),\" \",IF(ISBLANK(VLOOKUP($B19,RaceDraw!$C$10:$P$440,COLUMN()-1,FALSE)),\" \",VLOOKUP($B19,RaceDraw!$C$10:$P$440,COLUMN()-1,FALSE)))","v":"Deepwater Purple"},{"$f":"IF(ISERROR(VLOOKUP($B19,RaceDraw!$C$10:$P$440,COLUMN()-1,FALSE)),\" \",IF(ISBLANK(VLOOKUP($B19,RaceDraw!$C$10:$P$440,COLUMN()-1,FALSE)),\" \",VLOOKUP($B19,RaceDraw!$C$10:$P$440,COLUMN()-1,FALSE)))","v":"SADA Sonix Blue"},{"$f":"IF(ISERROR(VLOOKUP($B19,RaceDraw!$C$10:$P$440,COLUMN()-1,FALSE)),\" \",IF(ISBLANK(VLOOKUP($B19,RaceDraw!$C$10:$P$440,COLUMN()-1,FALSE)),\" \",VLOOKUP($B19,RaceDraw!$C$10:$P$440,COLUMN()-1,FALSE)))","v":"Dragons Afloat Bendigo"},{"$f":"IF(ISERROR(VLOOKUP($B19,RaceDraw!$C$10:$P$440,COLUMN()-1,FALSE)),\" \",IF(ISBLANK(VLOOKUP($B19,RaceDraw!$C$10:$P$440,COLUMN()-1,FALSE)),\" \",VLOOKUP($B19,RaceDraw!$C$10:$P$440,COLUMN()-1,FALSE)))","v":"Kombo Dragons Black"},{"$f":"IF(ISERROR(VLOOKUP($B19,RaceDraw!$C$10:$P$440,COLUMN()-1,FALSE)),\" \",IF(ISBLANK(VLOOKUP($B19,RaceDraw!$C$10:$P$440,COLUMN()-1,FALSE)),\" \",VLOOKUP($B19,RaceDraw!$C$10:$P$440,COLUMN()-1,FALSE)))","v":"Newcastle Dragon Hunters Red"},{"$f":"IF(ISERROR(VLOOKUP($B19,RaceDraw!$C$10:$P$440,COLUMN()-1,FALSE)),\" \",IF(ISBLANK(VLOOKUP($B19,RaceDraw!$C$10:$P$440,COLUMN()-1,FALSE)),\" \",VLOOKUP($B19,RaceDraw!$C$10:$P$440,COLUMN()-1,FALSE)))","v":"Hunter River Dragons"},{"$f":"IF(ISERROR(VLOOKUP($B19,RaceDraw!$C$10:$P$440,COLUMN()-1,FALSE)),\" \",IF(ISBLANK(VLOOKUP($B19,RaceDraw!$C$10:$P$440,COLUMN()-1,FALSE)),\" \",VLOOKUP($B19,RaceDraw!$C$10:$P$440,COLUMN()-1,FALSE)))","v":" "},{"$f":"IF(ISERROR(VLOOKUP($B19,RaceDraw!$C$10:$P$440,COLUMN()-1,FALSE)),\" \",IF(ISBLANK(VLOOKUP($B19,RaceDraw!$C$10:$P$440,COLUMN()-1,FALSE)),\" \",VLOOKUP($B19,RaceDraw!$C$10:$P$440,COLUMN()-1,FALSE)))","v":" "},"Fri"]
[{"$f":"IF(ISERROR(INDEX(RaceDraw!$B$10:$B$440,MATCH(B20,RaceDraw!$C$10:$C$440,0))),\"\",INDEX(RaceDraw!$B$10:$B$440,MATCH(B20,RaceDraw!$C$10:$C$440,0)))","v":"10.00"},16,{"$f":"IF(ISERROR(VLOOKUP($B20,RaceDraw!$C$10:$P$440,COLUMN()-1,FALSE)),\"\",IF(ISBLANK(VLOOKUP($B20,RaceDraw!$C$10:$P$440,COLUMN()-1,FALSE)),\"\",VLOOKUP($B20,RaceDraw!$C$10:$P$440,COLUMN()-1,FALSE)))","v":"Senior C Women 10"},{"$f":"IF(ISERROR(VLOOKUP($B20,RaceDraw!$C$10:$P$440,COLUMN()-1,FALSE)),\"\",IF(ISBLANK(VLOOKUP($B20,RaceDraw!$C$10:$P$440,COLUMN()-1,FALSE)),\"\",VLOOKUP($B20,RaceDraw!$C$10:$P$440,COLUMN()-1,FALSE)))","v":200},{"$f":"IF(ISERROR(VLOOKUP($B20,RaceDraw!$C$10:$P$440,COLUMN()-1,FALSE)),\"\",IF(ISBLANK(VLOOKUP($B20,RaceDraw!$C$10:$P$440,COLUMN()-1,FALSE)),F20,VLOOKUP($B20,RaceDraw!$C$10:$P$440,COLUMN()-1,FALSE)))","v":1},{"$f":"IF(ISERROR(VLOOKUP($B20,RaceDraw!$C$10:$P$440,COLUMN()-1,FALSE)),\"\",IF(ISBLANK(VLOOKUP($B20,RaceDraw!$C$10:$P$440,COLUMN()-1,FALSE)),\"\",VLOOKUP($B20,RaceDraw!$C$10:$P$440,COLUMN()-1,FALSE)))","v":3},{"$f":"IF(ISERROR(VLOOKUP($B20,RaceDraw!$C$10:$P$440,COLUMN()-1,FALSE)),\" \",IF(ISBLANK(VLOOKUP($B20,RaceDraw!$C$10:$P$440,COLUMN()-1,FALSE)),\" \",VLOOKUP($B20,RaceDraw!$C$10:$P$440,COLUMN()-1,FALSE)))","v":"DA Bendigo Pink"},{"$f":"IF(ISERROR(VLOOKUP($B20,RaceDraw!$C$10:$P$440,COLUMN()-1,FALSE)),\" \",IF(ISBLANK(VLOOKUP($B20,RaceDraw!$C$10:$P$440,COLUMN()-1,FALSE)),\" \",VLOOKUP($B20,RaceDraw!$C$10:$P$440,COLUMN()-1,FALSE)))","v":"Dragons Afloat Port Lincoln"},{"$f":"IF(ISERROR(VLOOKUP($B20,RaceDraw!$C$10:$P$440,COLUMN()-1,FALSE)),\" \",IF(ISBLANK(VLOOKUP($B20,RaceDraw!$C$10:$P$440,COLUMN()-1,FALSE)),\" \",VLOOKUP($B20,RaceDraw!$C$10:$P$440,COLUMN()-1,FALSE)))","v":"Dragon Masters"},{"$f":"IF(ISERROR(VLOOKUP($B20,RaceDraw!$C$10:$P$440,COLUMN()-1,FALSE)),\" \",IF(ISBLANK(VLOOKUP($B20,RaceDraw!$C$10:$P$440,COLUMN()-1,FALSE)),\" \",VLOOKUP($B20,RaceDraw!$C$10:$P$440,COLUMN()-1,FALSE)))","v":"Juggernauts"},{"$f":"IF(ISERROR(VLOOKUP($B20,RaceDraw!$C$10:$P$440,COLUMN()-1,FALSE)),\" \",IF(ISBLANK(VLOOKUP($B20,RaceDraw!$C$10:$P$440,COLUMN()-1,FALSE)),\" \",VLOOKUP($B20,RaceDraw!$C$10:$P$440,COLUMN()-1,FALSE)))","v":"Deepwater Green"},{"$f":"IF(ISERROR(VLOOKUP($B20,RaceDraw!$C$10:$P$440,COLUMN()-1,FALSE)),\" \",IF(ISBLANK(VLOOKUP($B20,RaceDraw!$C$10:$P$440,COLUMN()-1,FALSE)),\" \",VLOOKUP($B20,RaceDraw!$C$10:$P$440,COLUMN()-1,FALSE)))","v":"Outback Dragons"},{"$f":"IF(ISERROR(VLOOKUP($B20,RaceDraw!$C$10:$P$440,COLUMN()-1,FALSE)),\" \",IF(ISBLANK(VLOOKUP($B20,RaceDraw!$C$10:$P$440,COLUMN()-1,FALSE)),\" \",VLOOKUP($B20,RaceDraw!$C$10:$P$440,COLUMN()-1,FALSE)))","v":" "},{"$f":"IF(ISERROR(VLOOKUP($B20,RaceDraw!$C$10:$P$440,COLUMN()-1,FALSE)),\" \",IF(ISBLANK(VLOOKUP($B20,RaceDraw!$C$10:$P$440,COLUMN()-1,FALSE)),\" \",VLOOKUP($B20,RaceDraw!$C$10:$P$440,COLUMN()-1,FALSE)))","v":" "},{"$f":"IF(ISERROR(VLOOKUP($B20,RaceDraw!$C$10:$P$440,COLUMN()-1,FALSE)),\" \",IF(ISBLANK(VLOOKUP($B20,RaceDraw!$C$10:$P$440,COLUMN()-1,FALSE)),\" \",VLOOKUP($B20,RaceDraw!$C$10:$P$440,COLUMN()-1,FALSE)))","v":" "},"Fri"]
[{"$f":"IF(ISERROR(INDEX(RaceDraw!$B$10:$B$440,MATCH(B21,RaceDraw!$C$10:$C$440,0))),\"\",INDEX(RaceDraw!$B$10:$B$440,MATCH(B21,RaceDraw!$C$10:$C$440,0)))","v":"10.06"},17,{"$f":"IF(ISERROR(VLOOKUP($B21,RaceDraw!$C$10:$P$440,COLUMN()-1,FALSE)),\"\",IF(ISBLANK(VLOOKUP($B21,RaceDraw!$C$10:$P$440,COLUMN()-1,FALSE)),\"\",VLOOKUP($B21,RaceDraw!$C$10:$P$440,COLUMN()-1,FALSE)))","v":"Senior C Women 10"},{"$f":"IF(ISERROR(VLOOKUP($B21,RaceDraw!$C$10:$P$440,COLUMN()-1,FALSE)),\"\",IF(ISBLANK(VLOOKUP($B21,RaceDraw!$C$10:$P$440,COLUMN()-1,FALSE)),\"\",VLOOKUP($B21,RaceDraw!$C$10:$P$440,COLUMN()-1,FALSE)))","v":200},{"$f":"IF(ISERROR(VLOOKUP($B21,RaceDraw!$C$10:$P$440,COLUMN()-1,FALSE)),\"\",IF(ISBLANK(VLOOKUP($B21,RaceDraw!$C$10:$P$440,COLUMN()-1,FALSE)),F21,VLOOKUP($B21,RaceDraw!$C$10:$P$440,COLUMN()-1,FALSE)))","v":1},{"$f":"IF(ISERROR(VLOOKUP($B21,RaceDraw!$C$10:$P$440,COLUMN()-1,FALSE)),\"\",IF(ISBLANK(VLOOKUP($B21,RaceDraw!$C$10:$P$440,COLUMN()-1,FALSE)),\"\",VLOOKUP($B21,RaceDraw!$C$10:$P$440,COLUMN()-1,FALSE)))","v":4},{"$f":"IF(ISERROR(VLOOKUP($B21,RaceDraw!$C$10:$P$440,COLUMN()-1,FALSE)),\" \",IF(ISBLANK(VLOOKUP($B21,RaceDraw!$C$10:$P$440,COLUMN()-1,FALSE)),\" \",VLOOKUP($B21,RaceDraw!$C$10:$P$440,COLUMN()-1,FALSE)))","v":"Motley Crew"},{"$f":"IF(ISERROR(VLOOKUP($B21,RaceDraw!$C$10:$P$440,COLUMN()-1,FALSE)),\" \",IF(ISBLANK(VLOOKUP($B21,RaceDraw!$C$10:$P$440,COLUMN()-1,FALSE)),\" \",VLOOKUP($B21,RaceDraw!$C$10:$P$440,COLUMN()-1,FALSE)))","v":"Southern Warriors White"},{"$f":"IF(ISERROR(VLOOKUP($B21,RaceDraw!$C$10:$P$440,COLUMN()-1,FALSE)),\" \",IF(ISBLANK(VLOOKUP($B21,RaceDraw!$C$10:$P$440,COLUMN()-1,FALSE)),\" \",VLOOKUP($B21,RaceDraw!$C$10:$P$440,COLUMN()-1,FALSE)))","v":"Kangaroo Island Dragons"},{"$f":"IF(ISERROR(VLOOKUP($B21,RaceDraw!$C$10:$P$440,COLUMN()-1,FALSE)),\" \",IF(ISBLANK(VLOOKUP($B21,RaceDraw!$C$10:$P$440,COLUMN()-1,FALSE)),\" \",VLOOKUP($B21,RaceDraw!$C$10:$P$440,COLUMN()-1,FALSE)))","v":"Powerblades"},{"$f":"IF(ISERROR(VLOOKUP($B21,RaceDraw!$C$10:$P$440,COLUMN()-1,FALSE)),\" \",IF(ISBLANK(VLOOKUP($B21,RaceDraw!$C$10:$P$440,COLUMN()-1,FALSE)),\" \",VLOOKUP($B21,RaceDraw!$C$10:$P$440,COLUMN()-1,FALSE)))","v":"Rainbow Dragons Red"},{"$f":"IF(ISERROR(VLOOKUP($B21,RaceDraw!$C$10:$P$440,COLUMN()-1,FALSE)),\" \",IF(ISBLANK(VLOOKUP($B21,RaceDraw!$C$10:$P$440,COLUMN()-1,FALSE)),\" \",VLOOKUP($B21,RaceDraw!$C$10:$P$440,COLUMN()-1,FALSE)))","v":"Mildura"},{"$f":"IF(ISERROR(VLOOKUP($B21,RaceDraw!$C$10:$P$440,COLUMN()-1,FALSE)),\" \",IF(ISBLANK(VLOOKUP($B21,RaceDraw!$C$10:$P$440,COLUMN()-1,FALSE)),\" \",VLOOKUP($B21,RaceDraw!$C$10:$P$440,COLUMN()-1,FALSE)))","v":" "},{"$f":"IF(ISERROR(VLOOKUP($B21,RaceDraw!$C$10:$P$440,COLUMN()-1,FALSE)),\" \",IF(ISBLANK(VLOOKUP($B21,RaceDraw!$C$10:$P$440,COLUMN()-1,FALSE)),\" \",VLOOKUP($B21,RaceDraw!$C$10:$P$440,COLUMN()-1,FALSE)))","v":" "},{"$f":"IF(ISERROR(VLOOKUP($B21,RaceDraw!$C$10:$P$440,COLUMN()-1,FALSE)),\" \",IF(ISBLANK(VLOOKUP($B21,RaceDraw!$C$10:$P$440,COLUMN()-1,FALSE)),\" \",VLOOKUP($B21,RaceDraw!$C$10:$P$440,COLUMN()-1,FALSE)))","v":" "},"Fri"]
[{"$f":"IF(ISERROR(INDEX(RaceDraw!$B$10:$B$440,MATCH(B22,RaceDraw!$C$10:$C$440,0))),\"\",INDEX(RaceDraw!$B$10:$B$440,MATCH(B22,RaceDraw!$C$10:$C$440,0)))","v":"10.12"},18,{"$f":"IF(ISERROR(VLOOKUP($B22,RaceDraw!$C$10:$P$440,COLUMN()-1,FALSE)),\"\",IF(ISBLANK(VLOOKUP($B22,RaceDraw!$C$10:$P$440,COLUMN()-1,FALSE)),\"\",VLOOKUP($B22,RaceDraw!$C$10:$P$440,COLUMN()-1,FALSE)))","v":"Senior C Women 10"},{"$f":"IF(ISERROR(VLOOKUP($B22,RaceDraw!$C$10:$P$440,COLUMN()-1,FALSE)),\"\",IF(ISBLANK(VLOOKUP($B22,RaceDraw!$C$10:$P$440,COLUMN()-1,FALSE)),\"\",VLOOKUP($B22,RaceDraw!$C$10:$P$440,COLUMN()-1,FALSE)))","v":200},{"$f":"IF(ISERROR(VLOOKUP($B22,RaceDraw!$C$10:$P$440,COLUMN()-1,FALSE)),\"\",IF(ISBLANK(VLOOKUP($B22,RaceDraw!$C$10:$P$440,COLUMN()-1,FALSE)),F22,VLOOKUP($B22,RaceDraw!$C$10:$P$440,COLUMN()-1,FALSE)))","v":1},{"$f":"IF(ISERROR(VLOOKUP($B22,RaceDraw!$C$10:$P$440,COLUMN()-1,FALSE)),\"\",IF(ISBLANK(VLOOKUP($B22,RaceDraw!$C$10:$P$440,COLUMN()-1,FALSE)),\"\",VLOOKUP($B22,RaceDraw!$C$10:$P$440,COLUMN()-1,FALSE)))","v":5},{"$f":"IF(ISERROR(VLOOKUP($B22,RaceDraw!$C$10:$P$440,COLUMN()-1,FALSE)),\" \",IF(ISBLANK(VLOOKUP($B22,RaceDraw!$C$10:$P$440,COLUMN()-1,FALSE)),\" \",VLOOKUP($B22,RaceDraw!$C$10:$P$440,COLUMN()-1,FALSE)))","v":"Newcastle Dragon Hunters Purple"},{"$f":"IF(ISERROR(VLOOKUP($B22,RaceDraw!$C$10:$P$440,COLUMN()-1,FALSE)),\" \",IF(ISBLANK(VLOOKUP($B22,RaceDraw!$C$10:$P$440,COLUMN()-1,FALSE)),\" \",VLOOKUP($B22,RaceDraw!$C$10:$P$440,COLUMN()-1,FALSE)))","v":"SCD Warrnambool"},{"$f":"IF(ISERROR(VLOOKUP($B22,RaceDraw!$C$10:$P$440,COLUMN()-1,FALSE)),\" \",IF(ISBLANK(VLOOKUP($B22,RaceDraw!$C$10:$P$440,COLUMN()-1,FALSE)),\" \",VLOOKUP($B22,RaceDraw!$C$10:$P$440,COLUMN()-1,FALSE)))","v":"Peninsuls Dragonflys"},{"$f":"IF(ISERROR(VLOOKUP($B22,RaceDraw!$C$10:$P$440,COLUMN()-1,FALSE)),\" \",IF(ISBLANK(VLOOKUP($B22,RaceDraw!$C$10:$P$440,COLUMN()-1,FALSE)),\" \",VLOOKUP($B22,RaceDraw!$C$10:$P$440,COLUMN()-1,FALSE)))","v":"Gippsland Blue"},{"$f":"IF(ISERROR(VLOOKUP($B22,RaceDraw!$C$10:$P$440,COLUMN()-1,FALSE)),\" \",IF(ISBLANK(VLOOKUP($B22,RaceDraw!$C$10:$P$440,COLUMN()-1,FALSE)),\" \",VLOOKUP($B22,RaceDraw!$C$10:$P$440,COLUMN()-1,FALSE)))","v":"DA Bendigo Blue"},{"$f":"IF(ISERROR(VLOOKUP($B22,RaceDraw!$C$10:$P$440,COLUMN()-1,FALSE)),\" \",IF(ISBLANK(VLOOKUP($B22,RaceDraw!$C$10:$P$440,COLUMN()-1,FALSE)),\" \",VLOOKUP($B22,RaceDraw!$C$10:$P$440,COLUMN()-1,FALSE)))","v":"Golden Dragons"},{"$f":"IF(ISERROR(VLOOKUP($B22,RaceDraw!$C$10:$P$440,COLUMN()-1,FALSE)),\" \",IF(ISBLANK(VLOOKUP($B22,RaceDraw!$C$10:$P$440,COLUMN()-1,FALSE)),\" \",VLOOKUP($B22,RaceDraw!$C$10:$P$440,COLUMN()-1,FALSE)))","v":" "},{"$f":"IF(ISERROR(VLOOKUP($B22,RaceDraw!$C$10:$P$440,COLUMN()-1,FALSE)),\" \",IF(ISBLANK(VLOOKUP($B22,RaceDraw!$C$10:$P$440,COLUMN()-1,FALSE)),\" \",VLOOKUP($B22,RaceDraw!$C$10:$P$440,COLUMN()-1,FALSE)))","v":" "},{"$f":"IF(ISERROR(VLOOKUP($B22,RaceDraw!$C$10:$P$440,COLUMN()-1,FALSE)),\" \",IF(ISBLANK(VLOOKUP($B22,RaceDraw!$C$10:$P$440,COLUMN()-1,FALSE)),\" \",VLOOKUP($B22,RaceDraw!$C$10:$P$440,COLUMN()-1,FALSE)))","v":" "},"Fri"]
[{"$f":"IF(ISERROR(INDEX(RaceDraw!$B$10:$B$440,MATCH(B23,RaceDraw!$C$10:$C$440,0))),\"\",INDEX(RaceDraw!$B$10:$B$440,MATCH(B23,RaceDraw!$C$10:$C$440,0)))","v":"10.18"},19,{"$f":"IF(ISERROR(VLOOKUP($B23,RaceDraw!$C$10:$P$440,COLUMN()-1,FALSE)),\"\",IF(ISBLANK(VLOOKUP($B23,RaceDraw!$C$10:$P$440,COLUMN()-1,FALSE)),\"\",VLOOKUP($B23,RaceDraw!$C$10:$P$440,COLUMN()-1,FALSE)))","v":"Senior C Open 10's"},{"$f":"IF(ISERROR(VLOOKUP($B23,RaceDraw!$C$10:$P$440,COLUMN()-1,FALSE)),\"\",IF(ISBLANK(VLOOKUP($B23,RaceDraw!$C$10:$P$440,COLUMN()-1,FALSE)),\"\",VLOOKUP($B23,RaceDraw!$C$10:$P$440,COLUMN()-1,FALSE)))","v":200},{"$f":"IF(ISERROR(VLOOKUP($B23,RaceDraw!$C$10:$P$440,COLUMN()-1,FALSE)),\"\",IF(ISBLANK(VLOOKUP($B23,RaceDraw!$C$10:$P$440,COLUMN()-1,FALSE)),F23,VLOOKUP($B23,RaceDraw!$C$10:$P$440,COLUMN()-1,FALSE)))","v":1},{"$f":"IF(ISERROR(VLOOKUP($B23,RaceDraw!$C$10:$P$440,COLUMN()-1,FALSE)),\"\",IF(ISBLANK(VLOOKUP($B23,RaceDraw!$C$10:$P$440,COLUMN()-1,FALSE)),\"\",VLOOKUP($B23,RaceDraw!$C$10:$P$440,COLUMN()-1,FALSE)))","v":1},{"$f":"IF(ISERROR(VLOOKUP($B23,RaceDraw!$C$10:$P$440,COLUMN()-1,FALSE)),\" \",IF(ISBLANK(VLOOKUP($B23,RaceDraw!$C$10:$P$440,COLUMN()-1,FALSE)),\" \",VLOOKUP($B23,RaceDraw!$C$10:$P$440,COLUMN()-1,FALSE)))","v":"Southern Warriors Blue"},{"$f":"IF(ISERROR(VLOOKUP($B23,RaceDraw!$C$10:$P$440,COLUMN()-1,FALSE)),\" \",IF(ISBLANK(VLOOKUP($B23,RaceDraw!$C$10:$P$440,COLUMN()-1,FALSE)),\" \",VLOOKUP($B23,RaceDraw!$C$10:$P$440,COLUMN()-1,FALSE)))","v":"ASA"},{"$f":"IF(ISERROR(VLOOKUP($B23,RaceDraw!$C$10:$P$440,COLUMN()-1,FALSE)),\" \",IF(ISBLANK(VLOOKUP($B23,RaceDraw!$C$10:$P$440,COLUMN()-1,FALSE)),\" \",VLOOKUP($B23,RaceDraw!$C$10:$P$440,COLUMN()-1,FALSE)))","v":"Kombo Dragons Black"},{"$f":"IF(ISERROR(VLOOKUP($B23,RaceDraw!$C$10:$P$440,COLUMN()-1,FALSE)),\" \",IF(ISBLANK(VLOOKUP($B23,RaceDraw!$C$10:$P$440,COLUMN()-1,FALSE)),\" \",VLOOKUP($B23,RaceDraw!$C$10:$P$440,COLUMN()-1,FALSE)))","v":"FNC"},{"$f":"IF(ISERROR(VLOOKUP($B23,RaceDraw!$C$10:$P$440,COLUMN()-1,FALSE)),\" \",IF(ISBLANK(VLOOKUP($B23,RaceDraw!$C$10:$P$440,COLUMN()-1,FALSE)),\" \",VLOOKUP($B23,RaceDraw!$C$10:$P$440,COLUMN()-1,FALSE)))","v":"Outback Dragons"},{"$f":"IF(ISERROR(VLOOKUP($B23,RaceDraw!$C$10:$P$440,COLUMN()-1,FALSE)),\" \",IF(ISBLANK(VLOOKUP($B23,RaceDraw!$C$10:$P$440,COLUMN()-1,FALSE)),\" \",VLOOKUP($B23,RaceDraw!$C$10:$P$440,COLUMN()-1,FALSE)))","v":"Gypsy Dragons"},{"$f":"IF(ISERROR(VLOOKUP($B23,RaceDraw!$C$10:$P$440,COLUMN()-1,FALSE)),\" \",IF(ISBLANK(VLOOKUP($B23,RaceDraw!$C$10:$P$440,COLUMN()-1,FALSE)),\" \",VLOOKUP($B23,RaceDraw!$C$10:$P$440,COLUMN()-1,FALSE)))","v":"Rainbow Dragons"},{"$f":"IF(ISERROR(VLOOKUP($B23,RaceDraw!$C$10:$P$440,COLUMN()-1,FALSE)),\" \",IF(ISBLANK(VLOOKUP($B23,RaceDraw!$C$10:$P$440,COLUMN()-1,FALSE)),\" \",VLOOKUP($B23,RaceDraw!$C$10:$P$440,COLUMN()-1,FALSE)))","v":" "},{"$f":"IF(ISERROR(VLOOKUP($B23,RaceDraw!$C$10:$P$440,COLUMN()-1,FALSE)),\" \",IF(ISBLANK(VLOOKUP($B23,RaceDraw!$C$10:$P$440,COLUMN()-1,FALSE)),\" \",VLOOKUP($B23,RaceDraw!$C$10:$P$440,COLUMN()-1,FALSE)))","v":" "},"Fri"]
[{"$f":"IF(ISERROR(INDEX(RaceDraw!$B$10:$B$440,MATCH(B24,RaceDraw!$C$10:$C$440,0))),\"\",INDEX(RaceDraw!$B$10:$B$440,MATCH(B24,RaceDraw!$C$10:$C$440,0)))","v":"10.24"},20,{"$f":"IF(ISERROR(VLOOKUP($B24,RaceDraw!$C$10:$P$440,COLUMN()-1,FALSE)),\"\",IF(ISBLANK(VLOOKUP($B24,RaceDraw!$C$10:$P$440,COLUMN()-1,FALSE)),\"\",VLOOKUP($B24,RaceDraw!$C$10:$P$440,COLUMN()-1,FALSE)))","v":"Senior C Open 10's"},{"$f":"IF(ISERROR(VLOOKUP($B24,RaceDraw!$C$10:$P$440,COLUMN()-1,FALSE)),\"\",IF(ISBLANK(VLOOKUP($B24,RaceDraw!$C$10:$P$440,COLUMN()-1,FALSE)),\"\",VLOOKUP($B24,RaceDraw!$C$10:$P$440,COLUMN()-1,FALSE)))","v":200},{"$f":"IF(ISERROR(VLOOKUP($B24,RaceDraw!$C$10:$P$440,COLUMN()-1,FALSE)),\"\",IF(ISBLANK(VLOOKUP($B24,RaceDraw!$C$10:$P$440,COLUMN()-1,FALSE)),F24,VLOOKUP($B24,RaceDraw!$C$10:$P$440,COLUMN()-1,FALSE)))","v":1},{"$f":"IF(ISERROR(VLOOKUP($B24,RaceDraw!$C$10:$P$440,COLUMN()-1,FALSE)),\"\",IF(ISBLANK(VLOOKUP($B24,RaceDraw!$C$10:$P$440,COLUMN()-1,FALSE)),\"\",VLOOKUP($B24,RaceDraw!$C$10:$P$440,COLUMN()-1,FALSE)))","v":2},{"$f":"IF(ISERROR(VLOOKUP($B24,RaceDraw!$C$10:$P$440,COLUMN()-1,FALSE)),\" \",IF(ISBLANK(VLOOKUP($B24,RaceDraw!$C$10:$P$440,COLUMN()-1,FALSE)),\" \",VLOOKUP($B24,RaceDraw!$C$10:$P$440,COLUMN()-1,FALSE)))","v":"Powerblades"},{"$f":"IF(ISERROR(VLOOKUP($B24,RaceDraw!$C$10:$P$440,COLUMN()-1,FALSE)),\" \",IF(ISBLANK(VLOOKUP($B24,RaceDraw!$C$10:$P$440,COLUMN()-1,FALSE)),\" \",VLOOKUP($B24,RaceDraw!$C$10:$P$440,COLUMN()-1,FALSE)))","v":"Motley Crew"},{"$f":"IF(ISERROR(VLOOKUP($B24,RaceDraw!$C$10:$P$440,COLUMN()-1,FALSE)),\" \",IF(ISBLANK(VLOOKUP($B24,RaceDraw!$C$10:$P$440,COLUMN()-1,FALSE)),\" \",VLOOKUP($B24,RaceDraw!$C$10:$P$440,COLUMN()-1,FALSE)))","v":"Dragon Masters"},{"$f":"IF(ISERROR(VLOOKUP($B24,RaceDraw!$C$10:$P$440,COLUMN()-1,FALSE)),\" \",IF(ISBLANK(VLOOKUP($B24,RaceDraw!$C$10:$P$440,COLUMN()-1,FALSE)),\" \",VLOOKUP($B24,RaceDraw!$C$10:$P$440,COLUMN()-1,FALSE)))","v":"Deepwater"},{"$f":"IF(ISERROR(VLOOKUP($B24,RaceDraw!$C$10:$P$440,COLUMN()-1,FALSE)),\" \",IF(ISBLANK(VLOOKUP($B24,RaceDraw!$C$10:$P$440,COLUMN()-1,FALSE)),\" \",VLOOKUP($B24,RaceDraw!$C$10:$P$440,COLUMN()-1,FALSE)))","v":"Gippsland United"},{"$f":"IF(ISERROR(VLOOKUP($B24,RaceDraw!$C$10:$P$440,COLUMN()-1,FALSE)),\" \",IF(ISBLANK(VLOOKUP($B24,RaceDraw!$C$10:$P$440,COLUMN()-1,FALSE)),\" \",VLOOKUP($B24,RaceDraw!$C$10:$P$440,COLUMN()-1,FALSE)))","v":"Kombo Dragons Purple"},{"$f":"IF(ISERROR(VLOOKUP($B24,RaceDraw!$C$10:$P$440,COLUMN()-1,FALSE)),\" \",IF(ISBLANK(VLOOKUP($B24,RaceDraw!$C$10:$P$440,COLUMN()-1,FALSE)),\" \",VLOOKUP($B24,RaceDraw!$C$10:$P$440,COLUMN()-1,FALSE)))","v":" "},{"$f":"IF(ISERROR(VLOOKUP($B24,RaceDraw!$C$10:$P$440,COLUMN()-1,FALSE)),\" \",IF(ISBLANK(VLOOKUP($B24,RaceDraw!$C$10:$P$440,COLUMN()-1,FALSE)),\" \",VLOOKUP($B24,RaceDraw!$C$10:$P$440,COLUMN()-1,FALSE)))","v":" "},{"$f":"IF(ISERROR(VLOOKUP($B24,RaceDraw!$C$10:$P$440,COLUMN()-1,FALSE)),\" \",IF(ISBLANK(VLOOKUP($B24,RaceDraw!$C$10:$P$440,COLUMN()-1,FALSE)),\" \",VLOOKUP($B24,RaceDraw!$C$10:$P$440,COLUMN()-1,FALSE)))","v":" "},"Fri"]
[{"$f":"IF(ISERROR(INDEX(RaceDraw!$B$10:$B$440,MATCH(B25,RaceDraw!$C$10:$C$440,0))),\"\",INDEX(RaceDraw!$B$10:$B$440,MATCH(B25,RaceDraw!$C$10:$C$440,0)))","v":"10.30"},21,{"$f":"IF(ISERROR(VLOOKUP($B25,RaceDraw!$C$10:$P$440,COLUMN()-1,FALSE)),\"\",IF(ISBLANK(VLOOKUP($B25,RaceDraw!$C$10:$P$440,COLUMN()-1,FALSE)),\"\",VLOOKUP($B25,RaceDraw!$C$10:$P$440,COLUMN()-1,FALSE)))","v":"Senior C Open 10's"},{"$f":"IF(ISERROR(VLOOKUP($B25,RaceDraw!$C$10:$P$440,COLUMN()-1,FALSE)),\"\",IF(ISBLANK(VLOOKUP($B25,RaceDraw!$C$10:$P$440,COLUMN()-1,FALSE)),\"\",VLOOKUP($B25,RaceDraw!$C$10:$P$440,COLUMN()-1,FALSE)))","v":200},{"$f":"IF(ISERROR(VLOOKUP($B25,RaceDraw!$C$10:$P$440,COLUMN()-1,FALSE)),\"\",IF(ISBLANK(VLOOKUP($B25,RaceDraw!$C$10:$P$440,COLUMN()-1,FALSE)),F25,VLOOKUP($B25,RaceDraw!$C$10:$P$440,COLUMN()-1,FALSE)))","v":1},{"$f":"IF(ISERROR(VLOOKUP($B25,RaceDraw!$C$10:$P$440,COLUMN()-1,FALSE)),\"\",IF(ISBLANK(VLOOKUP($B25,RaceDraw!$C$10:$P$440,COLUMN()-1,FALSE)),\"\",VLOOKUP($B25,RaceDraw!$C$10:$P$440,COLUMN()-1,FALSE)))","v":3},{"$f":"IF(ISERROR(VLOOKUP($B25,RaceDraw!$C$10:$P$440,COLUMN()-1,FALSE)),\" \",IF(ISBLANK(VLOOKUP($B25,RaceDraw!$C$10:$P$440,COLUMN()-1,FALSE)),\" \",VLOOKUP($B25,RaceDraw!$C$10:$P$440,COLUMN()-1,FALSE)))","v":"Newcastle Dragon Hunters Red"},{"$f":"IF(ISERROR(VLOOKUP($B25,RaceDraw!$C$10:$P$440,COLUMN()-1,FALSE)),\" \",IF(ISBLANK(VLOOKUP($B25,RaceDraw!$C$10:$P$440,COLUMN()-1,FALSE)),\" \",VLOOKUP($B25,RaceDraw!$C$10:$P$440,COLUMN()-1,FALSE)))","v":"Kangaroo Island Dragons"},{"$f":"IF(ISERROR(VLOOKUP($B25,RaceDraw!$C$10:$P$440,COLUMN()-1,FALSE)),\" \",IF(ISBLANK(VLOOKUP($B25,RaceDraw!$C$10:$P$440,COLUMN()-1,FALSE)),\" \",VLOOKUP($B25,RaceDraw!$C$10:$P$440,COLUMN()-1,FALSE)))","v":"Hunter River Dragons"},{"$f":"IF(ISERROR(VLOOKUP($B25,RaceDraw!$C$10:$P$440,COLUMN()-1,FALSE)),\" \",IF(ISBLANK(VLOOKUP($B25,RaceDraw!$C$10:$P$440,COLUMN()-1,FALSE)),\" \",VLOOKUP($B25,RaceDraw!$C$10:$P$440,COLUMN()-1,FALSE)))","v":"Southern Warriors White"},{"$f":"IF(ISERROR(VLOOKUP($B25,RaceDraw!$C$10:$P$440,COLUMN()-1,FALSE)),\" \",IF(ISBLANK(VLOOKUP($B25,RaceDraw!$C$10:$P$440,COLUMN()-1,FALSE)),\" \",VLOOKUP($B25,RaceDraw!$C$10:$P$440,COLUMN()-1,FALSE)))","v":"Mildura"},{"$f":"IF(ISERROR(VLOOKUP($B25,RaceDraw!$C$10:$P$440,COLUMN()-1,FALSE)),\" \",IF(ISBLANK(VLOOKUP($B25,RaceDraw!$C$10:$P$440,COLUMN()-1,FALSE)),\" \",VLOOKUP($B25,RaceDraw!$C$10:$P$440,COLUMN()-1,FALSE)))","v":"SADA Sonix"},{"$f":"IF(ISERROR(VLOOKUP($B25,RaceDraw!$C$10:$P$440,COLUMN()-1,FALSE)),\" \",IF(ISBLANK(VLOOKUP($B25,RaceDraw!$C$10:$P$440,COLUMN()-1,FALSE)),\" \",VLOOKUP($B25,RaceDraw!$C$10:$P$440,COLUMN()-1,FALSE)))","v":" "},{"$f":"IF(ISERROR(VLOOKUP($B25,RaceDraw!$C$10:$P$440,COLUMN()-1,FALSE)),\" \",IF(ISBLANK(VLOOKUP($B25,RaceDraw!$C$10:$P$440,COLUMN()-1,FALSE)),\" \",VLOOKUP($B25,RaceDraw!$C$10:$P$440,COLUMN()-1,FALSE)))","v":" "},{"$f":"IF(ISERROR(VLOOKUP($B25,RaceDraw!$C$10:$P$440,COLUMN()-1,FALSE)),\" \",IF(ISBLANK(VLOOKUP($B25,RaceDraw!$C$10:$P$440,COLUMN()-1,FALSE)),\" \",VLOOKUP($B25,RaceDraw!$C$10:$P$440,COLUMN()-1,FALSE)))","v":" "},"Fri"]
[{"$f":"IF(ISERROR(INDEX(RaceDraw!$B$10:$B$440,MATCH(B26,RaceDraw!$C$10:$C$440,0))),\"\",INDEX(RaceDraw!$B$10:$B$440,MATCH(B26,RaceDraw!$C$10:$C$440,0)))","v":"10.36"},22,{"$f":"IF(ISERROR(VLOOKUP($B26,RaceDraw!$C$10:$P$440,COLUMN()-1,FALSE)),\"\",IF(ISBLANK(VLOOKUP($B26,RaceDraw!$C$10:$P$440,COLUMN()-1,FALSE)),\"\",VLOOKUP($B26,RaceDraw!$C$10:$P$440,COLUMN()-1,FALSE)))","v":"BCS 10"},{"$f":"IF(ISERROR(VLOOKUP($B26,RaceDraw!$C$10:$P$440,COLUMN()-1,FALSE)),\"\",IF(ISBLANK(VLOOKUP($B26,RaceDraw!$C$10:$P$440,COLUMN()-1,FALSE)),\"\",VLOOKUP($B26,RaceDraw!$C$10:$P$440,COLUMN()-1,FALSE)))","v":200},{"$f":"IF(ISERROR(VLOOKUP($B26,RaceDraw!$C$10:$P$440,COLUMN()-1,FALSE)),\"\",IF(ISBLANK(VLOOKUP($B26,RaceDraw!$C$10:$P$440,COLUMN()-1,FALSE)),F26,VLOOKUP($B26,RaceDraw!$C$10:$P$440,COLUMN()-1,FALSE)))","v":1},{"$f":"IF(ISERROR(VLOOKUP($B26,RaceDraw!$C$10:$P$440,COLUMN()-1,FALSE)),\"\",IF(ISBLANK(VLOOKUP($B26,RaceDraw!$C$10:$P$440,COLUMN()-1,FALSE)),\"\",VLOOKUP($B26,RaceDraw!$C$10:$P$440,COLUMN()-1,FALSE)))","v":1},{"$f":"IF(ISERROR(VLOOKUP($B26,RaceDraw!$C$10:$P$440,COLUMN()-1,FALSE)),\" \",IF(ISBLANK(VLOOKUP($B26,RaceDraw!$C$10:$P$440,COLUMN()-1,FALSE)),\" \",VLOOKUP($B26,RaceDraw!$C$10:$P$440,COLUMN()-1,FALSE)))","v":"Motley Crew"},{"$f":"IF(ISERROR(VLOOKUP($B26,RaceDraw!$C$10:$P$440,COLUMN()-1,FALSE)),\" \",IF(ISBLANK(VLOOKUP($B26,RaceDraw!$C$10:$P$440,COLUMN()-1,FALSE)),\" \",VLOOKUP($B26,RaceDraw!$C$10:$P$440,COLUMN()-1,FALSE)))","v":"DA Bendigo Blue"},{"$f":"IF(ISERROR(VLOOKUP($B26,RaceDraw!$C$10:$P$440,COLUMN()-1,FALSE)),\" \",IF(ISBLANK(VLOOKUP($B26,RaceDraw!$C$10:$P$440,COLUMN()-1,FALSE)),\" \",VLOOKUP($B26,RaceDraw!$C$10:$P$440,COLUMN()-1,FALSE)))","v":"ASA"},{"$f":"IF(ISERROR(VLOOKUP($B26,RaceDraw!$C$10:$P$440,COLUMN()-1,FALSE)),\" \",IF(ISBLANK(VLOOKUP($B26,RaceDraw!$C$10:$P$440,COLUMN()-1,FALSE)),\" \",VLOOKUP($B26,RaceDraw!$C$10:$P$440,COLUMN()-1,FALSE)))","v":"Juggernauts"},{"$f":"IF(ISERROR(VLOOKUP($B26,RaceDraw!$C$10:$P$440,COLUMN()-1,FALSE)),\" \",IF(ISBLANK(VLOOKUP($B26,RaceDraw!$C$10:$P$440,COLUMN()-1,FALSE)),\" \",VLOOKUP($B26,RaceDraw!$C$10:$P$440,COLUMN()-1,FALSE)))","v":" "},{"$f":"IF(ISERROR(VLOOKUP($B26,RaceDraw!$C$10:$P$440,COLUMN()-1,FALSE)),\" \",IF(ISBLANK(VLOOKUP($B26,RaceDraw!$C$10:$P$440,COLUMN()-1,FALSE)),\" \",VLOOKUP($B26,RaceDraw!$C$10:$P$440,COLUMN()-1,FALSE)))","v":" "},{"$f":"IF(ISERROR(VLOOKUP($B26,RaceDraw!$C$10:$P$440,COLUMN()-1,FALSE)),\" \",IF(ISBLANK(VLOOKUP($B26,RaceDraw!$C$10:$P$440,COLUMN()-1,FALSE)),\" \",VLOOKUP($B26,RaceDraw!$C$10:$P$440,COLUMN()-1,FALSE)))","v":" "},{"$f":"IF(ISERROR(VLOOKUP($B26,RaceDraw!$C$10:$P$440,COLUMN()-1,FALSE)),\" \",IF(ISBLANK(VLOOKUP($B26,RaceDraw!$C$10:$P$440,COLUMN()-1,FALSE)),\" \",VLOOKUP($B26,RaceDraw!$C$10:$P$440,COLUMN()-1,FALSE)))","v":" "},{"$f":"IF(ISERROR(VLOOKUP($B26,RaceDraw!$C$10:$P$440,COLUMN()-1,FALSE)),\" \",IF(ISBLANK(VLOOKUP($B26,RaceDraw!$C$10:$P$440,COLUMN()-1,FALSE)),\" \",VLOOKUP($B26,RaceDraw!$C$10:$P$440,COLUMN()-1,FALSE)))","v":" "},"Fri"]
[{"$f":"IF(ISERROR(INDEX(RaceDraw!$B$10:$B$440,MATCH(B27,RaceDraw!$C$10:$C$440,0))),\"\",INDEX(RaceDraw!$B$10:$B$440,MATCH(B27,RaceDraw!$C$10:$C$440,0)))","v":"10.42"},23,{"$f":"IF(ISERROR(VLOOKUP($B27,RaceDraw!$C$10:$P$440,COLUMN()-1,FALSE)),\"\",IF(ISBLANK(VLOOKUP($B27,RaceDraw!$C$10:$P$440,COLUMN()-1,FALSE)),\"\",VLOOKUP($B27,RaceDraw!$C$10:$P$440,COLUMN()-1,FALSE)))","v":"BCS 10"},{"$f":"IF(ISERROR(VLOOKUP($B27,RaceDraw!$C$10:$P$440,COLUMN()-1,FALSE)),\"\",IF(ISBLANK(VLOOKUP($B27,RaceDraw!$C$10:$P$440,COLUMN()-1,FALSE)),\"\",VLOOKUP($B27,RaceDraw!$C$10:$P$440,COLUMN()-1,FALSE)))","v":200},{"$f":"IF(ISERROR(VLOOKUP($B27,RaceDraw!$C$10:$P$440,COLUMN()-1,FALSE)),\"\",IF(ISBLANK(VLOOKUP($B27,RaceDraw!$C$10:$P$440,COLUMN()-1,FALSE)),F27,VLOOKUP($B27,RaceDraw!$C$10:$P$440,COLUMN()-1,FALSE)))","v":1},{"$f":"IF(ISERROR(VLOOKUP($B27,RaceDraw!$C$10:$P$440,COLUMN()-1,FALSE)),\"\",IF(ISBLANK(VLOOKUP($B27,RaceDraw!$C$10:$P$440,COLUMN()-1,FALSE)),\"\",VLOOKUP($B27,RaceDraw!$C$10:$P$440,COLUMN()-1,FALSE)))","v":2},{"$f":"IF(ISERROR(VLOOKUP($B27,RaceDraw!$C$10:$P$440,COLUMN()-1,FALSE)),\" \",IF(ISBLANK(VLOOKUP($B27,RaceDraw!$C$10:$P$440,COLUMN()-1,FALSE)),\" \",VLOOKUP($B27,RaceDraw!$C$10:$P$440,COLUMN()-1,FALSE)))","v":"SADA Sonix"},{"$f":"IF(ISERROR(VLOOKUP($B27,RaceDraw!$C$10:$P$440,COLUMN()-1,FALSE)),\" \",IF(ISBLANK(VLOOKUP($B27,RaceDraw!$C$10:$P$440,COLUMN()-1,FALSE)),\" \",VLOOKUP($B27,RaceDraw!$C$10:$P$440,COLUMN()-1,FALSE)))","v":"Dragons Abreast Adelaide"},{"$f":"IF(ISERROR(VLOOKUP($B27,RaceDraw!$C$10:$P$440,COLUMN()-1,FALSE)),\" \",IF(ISBLANK(VLOOKUP($B27,RaceDraw!$C$10:$P$440,COLUMN()-1,FALSE)),\" \",VLOOKUP($B27,RaceDraw!$C$10:$P$440,COLUMN()-1,FALSE)))","v":"Rainbow Dragons"},{"$f":"IF(ISERROR(VLOOKUP($B27,RaceDraw!$C$10:$P$440,COLUMN()-1,FALSE)),\" \",IF(ISBLANK(VLOOKUP($B27,RaceDraw!$C$10:$P$440,COLUMN()-1,FALSE)),\" \",VLOOKUP($B27,RaceDraw!$C$10:$P$440,COLUMN()-1,FALSE)))","v":"DA Bendigo Pink"},{"$f":"IF(ISERROR(VLOOKUP($B27,RaceDraw!$C$10:$P$440,COLUMN()-1,FALSE)),\" \",IF(ISBLANK(VLOOKUP($B27,RaceDraw!$C$10:$P$440,COLUMN()-1,FALSE)),\" \",VLOOKUP($B27,RaceDraw!$C$10:$P$440,COLUMN()-1,FALSE)))","v":"Pink Dragons"},{"$f":"IF(ISERROR(VLOOKUP($B27,RaceDraw!$C$10:$P$440,COLUMN()-1,FALSE)),\" \",IF(ISBLANK(VLOOKUP($B27,RaceDraw!$C$10:$P$440,COLUMN()-1,FALSE)),\" \",VLOOKUP($B27,RaceDraw!$C$10:$P$440,COLUMN()-1,FALSE)))","v":" "},{"$f":"IF(ISERROR(VLOOKUP($B27,RaceDraw!$C$10:$P$440,COLUMN()-1,FALSE)),\" \",IF(ISBLANK(VLOOKUP($B27,RaceDraw!$C$10:$P$440,COLUMN()-1,FALSE)),\" \",VLOOKUP($B27,RaceDraw!$C$10:$P$440,COLUMN()-1,FALSE)))","v":" "},{"$f":"IF(ISERROR(VLOOKUP($B27,RaceDraw!$C$10:$P$440,COLUMN()-1,FALSE)),\" \",IF(ISBLANK(VLOOKUP($B27,RaceDraw!$C$10:$P$440,COLUMN()-1,FALSE)),\" \",VLOOKUP($B27,RaceDraw!$C$10:$P$440,COLUMN()-1,FALSE)))","v":" "},{"$f":"IF(ISERROR(VLOOKUP($B27,RaceDraw!$C$10:$P$440,COLUMN()-1,FALSE)),\" \",IF(ISBLANK(VLOOKUP($B27,RaceDraw!$C$10:$P$440,COLUMN()-1,FALSE)),\" \",VLOOKUP($B27,RaceDraw!$C$10:$P$440,COLUMN()-1,FALSE)))","v":" "},"Fri"]
[{"$f":"IF(ISERROR(INDEX(RaceDraw!$B$10:$B$440,MATCH(B28,RaceDraw!$C$10:$C$440,0))),\"\",INDEX(RaceDraw!$B$10:$B$440,MATCH(B28,RaceDraw!$C$10:$C$440,0)))","v":"10.48"},24,{"$f":"IF(ISERROR(VLOOKUP($B28,RaceDraw!$C$10:$P$440,COLUMN()-1,FALSE)),\"\",IF(ISBLANK(VLOOKUP($B28,RaceDraw!$C$10:$P$440,COLUMN()-1,FALSE)),\"\",VLOOKUP($B28,RaceDraw!$C$10:$P$440,COLUMN()-1,FALSE)))","v":"Senior B Women 10"},{"$f":"IF(ISERROR(VLOOKUP($B28,RaceDraw!$C$10:$P$440,COLUMN()-1,FALSE)),\"\",IF(ISBLANK(VLOOKUP($B28,RaceDraw!$C$10:$P$440,COLUMN()-1,FALSE)),\"\",VLOOKUP($B28,RaceDraw!$C$10:$P$440,COLUMN()-1,FALSE)))","v":200},{"$f":"IF(ISERROR(VLOOKUP($B28,RaceDraw!$C$10:$P$440,COLUMN()-1,FALSE)),\"\",IF(ISBLANK(VLOOKUP($B28,RaceDraw!$C$10:$P$440,COLUMN()-1,FALSE)),F28,VLOOKUP($B28,RaceDraw!$C$10:$P$440,COLUMN()-1,FALSE)))","v":1},{"$f":"IF(ISERROR(VLOOKUP($B28,RaceDraw!$C$10:$P$440,COLUMN()-1,FALSE)),\"\",IF(ISBLANK(VLOOKUP($B28,RaceDraw!$C$10:$P$440,COLUMN()-1,FALSE)),\"\",VLOOKUP($B28,RaceDraw!$C$10:$P$440,COLUMN()-1,FALSE)))","v":1},{"$f":"IF(ISERROR(VLOOKUP($B28,RaceDraw!$C$10:$P$440,COLUMN()-1,FALSE)),\" \",IF(ISBLANK(VLOOKUP($B28,RaceDraw!$C$10:$P$440,COLUMN()-1,FALSE)),\" \",VLOOKUP($B28,RaceDraw!$C$10:$P$440,COLUMN()-1,FALSE)))","v":"Goolwa River Dragons"},{"$f":"IF(ISERROR(VLOOKUP($B28,RaceDraw!$C$10:$P$440,COLUMN()-1,FALSE)),\" \",IF(ISBLANK(VLOOKUP($B28,RaceDraw!$C$10:$P$440,COLUMN()-1,FALSE)),\" \",VLOOKUP($B28,RaceDraw!$C$10:$P$440,COLUMN()-1,FALSE)))","v":"Deepwater Dragons"},{"$f":"IF(ISERROR(VLOOKUP($B28,RaceDraw!$C$10:$P$440,COLUMN()-1,FALSE)),\" \",IF(ISBLANK(VLOOKUP($B28,RaceDraw!$C$10:$P$440,COLUMN()-1,FALSE)),\" \",VLOOKUP($B28,RaceDraw!$C$10:$P$440,COLUMN()-1,FALSE)))","v":"Dragonfire"},{"$f":"IF(ISERROR(VLOOKUP($B28,RaceDraw!$C$10:$P$440,COLUMN()-1,FALSE)),\" \",IF(ISBLANK(VLOOKUP($B28,RaceDraw!$C$10:$P$440,COLUMN()-1,FALSE)),\" \",VLOOKUP($B28,RaceDraw!$C$10:$P$440,COLUMN()-1,FALSE)))","v":"Newcastle Dragon Hunters Red"},{"$f":"IF(ISERROR(VLOOKUP($B28,RaceDraw!$C$10:$P$440,COLUMN()-1,FALSE)),\" \",IF(ISBLANK(VLOOKUP($B28,RaceDraw!$C$10:$P$440,COLUMN()-1,FALSE)),\" \",VLOOKUP($B28,RaceDraw!$C$10:$P$440,COLUMN()-1,FALSE)))","v":"Hunter River Dragons"},{"$f":"IF(ISERROR(VLOOKUP($B28,RaceDraw!$C$10:$P$440,COLUMN()-1,FALSE)),\" \",IF(ISBLANK(VLOOKUP($B28,RaceDraw!$C$10:$P$440,COLUMN()-1,FALSE)),\" \",VLOOKUP($B28,RaceDraw!$C$10:$P$440,COLUMN()-1,FALSE)))","v":"Mildura"},{"$f":"IF(ISERROR(VLOOKUP($B28,RaceDraw!$C$10:$P$440,COLUMN()-1,FALSE)),\" \",IF(ISBLANK(VLOOKUP($B28,RaceDraw!$C$10:$P$440,COLUMN()-1,FALSE)),\" \",VLOOKUP($B28,RaceDraw!$C$10:$P$440,COLUMN()-1,FALSE)))","v":" "},{"$f":"IF(ISERROR(VLOOKUP($B28,RaceDraw!$C$10:$P$440,COLUMN()-1,FALSE)),\" \",IF(ISBLANK(VLOOKUP($B28,RaceDraw!$C$10:$P$440,COLUMN()-1,FALSE)),\" \",VLOOKUP($B28,RaceDraw!$C$10:$P$440,COLUMN()-1,FALSE)))","v":" "},{"$f":"IF(ISERROR(VLOOKUP($B28,RaceDraw!$C$10:$P$440,COLUMN()-1,FALSE)),\" \",IF(ISBLANK(VLOOKUP($B28,RaceDraw!$C$10:$P$440,COLUMN()-1,FALSE)),\" \",VLOOKUP($B28,RaceDraw!$C$10:$P$440,COLUMN()-1,FALSE)))","v":" "},"Fri"]
[{"$f":"IF(ISERROR(INDEX(RaceDraw!$B$10:$B$440,MATCH(B29,RaceDraw!$C$10:$C$440,0))),\"\",INDEX(RaceDraw!$B$10:$B$440,MATCH(B29,RaceDraw!$C$10:$C$440,0)))","v":"10.54"},25,{"$f":"IF(ISERROR(VLOOKUP($B29,RaceDraw!$C$10:$P$440,COLUMN()-1,FALSE)),\"\",IF(ISBLANK(VLOOKUP($B29,RaceDraw!$C$10:$P$440,COLUMN()-1,FALSE)),\"\",VLOOKUP($B29,RaceDraw!$C$10:$P$440,COLUMN()-1,FALSE)))","v":"Senior B Women 10"},{"$f":"IF(ISERROR(VLOOKUP($B29,RaceDraw!$C$10:$P$440,COLUMN()-1,FALSE)),\"\",IF(ISBLANK(VLOOKUP($B29,RaceDraw!$C$10:$P$440,COLUMN()-1,FALSE)),\"\",VLOOKUP($B29,RaceDraw!$C$10:$P$440,COLUMN()-1,FALSE)))","v":200},{"$f":"IF(ISERROR(VLOOKUP($B29,RaceDraw!$C$10:$P$440,COLUMN()-1,FALSE)),\"\",IF(ISBLANK(VLOOKUP($B29,RaceDraw!$C$10:$P$440,COLUMN()-1,FALSE)),F29,VLOOKUP($B29,RaceDraw!$C$10:$P$440,COLUMN()-1,FALSE)))","v":1},{"$f":"IF(ISERROR(VLOOKUP($B29,RaceDraw!$C$10:$P$440,COLUMN()-1,FALSE)),\"\",IF(ISBLANK(VLOOKUP($B29,RaceDraw!$C$10:$P$440,COLUMN()-1,FALSE)),\"\",VLOOKUP($B29,RaceDraw!$C$10:$P$440,COLUMN()-1,FALSE)))","v":2},{"$f":"IF(ISERROR(VLOOKUP($B29,RaceDraw!$C$10:$P$440,COLUMN()-1,FALSE)),\" \",IF(ISBLANK(VLOOKUP($B29,RaceDraw!$C$10:$P$440,COLUMN()-1,FALSE)),\" \",VLOOKUP($B29,RaceDraw!$C$10:$P$440,COLUMN()-1,FALSE)))","v":"DA Bendigo"},{"$f":"IF(ISERROR(VLOOKUP($B29,RaceDraw!$C$10:$P$440,COLUMN()-1,FALSE)),\" \",IF(ISBLANK(VLOOKUP($B29,RaceDraw!$C$10:$P$440,COLUMN()-1,FALSE)),\" \",VLOOKUP($B29,RaceDraw!$C$10:$P$440,COLUMN()-1,FALSE)))","v":"SADA Sonix Yellow"},{"$f":"IF(ISERROR(VLOOKUP($B29,RaceDraw!$C$10:$P$440,COLUMN()-1,FALSE)),\" \",IF(ISBLANK(VLOOKUP($B29,RaceDraw!$C$10:$P$440,COLUMN()-1,FALSE)),\" \",VLOOKUP($B29,RaceDraw!$C$10:$P$440,COLUMN()-1,FALSE)))","v":"Powerblades"},{"$f":"IF(ISERROR(VLOOKUP($B29,RaceDraw!$C$10:$P$440,COLUMN()-1,FALSE)),\" \",IF(ISBLANK(VLOOKUP($B29,RaceDraw!$C$10:$P$440,COLUMN()-1,FALSE)),\" \",VLOOKUP($B29,RaceDraw!$C$10:$P$440,COLUMN()-1,FALSE)))","v":"Black Sea Dragons"},{"$f":"IF(ISERROR(VLOOKUP($B29,RaceDraw!$C$10:$P$440,COLUMN()-1,FALSE)),\" \",IF(ISBLANK(VLOOKUP($B29,RaceDraw!$C$10:$P$440,COLUMN()-1,FALSE)),\" \",VLOOKUP($B29,RaceDraw!$C$10:$P$440,COLUMN()-1,FALSE)))","v":"Kombo Dragons Purple"},{"$f":"IF(ISERROR(VLOOKUP($B29,RaceDraw!$C$10:$P$440,COLUMN()-1,FALSE)),\" \",IF(ISBLANK(VLOOKUP($B29,RaceDraw!$C$10:$P$440,COLUMN()-1,FALSE)),\" \",VLOOKUP($B29,RaceDraw!$C$10:$P$440,COLUMN()-1,FALSE)))","v":"Gypsy Dragons"},{"$f":"IF(ISERROR(VLOOKUP($B29,RaceDraw!$C$10:$P$440,COLUMN()-1,FALSE)),\" \",IF(ISBLANK(VLOOKUP($B29,RaceDraw!$C$10:$P$440,COLUMN()-1,FALSE)),\" \",VLOOKUP($B29,RaceDraw!$C$10:$P$440,COLUMN()-1,FALSE)))","v":"Outback Dragons"},{"$f":"IF(ISERROR(VLOOKUP($B29,RaceDraw!$C$10:$P$440,COLUMN()-1,FALSE)),\" \",IF(ISBLANK(VLOOKUP($B29,RaceDraw!$C$10:$P$440,COLUMN()-1,FALSE)),\" \",VLOOKUP($B29,RaceDraw!$C$10:$P$440,COLUMN()-1,FALSE)))","v":" "},{"$f":"IF(ISERROR(VLOOKUP($B29,RaceDraw!$C$10:$P$440,COLUMN()-1,FALSE)),\" \",IF(ISBLANK(VLOOKUP($B29,RaceDraw!$C$10:$P$440,COLUMN()-1,FALSE)),\" \",VLOOKUP($B29,RaceDraw!$C$10:$P$440,COLUMN()-1,FALSE)))","v":" "},"Fri"]
[{"$f":"IF(ISERROR(INDEX(RaceDraw!$B$10:$B$440,MATCH(B30,RaceDraw!$C$10:$C$440,0))),\"\",INDEX(RaceDraw!$B$10:$B$440,MATCH(B30,RaceDraw!$C$10:$C$440,0)))","v":"11.00"},26,{"$f":"IF(ISERROR(VLOOKUP($B30,RaceDraw!$C$10:$P$440,COLUMN()-1,FALSE)),\"\",IF(ISBLANK(VLOOKUP($B30,RaceDraw!$C$10:$P$440,COLUMN()-1,FALSE)),\"\",VLOOKUP($B30,RaceDraw!$C$10:$P$440,COLUMN()-1,FALSE)))","v":"Senior B Women 10"},{"$f":"IF(ISERROR(VLOOKUP($B30,RaceDraw!$C$10:$P$440,COLUMN()-1,FALSE)),\"\",IF(ISBLANK(VLOOKUP($B30,RaceDraw!$C$10:$P$440,COLUMN()-1,FALSE)),\"\",VLOOKUP($B30,RaceDraw!$C$10:$P$440,COLUMN()-1,FALSE)))","v":200},{"$f":"IF(ISERROR(VLOOKUP($B30,RaceDraw!$C$10:$P$440,COLUMN()-1,FALSE)),\"\",IF(ISBLANK(VLOOKUP($B30,RaceDraw!$C$10:$P$440,COLUMN()-1,FALSE)),F30,VLOOKUP($B30,RaceDraw!$C$10:$P$440,COLUMN()-1,FALSE)))","v":1},{"$f":"IF(ISERROR(VLOOKUP($B30,RaceDraw!$C$10:$P$440,COLUMN()-1,FALSE)),\"\",IF(ISBLANK(VLOOKUP($B30,RaceDraw!$C$10:$P$440,COLUMN()-1,FALSE)),\"\",VLOOKUP($B30,RaceDraw!$C$10:$P$440,COLUMN()-1,FALSE)))","v":3},{"$f":"IF(ISERROR(VLOOKUP($B30,RaceDraw!$C$10:$P$440,COLUMN()-1,FALSE)),\" \",IF(ISBLANK(VLOOKUP($B30,RaceDraw!$C$10:$P$440,COLUMN()-1,FALSE)),\" \",VLOOKUP($B30,RaceDraw!$C$10:$P$440,COLUMN()-1,FALSE)))","v":"SCD Warrnambool"},{"$f":"IF(ISERROR(VLOOKUP($B30,RaceDraw!$C$10:$P$440,COLUMN()-1,FALSE)),\" \",IF(ISBLANK(VLOOKUP($B30,RaceDraw!$C$10:$P$440,COLUMN()-1,FALSE)),\" \",VLOOKUP($B30,RaceDraw!$C$10:$P$440,COLUMN()-1,FALSE)))","v":"Kombo Dragons Black"},{"$f":"IF(ISERROR(VLOOKUP($B30,RaceDraw!$C$10:$P$440,COLUMN()-1,FALSE)),\" \",IF(ISBLANK(VLOOKUP($B30,RaceDraw!$C$10:$P$440,COLUMN()-1,FALSE)),\" \",VLOOKUP($B30,RaceDraw!$C$10:$P$440,COLUMN()-1,FALSE)))","v":"Gippsland United"},{"$f":"IF(ISERROR(VLOOKUP($B30,RaceDraw!$C$10:$P$440,COLUMN()-1,FALSE)),\" \",IF(ISBLANK(VLOOKUP($B30,RaceDraw!$C$10:$P$440,COLUMN()-1,FALSE)),\" \",VLOOKUP($B30,RaceDraw!$C$10:$P$440,COLUMN()-1,FALSE)))","v":"Dragons Afloat Bendigo"},{"$f":"IF(ISERROR(VLOOKUP($B30,RaceDraw!$C$10:$P$440,COLUMN()-1,FALSE)),\" \",IF(ISBLANK(VLOOKUP($B30,RaceDraw!$C$10:$P$440,COLUMN()-1,FALSE)),\" \",VLOOKUP($B30,RaceDraw!$C$10:$P$440,COLUMN()-1,FALSE)))","v":"Southern Warriors"},{"$f":"IF(ISERROR(VLOOKUP($B30,RaceDraw!$C$10:$P$440,COLUMN()-1,FALSE)),\" \",IF(ISBLANK(VLOOKUP($B30,RaceDraw!$C$10:$P$440,COLUMN()-1,FALSE)),\" \",VLOOKUP($B30,RaceDraw!$C$10:$P$440,COLUMN()-1,FALSE)))","v":"SADA Sonix Blue"},{"$f":"IF(ISERROR(VLOOKUP($B30,RaceDraw!$C$10:$P$440,COLUMN()-1,FALSE)),\" \",IF(ISBLANK(VLOOKUP($B30,RaceDraw!$C$10:$P$440,COLUMN()-1,FALSE)),\" \",VLOOKUP($B30,RaceDraw!$C$10:$P$440,COLUMN()-1,FALSE)))","v":" "},{"$f":"IF(ISERROR(VLOOKUP($B30,RaceDraw!$C$10:$P$440,COLUMN()-1,FALSE)),\" \",IF(ISBLANK(VLOOKUP($B30,RaceDraw!$C$10:$P$440,COLUMN()-1,FALSE)),\" \",VLOOKUP($B30,RaceDraw!$C$10:$P$440,COLUMN()-1,FALSE)))","v":" "},{"$f":"IF(ISERROR(VLOOKUP($B30,RaceDraw!$C$10:$P$440,COLUMN()-1,FALSE)),\" \",IF(ISBLANK(VLOOKUP($B30,RaceDraw!$C$10:$P$440,COLUMN()-1,FALSE)),\" \",VLOOKUP($B30,RaceDraw!$C$10:$P$440,COLUMN()-1,FALSE)))","v":" "},"Fri"]
[{"$f":"IF(ISERROR(INDEX(RaceDraw!$B$10:$B$440,MATCH(B31,RaceDraw!$C$10:$C$440,0))),\"\",INDEX(RaceDraw!$B$10:$B$440,MATCH(B31,RaceDraw!$C$10:$C$440,0)))","v":"11.06"},27,{"$f":"IF(ISERROR(VLOOKUP($B31,RaceDraw!$C$10:$P$440,COLUMN()-1,FALSE)),\"\",IF(ISBLANK(VLOOKUP($B31,RaceDraw!$C$10:$P$440,COLUMN()-1,FALSE)),\"\",VLOOKUP($B31,RaceDraw!$C$10:$P$440,COLUMN()-1,FALSE)))","v":"Senior B Women 10"},{"$f":"IF(ISERROR(VLOOKUP($B31,RaceDraw!$C$10:$P$440,COLUMN()-1,FALSE)),\"\",IF(ISBLANK(VLOOKUP($B31,RaceDraw!$C$10:$P$440,COLUMN()-1,FALSE)),\"\",VLOOKUP($B31,RaceDraw!$C$10:$P$440,COLUMN()-1,FALSE)))","v":200},{"$f":"IF(ISERROR(VLOOKUP($B31,RaceDraw!$C$10:$P$440,COLUMN()-1,FALSE)),\"\",IF(ISBLANK(VLOOKUP($B31,RaceDraw!$C$10:$P$440,COLUMN()-1,FALSE)),F31,VLOOKUP($B31,RaceDraw!$C$10:$P$440,COLUMN()-1,FALSE)))","v":1},{"$f":"IF(ISERROR(VLOOKUP($B31,RaceDraw!$C$10:$P$440,COLUMN()-1,FALSE)),\"\",IF(ISBLANK(VLOOKUP($B31,RaceDraw!$C$10:$P$440,COLUMN()-1,FALSE)),\"\",VLOOKUP($B31,RaceDraw!$C$10:$P$440,COLUMN()-1,FALSE)))","v":4},{"$f":"IF(ISERROR(VLOOKUP($B31,RaceDraw!$C$10:$P$440,COLUMN()-1,FALSE)),\" \",IF(ISBLANK(VLOOKUP($B31,RaceDraw!$C$10:$P$440,COLUMN()-1,FALSE)),\" \",VLOOKUP($B31,RaceDraw!$C$10:$P$440,COLUMN()-1,FALSE)))","v":"Broadwater Dragons"},{"$f":"IF(ISERROR(VLOOKUP($B31,RaceDraw!$C$10:$P$440,COLUMN()-1,FALSE)),\" \",IF(ISBLANK(VLOOKUP($B31,RaceDraw!$C$10:$P$440,COLUMN()-1,FALSE)),\" \",VLOOKUP($B31,RaceDraw!$C$10:$P$440,COLUMN()-1,FALSE)))","v":"Golden Dragons"},{"$f":"IF(ISERROR(VLOOKUP($B31,RaceDraw!$C$10:$P$440,COLUMN()-1,FALSE)),\" \",IF(ISBLANK(VLOOKUP($B31,RaceDraw!$C$10:$P$440,COLUMN()-1,FALSE)),\" \",VLOOKUP($B31,RaceDraw!$C$10:$P$440,COLUMN()-1,FALSE)))","v":"Newcastle Dragon Hunters Purple"},{"$f":"IF(ISERROR(VLOOKUP($B31,RaceDraw!$C$10:$P$440,COLUMN()-1,FALSE)),\" \",IF(ISBLANK(VLOOKUP($B31,RaceDraw!$C$10:$P$440,COLUMN()-1,FALSE)),\" \",VLOOKUP($B31,RaceDraw!$C$10:$P$440,COLUMN()-1,FALSE)))","v":"Juggernauts"},{"$f":"IF(ISERROR(VLOOKUP($B31,RaceDraw!$C$10:$P$440,COLUMN()-1,FALSE)),\" \",IF(ISBLANK(VLOOKUP($B31,RaceDraw!$C$10:$P$440,COLUMN()-1,FALSE)),\" \",VLOOKUP($B31,RaceDraw!$C$10:$P$440,COLUMN()-1,FALSE)))","v":"Dragons Afloat Port Lincoln"},{"$f":"IF(ISERROR(VLOOKUP($B31,RaceDraw!$C$10:$P$440,COLUMN()-1,FALSE)),\" \",IF(ISBLANK(VLOOKUP($B31,RaceDraw!$C$10:$P$440,COLUMN()-1,FALSE)),\" \",VLOOKUP($B31,RaceDraw!$C$10:$P$440,COLUMN()-1,FALSE)))","v":"FNC"},{"$f":"IF(ISERROR(VLOOKUP($B31,RaceDraw!$C$10:$P$440,COLUMN()-1,FALSE)),\" \",IF(ISBLANK(VLOOKUP($B31,RaceDraw!$C$10:$P$440,COLUMN()-1,FALSE)),\" \",VLOOKUP($B31,RaceDraw!$C$10:$P$440,COLUMN()-1,FALSE)))","v":" "},{"$f":"IF(ISERROR(VLOOKUP($B31,RaceDraw!$C$10:$P$440,COLUMN()-1,FALSE)),\" \",IF(ISBLANK(VLOOKUP($B31,RaceDraw!$C$10:$P$440,COLUMN()-1,FALSE)),\" \",VLOOKUP($B31,RaceDraw!$C$10:$P$440,COLUMN()-1,FALSE)))","v":" "},{"$f":"IF(ISERROR(VLOOKUP($B31,RaceDraw!$C$10:$P$440,COLUMN()-1,FALSE)),\" \",IF(ISBLANK(VLOOKUP($B31,RaceDraw!$C$10:$P$440,COLUMN()-1,FALSE)),\" \",VLOOKUP($B31,RaceDraw!$C$10:$P$440,COLUMN()-1,FALSE)))","v":" "},"Fri"]
[{"$f":"IF(ISERROR(INDEX(RaceDraw!$B$10:$B$440,MATCH(B32,RaceDraw!$C$10:$C$440,0))),\"\",INDEX(RaceDraw!$B$10:$B$440,MATCH(B32,RaceDraw!$C$10:$C$440,0)))","v":"11.12"},28,{"$f":"IF(ISERROR(VLOOKUP($B32,RaceDraw!$C$10:$P$440,COLUMN()-1,FALSE)),\"\",IF(ISBLANK(VLOOKUP($B32,RaceDraw!$C$10:$P$440,COLUMN()-1,FALSE)),\"\",VLOOKUP($B32,RaceDraw!$C$10:$P$440,COLUMN()-1,FALSE)))","v":"Senior B Open 10"},{"$f":"IF(ISERROR(VLOOKUP($B32,RaceDraw!$C$10:$P$440,COLUMN()-1,FALSE)),\"\",IF(ISBLANK(VLOOKUP($B32,RaceDraw!$C$10:$P$440,COLUMN()-1,FALSE)),\"\",VLOOKUP($B32,RaceDraw!$C$10:$P$440,COLUMN()-1,FALSE)))","v":200},{"$f":"IF(ISERROR(VLOOKUP($B32,RaceDraw!$C$10:$P$440,COLUMN()-1,FALSE)),\"\",IF(ISBLANK(VLOOKUP($B32,RaceDraw!$C$10:$P$440,COLUMN()-1,FALSE)),F32,VLOOKUP($B32,RaceDraw!$C$10:$P$440,COLUMN()-1,FALSE)))","v":1},{"$f":"IF(ISERROR(VLOOKUP($B32,RaceDraw!$C$10:$P$440,COLUMN()-1,FALSE)),\"\",IF(ISBLANK(VLOOKUP($B32,RaceDraw!$C$10:$P$440,COLUMN()-1,FALSE)),\"\",VLOOKUP($B32,RaceDraw!$C$10:$P$440,COLUMN()-1,FALSE)))","v":1},{"$f":"IF(ISERROR(VLOOKUP($B32,RaceDraw!$C$10:$P$440,COLUMN()-1,FALSE)),\" \",IF(ISBLANK(VLOOKUP($B32,RaceDraw!$C$10:$P$440,COLUMN()-1,FALSE)),\" \",VLOOKUP($B32,RaceDraw!$C$10:$P$440,COLUMN()-1,FALSE)))","v":"SADA Sonix"},{"$f":"IF(ISERROR(VLOOKUP($B32,RaceDraw!$C$10:$P$440,COLUMN()-1,FALSE)),\" \",IF(ISBLANK(VLOOKUP($B32,RaceDraw!$C$10:$P$440,COLUMN()-1,FALSE)),\" \",VLOOKUP($B32,RaceDraw!$C$10:$P$440,COLUMN()-1,FALSE)))","v":"Gippsland United"},{"$f":"IF(ISERROR(VLOOKUP($B32,RaceDraw!$C$10:$P$440,COLUMN()-1,FALSE)),\" \",IF(ISBLANK(VLOOKUP($B32,RaceDraw!$C$10:$P$440,COLUMN()-1,FALSE)),\" \",VLOOKUP($B32,RaceDraw!$C$10:$P$440,COLUMN()-1,FALSE)))","v":"Outback Dragons"},{"$f":"IF(ISERROR(VLOOKUP($B32,RaceDraw!$C$10:$P$440,COLUMN()-1,FALSE)),\" \",IF(ISBLANK(VLOOKUP($B32,RaceDraw!$C$10:$P$440,COLUMN()-1,FALSE)),\" \",VLOOKUP($B32,RaceDraw!$C$10:$P$440,COLUMN()-1,FALSE)))","v":"Dragonfire"},{"$f":"IF(ISERROR(VLOOKUP($B32,RaceDraw!$C$10:$P$440,COLUMN()-1,FALSE)),\" \",IF(ISBLANK(VLOOKUP($B32,RaceDraw!$C$10:$P$440,COLUMN()-1,FALSE)),\" \",VLOOKUP($B32,RaceDraw!$C$10:$P$440,COLUMN()-1,FALSE)))","v":"Kombo Dragons Black"},{"$f":"IF(ISERROR(VLOOKUP($B32,RaceDraw!$C$10:$P$440,COLUMN()-1,FALSE)),\" \",IF(ISBLANK(VLOOKUP($B32,RaceDraw!$C$10:$P$440,COLUMN()-1,FALSE)),\" \",VLOOKUP($B32,RaceDraw!$C$10:$P$440,COLUMN()-1,FALSE)))","v":"Mildura"},{"$f":"IF(ISERROR(VLOOKUP($B32,RaceDraw!$C$10:$P$440,COLUMN()-1,FALSE)),\" \",IF(ISBLANK(VLOOKUP($B32,RaceDraw!$C$10:$P$440,COLUMN()-1,FALSE)),\" \",VLOOKUP($B32,RaceDraw!$C$10:$P$440,COLUMN()-1,FALSE)))","v":" "},{"$f":"IF(ISERROR(VLOOKUP($B32,RaceDraw!$C$10:$P$440,COLUMN()-1,FALSE)),\" \",IF(ISBLANK(VLOOKUP($B32,RaceDraw!$C$10:$P$440,COLUMN()-1,FALSE)),\" \",VLOOKUP($B32,RaceDraw!$C$10:$P$440,COLUMN()-1,FALSE)))","v":" "},{"$f":"IF(ISERROR(VLOOKUP($B32,RaceDraw!$C$10:$P$440,COLUMN()-1,FALSE)),\" \",IF(ISBLANK(VLOOKUP($B32,RaceDraw!$C$10:$P$440,COLUMN()-1,FALSE)),\" \",VLOOKUP($B32,RaceDraw!$C$10:$P$440,COLUMN()-1,FALSE)))","v":" "},"Fri"]
[{"$f":"IF(ISERROR(INDEX(RaceDraw!$B$10:$B$440,MATCH(B33,RaceDraw!$C$10:$C$440,0))),\"\",INDEX(RaceDraw!$B$10:$B$440,MATCH(B33,RaceDraw!$C$10:$C$440,0)))","v":"11.18"},29,{"$f":"IF(ISERROR(VLOOKUP($B33,RaceDraw!$C$10:$P$440,COLUMN()-1,FALSE)),\"\",IF(ISBLANK(VLOOKUP($B33,RaceDraw!$C$10:$P$440,COLUMN()-1,FALSE)),\"\",VLOOKUP($B33,RaceDraw!$C$10:$P$440,COLUMN()-1,FALSE)))","v":"Senior B Open 10"},{"$f":"IF(ISERROR(VLOOKUP($B33,RaceDraw!$C$10:$P$440,COLUMN()-1,FALSE)),\"\",IF(ISBLANK(VLOOKUP($B33,RaceDraw!$C$10:$P$440,COLUMN()-1,FALSE)),\"\",VLOOKUP($B33,RaceDraw!$C$10:$P$440,COLUMN()-1,FALSE)))","v":200},{"$f":"IF(ISERROR(VLOOKUP($B33,RaceDraw!$C$10:$P$440,COLUMN()-1,FALSE)),\"\",IF(ISBLANK(VLOOKUP($B33,RaceDraw!$C$10:$P$440,COLUMN()-1,FALSE)),F33,VLOOKUP($B33,RaceDraw!$C$10:$P$440,COLUMN()-1,FALSE)))","v":1},{"$f":"IF(ISERROR(VLOOKUP($B33,RaceDraw!$C$10:$P$440,COLUMN()-1,FALSE)),\"\",IF(ISBLANK(VLOOKUP($B33,RaceDraw!$C$10:$P$440,COLUMN()-1,FALSE)),\"\",VLOOKUP($B33,RaceDraw!$C$10:$P$440,COLUMN()-1,FALSE)))","v":2},{"$f":"IF(ISERROR(VLOOKUP($B33,RaceDraw!$C$10:$P$440,COLUMN()-1,FALSE)),\" \",IF(ISBLANK(VLOOKUP($B33,RaceDraw!$C$10:$P$440,COLUMN()-1,FALSE)),\" \",VLOOKUP($B33,RaceDraw!$C$10:$P$440,COLUMN()-1,FALSE)))","v":"Gypsy Dragons"},{"$f":"IF(ISERROR(VLOOKUP($B33,RaceDraw!$C$10:$P$440,COLUMN()-1,FALSE)),\" \",IF(ISBLANK(VLOOKUP($B33,RaceDraw!$C$10:$P$440,COLUMN()-1,FALSE)),\" \",VLOOKUP($B33,RaceDraw!$C$10:$P$440,COLUMN()-1,FALSE)))","v":"Southern Warriors"},{"$f":"IF(ISERROR(VLOOKUP($B33,RaceDraw!$C$10:$P$440,COLUMN()-1,FALSE)),\" \",IF(ISBLANK(VLOOKUP($B33,RaceDraw!$C$10:$P$440,COLUMN()-1,FALSE)),\" \",VLOOKUP($B33,RaceDraw!$C$10:$P$440,COLUMN()-1,FALSE)))","v":"Deepwater"},{"$f":"IF(ISERROR(VLOOKUP($B33,RaceDraw!$C$10:$P$440,COLUMN()-1,FALSE)),\" \",IF(ISBLANK(VLOOKUP($B33,RaceDraw!$C$10:$P$440,COLUMN()-1,FALSE)),\" \",VLOOKUP($B33,RaceDraw!$C$10:$P$440,COLUMN()-1,FALSE)))","v":"Kombo Dragons Purple"},{"$f":"IF(ISERROR(VLOOKUP($B33,RaceDraw!$C$10:$P$440,COLUMN()-1,FALSE)),\" \",IF(ISBLANK(VLOOKUP($B33,RaceDraw!$C$10:$P$440,COLUMN()-1,FALSE)),\" \",VLOOKUP($B33,RaceDraw!$C$10:$P$440,COLUMN()-1,FALSE)))","v":"ASA"},{"$f":"IF(ISERROR(VLOOKUP($B33,RaceDraw!$C$10:$P$440,COLUMN()-1,FALSE)),\" \",IF(ISBLANK(VLOOKUP($B33,RaceDraw!$C$10:$P$440,COLUMN()-1,FALSE)),\" \",VLOOKUP($B33,RaceDraw!$C$10:$P$440,COLUMN()-1,FALSE)))","v":"Newcastle Dragon Hunters Red"},{"$f":"IF(ISERROR(VLOOKUP($B33,RaceDraw!$C$10:$P$440,COLUMN()-1,FALSE)),\" \",IF(ISBLANK(VLOOKUP($B33,RaceDraw!$C$10:$P$440,COLUMN()-1,FALSE)),\" \",VLOOKUP($B33,RaceDraw!$C$10:$P$440,COLUMN()-1,FALSE)))","v":" "},{"$f":"IF(ISERROR(VLOOKUP($B33,RaceDraw!$C$10:$P$440,COLUMN()-1,FALSE)),\" \",IF(ISBLANK(VLOOKUP($B33,RaceDraw!$C$10:$P$440,COLUMN()-1,FALSE)),\" \",VLOOKUP($B33,RaceDraw!$C$10:$P$440,COLUMN()-1,FALSE)))","v":" "},{"$f":"IF(ISERROR(VLOOKUP($B33,RaceDraw!$C$10:$P$440,COLUMN()-1,FALSE)),\" \",IF(ISBLANK(VLOOKUP($B33,RaceDraw!$C$10:$P$440,COLUMN()-1,FALSE)),\" \",VLOOKUP($B33,RaceDraw!$C$10:$P$440,COLUMN()-1,FALSE)))","v":" "},"Fri"]
[{"$f":"IF(ISERROR(INDEX(RaceDraw!$B$10:$B$440,MATCH(B34,RaceDraw!$C$10:$C$440,0))),\"\",INDEX(RaceDraw!$B$10:$B$440,MATCH(B34,RaceDraw!$C$10:$C$440,0)))","v":"11.24"},30,{"$f":"IF(ISERROR(VLOOKUP($B34,RaceDraw!$C$10:$P$440,COLUMN()-1,FALSE)),\"\",IF(ISBLANK(VLOOKUP($B34,RaceDraw!$C$10:$P$440,COLUMN()-1,FALSE)),\"\",VLOOKUP($B34,RaceDraw!$C$10:$P$440,COLUMN()-1,FALSE)))","v":"Senior B Open 10"},{"$f":"IF(ISERROR(VLOOKUP($B34,RaceDraw!$C$10:$P$440,COLUMN()-1,FALSE)),\"\",IF(ISBLANK(VLOOKUP($B34,RaceDraw!$C$10:$P$440,COLUMN()-1,FALSE)),\"\",VLOOKUP($B34,RaceDraw!$C$10:$P$440,COLUMN()-1,FALSE)))","v":200},{"$f":"IF(ISERROR(VLOOKUP($B34,RaceDraw!$C$10:$P$440,COLUMN()-1,FALSE)),\"\",IF(ISBLANK(VLOOKUP($B34,RaceDraw!$C$10:$P$440,COLUMN()-1,FALSE)),F34,VLOOKUP($B34,RaceDraw!$C$10:$P$440,COLUMN()-1,FALSE)))","v":1},{"$f":"IF(ISERROR(VLOOKUP($B34,RaceDraw!$C$10:$P$440,COLUMN()-1,FALSE)),\"\",IF(ISBLANK(VLOOKUP($B34,RaceDraw!$C$10:$P$440,COLUMN()-1,FALSE)),\"\",VLOOKUP($B34,RaceDraw!$C$10:$P$440,COLUMN()-1,FALSE)))","v":3},{"$f":"IF(ISERROR(VLOOKUP($B34,RaceDraw!$C$10:$P$440,COLUMN()-1,FALSE)),\" \",IF(ISBLANK(VLOOKUP($B34,RaceDraw!$C$10:$P$440,COLUMN()-1,FALSE)),\" \",VLOOKUP($B34,RaceDraw!$C$10:$P$440,COLUMN()-1,FALSE)))","v":"Kombo Dragons Green"},{"$f":"IF(ISERROR(VLOOKUP($B34,RaceDraw!$C$10:$P$440,COLUMN()-1,FALSE)),\" \",IF(ISBLANK(VLOOKUP($B34,RaceDraw!$C$10:$P$440,COLUMN()-1,FALSE)),\" \",VLOOKUP($B34,RaceDraw!$C$10:$P$440,COLUMN()-1,FALSE)))","v":"Hunter River Dragons"},{"$f":"IF(ISERROR(VLOOKUP($B34,RaceDraw!$C$10:$P$440,COLUMN()-1,FALSE)),\" \",IF(ISBLANK(VLOOKUP($B34,RaceDraw!$C$10:$P$440,COLUMN()-1,FALSE)),\" \",VLOOKUP($B34,RaceDraw!$C$10:$P$440,COLUMN()-1,FALSE)))","v":"Black Sea Dragons"},{"$f":"IF(ISERROR(VLOOKUP($B34,RaceDraw!$C$10:$P$440,COLUMN()-1,FALSE)),\" \",IF(ISBLANK(VLOOKUP($B34,RaceDraw!$C$10:$P$440,COLUMN()-1,FALSE)),\" \",VLOOKUP($B34,RaceDraw!$C$10:$P$440,COLUMN()-1,FALSE)))","v":"Goolwa River Dragons"},{"$f":"IF(ISERROR(VLOOKUP($B34,RaceDraw!$C$10:$P$440,COLUMN()-1,FALSE)),\" \",IF(ISBLANK(VLOOKUP($B34,RaceDraw!$C$10:$P$440,COLUMN()-1,FALSE)),\" \",VLOOKUP($B34,RaceDraw!$C$10:$P$440,COLUMN()-1,FALSE)))","v":"Mannum"},{"$f":"IF(ISERROR(VLOOKUP($B34,RaceDraw!$C$10:$P$440,COLUMN()-1,FALSE)),\" \",IF(ISBLANK(VLOOKUP($B34,RaceDraw!$C$10:$P$440,COLUMN()-1,FALSE)),\" \",VLOOKUP($B34,RaceDraw!$C$10:$P$440,COLUMN()-1,FALSE)))","v":" "},{"$f":"IF(ISERROR(VLOOKUP($B34,RaceDraw!$C$10:$P$440,COLUMN()-1,FALSE)),\" \",IF(ISBLANK(VLOOKUP($B34,RaceDraw!$C$10:$P$440,COLUMN()-1,FALSE)),\" \",VLOOKUP($B34,RaceDraw!$C$10:$P$440,COLUMN()-1,FALSE)))","v":" "},{"$f":"IF(ISERROR(VLOOKUP($B34,RaceDraw!$C$10:$P$440,COLUMN()-1,FALSE)),\" \",IF(ISBLANK(VLOOKUP($B34,RaceDraw!$C$10:$P$440,COLUMN()-1,FALSE)),\" \",VLOOKUP($B34,RaceDraw!$C$10:$P$440,COLUMN()-1,FALSE)))","v":" "},{"$f":"IF(ISERROR(VLOOKUP($B34,RaceDraw!$C$10:$P$440,COLUMN()-1,FALSE)),\" \",IF(ISBLANK(VLOOKUP($B34,RaceDraw!$C$10:$P$440,COLUMN()-1,FALSE)),\" \",VLOOKUP($B34,RaceDraw!$C$10:$P$440,COLUMN()-1,FALSE)))","v":" "},"Fri"]
[{"$f":"IF(ISERROR(INDEX(RaceDraw!$B$10:$B$440,MATCH(B35,RaceDraw!$C$10:$C$440,0))),\"\",INDEX(RaceDraw!$B$10:$B$440,MATCH(B35,RaceDraw!$C$10:$C$440,0)))","v":"11.30"},31,{"$f":"IF(ISERROR(VLOOKUP($B35,RaceDraw!$C$10:$P$440,COLUMN()-1,FALSE)),\"\",IF(ISBLANK(VLOOKUP($B35,RaceDraw!$C$10:$P$440,COLUMN()-1,FALSE)),\"\",VLOOKUP($B35,RaceDraw!$C$10:$P$440,COLUMN()-1,FALSE)))","v":"BCS 20"},{"$f":"IF(ISERROR(VLOOKUP($B35,RaceDraw!$C$10:$P$440,COLUMN()-1,FALSE)),\"\",IF(ISBLANK(VLOOKUP($B35,RaceDraw!$C$10:$P$440,COLUMN()-1,FALSE)),\"\",VLOOKUP($B35,RaceDraw!$C$10:$P$440,COLUMN()-1,FALSE)))","v":200},{"$f":"IF(ISERROR(VLOOKUP($B35,RaceDraw!$C$10:$P$440,COLUMN()-1,FALSE)),\"\",IF(ISBLANK(VLOOKUP($B35,RaceDraw!$C$10:$P$440,COLUMN()-1,FALSE)),F35,VLOOKUP($B35,RaceDraw!$C$10:$P$440,COLUMN()-1,FALSE)))","v":1},{"$f":"IF(ISERROR(VLOOKUP($B35,RaceDraw!$C$10:$P$440,COLUMN()-1,FALSE)),\"\",IF(ISBLANK(VLOOKUP($B35,RaceDraw!$C$10:$P$440,COLUMN()-1,FALSE)),\"\",VLOOKUP($B35,RaceDraw!$C$10:$P$440,COLUMN()-1,FALSE)))","v":1},{"$f":"IF(ISERROR(VLOOKUP($B35,RaceDraw!$C$10:$P$440,COLUMN()-1,FALSE)),\" \",IF(ISBLANK(VLOOKUP($B35,RaceDraw!$C$10:$P$440,COLUMN()-1,FALSE)),\" \",VLOOKUP($B35,RaceDraw!$C$10:$P$440,COLUMN()-1,FALSE)))","v":" "},{"$f":"IF(ISERROR(VLOOKUP($B35,RaceDraw!$C$10:$P$440,COLUMN()-1,FALSE)),\" \",IF(ISBLANK(VLOOKUP($B35,RaceDraw!$C$10:$P$440,COLUMN()-1,FALSE)),\" \",VLOOKUP($B35,RaceDraw!$C$10:$P$440,COLUMN()-1,FALSE)))","v":"DA Bendigo"},{"$f":"IF(ISERROR(VLOOKUP($B35,RaceDraw!$C$10:$P$440,COLUMN()-1,FALSE)),\" \",IF(ISBLANK(VLOOKUP($B35,RaceDraw!$C$10:$P$440,COLUMN()-1,FALSE)),\" \",VLOOKUP($B35,RaceDraw!$C$10:$P$440,COLUMN()-1,FALSE)))","v":"Dragons Afloat Port Lincoln"},{"$f":"IF(ISERROR(VLOOKUP($B35,RaceDraw!$C$10:$P$440,COLUMN()-1,FALSE)),\" \",IF(ISBLANK(VLOOKUP($B35,RaceDraw!$C$10:$P$440,COLUMN()-1,FALSE)),\" \",VLOOKUP($B35,RaceDraw!$C$10:$P$440,COLUMN()-1,FALSE)))","v":"Juggernauts"},{"$f":"IF(ISERROR(VLOOKUP($B35,RaceDraw!$C$10:$P$440,COLUMN()-1,FALSE)),\" \",IF(ISBLANK(VLOOKUP($B35,RaceDraw!$C$10:$P$440,COLUMN()-1,FALSE)),\" \",VLOOKUP($B35,RaceDraw!$C$10:$P$440,COLUMN()-1,FALSE)))","v":" "},{"$f":"IF(ISERROR(VLOOKUP($B35,RaceDraw!$C$10:$P$440,COLUMN()-1,FALSE)),\" \",IF(ISBLANK(VLOOKUP($B35,RaceDraw!$C$10:$P$440,COLUMN()-1,FALSE)),\" \",VLOOKUP($B35,RaceDraw!$C$10:$P$440,COLUMN()-1,FALSE)))","v":" "},{"$f":"IF(ISERROR(VLOOKUP($B35,RaceDraw!$C$10:$P$440,COLUMN()-1,FALSE)),\" \",IF(ISBLANK(VLOOKUP($B35,RaceDraw!$C$10:$P$440,COLUMN()-1,FALSE)),\" \",VLOOKUP($B35,RaceDraw!$C$10:$P$440,COLUMN()-1,FALSE)))","v":" "},{"$f":"IF(ISERROR(VLOOKUP($B35,RaceDraw!$C$10:$P$440,COLUMN()-1,FALSE)),\" \",IF(ISBLANK(VLOOKUP($B35,RaceDraw!$C$10:$P$440,COLUMN()-1,FALSE)),\" \",VLOOKUP($B35,RaceDraw!$C$10:$P$440,COLUMN()-1,FALSE)))","v":" "},{"$f":"IF(ISERROR(VLOOKUP($B35,RaceDraw!$C$10:$P$440,COLUMN()-1,FALSE)),\" \",IF(ISBLANK(VLOOKUP($B35,RaceDraw!$C$10:$P$440,COLUMN()-1,FALSE)),\" \",VLOOKUP($B35,RaceDraw!$C$10:$P$440,COLUMN()-1,FALSE)))","v":" "},"Fri"]
[{"$f":"IF(ISERROR(INDEX(RaceDraw!$B$10:$B$440,MATCH(B36,RaceDraw!$C$10:$C$440,0))),\"\",INDEX(RaceDraw!$B$10:$B$440,MATCH(B36,RaceDraw!$C$10:$C$440,0)))","v":"11.36"},32,{"$f":"IF(ISERROR(VLOOKUP($B36,RaceDraw!$C$10:$P$440,COLUMN()-1,FALSE)),\"\",IF(ISBLANK(VLOOKUP($B36,RaceDraw!$C$10:$P$440,COLUMN()-1,FALSE)),\"\",VLOOKUP($B36,RaceDraw!$C$10:$P$440,COLUMN()-1,FALSE)))","v":"Senior B Women 20"},{"$f":"IF(ISERROR(VLOOKUP($B36,RaceDraw!$C$10:$P$440,COLUMN()-1,FALSE)),\"\",IF(ISBLANK(VLOOKUP($B36,RaceDraw!$C$10:$P$440,COLUMN()-1,FALSE)),\"\",VLOOKUP($B36,RaceDraw!$C$10:$P$440,COLUMN()-1,FALSE)))","v":200},{"$f":"IF(ISERROR(VLOOKUP($B36,RaceDraw!$C$10:$P$440,COLUMN()-1,FALSE)),\"\",IF(ISBLANK(VLOOKUP($B36,RaceDraw!$C$10:$P$440,COLUMN()-1,FALSE)),F36,VLOOKUP($B36,RaceDraw!$C$10:$P$440,COLUMN()-1,FALSE)))","v":1},{"$f":"IF(ISERROR(VLOOKUP($B36,RaceDraw!$C$10:$P$440,COLUMN()-1,FALSE)),\"\",IF(ISBLANK(VLOOKUP($B36,RaceDraw!$C$10:$P$440,COLUMN()-1,FALSE)),\"\",VLOOKUP($B36,RaceDraw!$C$10:$P$440,COLUMN()-1,FALSE)))","v":1},{"$f":"IF(ISERROR(VLOOKUP($B36,RaceDraw!$C$10:$P$440,COLUMN()-1,FALSE)),\" \",IF(ISBLANK(VLOOKUP($B36,RaceDraw!$C$10:$P$440,COLUMN()-1,FALSE)),\" \",VLOOKUP($B36,RaceDraw!$C$10:$P$440,COLUMN()-1,FALSE)))","v":"Gippsland United"},{"$f":"IF(ISERROR(VLOOKUP($B36,RaceDraw!$C$10:$P$440,COLUMN()-1,FALSE)),\" \",IF(ISBLANK(VLOOKUP($B36,RaceDraw!$C$10:$P$440,COLUMN()-1,FALSE)),\" \",VLOOKUP($B36,RaceDraw!$C$10:$P$440,COLUMN()-1,FALSE)))","v":"Hunter River Dragons"},{"$f":"IF(ISERROR(VLOOKUP($B36,RaceDraw!$C$10:$P$440,COLUMN()-1,FALSE)),\" \",IF(ISBLANK(VLOOKUP($B36,RaceDraw!$C$10:$P$440,COLUMN()-1,FALSE)),\" \",VLOOKUP($B36,RaceDraw!$C$10:$P$440,COLUMN()-1,FALSE)))","v":"Deepwater Purple"},{"$f":"IF(ISERROR(VLOOKUP($B36,RaceDraw!$C$10:$P$440,COLUMN()-1,FALSE)),\" \",IF(ISBLANK(VLOOKUP($B36,RaceDraw!$C$10:$P$440,COLUMN()-1,FALSE)),\" \",VLOOKUP($B36,RaceDraw!$C$10:$P$440,COLUMN()-1,FALSE)))","v":"Newcastle Dragon Hunters Red"},{"$f":"IF(ISERROR(VLOOKUP($B36,RaceDraw!$C$10:$P$440,COLUMN()-1,FALSE)),\" \",IF(ISBLANK(VLOOKUP($B36,RaceDraw!$C$10:$P$440,COLUMN()-1,FALSE)),\" \",VLOOKUP($B36,RaceDraw!$C$10:$P$440,COLUMN()-1,FALSE)))","v":"Southern Warriors"},{"$f":"IF(ISERROR(VLOOKUP($B36,RaceDraw!$C$10:$P$440,COLUMN()-1,FALSE)),\" \",IF(ISBLANK(VLOOKUP($B36,RaceDraw!$C$10:$P$440,COLUMN()-1,FALSE)),\" \",VLOOKUP($B36,RaceDraw!$C$10:$P$440,COLUMN()-1,FALSE)))","v":"FNC"},{"$f":"IF(ISERROR(VLOOKUP($B36,RaceDraw!$C$10:$P$440,COLUMN()-1,FALSE)),\" \",IF(ISBLANK(VLOOKUP($B36,RaceDraw!$C$10:$P$440,COLUMN()-1,FALSE)),\" \",VLOOKUP($B36,RaceDraw!$C$10:$P$440,COLUMN()-1,FALSE)))","v":"Kombo Dragons Black"},{"$f":"IF(ISERROR(VLOOKUP($B36,RaceDraw!$C$10:$P$440,COLUMN()-1,FALSE)),\" \",IF(ISBLANK(VLOOKUP($B36,RaceDraw!$C$10:$P$440,COLUMN()-1,FALSE)),\" \",VLOOKUP($B36,RaceDraw!$C$10:$P$440,COLUMN()-1,FALSE)))","v":" "},{"$f":"IF(ISERROR(VLOOKUP($B36,RaceDraw!$C$10:$P$440,COLUMN()-1,FALSE)),\" \",IF(ISBLANK(VLOOKUP($B36,RaceDraw!$C$10:$P$440,COLUMN()-1,FALSE)),\" \",VLOOKUP($B36,RaceDraw!$C$10:$P$440,COLUMN()-1,FALSE)))","v":" "},"Fri"]
[{"$f":"IF(ISERROR(INDEX(RaceDraw!$B$10:$B$440,MATCH(B37,RaceDraw!$C$10:$C$440,0))),\"\",INDEX(RaceDraw!$B$10:$B$440,MATCH(B37,RaceDraw!$C$10:$C$440,0)))","v":"11.42"},33,{"$f":"IF(ISERROR(VLOOKUP($B37,RaceDraw!$C$10:$P$440,COLUMN()-1,FALSE)),\"\",IF(ISBLANK(VLOOKUP($B37,RaceDraw!$C$10:$P$440,COLUMN()-1,FALSE)),\"\",VLOOKUP($B37,RaceDraw!$C$10:$P$440,COLUMN()-1,FALSE)))","v":"Senior B Women 20"},{"$f":"IF(ISERROR(VLOOKUP($B37,RaceDraw!$C$10:$P$440,COLUMN()-1,FALSE)),\"\",IF(ISBLANK(VLOOKUP($B37,RaceDraw!$C$10:$P$440,COLUMN()-1,FALSE)),\"\",VLOOKUP($B37,RaceDraw!$C$10:$P$440,COLUMN()-1,FALSE)))","v":200},{"$f":"IF(ISERROR(VLOOKUP($B37,RaceDraw!$C$10:$P$440,COLUMN()-1,FALSE)),\"\",IF(ISBLANK(VLOOKUP($B37,RaceDraw!$C$10:$P$440,COLUMN()-1,FALSE)),F37,VLOOKUP($B37,RaceDraw!$C$10:$P$440,COLUMN()-1,FALSE)))","v":1},{"$f":"IF(ISERROR(VLOOKUP($B37,RaceDraw!$C$10:$P$440,COLUMN()-1,FALSE)),\"\",IF(ISBLANK(VLOOKUP($B37,RaceDraw!$C$10:$P$440,COLUMN()-1,FALSE)),\"\",VLOOKUP($B37,RaceDraw!$C$10:$P$440,COLUMN()-1,FALSE)))","v":2},{"$f":"IF(ISERROR(VLOOKUP($B37,RaceDraw!$C$10:$P$440,COLUMN()-1,FALSE)),\" \",IF(ISBLANK(VLOOKUP($B37,RaceDraw!$C$10:$P$440,COLUMN()-1,FALSE)),\" \",VLOOKUP($B37,RaceDraw!$C$10:$P$440,COLUMN()-1,FALSE)))","v":"Dragons Afloat Bendigo"},{"$f":"IF(ISERROR(VLOOKUP($B37,RaceDraw!$C$10:$P$440,COLUMN()-1,FALSE)),\" \",IF(ISBLANK(VLOOKUP($B37,RaceDraw!$C$10:$P$440,COLUMN()-1,FALSE)),\" \",VLOOKUP($B37,RaceDraw!$C$10:$P$440,COLUMN()-1,FALSE)))","v":"Mildura"},{"$f":"IF(ISERROR(VLOOKUP($B37,RaceDraw!$C$10:$P$440,COLUMN()-1,FALSE)),\" \",IF(ISBLANK(VLOOKUP($B37,RaceDraw!$C$10:$P$440,COLUMN()-1,FALSE)),\" \",VLOOKUP($B37,RaceDraw!$C$10:$P$440,COLUMN()-1,FALSE)))","v":"Motley Crew"},{"$f":"IF(ISERROR(VLOOKUP($B37,RaceDraw!$C$10:$P$440,COLUMN()-1,FALSE)),\" \",IF(ISBLANK(VLOOKUP($B37,RaceDraw!$C$10:$P$440,COLUMN()-1,FALSE)),\" \",VLOOKUP($B37,RaceDraw!$C$10:$P$440,COLUMN()-1,FALSE)))","v":"Rainbow Dragons"},{"$f":"IF(ISERROR(VLOOKUP($B37,RaceDraw!$C$10:$P$440,COLUMN()-1,FALSE)),\" \",IF(ISBLANK(VLOOKUP($B37,RaceDraw!$C$10:$P$440,COLUMN()-1,FALSE)),\" \",VLOOKUP($B37,RaceDraw!$C$10:$P$440,COLUMN()-1,FALSE)))","v":"Newcastle Dragon Hunters Purple"},{"$f":"IF(ISERROR(VLOOKUP($B37,RaceDraw!$C$10:$P$440,COLUMN()-1,FALSE)),\" \",IF(ISBLANK(VLOOKUP($B37,RaceDraw!$C$10:$P$440,COLUMN()-1,FALSE)),\" \",VLOOKUP($B37,RaceDraw!$C$10:$P$440,COLUMN()-1,FALSE)))","v":"Deepwater Green"},{"$f":"IF(ISERROR(VLOOKUP($B37,RaceDraw!$C$10:$P$440,COLUMN()-1,FALSE)),\" \",IF(ISBLANK(VLOOKUP($B37,RaceDraw!$C$10:$P$440,COLUMN()-1,FALSE)),\" \",VLOOKUP($B37,RaceDraw!$C$10:$P$440,COLUMN()-1,FALSE)))","v":"SADA Sonix"},{"$f":"IF(ISERROR(VLOOKUP($B37,RaceDraw!$C$10:$P$440,COLUMN()-1,FALSE)),\" \",IF(ISBLANK(VLOOKUP($B37,RaceDraw!$C$10:$P$440,COLUMN()-1,FALSE)),\" \",VLOOKUP($B37,RaceDraw!$C$10:$P$440,COLUMN()-1,FALSE)))","v":" "},{"$f":"IF(ISERROR(VLOOKUP($B37,RaceDraw!$C$10:$P$440,COLUMN()-1,FALSE)),\" \",IF(ISBLANK(VLOOKUP($B37,RaceDraw!$C$10:$P$440,COLUMN()-1,FALSE)),\" \",VLOOKUP($B37,RaceDraw!$C$10:$P$440,COLUMN()-1,FALSE)))","v":" "},"Fri"]
[{"$f":"IF(ISERROR(INDEX(RaceDraw!$B$10:$B$440,MATCH(B38,RaceDraw!$C$10:$C$440,0))),\"\",INDEX(RaceDraw!$B$10:$B$440,MATCH(B38,RaceDraw!$C$10:$C$440,0)))","v":"11.48"},34,{"$f":"IF(ISERROR(VLOOKUP($B38,RaceDraw!$C$10:$P$440,COLUMN()-1,FALSE)),\"\",IF(ISBLANK(VLOOKUP($B38,RaceDraw!$C$10:$P$440,COLUMN()-1,FALSE)),\"\",VLOOKUP($B38,RaceDraw!$C$10:$P$440,COLUMN()-1,FALSE)))","v":"Senior B Open 20"},{"$f":"IF(ISERROR(VLOOKUP($B38,RaceDraw!$C$10:$P$440,COLUMN()-1,FALSE)),\"\",IF(ISBLANK(VLOOKUP($B38,RaceDraw!$C$10:$P$440,COLUMN()-1,FALSE)),\"\",VLOOKUP($B38,RaceDraw!$C$10:$P$440,COLUMN()-1,FALSE)))","v":200},{"$f":"IF(ISERROR(VLOOKUP($B38,RaceDraw!$C$10:$P$440,COLUMN()-1,FALSE)),\"\",IF(ISBLANK(VLOOKUP($B38,RaceDraw!$C$10:$P$440,COLUMN()-1,FALSE)),F38,VLOOKUP($B38,RaceDraw!$C$10:$P$440,COLUMN()-1,FALSE)))","v":1},{"$f":"IF(ISERROR(VLOOKUP($B38,RaceDraw!$C$10:$P$440,COLUMN()-1,FALSE)),\"\",IF(ISBLANK(VLOOKUP($B38,RaceDraw!$C$10:$P$440,COLUMN()-1,FALSE)),\"\",VLOOKUP($B38,RaceDraw!$C$10:$P$440,COLUMN()-1,FALSE)))","v":1},{"$f":"IF(ISERROR(VLOOKUP($B38,RaceDraw!$C$10:$P$440,COLUMN()-1,FALSE)),\" \",IF(ISBLANK(VLOOKUP($B38,RaceDraw!$C$10:$P$440,COLUMN()-1,FALSE)),\" \",VLOOKUP($B38,RaceDraw!$C$10:$P$440,COLUMN()-1,FALSE)))","v":"Gypsy Dragons"},{"$f":"IF(ISERROR(VLOOKUP($B38,RaceDraw!$C$10:$P$440,COLUMN()-1,FALSE)),\" \",IF(ISBLANK(VLOOKUP($B38,RaceDraw!$C$10:$P$440,COLUMN()-1,FALSE)),\" \",VLOOKUP($B38,RaceDraw!$C$10:$P$440,COLUMN()-1,FALSE)))","v":"Newcastle Dragon Hunters Red"},{"$f":"IF(ISERROR(VLOOKUP($B38,RaceDraw!$C$10:$P$440,COLUMN()-1,FALSE)),\" \",IF(ISBLANK(VLOOKUP($B38,RaceDraw!$C$10:$P$440,COLUMN()-1,FALSE)),\" \",VLOOKUP($B38,RaceDraw!$C$10:$P$440,COLUMN()-1,FALSE)))","v":"Kombo Dragons"},{"$f":"IF(ISERROR(VLOOKUP($B38,RaceDraw!$C$10:$P$440,COLUMN()-1,FALSE)),\" \",IF(ISBLANK(VLOOKUP($B38,RaceDraw!$C$10:$P$440,COLUMN()-1,FALSE)),\" \",VLOOKUP($B38,RaceDraw!$C$10:$P$440,COLUMN()-1,FALSE)))","v":"Gippsland United"},{"$f":"IF(ISERROR(VLOOKUP($B38,RaceDraw!$C$10:$P$440,COLUMN()-1,FALSE)),\" \",IF(ISBLANK(VLOOKUP($B38,RaceDraw!$C$10:$P$440,COLUMN()-1,FALSE)),\" \",VLOOKUP($B38,RaceDraw!$C$10:$P$440,COLUMN()-1,FALSE)))","v":"Hunter River Dragons"},{"$f":"IF(ISERROR(VLOOKUP($B38,RaceDraw!$C$10:$P$440,COLUMN()-1,FALSE)),\" \",IF(ISBLANK(VLOOKUP($B38,RaceDraw!$C$10:$P$440,COLUMN()-1,FALSE)),\" \",VLOOKUP($B38,RaceDraw!$C$10:$P$440,COLUMN()-1,FALSE)))","v":" "},{"$f":"IF(ISERROR(VLOOKUP($B38,RaceDraw!$C$10:$P$440,COLUMN()-1,FALSE)),\" \",IF(ISBLANK(VLOOKUP($B38,RaceDraw!$C$10:$P$440,COLUMN()-1,FALSE)),\" \",VLOOKUP($B38,RaceDraw!$C$10:$P$440,COLUMN()-1,FALSE)))","v":" "},{"$f":"IF(ISERROR(VLOOKUP($B38,RaceDraw!$C$10:$P$440,COLUMN()-1,FALSE)),\" \",IF(ISBLANK(VLOOKUP($B38,RaceDraw!$C$10:$P$440,COLUMN()-1,FALSE)),\" \",VLOOKUP($B38,RaceDraw!$C$10:$P$440,COLUMN()-1,FALSE)))","v":" "},{"$f":"IF(ISERROR(VLOOKUP($B38,RaceDraw!$C$10:$P$440,COLUMN()-1,FALSE)),\" \",IF(ISBLANK(VLOOKUP($B38,RaceDraw!$C$10:$P$440,COLUMN()-1,FALSE)),\" \",VLOOKUP($B38,RaceDraw!$C$10:$P$440,COLUMN()-1,FALSE)))","v":" "},"Fri"]
[{"$f":"IF(ISERROR(INDEX(RaceDraw!$B$10:$B$440,MATCH(B39,RaceDraw!$C$10:$C$440,0))),\"\",INDEX(RaceDraw!$B$10:$B$440,MATCH(B39,RaceDraw!$C$10:$C$440,0)))","v":"11.54"},35,{"$f":"IF(ISERROR(VLOOKUP($B39,RaceDraw!$C$10:$P$440,COLUMN()-1,FALSE)),\"\",IF(ISBLANK(VLOOKUP($B39,RaceDraw!$C$10:$P$440,COLUMN()-1,FALSE)),\"\",VLOOKUP($B39,RaceDraw!$C$10:$P$440,COLUMN()-1,FALSE)))","v":"Senior B Open 20"},{"$f":"IF(ISERROR(VLOOKUP($B39,RaceDraw!$C$10:$P$440,COLUMN()-1,FALSE)),\"\",IF(ISBLANK(VLOOKUP($B39,RaceDraw!$C$10:$P$440,COLUMN()-1,FALSE)),\"\",VLOOKUP($B39,RaceDraw!$C$10:$P$440,COLUMN()-1,FALSE)))","v":200},{"$f":"IF(ISERROR(VLOOKUP($B39,RaceDraw!$C$10:$P$440,COLUMN()-1,FALSE)),\"\",IF(ISBLANK(VLOOKUP($B39,RaceDraw!$C$10:$P$440,COLUMN()-1,FALSE)),F39,VLOOKUP($B39,RaceDraw!$C$10:$P$440,COLUMN()-1,FALSE)))","v":1},{"$f":"IF(ISERROR(VLOOKUP($B39,RaceDraw!$C$10:$P$440,COLUMN()-1,FALSE)),\"\",IF(ISBLANK(VLOOKUP($B39,RaceDraw!$C$10:$P$440,COLUMN()-1,FALSE)),\"\",VLOOKUP($B39,RaceDraw!$C$10:$P$440,COLUMN()-1,FALSE)))","v":2},{"$f":"IF(ISERROR(VLOOKUP($B39,RaceDraw!$C$10:$P$440,COLUMN()-1,FALSE)),\" \",IF(ISBLANK(VLOOKUP($B39,RaceDraw!$C$10:$P$440,COLUMN()-1,FALSE)),\" \",VLOOKUP($B39,RaceDraw!$C$10:$P$440,COLUMN()-1,FALSE)))","v":"Newcastle Dragon Hunters Purple"},{"$f":"IF(ISERROR(VLOOKUP($B39,RaceDraw!$C$10:$P$440,COLUMN()-1,FALSE)),\" \",IF(ISBLANK(VLOOKUP($B39,RaceDraw!$C$10:$P$440,COLUMN()-1,FALSE)),\" \",VLOOKUP($B39,RaceDraw!$C$10:$P$440,COLUMN()-1,FALSE)))","v":"Motley Crew"},{"$f":"IF(ISERROR(VLOOKUP($B39,RaceDraw!$C$10:$P$440,COLUMN()-1,FALSE)),\" \",IF(ISBLANK(VLOOKUP($B39,RaceDraw!$C$10:$P$440,COLUMN()-1,FALSE)),\" \",VLOOKUP($B39,RaceDraw!$C$10:$P$440,COLUMN()-1,FALSE)))","v":"Southern Warriors"},{"$f":"IF(ISERROR(VLOOKUP($B39,RaceDraw!$C$10:$P$440,COLUMN()-1,FALSE)),\" \",IF(ISBLANK(VLOOKUP($B39,RaceDraw!$C$10:$P$440,COLUMN()-1,FALSE)),\" \",VLOOKUP($B39,RaceDraw!$C$10:$P$440,COLUMN()-1,FALSE)))","v":"Deepwater"},{"$f":"IF(ISERROR(VLOOKUP($B39,RaceDraw!$C$10:$P$440,COLUMN()-1,FALSE)),\" \",IF(ISBLANK(VLOOKUP($B39,RaceDraw!$C$10:$P$440,COLUMN()-1,FALSE)),\" \",VLOOKUP($B39,RaceDraw!$C$10:$P$440,COLUMN()-1,FALSE)))","v":"Outback Dragons"},{"$f":"IF(ISERROR(VLOOKUP($B39,RaceDraw!$C$10:$P$440,COLUMN()-1,FALSE)),\" \",IF(ISBLANK(VLOOKUP($B39,RaceDraw!$C$10:$P$440,COLUMN()-1,FALSE)),\" \",VLOOKUP($B39,RaceDraw!$C$10:$P$440,COLUMN()-1,FALSE)))","v":" "},{"$f":"IF(ISERROR(VLOOKUP($B39,RaceDraw!$C$10:$P$440,COLUMN()-1,FALSE)),\" \",IF(ISBLANK(VLOOKUP($B39,RaceDraw!$C$10:$P$440,COLUMN()-1,FALSE)),\" \",VLOOKUP($B39,RaceDraw!$C$10:$P$440,COLUMN()-1,FALSE)))","v":" "},{"$f":"IF(ISERROR(VLOOKUP($B39,RaceDraw!$C$10:$P$440,COLUMN()-1,FALSE)),\" \",IF(ISBLANK(VLOOKUP($B39,RaceDraw!$C$10:$P$440,COLUMN()-1,FALSE)),\" \",VLOOKUP($B39,RaceDraw!$C$10:$P$440,COLUMN()-1,FALSE)))","v":" "},{"$f":"IF(ISERROR(VLOOKUP($B39,RaceDraw!$C$10:$P$440,COLUMN()-1,FALSE)),\" \",IF(ISBLANK(VLOOKUP($B39,RaceDraw!$C$10:$P$440,COLUMN()-1,FALSE)),\" \",VLOOKUP($B39,RaceDraw!$C$10:$P$440,COLUMN()-1,FALSE)))","v":" "},"Fri"]
[{"$f":"IF(ISERROR(INDEX(RaceDraw!$B$10:$B$440,MATCH(B40,RaceDraw!$C$10:$C$440,0))),\"\",INDEX(RaceDraw!$B$10:$B$440,MATCH(B40,RaceDraw!$C$10:$C$440,0)))","v":"12.00"},36,{"$f":"IF(ISERROR(VLOOKUP($B40,RaceDraw!$C$10:$P$440,COLUMN()-1,FALSE)),\"\",IF(ISBLANK(VLOOKUP($B40,RaceDraw!$C$10:$P$440,COLUMN()-1,FALSE)),\"\",VLOOKUP($B40,RaceDraw!$C$10:$P$440,COLUMN()-1,FALSE)))","v":"Senior A Women 10"},{"$f":"IF(ISERROR(VLOOKUP($B40,RaceDraw!$C$10:$P$440,COLUMN()-1,FALSE)),\"\",IF(ISBLANK(VLOOKUP($B40,RaceDraw!$C$10:$P$440,COLUMN()-1,FALSE)),\"\",VLOOKUP($B40,RaceDraw!$C$10:$P$440,COLUMN()-1,FALSE)))","v":200},{"$f":"IF(ISERROR(VLOOKUP($B40,RaceDraw!$C$10:$P$440,COLUMN()-1,FALSE)),\"\",IF(ISBLANK(VLOOKUP($B40,RaceDraw!$C$10:$P$440,COLUMN()-1,FALSE)),F40,VLOOKUP($B40,RaceDraw!$C$10:$P$440,COLUMN()-1,FALSE)))","v":1},{"$f":"IF(ISERROR(VLOOKUP($B40,RaceDraw!$C$10:$P$440,COLUMN()-1,FALSE)),\"\",IF(ISBLANK(VLOOKUP($B40,RaceDraw!$C$10:$P$440,COLUMN()-1,FALSE)),\"\",VLOOKUP($B40,RaceDraw!$C$10:$P$440,COLUMN()-1,FALSE)))","v":1},{"$f":"IF(ISERROR(VLOOKUP($B40,RaceDraw!$C$10:$P$440,COLUMN()-1,FALSE)),\" \",IF(ISBLANK(VLOOKUP($B40,RaceDraw!$C$10:$P$440,COLUMN()-1,FALSE)),\" \",VLOOKUP($B40,RaceDraw!$C$10:$P$440,COLUMN()-1,FALSE)))","v":"Hunter River Dragons"},{"$f":"IF(ISERROR(VLOOKUP($B40,RaceDraw!$C$10:$P$440,COLUMN()-1,FALSE)),\" \",IF(ISBLANK(VLOOKUP($B40,RaceDraw!$C$10:$P$440,COLUMN()-1,FALSE)),\" \",VLOOKUP($B40,RaceDraw!$C$10:$P$440,COLUMN()-1,FALSE)))","v":"Mildura"},{"$f":"IF(ISERROR(VLOOKUP($B40,RaceDraw!$C$10:$P$440,COLUMN()-1,FALSE)),\" \",IF(ISBLANK(VLOOKUP($B40,RaceDraw!$C$10:$P$440,COLUMN()-1,FALSE)),\" \",VLOOKUP($B40,RaceDraw!$C$10:$P$440,COLUMN()-1,FALSE)))","v":"FNC"},{"$f":"IF(ISERROR(VLOOKUP($B40,RaceDraw!$C$10:$P$440,COLUMN()-1,FALSE)),\" \",IF(ISBLANK(VLOOKUP($B40,RaceDraw!$C$10:$P$440,COLUMN()-1,FALSE)),\" \",VLOOKUP($B40,RaceDraw!$C$10:$P$440,COLUMN()-1,FALSE)))","v":"Kombo Dragons Purple"},{"$f":"IF(ISERROR(VLOOKUP($B40,RaceDraw!$C$10:$P$440,COLUMN()-1,FALSE)),\" \",IF(ISBLANK(VLOOKUP($B40,RaceDraw!$C$10:$P$440,COLUMN()-1,FALSE)),\" \",VLOOKUP($B40,RaceDraw!$C$10:$P$440,COLUMN()-1,FALSE)))","v":"Dragonfire"},{"$f":"IF(ISERROR(VLOOKUP($B40,RaceDraw!$C$10:$P$440,COLUMN()-1,FALSE)),\" \",IF(ISBLANK(VLOOKUP($B40,RaceDraw!$C$10:$P$440,COLUMN()-1,FALSE)),\" \",VLOOKUP($B40,RaceDraw!$C$10:$P$440,COLUMN()-1,FALSE)))","v":"Gippsland United"},{"$f":"IF(ISERROR(VLOOKUP($B40,RaceDraw!$C$10:$P$440,COLUMN()-1,FALSE)),\" \",IF(ISBLANK(VLOOKUP($B40,RaceDraw!$C$10:$P$440,COLUMN()-1,FALSE)),\" \",VLOOKUP($B40,RaceDraw!$C$10:$P$440,COLUMN()-1,FALSE)))","v":"Black Sea Dragons"},{"$f":"IF(ISERROR(VLOOKUP($B40,RaceDraw!$C$10:$P$440,COLUMN()-1,FALSE)),\" \",IF(ISBLANK(VLOOKUP($B40,RaceDraw!$C$10:$P$440,COLUMN()-1,FALSE)),\" \",VLOOKUP($B40,RaceDraw!$C$10:$P$440,COLUMN()-1,FALSE)))","v":" "},{"$f":"IF(ISERROR(VLOOKUP($B40,RaceDraw!$C$10:$P$440,COLUMN()-1,FALSE)),\" \",IF(ISBLANK(VLOOKUP($B40,RaceDraw!$C$10:$P$440,COLUMN()-1,FALSE)),\" \",VLOOKUP($B40,RaceDraw!$C$10:$P$440,COLUMN()-1,FALSE)))","v":" "},"Fri"]
[{"$f":"IF(ISERROR(INDEX(RaceDraw!$B$10:$B$440,MATCH(B41,RaceDraw!$C$10:$C$440,0))),\"\",INDEX(RaceDraw!$B$10:$B$440,MATCH(B41,RaceDraw!$C$10:$C$440,0)))","v":"12.06"},37,{"$f":"IF(ISERROR(VLOOKUP($B41,RaceDraw!$C$10:$P$440,COLUMN()-1,FALSE)),\"\",IF(ISBLANK(VLOOKUP($B41,RaceDraw!$C$10:$P$440,COLUMN()-1,FALSE)),\"\",VLOOKUP($B41,RaceDraw!$C$10:$P$440,COLUMN()-1,FALSE)))","v":"Senior A Women 10"},{"$f":"IF(ISERROR(VLOOKUP($B41,RaceDraw!$C$10:$P$440,COLUMN()-1,FALSE)),\"\",IF(ISBLANK(VLOOKUP($B41,RaceDraw!$C$10:$P$440,COLUMN()-1,FALSE)),\"\",VLOOKUP($B41,RaceDraw!$C$10:$P$440,COLUMN()-1,FALSE)))","v":200},{"$f":"IF(ISERROR(VLOOKUP($B41,RaceDraw!$C$10:$P$440,COLUMN()-1,FALSE)),\"\",IF(ISBLANK(VLOOKUP($B41,RaceDraw!$C$10:$P$440,COLUMN()-1,FALSE)),F41,VLOOKUP($B41,RaceDraw!$C$10:$P$440,COLUMN()-1,FALSE)))","v":1},{"$f":"IF(ISERROR(VLOOKUP($B41,RaceDraw!$C$10:$P$440,COLUMN()-1,FALSE)),\"\",IF(ISBLANK(VLOOKUP($B41,RaceDraw!$C$10:$P$440,COLUMN()-1,FALSE)),\"\",VLOOKUP($B41,RaceDraw!$C$10:$P$440,COLUMN()-1,FALSE)))","v":2},{"$f":"IF(ISERROR(VLOOKUP($B41,RaceDraw!$C$10:$P$440,COLUMN()-1,FALSE)),\" \",IF(ISBLANK(VLOOKUP($B41,RaceDraw!$C$10:$P$440,COLUMN()-1,FALSE)),\" \",VLOOKUP($B41,RaceDraw!$C$10:$P$440,COLUMN()-1,FALSE)))","v":"Pink Dragons"},{"$f":"IF(ISERROR(VLOOKUP($B41,RaceDraw!$C$10:$P$440,COLUMN()-1,FALSE)),\" \",IF(ISBLANK(VLOOKUP($B41,RaceDraw!$C$10:$P$440,COLUMN()-1,FALSE)),\" \",VLOOKUP($B41,RaceDraw!$C$10:$P$440,COLUMN()-1,FALSE)))","v":"Kombo Dragons Black"},{"$f":"IF(ISERROR(VLOOKUP($B41,RaceDraw!$C$10:$P$440,COLUMN()-1,FALSE)),\" \",IF(ISBLANK(VLOOKUP($B41,RaceDraw!$C$10:$P$440,COLUMN()-1,FALSE)),\" \",VLOOKUP($B41,RaceDraw!$C$10:$P$440,COLUMN()-1,FALSE)))","v":"Deepwater Dragons"},{"$f":"IF(ISERROR(VLOOKUP($B41,RaceDraw!$C$10:$P$440,COLUMN()-1,FALSE)),\" \",IF(ISBLANK(VLOOKUP($B41,RaceDraw!$C$10:$P$440,COLUMN()-1,FALSE)),\" \",VLOOKUP($B41,RaceDraw!$C$10:$P$440,COLUMN()-1,FALSE)))","v":"Goolwa River Dragons"},{"$f":"IF(ISERROR(VLOOKUP($B41,RaceDraw!$C$10:$P$440,COLUMN()-1,FALSE)),\" \",IF(ISBLANK(VLOOKUP($B41,RaceDraw!$C$10:$P$440,COLUMN()-1,FALSE)),\" \",VLOOKUP($B41,RaceDraw!$C$10:$P$440,COLUMN()-1,FALSE)))","v":"Diamond Phoenix"},{"$f":"IF(ISERROR(VLOOKUP($B41,RaceDraw!$C$10:$P$440,COLUMN()-1,FALSE)),\" \",IF(ISBLANK(VLOOKUP($B41,RaceDraw!$C$10:$P$440,COLUMN()-1,FALSE)),\" \",VLOOKUP($B41,RaceDraw!$C$10:$P$440,COLUMN()-1,FALSE)))","v":"Southern Warriors"},{"$f":"IF(ISERROR(VLOOKUP($B41,RaceDraw!$C$10:$P$440,COLUMN()-1,FALSE)),\" \",IF(ISBLANK(VLOOKUP($B41,RaceDraw!$C$10:$P$440,COLUMN()-1,FALSE)),\" \",VLOOKUP($B41,RaceDraw!$C$10:$P$440,COLUMN()-1,FALSE)))","v":" "},{"$f":"IF(ISERROR(VLOOKUP($B41,RaceDraw!$C$10:$P$440,COLUMN()-1,FALSE)),\" \",IF(ISBLANK(VLOOKUP($B41,RaceDraw!$C$10:$P$440,COLUMN()-1,FALSE)),\" \",VLOOKUP($B41,RaceDraw!$C$10:$P$440,COLUMN()-1,FALSE)))","v":" "},{"$f":"IF(ISERROR(VLOOKUP($B41,RaceDraw!$C$10:$P$440,COLUMN()-1,FALSE)),\" \",IF(ISBLANK(VLOOKUP($B41,RaceDraw!$C$10:$P$440,COLUMN()-1,FALSE)),\" \",VLOOKUP($B41,RaceDraw!$C$10:$P$440,COLUMN()-1,FALSE)))","v":" "},"Fri"]
[{"$f":"IF(ISERROR(INDEX(RaceDraw!$B$10:$B$440,MATCH(B42,RaceDraw!$C$10:$C$440,0))),\"\",INDEX(RaceDraw!$B$10:$B$440,MATCH(B42,RaceDraw!$C$10:$C$440,0)))","v":"12.12"},38,{"$f":"IF(ISERROR(VLOOKUP($B42,RaceDraw!$C$10:$P$440,COLUMN()-1,FALSE)),\"\",IF(ISBLANK(VLOOKUP($B42,RaceDraw!$C$10:$P$440,COLUMN()-1,FALSE)),\"\",VLOOKUP($B42,RaceDraw!$C$10:$P$440,COLUMN()-1,FALSE)))","v":"Senior A Women 10"},{"$f":"IF(ISERROR(VLOOKUP($B42,RaceDraw!$C$10:$P$440,COLUMN()-1,FALSE)),\"\",IF(ISBLANK(VLOOKUP($B42,RaceDraw!$C$10:$P$440,COLUMN()-1,FALSE)),\"\",VLOOKUP($B42,RaceDraw!$C$10:$P$440,COLUMN()-1,FALSE)))","v":200},{"$f":"IF(ISERROR(VLOOKUP($B42,RaceDraw!$C$10:$P$440,COLUMN()-1,FALSE)),\"\",IF(ISBLANK(VLOOKUP($B42,RaceDraw!$C$10:$P$440,COLUMN()-1,FALSE)),F42,VLOOKUP($B42,RaceDraw!$C$10:$P$440,COLUMN()-1,FALSE)))","v":1},{"$f":"IF(ISERROR(VLOOKUP($B42,RaceDraw!$C$10:$P$440,COLUMN()-1,FALSE)),\"\",IF(ISBLANK(VLOOKUP($B42,RaceDraw!$C$10:$P$440,COLUMN()-1,FALSE)),\"\",VLOOKUP($B42,RaceDraw!$C$10:$P$440,COLUMN()-1,FALSE)))","v":3},{"$f":"IF(ISERROR(VLOOKUP($B42,RaceDraw!$C$10:$P$440,COLUMN()-1,FALSE)),\" \",IF(ISBLANK(VLOOKUP($B42,RaceDraw!$C$10:$P$440,COLUMN()-1,FALSE)),\" \",VLOOKUP($B42,RaceDraw!$C$10:$P$440,COLUMN()-1,FALSE)))","v":"Rainbow Dragons"},{"$f":"IF(ISERROR(VLOOKUP($B42,RaceDraw!$C$10:$P$440,COLUMN()-1,FALSE)),\" \",IF(ISBLANK(VLOOKUP($B42,RaceDraw!$C$10:$P$440,COLUMN()-1,FALSE)),\" \",VLOOKUP($B42,RaceDraw!$C$10:$P$440,COLUMN()-1,FALSE)))","v":"Dragons Abreast Adelaide"},{"$f":"IF(ISERROR(VLOOKUP($B42,RaceDraw!$C$10:$P$440,COLUMN()-1,FALSE)),\" \",IF(ISBLANK(VLOOKUP($B42,RaceDraw!$C$10:$P$440,COLUMN()-1,FALSE)),\" \",VLOOKUP($B42,RaceDraw!$C$10:$P$440,COLUMN()-1,FALSE)))","v":"Newcastle Dragon Hunters"},{"$f":"IF(ISERROR(VLOOKUP($B42,RaceDraw!$C$10:$P$440,COLUMN()-1,FALSE)),\" \",IF(ISBLANK(VLOOKUP($B42,RaceDraw!$C$10:$P$440,COLUMN()-1,FALSE)),\" \",VLOOKUP($B42,RaceDraw!$C$10:$P$440,COLUMN()-1,FALSE)))","v":"SADA Sonix"},{"$f":"IF(ISERROR(VLOOKUP($B42,RaceDraw!$C$10:$P$440,COLUMN()-1,FALSE)),\" \",IF(ISBLANK(VLOOKUP($B42,RaceDraw!$C$10:$P$440,COLUMN()-1,FALSE)),\" \",VLOOKUP($B42,RaceDraw!$C$10:$P$440,COLUMN()-1,FALSE)))","v":"Peninsula Dragonflys"},{"$f":"IF(ISERROR(VLOOKUP($B42,RaceDraw!$C$10:$P$440,COLUMN()-1,FALSE)),\" \",IF(ISBLANK(VLOOKUP($B42,RaceDraw!$C$10:$P$440,COLUMN()-1,FALSE)),\" \",VLOOKUP($B42,RaceDraw!$C$10:$P$440,COLUMN()-1,FALSE)))","v":"Powerblades"},{"$f":"IF(ISERROR(VLOOKUP($B42,RaceDraw!$C$10:$P$440,COLUMN()-1,FALSE)),\" \",IF(ISBLANK(VLOOKUP($B42,RaceDraw!$C$10:$P$440,COLUMN()-1,FALSE)),\" \",VLOOKUP($B42,RaceDraw!$C$10:$P$440,COLUMN()-1,FALSE)))","v":"Golden Dragons"},{"$f":"IF(ISERROR(VLOOKUP($B42,RaceDraw!$C$10:$P$440,COLUMN()-1,FALSE)),\" \",IF(ISBLANK(VLOOKUP($B42,RaceDraw!$C$10:$P$440,COLUMN()-1,FALSE)),\" \",VLOOKUP($B42,RaceDraw!$C$10:$P$440,COLUMN()-1,FALSE)))","v":" "},{"$f":"IF(ISERROR(VLOOKUP($B42,RaceDraw!$C$10:$P$440,COLUMN()-1,FALSE)),\" \",IF(ISBLANK(VLOOKUP($B42,RaceDraw!$C$10:$P$440,COLUMN()-1,FALSE)),\" \",VLOOKUP($B42,RaceDraw!$C$10:$P$440,COLUMN()-1,FALSE)))","v":" "},"Fri"]
[{"$f":"IF(ISERROR(INDEX(RaceDraw!$B$10:$B$440,MATCH(B43,RaceDraw!$C$10:$C$440,0))),\"\",INDEX(RaceDraw!$B$10:$B$440,MATCH(B43,RaceDraw!$C$10:$C$440,0)))","v":"12.18"},39,{"$f":"IF(ISERROR(VLOOKUP($B43,RaceDraw!$C$10:$P$440,COLUMN()-1,FALSE)),\"\",IF(ISBLANK(VLOOKUP($B43,RaceDraw!$C$10:$P$440,COLUMN()-1,FALSE)),\"\",VLOOKUP($B43,RaceDraw!$C$10:$P$440,COLUMN()-1,FALSE)))","v":"Senior A Open 10"},{"$f":"IF(ISERROR(VLOOKUP($B43,RaceDraw!$C$10:$P$440,COLUMN()-1,FALSE)),\"\",IF(ISBLANK(VLOOKUP($B43,RaceDraw!$C$10:$P$440,COLUMN()-1,FALSE)),\"\",VLOOKUP($B43,RaceDraw!$C$10:$P$440,COLUMN()-1,FALSE)))","v":200},{"$f":"IF(ISERROR(VLOOKUP($B43,RaceDraw!$C$10:$P$440,COLUMN()-1,FALSE)),\"\",IF(ISBLANK(VLOOKUP($B43,RaceDraw!$C$10:$P$440,COLUMN()-1,FALSE)),F43,VLOOKUP($B43,RaceDraw!$C$10:$P$440,COLUMN()-1,FALSE)))","v":1},{"$f":"IF(ISERROR(VLOOKUP($B43,RaceDraw!$C$10:$P$440,COLUMN()-1,FALSE)),\"\",IF(ISBLANK(VLOOKUP($B43,RaceDraw!$C$10:$P$440,COLUMN()-1,FALSE)),\"\",VLOOKUP($B43,RaceDraw!$C$10:$P$440,COLUMN()-1,FALSE)))","v":1},{"$f":"IF(ISERROR(VLOOKUP($B43,RaceDraw!$C$10:$P$440,COLUMN()-1,FALSE)),\" \",IF(ISBLANK(VLOOKUP($B43,RaceDraw!$C$10:$P$440,COLUMN()-1,FALSE)),\" \",VLOOKUP($B43,RaceDraw!$C$10:$P$440,COLUMN()-1,FALSE)))","v":"Hunter River Dragons"},{"$f":"IF(ISERROR(VLOOKUP($B43,RaceDraw!$C$10:$P$440,COLUMN()-1,FALSE)),\" \",IF(ISBLANK(VLOOKUP($B43,RaceDraw!$C$10:$P$440,COLUMN()-1,FALSE)),\" \",VLOOKUP($B43,RaceDraw!$C$10:$P$440,COLUMN()-1,FALSE)))","v":"Pink Dragons"},{"$f":"IF(ISERROR(VLOOKUP($B43,RaceDraw!$C$10:$P$440,COLUMN()-1,FALSE)),\" \",IF(ISBLANK(VLOOKUP($B43,RaceDraw!$C$10:$P$440,COLUMN()-1,FALSE)),\" \",VLOOKUP($B43,RaceDraw!$C$10:$P$440,COLUMN()-1,FALSE)))","v":"Broadwater Dragons"},{"$f":"IF(ISERROR(VLOOKUP($B43,RaceDraw!$C$10:$P$440,COLUMN()-1,FALSE)),\" \",IF(ISBLANK(VLOOKUP($B43,RaceDraw!$C$10:$P$440,COLUMN()-1,FALSE)),\" \",VLOOKUP($B43,RaceDraw!$C$10:$P$440,COLUMN()-1,FALSE)))","v":"Kombo Dragons Purple"},{"$f":"IF(ISERROR(VLOOKUP($B43,RaceDraw!$C$10:$P$440,COLUMN()-1,FALSE)),\" \",IF(ISBLANK(VLOOKUP($B43,RaceDraw!$C$10:$P$440,COLUMN()-1,FALSE)),\" \",VLOOKUP($B43,RaceDraw!$C$10:$P$440,COLUMN()-1,FALSE)))","v":"Black Sea Dragons"},{"$f":"IF(ISERROR(VLOOKUP($B43,RaceDraw!$C$10:$P$440,COLUMN()-1,FALSE)),\" \",IF(ISBLANK(VLOOKUP($B43,RaceDraw!$C$10:$P$440,COLUMN()-1,FALSE)),\" \",VLOOKUP($B43,RaceDraw!$C$10:$P$440,COLUMN()-1,FALSE)))","v":" "},{"$f":"IF(ISERROR(VLOOKUP($B43,RaceDraw!$C$10:$P$440,COLUMN()-1,FALSE)),\" \",IF(ISBLANK(VLOOKUP($B43,RaceDraw!$C$10:$P$440,COLUMN()-1,FALSE)),\" \",VLOOKUP($B43,RaceDraw!$C$10:$P$440,COLUMN()-1,FALSE)))","v":" "},{"$f":"IF(ISERROR(VLOOKUP($B43,RaceDraw!$C$10:$P$440,COLUMN()-1,FALSE)),\" \",IF(ISBLANK(VLOOKUP($B43,RaceDraw!$C$10:$P$440,COLUMN()-1,FALSE)),\" \",VLOOKUP($B43,RaceDraw!$C$10:$P$440,COLUMN()-1,FALSE)))","v":" "},{"$f":"IF(ISERROR(VLOOKUP($B43,RaceDraw!$C$10:$P$440,COLUMN()-1,FALSE)),\" \",IF(ISBLANK(VLOOKUP($B43,RaceDraw!$C$10:$P$440,COLUMN()-1,FALSE)),\" \",VLOOKUP($B43,RaceDraw!$C$10:$P$440,COLUMN()-1,FALSE)))","v":" "},"Fri"]
[{"$f":"IF(ISERROR(INDEX(RaceDraw!$B$10:$B$440,MATCH(B44,RaceDraw!$C$10:$C$440,0))),\"\",INDEX(RaceDraw!$B$10:$B$440,MATCH(B44,RaceDraw!$C$10:$C$440,0)))","v":"12.24"},40,{"$f":"IF(ISERROR(VLOOKUP($B44,RaceDraw!$C$10:$P$440,COLUMN()-1,FALSE)),\"\",IF(ISBLANK(VLOOKUP($B44,RaceDraw!$C$10:$P$440,COLUMN()-1,FALSE)),\"\",VLOOKUP($B44,RaceDraw!$C$10:$P$440,COLUMN()-1,FALSE)))","v":"Senior A Open 10"},{"$f":"IF(ISERROR(VLOOKUP($B44,RaceDraw!$C$10:$P$440,COLUMN()-1,FALSE)),\"\",IF(ISBLANK(VLOOKUP($B44,RaceDraw!$C$10:$P$440,COLUMN()-1,FALSE)),\"\",VLOOKUP($B44,RaceDraw!$C$10:$P$440,COLUMN()-1,FALSE)))","v":200},{"$f":"IF(ISERROR(VLOOKUP($B44,RaceDraw!$C$10:$P$440,COLUMN()-1,FALSE)),\"\",IF(ISBLANK(VLOOKUP($B44,RaceDraw!$C$10:$P$440,COLUMN()-1,FALSE)),F44,VLOOKUP($B44,RaceDraw!$C$10:$P$440,COLUMN()-1,FALSE)))","v":1},{"$f":"IF(ISERROR(VLOOKUP($B44,RaceDraw!$C$10:$P$440,COLUMN()-1,FALSE)),\"\",IF(ISBLANK(VLOOKUP($B44,RaceDraw!$C$10:$P$440,COLUMN()-1,FALSE)),\"\",VLOOKUP($B44,RaceDraw!$C$10:$P$440,COLUMN()-1,FALSE)))","v":2},{"$f":"IF(ISERROR(VLOOKUP($B44,RaceDraw!$C$10:$P$440,COLUMN()-1,FALSE)),\" \",IF(ISBLANK(VLOOKUP($B44,RaceDraw!$C$10:$P$440,COLUMN()-1,FALSE)),\" \",VLOOKUP($B44,RaceDraw!$C$10:$P$440,COLUMN()-1,FALSE)))","v":"Kombo Dragons Black"},{"$f":"IF(ISERROR(VLOOKUP($B44,RaceDraw!$C$10:$P$440,COLUMN()-1,FALSE)),\" \",IF(ISBLANK(VLOOKUP($B44,RaceDraw!$C$10:$P$440,COLUMN()-1,FALSE)),\" \",VLOOKUP($B44,RaceDraw!$C$10:$P$440,COLUMN()-1,FALSE)))","v":"Southern Warriors"},{"$f":"IF(ISERROR(VLOOKUP($B44,RaceDraw!$C$10:$P$440,COLUMN()-1,FALSE)),\" \",IF(ISBLANK(VLOOKUP($B44,RaceDraw!$C$10:$P$440,COLUMN()-1,FALSE)),\" \",VLOOKUP($B44,RaceDraw!$C$10:$P$440,COLUMN()-1,FALSE)))","v":"Gippsland United"},{"$f":"IF(ISERROR(VLOOKUP($B44,RaceDraw!$C$10:$P$440,COLUMN()-1,FALSE)),\" \",IF(ISBLANK(VLOOKUP($B44,RaceDraw!$C$10:$P$440,COLUMN()-1,FALSE)),\" \",VLOOKUP($B44,RaceDraw!$C$10:$P$440,COLUMN()-1,FALSE)))","v":"Deepwater Dragons"},{"$f":"IF(ISERROR(VLOOKUP($B44,RaceDraw!$C$10:$P$440,COLUMN()-1,FALSE)),\" \",IF(ISBLANK(VLOOKUP($B44,RaceDraw!$C$10:$P$440,COLUMN()-1,FALSE)),\" \",VLOOKUP($B44,RaceDraw!$C$10:$P$440,COLUMN()-1,FALSE)))","v":"Dragonfire"},{"$f":"IF(ISERROR(VLOOKUP($B44,RaceDraw!$C$10:$P$440,COLUMN()-1,FALSE)),\" \",IF(ISBLANK(VLOOKUP($B44,RaceDraw!$C$10:$P$440,COLUMN()-1,FALSE)),\" \",VLOOKUP($B44,RaceDraw!$C$10:$P$440,COLUMN()-1,FALSE)))","v":" "},{"$f":"IF(ISERROR(VLOOKUP($B44,RaceDraw!$C$10:$P$440,COLUMN()-1,FALSE)),\" \",IF(ISBLANK(VLOOKUP($B44,RaceDraw!$C$10:$P$440,COLUMN()-1,FALSE)),\" \",VLOOKUP($B44,RaceDraw!$C$10:$P$440,COLUMN()-1,FALSE)))","v":" "},{"$f":"IF(ISERROR(VLOOKUP($B44,RaceDraw!$C$10:$P$440,COLUMN()-1,FALSE)),\" \",IF(ISBLANK(VLOOKUP($B44,RaceDraw!$C$10:$P$440,COLUMN()-1,FALSE)),\" \",VLOOKUP($B44,RaceDraw!$C$10:$P$440,COLUMN()-1,FALSE)))","v":" "},{"$f":"IF(ISERROR(VLOOKUP($B44,RaceDraw!$C$10:$P$440,COLUMN()-1,FALSE)),\" \",IF(ISBLANK(VLOOKUP($B44,RaceDraw!$C$10:$P$440,COLUMN()-1,FALSE)),\" \",VLOOKUP($B44,RaceDraw!$C$10:$P$440,COLUMN()-1,FALSE)))","v":" "},"Fri"]
[{"$f":"IF(ISERROR(INDEX(RaceDraw!$B$10:$B$440,MATCH(B45,RaceDraw!$C$10:$C$440,0))),\"\",INDEX(RaceDraw!$B$10:$B$440,MATCH(B45,RaceDraw!$C$10:$C$440,0)))","v":"12.30"},41,{"$f":"IF(ISERROR(VLOOKUP($B45,RaceDraw!$C$10:$P$440,COLUMN()-1,FALSE)),\"\",IF(ISBLANK(VLOOKUP($B45,RaceDraw!$C$10:$P$440,COLUMN()-1,FALSE)),\"\",VLOOKUP($B45,RaceDraw!$C$10:$P$440,COLUMN()-1,FALSE)))","v":"Senior A Open 10"},{"$f":"IF(ISERROR(VLOOKUP($B45,RaceDraw!$C$10:$P$440,COLUMN()-1,FALSE)),\"\",IF(ISBLANK(VLOOKUP($B45,RaceDraw!$C$10:$P$440,COLUMN()-1,FALSE)),\"\",VLOOKUP($B45,RaceDraw!$C$10:$P$440,COLUMN()-1,FALSE)))","v":200},{"$f":"IF(ISERROR(VLOOKUP($B45,RaceDraw!$C$10:$P$440,COLUMN()-1,FALSE)),\"\",IF(ISBLANK(VLOOKUP($B45,RaceDraw!$C$10:$P$440,COLUMN()-1,FALSE)),F45,VLOOKUP($B45,RaceDraw!$C$10:$P$440,COLUMN()-1,FALSE)))","v":1},{"$f":"IF(ISERROR(VLOOKUP($B45,RaceDraw!$C$10:$P$440,COLUMN()-1,FALSE)),\"\",IF(ISBLANK(VLOOKUP($B45,RaceDraw!$C$10:$P$440,COLUMN()-1,FALSE)),\"\",VLOOKUP($B45,RaceDraw!$C$10:$P$440,COLUMN()-1,FALSE)))","v":3},{"$f":"IF(ISERROR(VLOOKUP($B45,RaceDraw!$C$10:$P$440,COLUMN()-1,FALSE)),\" \",IF(ISBLANK(VLOOKUP($B45,RaceDraw!$C$10:$P$440,COLUMN()-1,FALSE)),\" \",VLOOKUP($B45,RaceDraw!$C$10:$P$440,COLUMN()-1,FALSE)))","v":"Goolwa River Dragons"},{"$f":"IF(ISERROR(VLOOKUP($B45,RaceDraw!$C$10:$P$440,COLUMN()-1,FALSE)),\" \",IF(ISBLANK(VLOOKUP($B45,RaceDraw!$C$10:$P$440,COLUMN()-1,FALSE)),\" \",VLOOKUP($B45,RaceDraw!$C$10:$P$440,COLUMN()-1,FALSE)))","v":"Kombo Dragons Green"},{"$f":"IF(ISERROR(VLOOKUP($B45,RaceDraw!$C$10:$P$440,COLUMN()-1,FALSE)),\" \",IF(ISBLANK(VLOOKUP($B45,RaceDraw!$C$10:$P$440,COLUMN()-1,FALSE)),\" \",VLOOKUP($B45,RaceDraw!$C$10:$P$440,COLUMN()-1,FALSE)))","v":"Diamond Phoenix"},{"$f":"IF(ISERROR(VLOOKUP($B45,RaceDraw!$C$10:$P$440,COLUMN()-1,FALSE)),\" \",IF(ISBLANK(VLOOKUP($B45,RaceDraw!$C$10:$P$440,COLUMN()-1,FALSE)),\" \",VLOOKUP($B45,RaceDraw!$C$10:$P$440,COLUMN()-1,FALSE)))","v":"Mildura"},{"$f":"IF(ISERROR(VLOOKUP($B45,RaceDraw!$C$10:$P$440,COLUMN()-1,FALSE)),\" \",IF(ISBLANK(VLOOKUP($B45,RaceDraw!$C$10:$P$440,COLUMN()-1,FALSE)),\" \",VLOOKUP($B45,RaceDraw!$C$10:$P$440,COLUMN()-1,FALSE)))","v":"FNC"},{"$f":"IF(ISERROR(VLOOKUP($B45,RaceDraw!$C$10:$P$440,COLUMN()-1,FALSE)),\" \",IF(ISBLANK(VLOOKUP($B45,RaceDraw!$C$10:$P$440,COLUMN()-1,FALSE)),\" \",VLOOKUP($B45,RaceDraw!$C$10:$P$440,COLUMN()-1,FALSE)))","v":" "},{"$f":"IF(ISERROR(VLOOKUP($B45,RaceDraw!$C$10:$P$440,COLUMN()-1,FALSE)),\" \",IF(ISBLANK(VLOOKUP($B45,RaceDraw!$C$10:$P$440,COLUMN()-1,FALSE)),\" \",VLOOKUP($B45,RaceDraw!$C$10:$P$440,COLUMN()-1,FALSE)))","v":" "},{"$f":"IF(ISERROR(VLOOKUP($B45,RaceDraw!$C$10:$P$440,COLUMN()-1,FALSE)),\" \",IF(ISBLANK(VLOOKUP($B45,RaceDraw!$C$10:$P$440,COLUMN()-1,FALSE)),\" \",VLOOKUP($B45,RaceDraw!$C$10:$P$440,COLUMN()-1,FALSE)))","v":" "},{"$f":"IF(ISERROR(VLOOKUP($B45,RaceDraw!$C$10:$P$440,COLUMN()-1,FALSE)),\" \",IF(ISBLANK(VLOOKUP($B45,RaceDraw!$C$10:$P$440,COLUMN()-1,FALSE)),\" \",VLOOKUP($B45,RaceDraw!$C$10:$P$440,COLUMN()-1,FALSE)))","v":" "},"Fri"]
[{"$f":"IF(ISERROR(INDEX(RaceDraw!$B$10:$B$440,MATCH(B46,RaceDraw!$C$10:$C$440,0))),\"\",INDEX(RaceDraw!$B$10:$B$440,MATCH(B46,RaceDraw!$C$10:$C$440,0)))","v":"12.36"},42,{"$f":"IF(ISERROR(VLOOKUP($B46,RaceDraw!$C$10:$P$440,COLUMN()-1,FALSE)),\"\",IF(ISBLANK(VLOOKUP($B46,RaceDraw!$C$10:$P$440,COLUMN()-1,FALSE)),\"\",VLOOKUP($B46,RaceDraw!$C$10:$P$440,COLUMN()-1,FALSE)))","v":"Senior A Women 20"},{"$f":"IF(ISERROR(VLOOKUP($B46,RaceDraw!$C$10:$P$440,COLUMN()-1,FALSE)),\"\",IF(ISBLANK(VLOOKUP($B46,RaceDraw!$C$10:$P$440,COLUMN()-1,FALSE)),\"\",VLOOKUP($B46,RaceDraw!$C$10:$P$440,COLUMN()-1,FALSE)))","v":200},{"$f":"IF(ISERROR(VLOOKUP($B46,RaceDraw!$C$10:$P$440,COLUMN()-1,FALSE)),\"\",IF(ISBLANK(VLOOKUP($B46,RaceDraw!$C$10:$P$440,COLUMN()-1,FALSE)),F46,VLOOKUP($B46,RaceDraw!$C$10:$P$440,COLUMN()-1,FALSE)))","v":1},{"$f":"IF(ISERROR(VLOOKUP($B46,RaceDraw!$C$10:$P$440,COLUMN()-1,FALSE)),\"\",IF(ISBLANK(VLOOKUP($B46,RaceDraw!$C$10:$P$440,COLUMN()-1,FALSE)),\"\",VLOOKUP($B46,RaceDraw!$C$10:$P$440,COLUMN()-1,FALSE)))","v":1},{"$f":"IF(ISERROR(VLOOKUP($B46,RaceDraw!$C$10:$P$440,COLUMN()-1,FALSE)),\" \",IF(ISBLANK(VLOOKUP($B46,RaceDraw!$C$10:$P$440,COLUMN()-1,FALSE)),\" \",VLOOKUP($B46,RaceDraw!$C$10:$P$440,COLUMN()-1,FALSE)))","v":"Motley Crew"},{"$f":"IF(ISERROR(VLOOKUP($B46,RaceDraw!$C$10:$P$440,COLUMN()-1,FALSE)),\" \",IF(ISBLANK(VLOOKUP($B46,RaceDraw!$C$10:$P$440,COLUMN()-1,FALSE)),\" \",VLOOKUP($B46,RaceDraw!$C$10:$P$440,COLUMN()-1,FALSE)))","v":"Deepwater Dragons"},{"$f":"IF(ISERROR(VLOOKUP($B46,RaceDraw!$C$10:$P$440,COLUMN()-1,FALSE)),\" \",IF(ISBLANK(VLOOKUP($B46,RaceDraw!$C$10:$P$440,COLUMN()-1,FALSE)),\" \",VLOOKUP($B46,RaceDraw!$C$10:$P$440,COLUMN()-1,FALSE)))","v":"Black Sea Dragons"},{"$f":"IF(ISERROR(VLOOKUP($B46,RaceDraw!$C$10:$P$440,COLUMN()-1,FALSE)),\" \",IF(ISBLANK(VLOOKUP($B46,RaceDraw!$C$10:$P$440,COLUMN()-1,FALSE)),\" \",VLOOKUP($B46,RaceDraw!$C$10:$P$440,COLUMN()-1,FALSE)))","v":"Kombo Dragons Black"},{"$f":"IF(ISERROR(VLOOKUP($B46,RaceDraw!$C$10:$P$440,COLUMN()-1,FALSE)),\" \",IF(ISBLANK(VLOOKUP($B46,RaceDraw!$C$10:$P$440,COLUMN()-1,FALSE)),\" \",VLOOKUP($B46,RaceDraw!$C$10:$P$440,COLUMN()-1,FALSE)))","v":"Hunter River Dragons"},{"$f":"IF(ISERROR(VLOOKUP($B46,RaceDraw!$C$10:$P$440,COLUMN()-1,FALSE)),\" \",IF(ISBLANK(VLOOKUP($B46,RaceDraw!$C$10:$P$440,COLUMN()-1,FALSE)),\" \",VLOOKUP($B46,RaceDraw!$C$10:$P$440,COLUMN()-1,FALSE)))","v":" "},{"$f":"IF(ISERROR(VLOOKUP($B46,RaceDraw!$C$10:$P$440,COLUMN()-1,FALSE)),\" \",IF(ISBLANK(VLOOKUP($B46,RaceDraw!$C$10:$P$440,COLUMN()-1,FALSE)),\" \",VLOOKUP($B46,RaceDraw!$C$10:$P$440,COLUMN()-1,FALSE)))","v":" "},{"$f":"IF(ISERROR(VLOOKUP($B46,RaceDraw!$C$10:$P$440,COLUMN()-1,FALSE)),\" \",IF(ISBLANK(VLOOKUP($B46,RaceDraw!$C$10:$P$440,COLUMN()-1,FALSE)),\" \",VLOOKUP($B46,RaceDraw!$C$10:$P$440,COLUMN()-1,FALSE)))","v":" "},{"$f":"IF(ISERROR(VLOOKUP($B46,RaceDraw!$C$10:$P$440,COLUMN()-1,FALSE)),\" \",IF(ISBLANK(VLOOKUP($B46,RaceDraw!$C$10:$P$440,COLUMN()-1,FALSE)),\" \",VLOOKUP($B46,RaceDraw!$C$10:$P$440,COLUMN()-1,FALSE)))","v":" "},"Fri"]
[{"$f":"IF(ISERROR(INDEX(RaceDraw!$B$10:$B$440,MATCH(B47,RaceDraw!$C$10:$C$440,0))),\"\",INDEX(RaceDraw!$B$10:$B$440,MATCH(B47,RaceDraw!$C$10:$C$440,0)))","v":"12.42"},43,{"$f":"IF(ISERROR(VLOOKUP($B47,RaceDraw!$C$10:$P$440,COLUMN()-1,FALSE)),\"\",IF(ISBLANK(VLOOKUP($B47,RaceDraw!$C$10:$P$440,COLUMN()-1,FALSE)),\"\",VLOOKUP($B47,RaceDraw!$C$10:$P$440,COLUMN()-1,FALSE)))","v":"Senior A Women 20"},{"$f":"IF(ISERROR(VLOOKUP($B47,RaceDraw!$C$10:$P$440,COLUMN()-1,FALSE)),\"\",IF(ISBLANK(VLOOKUP($B47,RaceDraw!$C$10:$P$440,COLUMN()-1,FALSE)),\"\",VLOOKUP($B47,RaceDraw!$C$10:$P$440,COLUMN()-1,FALSE)))","v":200},{"$f":"IF(ISERROR(VLOOKUP($B47,RaceDraw!$C$10:$P$440,COLUMN()-1,FALSE)),\"\",IF(ISBLANK(VLOOKUP($B47,RaceDraw!$C$10:$P$440,COLUMN()-1,FALSE)),F47,VLOOKUP($B47,RaceDraw!$C$10:$P$440,COLUMN()-1,FALSE)))","v":1},{"$f":"IF(ISERROR(VLOOKUP($B47,RaceDraw!$C$10:$P$440,COLUMN()-1,FALSE)),\"\",IF(ISBLANK(VLOOKUP($B47,RaceDraw!$C$10:$P$440,COLUMN()-1,FALSE)),\"\",VLOOKUP($B47,RaceDraw!$C$10:$P$440,COLUMN()-1,FALSE)))","v":2},{"$f":"IF(ISERROR(VLOOKUP($B47,RaceDraw!$C$10:$P$440,COLUMN()-1,FALSE)),\" \",IF(ISBLANK(VLOOKUP($B47,RaceDraw!$C$10:$P$440,COLUMN()-1,FALSE)),\" \",VLOOKUP($B47,RaceDraw!$C$10:$P$440,COLUMN()-1,FALSE)))","v":"Powerblades"},{"$f":"IF(ISERROR(VLOOKUP($B47,RaceDraw!$C$10:$P$440,COLUMN()-1,FALSE)),\" \",IF(ISBLANK(VLOOKUP($B47,RaceDraw!$C$10:$P$440,COLUMN()-1,FALSE)),\" \",VLOOKUP($B47,RaceDraw!$C$10:$P$440,COLUMN()-1,FALSE)))","v":"Peninsula Dragonflys"},{"$f":"IF(ISERROR(VLOOKUP($B47,RaceDraw!$C$10:$P$440,COLUMN()-1,FALSE)),\" \",IF(ISBLANK(VLOOKUP($B47,RaceDraw!$C$10:$P$440,COLUMN()-1,FALSE)),\" \",VLOOKUP($B47,RaceDraw!$C$10:$P$440,COLUMN()-1,FALSE)))","v":"Broadwater Dragons"},{"$f":"IF(ISERROR(VLOOKUP($B47,RaceDraw!$C$10:$P$440,COLUMN()-1,FALSE)),\" \",IF(ISBLANK(VLOOKUP($B47,RaceDraw!$C$10:$P$440,COLUMN()-1,FALSE)),\" \",VLOOKUP($B47,RaceDraw!$C$10:$P$440,COLUMN()-1,FALSE)))","v":"SADA Sonix"},{"$f":"IF(ISERROR(VLOOKUP($B47,RaceDraw!$C$10:$P$440,COLUMN()-1,FALSE)),\" \",IF(ISBLANK(VLOOKUP($B47,RaceDraw!$C$10:$P$440,COLUMN()-1,FALSE)),\" \",VLOOKUP($B47,RaceDraw!$C$10:$P$440,COLUMN()-1,FALSE)))","v":"Southern Warriors"},{"$f":"IF(ISERROR(VLOOKUP($B47,RaceDraw!$C$10:$P$440,COLUMN()-1,FALSE)),\" \",IF(ISBLANK(VLOOKUP($B47,RaceDraw!$C$10:$P$440,COLUMN()-1,FALSE)),\" \",VLOOKUP($B47,RaceDraw!$C$10:$P$440,COLUMN()-1,FALSE)))","v":" "},{"$f":"IF(ISERROR(VLOOKUP($B47,RaceDraw!$C$10:$P$440,COLUMN()-1,FALSE)),\" \",IF(ISBLANK(VLOOKUP($B47,RaceDraw!$C$10:$P$440,COLUMN()-1,FALSE)),\" \",VLOOKUP($B47,RaceDraw!$C$10:$P$440,COLUMN()-1,FALSE)))","v":" "},{"$f":"IF(ISERROR(VLOOKUP($B47,RaceDraw!$C$10:$P$440,COLUMN()-1,FALSE)),\" \",IF(ISBLANK(VLOOKUP($B47,RaceDraw!$C$10:$P$440,COLUMN()-1,FALSE)),\" \",VLOOKUP($B47,RaceDraw!$C$10:$P$440,COLUMN()-1,FALSE)))","v":" "},{"$f":"IF(ISERROR(VLOOKUP($B47,RaceDraw!$C$10:$P$440,COLUMN()-1,FALSE)),\" \",IF(ISBLANK(VLOOKUP($B47,RaceDraw!$C$10:$P$440,COLUMN()-1,FALSE)),\" \",VLOOKUP($B47,RaceDraw!$C$10:$P$440,COLUMN()-1,FALSE)))","v":" "},"Fri"]
[{"$f":"IF(ISERROR(INDEX(RaceDraw!$B$10:$B$440,MATCH(B48,RaceDraw!$C$10:$C$440,0))),\"\",INDEX(RaceDraw!$B$10:$B$440,MATCH(B48,RaceDraw!$C$10:$C$440,0)))","v":"12.48"},44,{"$f":"IF(ISERROR(VLOOKUP($B48,RaceDraw!$C$10:$P$440,COLUMN()-1,FALSE)),\"\",IF(ISBLANK(VLOOKUP($B48,RaceDraw!$C$10:$P$440,COLUMN()-1,FALSE)),\"\",VLOOKUP($B48,RaceDraw!$C$10:$P$440,COLUMN()-1,FALSE)))","v":"Senior A Women 20"},{"$f":"IF(ISERROR(VLOOKUP($B48,RaceDraw!$C$10:$P$440,COLUMN()-1,FALSE)),\"\",IF(ISBLANK(VLOOKUP($B48,RaceDraw!$C$10:$P$440,COLUMN()-1,FALSE)),\"\",VLOOKUP($B48,RaceDraw!$C$10:$P$440,COLUMN()-1,FALSE)))","v":200},{"$f":"IF(ISERROR(VLOOKUP($B48,RaceDraw!$C$10:$P$440,COLUMN()-1,FALSE)),\"\",IF(ISBLANK(VLOOKUP($B48,RaceDraw!$C$10:$P$440,COLUMN()-1,FALSE)),F48,VLOOKUP($B48,RaceDraw!$C$10:$P$440,COLUMN()-1,FALSE)))","v":1},{"$f":"IF(ISERROR(VLOOKUP($B48,RaceDraw!$C$10:$P$440,COLUMN()-1,FALSE)),\"\",IF(ISBLANK(VLOOKUP($B48,RaceDraw!$C$10:$P$440,COLUMN()-1,FALSE)),\"\",VLOOKUP($B48,RaceDraw!$C$10:$P$440,COLUMN()-1,FALSE)))","v":3},{"$f":"IF(ISERROR(VLOOKUP($B48,RaceDraw!$C$10:$P$440,COLUMN()-1,FALSE)),\" \",IF(ISBLANK(VLOOKUP($B48,RaceDraw!$C$10:$P$440,COLUMN()-1,FALSE)),\" \",VLOOKUP($B48,RaceDraw!$C$10:$P$440,COLUMN()-1,FALSE)))","v":"Newcastle Dragon Hunters"},{"$f":"IF(ISERROR(VLOOKUP($B48,RaceDraw!$C$10:$P$440,COLUMN()-1,FALSE)),\" \",IF(ISBLANK(VLOOKUP($B48,RaceDraw!$C$10:$P$440,COLUMN()-1,FALSE)),\" \",VLOOKUP($B48,RaceDraw!$C$10:$P$440,COLUMN()-1,FALSE)))","v":"Gippsland United"},{"$f":"IF(ISERROR(VLOOKUP($B48,RaceDraw!$C$10:$P$440,COLUMN()-1,FALSE)),\" \",IF(ISBLANK(VLOOKUP($B48,RaceDraw!$C$10:$P$440,COLUMN()-1,FALSE)),\" \",VLOOKUP($B48,RaceDraw!$C$10:$P$440,COLUMN()-1,FALSE)))","v":"Pink Dragons"},{"$f":"IF(ISERROR(VLOOKUP($B48,RaceDraw!$C$10:$P$440,COLUMN()-1,FALSE)),\" \",IF(ISBLANK(VLOOKUP($B48,RaceDraw!$C$10:$P$440,COLUMN()-1,FALSE)),\" \",VLOOKUP($B48,RaceDraw!$C$10:$P$440,COLUMN()-1,FALSE)))","v":"Dragons Abreast Adelaide"},{"$f":"IF(ISERROR(VLOOKUP($B48,RaceDraw!$C$10:$P$440,COLUMN()-1,FALSE)),\" \",IF(ISBLANK(VLOOKUP($B48,RaceDraw!$C$10:$P$440,COLUMN()-1,FALSE)),\" \",VLOOKUP($B48,RaceDraw!$C$10:$P$440,COLUMN()-1,FALSE)))","v":"Golden Dragons"},{"$f":"IF(ISERROR(VLOOKUP($B48,RaceDraw!$C$10:$P$440,COLUMN()-1,FALSE)),\" \",IF(ISBLANK(VLOOKUP($B48,RaceDraw!$C$10:$P$440,COLUMN()-1,FALSE)),\" \",VLOOKUP($B48,RaceDraw!$C$10:$P$440,COLUMN()-1,FALSE)))","v":" "},{"$f":"IF(ISERROR(VLOOKUP($B48,RaceDraw!$C$10:$P$440,COLUMN()-1,FALSE)),\" \",IF(ISBLANK(VLOOKUP($B48,RaceDraw!$C$10:$P$440,COLUMN()-1,FALSE)),\" \",VLOOKUP($B48,RaceDraw!$C$10:$P$440,COLUMN()-1,FALSE)))","v":" "},{"$f":"IF(ISERROR(VLOOKUP($B48,RaceDraw!$C$10:$P$440,COLUMN()-1,FALSE)),\" \",IF(ISBLANK(VLOOKUP($B48,RaceDraw!$C$10:$P$440,COLUMN()-1,FALSE)),\" \",VLOOKUP($B48,RaceDraw!$C$10:$P$440,COLUMN()-1,FALSE)))","v":" "},{"$f":"IF(ISERROR(VLOOKUP($B48,RaceDraw!$C$10:$P$440,COLUMN()-1,FALSE)),\" \",IF(ISBLANK(VLOOKUP($B48,RaceDraw!$C$10:$P$440,COLUMN()-1,FALSE)),\" \",VLOOKUP($B48,RaceDraw!$C$10:$P$440,COLUMN()-1,FALSE)))","v":" "},"Fri"]
[{"$f":"IF(ISERROR(INDEX(RaceDraw!$B$10:$B$440,MATCH(B49,RaceDraw!$C$10:$C$440,0))),\"\",INDEX(RaceDraw!$B$10:$B$440,MATCH(B49,RaceDraw!$C$10:$C$440,0)))","v":"12.54"},45,{"$f":"IF(ISERROR(VLOOKUP($B49,RaceDraw!$C$10:$P$440,COLUMN()-1,FALSE)),\"\",IF(ISBLANK(VLOOKUP($B49,RaceDraw!$C$10:$P$440,COLUMN()-1,FALSE)),\"\",VLOOKUP($B49,RaceDraw!$C$10:$P$440,COLUMN()-1,FALSE)))","v":"Senior A Open 20"},{"$f":"IF(ISERROR(VLOOKUP($B49,RaceDraw!$C$10:$P$440,COLUMN()-1,FALSE)),\"\",IF(ISBLANK(VLOOKUP($B49,RaceDraw!$C$10:$P$440,COLUMN()-1,FALSE)),\"\",VLOOKUP($B49,RaceDraw!$C$10:$P$440,COLUMN()-1,FALSE)))","v":200},{"$f":"IF(ISERROR(VLOOKUP($B49,RaceDraw!$C$10:$P$440,COLUMN()-1,FALSE)),\"\",IF(ISBLANK(VLOOKUP($B49,RaceDraw!$C$10:$P$440,COLUMN()-1,FALSE)),F49,VLOOKUP($B49,RaceDraw!$C$10:$P$440,COLUMN()-1,FALSE)))","v":1},{"$f":"IF(ISERROR(VLOOKUP($B49,RaceDraw!$C$10:$P$440,COLUMN()-1,FALSE)),\"\",IF(ISBLANK(VLOOKUP($B49,RaceDraw!$C$10:$P$440,COLUMN()-1,FALSE)),\"\",VLOOKUP($B49,RaceDraw!$C$10:$P$440,COLUMN()-1,FALSE)))","v":1},{"$f":"IF(ISERROR(VLOOKUP($B49,RaceDraw!$C$10:$P$440,COLUMN()-1,FALSE)),\" \",IF(ISBLANK(VLOOKUP($B49,RaceDraw!$C$10:$P$440,COLUMN()-1,FALSE)),\" \",VLOOKUP($B49,RaceDraw!$C$10:$P$440,COLUMN()-1,FALSE)))","v":"Deepwater Hunter"},{"$f":"IF(ISERROR(VLOOKUP($B49,RaceDraw!$C$10:$P$440,COLUMN()-1,FALSE)),\" \",IF(ISBLANK(VLOOKUP($B49,RaceDraw!$C$10:$P$440,COLUMN()-1,FALSE)),\" \",VLOOKUP($B49,RaceDraw!$C$10:$P$440,COLUMN()-1,FALSE)))","v":"Kombo Dragons Black"},{"$f":"IF(ISERROR(VLOOKUP($B49,RaceDraw!$C$10:$P$440,COLUMN()-1,FALSE)),\" \",IF(ISBLANK(VLOOKUP($B49,RaceDraw!$C$10:$P$440,COLUMN()-1,FALSE)),\" \",VLOOKUP($B49,RaceDraw!$C$10:$P$440,COLUMN()-1,FALSE)))","v":"Dragonfire"},{"$f":"IF(ISERROR(VLOOKUP($B49,RaceDraw!$C$10:$P$440,COLUMN()-1,FALSE)),\" \",IF(ISBLANK(VLOOKUP($B49,RaceDraw!$C$10:$P$440,COLUMN()-1,FALSE)),\" \",VLOOKUP($B49,RaceDraw!$C$10:$P$440,COLUMN()-1,FALSE)))","v":"Southern Warriors"},{"$f":"IF(ISERROR(VLOOKUP($B49,RaceDraw!$C$10:$P$440,COLUMN()-1,FALSE)),\" \",IF(ISBLANK(VLOOKUP($B49,RaceDraw!$C$10:$P$440,COLUMN()-1,FALSE)),\" \",VLOOKUP($B49,RaceDraw!$C$10:$P$440,COLUMN()-1,FALSE)))","v":"Motley Crew"},{"$f":"IF(ISERROR(VLOOKUP($B49,RaceDraw!$C$10:$P$440,COLUMN()-1,FALSE)),\" \",IF(ISBLANK(VLOOKUP($B49,RaceDraw!$C$10:$P$440,COLUMN()-1,FALSE)),\" \",VLOOKUP($B49,RaceDraw!$C$10:$P$440,COLUMN()-1,FALSE)))","v":" "},{"$f":"IF(ISERROR(VLOOKUP($B49,RaceDraw!$C$10:$P$440,COLUMN()-1,FALSE)),\" \",IF(ISBLANK(VLOOKUP($B49,RaceDraw!$C$10:$P$440,COLUMN()-1,FALSE)),\" \",VLOOKUP($B49,RaceDraw!$C$10:$P$440,COLUMN()-1,FALSE)))","v":" "},{"$f":"IF(ISERROR(VLOOKUP($B49,RaceDraw!$C$10:$P$440,COLUMN()-1,FALSE)),\" \",IF(ISBLANK(VLOOKUP($B49,RaceDraw!$C$10:$P$440,COLUMN()-1,FALSE)),\" \",VLOOKUP($B49,RaceDraw!$C$10:$P$440,COLUMN()-1,FALSE)))","v":" "},{"$f":"IF(ISERROR(VLOOKUP($B49,RaceDraw!$C$10:$P$440,COLUMN()-1,FALSE)),\" \",IF(ISBLANK(VLOOKUP($B49,RaceDraw!$C$10:$P$440,COLUMN()-1,FALSE)),\" \",VLOOKUP($B49,RaceDraw!$C$10:$P$440,COLUMN()-1,FALSE)))","v":" "},"Fri"]
[{"$f":"IF(ISERROR(INDEX(RaceDraw!$B$10:$B$440,MATCH(B50,RaceDraw!$C$10:$C$440,0))),\"\",INDEX(RaceDraw!$B$10:$B$440,MATCH(B50,RaceDraw!$C$10:$C$440,0)))","v":"13.00"},46,{"$f":"IF(ISERROR(VLOOKUP($B50,RaceDraw!$C$10:$P$440,COLUMN()-1,FALSE)),\"\",IF(ISBLANK(VLOOKUP($B50,RaceDraw!$C$10:$P$440,COLUMN()-1,FALSE)),\"\",VLOOKUP($B50,RaceDraw!$C$10:$P$440,COLUMN()-1,FALSE)))","v":"Senior A Open 20"},{"$f":"IF(ISERROR(VLOOKUP($B50,RaceDraw!$C$10:$P$440,COLUMN()-1,FALSE)),\"\",IF(ISBLANK(VLOOKUP($B50,RaceDraw!$C$10:$P$440,COLUMN()-1,FALSE)),\"\",VLOOKUP($B50,RaceDraw!$C$10:$P$440,COLUMN()-1,FALSE)))","v":200},{"$f":"IF(ISERROR(VLOOKUP($B50,RaceDraw!$C$10:$P$440,COLUMN()-1,FALSE)),\"\",IF(ISBLANK(VLOOKUP($B50,RaceDraw!$C$10:$P$440,COLUMN()-1,FALSE)),F50,VLOOKUP($B50,RaceDraw!$C$10:$P$440,COLUMN()-1,FALSE)))","v":1},{"$f":"IF(ISERROR(VLOOKUP($B50,RaceDraw!$C$10:$P$440,COLUMN()-1,FALSE)),\"\",IF(ISBLANK(VLOOKUP($B50,RaceDraw!$C$10:$P$440,COLUMN()-1,FALSE)),\"\",VLOOKUP($B50,RaceDraw!$C$10:$P$440,COLUMN()-1,FALSE)))","v":2},{"$f":"IF(ISERROR(VLOOKUP($B50,RaceDraw!$C$10:$P$440,COLUMN()-1,FALSE)),\" \",IF(ISBLANK(VLOOKUP($B50,RaceDraw!$C$10:$P$440,COLUMN()-1,FALSE)),\" \",VLOOKUP($B50,RaceDraw!$C$10:$P$440,COLUMN()-1,FALSE)))","v":"Peninsula Dragonflys"},{"$f":"IF(ISERROR(VLOOKUP($B50,RaceDraw!$C$10:$P$440,COLUMN()-1,FALSE)),\" \",IF(ISBLANK(VLOOKUP($B50,RaceDraw!$C$10:$P$440,COLUMN()-1,FALSE)),\" \",VLOOKUP($B50,RaceDraw!$C$10:$P$440,COLUMN()-1,FALSE)))","v":"Goolwa River Dragons"},{"$f":"IF(ISERROR(VLOOKUP($B50,RaceDraw!$C$10:$P$440,COLUMN()-1,FALSE)),\" \",IF(ISBLANK(VLOOKUP($B50,RaceDraw!$C$10:$P$440,COLUMN()-1,FALSE)),\" \",VLOOKUP($B50,RaceDraw!$C$10:$P$440,COLUMN()-1,FALSE)))","v":"FNC"},{"$f":"IF(ISERROR(VLOOKUP($B50,RaceDraw!$C$10:$P$440,COLUMN()-1,FALSE)),\" \",IF(ISBLANK(VLOOKUP($B50,RaceDraw!$C$10:$P$440,COLUMN()-1,FALSE)),\" \",VLOOKUP($B50,RaceDraw!$C$10:$P$440,COLUMN()-1,FALSE)))","v":"Gippsland United"},{"$f":"IF(ISERROR(VLOOKUP($B50,RaceDraw!$C$10:$P$440,COLUMN()-1,FALSE)),\" \",IF(ISBLANK(VLOOKUP($B50,RaceDraw!$C$10:$P$440,COLUMN()-1,FALSE)),\" \",VLOOKUP($B50,RaceDraw!$C$10:$P$440,COLUMN()-1,FALSE)))","v":"Kombo Dragons Purple"},{"$f":"IF(ISERROR(VLOOKUP($B50,RaceDraw!$C$10:$P$440,COLUMN()-1,FALSE)),\" \",IF(ISBLANK(VLOOKUP($B50,RaceDraw!$C$10:$P$440,COLUMN()-1,FALSE)),\" \",VLOOKUP($B50,RaceDraw!$C$10:$P$440,COLUMN()-1,FALSE)))","v":" "},{"$f":"IF(ISERROR(VLOOKUP($B50,RaceDraw!$C$10:$P$440,COLUMN()-1,FALSE)),\" \",IF(ISBLANK(VLOOKUP($B50,RaceDraw!$C$10:$P$440,COLUMN()-1,FALSE)),\" \",VLOOKUP($B50,RaceDraw!$C$10:$P$440,COLUMN()-1,FALSE)))","v":" "},{"$f":"IF(ISERROR(VLOOKUP($B50,RaceDraw!$C$10:$P$440,COLUMN()-1,FALSE)),\" \",IF(ISBLANK(VLOOKUP($B50,RaceDraw!$C$10:$P$440,COLUMN()-1,FALSE)),\" \",VLOOKUP($B50,RaceDraw!$C$10:$P$440,COLUMN()-1,FALSE)))","v":" "},{"$f":"IF(ISERROR(VLOOKUP($B50,RaceDraw!$C$10:$P$440,COLUMN()-1,FALSE)),\" \",IF(ISBLANK(VLOOKUP($B50,RaceDraw!$C$10:$P$440,COLUMN()-1,FALSE)),\" \",VLOOKUP($B50,RaceDraw!$C$10:$P$440,COLUMN()-1,FALSE)))","v":" "},"Fri"]
[{"$f":"IF(ISERROR(INDEX(RaceDraw!$B$10:$B$440,MATCH(B51,RaceDraw!$C$10:$C$440,0))),\"\",INDEX(RaceDraw!$B$10:$B$440,MATCH(B51,RaceDraw!$C$10:$C$440,0)))","v":"13.30"},47,{"$f":"IF(ISERROR(VLOOKUP($B51,RaceDraw!$C$10:$P$440,COLUMN()-1,FALSE)),\"\",IF(ISBLANK(VLOOKUP($B51,RaceDraw!$C$10:$P$440,COLUMN()-1,FALSE)),\"\",VLOOKUP($B51,RaceDraw!$C$10:$P$440,COLUMN()-1,FALSE)))","v":"Senior C Mixed 10"},{"$f":"IF(ISERROR(VLOOKUP($B51,RaceDraw!$C$10:$P$440,COLUMN()-1,FALSE)),\"\",IF(ISBLANK(VLOOKUP($B51,RaceDraw!$C$10:$P$440,COLUMN()-1,FALSE)),\"\",VLOOKUP($B51,RaceDraw!$C$10:$P$440,COLUMN()-1,FALSE)))","v":200},{"$f":"IF(ISERROR(VLOOKUP($B51,RaceDraw!$C$10:$P$440,COLUMN()-1,FALSE)),\"\",IF(ISBLANK(VLOOKUP($B51,RaceDraw!$C$10:$P$440,COLUMN()-1,FALSE)),F51,VLOOKUP($B51,RaceDraw!$C$10:$P$440,COLUMN()-1,FALSE)))","v":2},{"$f":"IF(ISERROR(VLOOKUP($B51,RaceDraw!$C$10:$P$440,COLUMN()-1,FALSE)),\"\",IF(ISBLANK(VLOOKUP($B51,RaceDraw!$C$10:$P$440,COLUMN()-1,FALSE)),\"\",VLOOKUP($B51,RaceDraw!$C$10:$P$440,COLUMN()-1,FALSE)))","v":1},{"$f":"IF(ISERROR(VLOOKUP($B51,RaceDraw!$C$10:$P$440,COLUMN()-1,FALSE)),\" \",IF(ISBLANK(VLOOKUP($B51,RaceDraw!$C$10:$P$440,COLUMN()-1,FALSE)),\" \",VLOOKUP($B51,RaceDraw!$C$10:$P$440,COLUMN()-1,FALSE)))","v":"SADA Sonix Yellow"},{"$f":"IF(ISERROR(VLOOKUP($B51,RaceDraw!$C$10:$P$440,COLUMN()-1,FALSE)),\" \",IF(ISBLANK(VLOOKUP($B51,RaceDraw!$C$10:$P$440,COLUMN()-1,FALSE)),\" \",VLOOKUP($B51,RaceDraw!$C$10:$P$440,COLUMN()-1,FALSE)))","v":"Motley Crew"},{"$f":"IF(ISERROR(VLOOKUP($B51,RaceDraw!$C$10:$P$440,COLUMN()-1,FALSE)),\" \",IF(ISBLANK(VLOOKUP($B51,RaceDraw!$C$10:$P$440,COLUMN()-1,FALSE)),\" \",VLOOKUP($B51,RaceDraw!$C$10:$P$440,COLUMN()-1,FALSE)))","v":"Rainbow Dragons Teal"},{"$f":"IF(ISERROR(VLOOKUP($B51,RaceDraw!$C$10:$P$440,COLUMN()-1,FALSE)),\" \",IF(ISBLANK(VLOOKUP($B51,RaceDraw!$C$10:$P$440,COLUMN()-1,FALSE)),\" \",VLOOKUP($B51,RaceDraw!$C$10:$P$440,COLUMN()-1,FALSE)))","v":"Deepwater Dragons"},{"$f":"IF(ISERROR(VLOOKUP($B51,RaceDraw!$C$10:$P$440,COLUMN()-1,FALSE)),\" \",IF(ISBLANK(VLOOKUP($B51,RaceDraw!$C$10:$P$440,COLUMN()-1,FALSE)),\" \",VLOOKUP($B51,RaceDraw!$C$10:$P$440,COLUMN()-1,FALSE)))","v":"Peninsula Dragonflys"},{"$f":"IF(ISERROR(VLOOKUP($B51,RaceDraw!$C$10:$P$440,COLUMN()-1,FALSE)),\" \",IF(ISBLANK(VLOOKUP($B51,RaceDraw!$C$10:$P$440,COLUMN()-1,FALSE)),\" \",VLOOKUP($B51,RaceDraw!$C$10:$P$440,COLUMN()-1,FALSE)))","v":"Dragon Masters Red"},{"$f":"IF(ISERROR(VLOOKUP($B51,RaceDraw!$C$10:$P$440,COLUMN()-1,FALSE)),\" \",IF(ISBLANK(VLOOKUP($B51,RaceDraw!$C$10:$P$440,COLUMN()-1,FALSE)),\" \",VLOOKUP($B51,RaceDraw!$C$10:$P$440,COLUMN()-1,FALSE)))","v":" "},{"$f":"IF(ISERROR(VLOOKUP($B51,RaceDraw!$C$10:$P$440,COLUMN()-1,FALSE)),\" \",IF(ISBLANK(VLOOKUP($B51,RaceDraw!$C$10:$P$440,COLUMN()-1,FALSE)),\" \",VLOOKUP($B51,RaceDraw!$C$10:$P$440,COLUMN()-1,FALSE)))","v":" "},{"$f":"IF(ISERROR(VLOOKUP($B51,RaceDraw!$C$10:$P$440,COLUMN()-1,FALSE)),\" \",IF(ISBLANK(VLOOKUP($B51,RaceDraw!$C$10:$P$440,COLUMN()-1,FALSE)),\" \",VLOOKUP($B51,RaceDraw!$C$10:$P$440,COLUMN()-1,FALSE)))","v":" "},"Fri"]
[{"$f":"IF(ISERROR(INDEX(RaceDraw!$B$10:$B$440,MATCH(B52,RaceDraw!$C$10:$C$440,0))),\"\",INDEX(RaceDraw!$B$10:$B$440,MATCH(B52,RaceDraw!$C$10:$C$440,0)))","v":"13.36"},48,{"$f":"IF(ISERROR(VLOOKUP($B52,RaceDraw!$C$10:$P$440,COLUMN()-1,FALSE)),\"\",IF(ISBLANK(VLOOKUP($B52,RaceDraw!$C$10:$P$440,COLUMN()-1,FALSE)),\"\",VLOOKUP($B52,RaceDraw!$C$10:$P$440,COLUMN()-1,FALSE)))","v":"Senior C Mixed 10"},{"$f":"IF(ISERROR(VLOOKUP($B52,RaceDraw!$C$10:$P$440,COLUMN()-1,FALSE)),\"\",IF(ISBLANK(VLOOKUP($B52,RaceDraw!$C$10:$P$440,COLUMN()-1,FALSE)),\"\",VLOOKUP($B52,RaceDraw!$C$10:$P$440,COLUMN()-1,FALSE)))","v":200},{"$f":"IF(ISERROR(VLOOKUP($B52,RaceDraw!$C$10:$P$440,COLUMN()-1,FALSE)),\"\",IF(ISBLANK(VLOOKUP($B52,RaceDraw!$C$10:$P$440,COLUMN()-1,FALSE)),F52,VLOOKUP($B52,RaceDraw!$C$10:$P$440,COLUMN()-1,FALSE)))","v":2},{"$f":"IF(ISERROR(VLOOKUP($B52,RaceDraw!$C$10:$P$440,COLUMN()-1,FALSE)),\"\",IF(ISBLANK(VLOOKUP($B52,RaceDraw!$C$10:$P$440,COLUMN()-1,FALSE)),\"\",VLOOKUP($B52,RaceDraw!$C$10:$P$440,COLUMN()-1,FALSE)))","v":2},{"$f":"IF(ISERROR(VLOOKUP($B52,RaceDraw!$C$10:$P$440,COLUMN()-1,FALSE)),\" \",IF(ISBLANK(VLOOKUP($B52,RaceDraw!$C$10:$P$440,COLUMN()-1,FALSE)),\" \",VLOOKUP($B52,RaceDraw!$C$10:$P$440,COLUMN()-1,FALSE)))","v":"Black Sea Dragons"},{"$f":"IF(ISERROR(VLOOKUP($B52,RaceDraw!$C$10:$P$440,COLUMN()-1,FALSE)),\" \",IF(ISBLANK(VLOOKUP($B52,RaceDraw!$C$10:$P$440,COLUMN()-1,FALSE)),\" \",VLOOKUP($B52,RaceDraw!$C$10:$P$440,COLUMN()-1,FALSE)))","v":"Newcastle Dragon Hunters Red"},{"$f":"IF(ISERROR(VLOOKUP($B52,RaceDraw!$C$10:$P$440,COLUMN()-1,FALSE)),\" \",IF(ISBLANK(VLOOKUP($B52,RaceDraw!$C$10:$P$440,COLUMN()-1,FALSE)),\" \",VLOOKUP($B52,RaceDraw!$C$10:$P$440,COLUMN()-1,FALSE)))","v":"Kombo Dragons Black"},{"$f":"IF(ISERROR(VLOOKUP($B52,RaceDraw!$C$10:$P$440,COLUMN()-1,FALSE)),\" \",IF(ISBLANK(VLOOKUP($B52,RaceDraw!$C$10:$P$440,COLUMN()-1,FALSE)),\" \",VLOOKUP($B52,RaceDraw!$C$10:$P$440,COLUMN()-1,FALSE)))","v":"Southern Warriors"},{"$f":"IF(ISERROR(VLOOKUP($B52,RaceDraw!$C$10:$P$440,COLUMN()-1,FALSE)),\" \",IF(ISBLANK(VLOOKUP($B52,RaceDraw!$C$10:$P$440,COLUMN()-1,FALSE)),\" \",VLOOKUP($B52,RaceDraw!$C$10:$P$440,COLUMN()-1,FALSE)))","v":"Mildura"},{"$f":"IF(ISERROR(VLOOKUP($B52,RaceDraw!$C$10:$P$440,COLUMN()-1,FALSE)),\" \",IF(ISBLANK(VLOOKUP($B52,RaceDraw!$C$10:$P$440,COLUMN()-1,FALSE)),\" \",VLOOKUP($B52,RaceDraw!$C$10:$P$440,COLUMN()-1,FALSE)))","v":"Gippsland United Orange"},{"$f":"IF(ISERROR(VLOOKUP($B52,RaceDraw!$C$10:$P$440,COLUMN()-1,FALSE)),\" \",IF(ISBLANK(VLOOKUP($B52,RaceDraw!$C$10:$P$440,COLUMN()-1,FALSE)),\" \",VLOOKUP($B52,RaceDraw!$C$10:$P$440,COLUMN()-1,FALSE)))","v":" "},{"$f":"IF(ISERROR(VLOOKUP($B52,RaceDraw!$C$10:$P$440,COLUMN()-1,FALSE)),\" \",IF(ISBLANK(VLOOKUP($B52,RaceDraw!$C$10:$P$440,COLUMN()-1,FALSE)),\" \",VLOOKUP($B52,RaceDraw!$C$10:$P$440,COLUMN()-1,FALSE)))","v":" "},{"$f":"IF(ISERROR(VLOOKUP($B52,RaceDraw!$C$10:$P$440,COLUMN()-1,FALSE)),\" \",IF(ISBLANK(VLOOKUP($B52,RaceDraw!$C$10:$P$440,COLUMN()-1,FALSE)),\" \",VLOOKUP($B52,RaceDraw!$C$10:$P$440,COLUMN()-1,FALSE)))","v":" "},"Fri"]
[{"$f":"IF(ISERROR(INDEX(RaceDraw!$B$10:$B$440,MATCH(B53,RaceDraw!$C$10:$C$440,0))),\"\",INDEX(RaceDraw!$B$10:$B$440,MATCH(B53,RaceDraw!$C$10:$C$440,0)))","v":"13.42"},{"$f":"B52+1","v":49},{"$f":"IF(ISERROR(VLOOKUP($B53,RaceDraw!$C$10:$P$440,COLUMN()-1,FALSE)),\"\",IF(ISBLANK(VLOOKUP($B53,RaceDraw!$C$10:$P$440,COLUMN()-1,FALSE)),\"\",VLOOKUP($B53,RaceDraw!$C$10:$P$440,COLUMN()-1,FALSE)))","v":"Senior C Mixed 10"},{"$f":"IF(ISERROR(VLOOKUP($B53,RaceDraw!$C$10:$P$440,COLUMN()-1,FALSE)),\"\",IF(ISBLANK(VLOOKUP($B53,RaceDraw!$C$10:$P$440,COLUMN()-1,FALSE)),\"\",VLOOKUP($B53,RaceDraw!$C$10:$P$440,COLUMN()-1,FALSE)))","v":200},{"$f":"IF(ISERROR(VLOOKUP($B53,RaceDraw!$C$10:$P$440,COLUMN()-1,FALSE)),\"\",IF(ISBLANK(VLOOKUP($B53,RaceDraw!$C$10:$P$440,COLUMN()-1,FALSE)),F53,VLOOKUP($B53,RaceDraw!$C$10:$P$440,COLUMN()-1,FALSE)))","v":2},{"$f":"IF(ISERROR(VLOOKUP($B53,RaceDraw!$C$10:$P$440,COLUMN()-1,FALSE)),\"\",IF(ISBLANK(VLOOKUP($B53,RaceDraw!$C$10:$P$440,COLUMN()-1,FALSE)),\"\",VLOOKUP($B53,RaceDraw!$C$10:$P$440,COLUMN()-1,FALSE)))","v":3},{"$f":"IF(ISERROR(VLOOKUP($B53,RaceDraw!$C$10:$P$440,COLUMN()-1,FALSE)),\" \",IF(ISBLANK(VLOOKUP($B53,RaceDraw!$C$10:$P$440,COLUMN()-1,FALSE)),\" \",VLOOKUP($B53,RaceDraw!$C$10:$P$440,COLUMN()-1,FALSE)))","v":"Goolwa River Dragons"},{"$f":"IF(ISERROR(VLOOKUP($B53,RaceDraw!$C$10:$P$440,COLUMN()-1,FALSE)),\" \",IF(ISBLANK(VLOOKUP($B53,RaceDraw!$C$10:$P$440,COLUMN()-1,FALSE)),\" \",VLOOKUP($B53,RaceDraw!$C$10:$P$440,COLUMN()-1,FALSE)))","v":"Kangaroo Island Dragons"},{"$f":"IF(ISERROR(VLOOKUP($B53,RaceDraw!$C$10:$P$440,COLUMN()-1,FALSE)),\" \",IF(ISBLANK(VLOOKUP($B53,RaceDraw!$C$10:$P$440,COLUMN()-1,FALSE)),\" \",VLOOKUP($B53,RaceDraw!$C$10:$P$440,COLUMN()-1,FALSE)))","v":"Outback Dragons"},{"$f":"IF(ISERROR(VLOOKUP($B53,RaceDraw!$C$10:$P$440,COLUMN()-1,FALSE)),\" \",IF(ISBLANK(VLOOKUP($B53,RaceDraw!$C$10:$P$440,COLUMN()-1,FALSE)),\" \",VLOOKUP($B53,RaceDraw!$C$10:$P$440,COLUMN()-1,FALSE)))","v":"Powerblades"},{"$f":"IF(ISERROR(VLOOKUP($B53,RaceDraw!$C$10:$P$440,COLUMN()-1,FALSE)),\" \",IF(ISBLANK(VLOOKUP($B53,RaceDraw!$C$10:$P$440,COLUMN()-1,FALSE)),\" \",VLOOKUP($B53,RaceDraw!$C$10:$P$440,COLUMN()-1,FALSE)))","v":"SADA Sonix Blue"},{"$f":"IF(ISERROR(VLOOKUP($B53,RaceDraw!$C$10:$P$440,COLUMN()-1,FALSE)),\" \",IF(ISBLANK(VLOOKUP($B53,RaceDraw!$C$10:$P$440,COLUMN()-1,FALSE)),\" \",VLOOKUP($B53,RaceDraw!$C$10:$P$440,COLUMN()-1,FALSE)))","v":"Kombo Dragons Purple"},{"$f":"IF(ISERROR(VLOOKUP($B53,RaceDraw!$C$10:$P$440,COLUMN()-1,FALSE)),\" \",IF(ISBLANK(VLOOKUP($B53,RaceDraw!$C$10:$P$440,COLUMN()-1,FALSE)),\" \",VLOOKUP($B53,RaceDraw!$C$10:$P$440,COLUMN()-1,FALSE)))","v":" "},{"$f":"IF(ISERROR(VLOOKUP($B53,RaceDraw!$C$10:$P$440,COLUMN()-1,FALSE)),\" \",IF(ISBLANK(VLOOKUP($B53,RaceDraw!$C$10:$P$440,COLUMN()-1,FALSE)),\" \",VLOOKUP($B53,RaceDraw!$C$10:$P$440,COLUMN()-1,FALSE)))","v":" "},{"$f":"IF(ISERROR(VLOOKUP($B53,RaceDraw!$C$10:$P$440,COLUMN()-1,FALSE)),\" \",IF(ISBLANK(VLOOKUP($B53,RaceDraw!$C$10:$P$440,COLUMN()-1,FALSE)),\" \",VLOOKUP($B53,RaceDraw!$C$10:$P$440,COLUMN()-1,FALSE)))","v":" "},"Fri"]
[{"$f":"IF(ISERROR(INDEX(RaceDraw!$B$10:$B$440,MATCH(B54,RaceDraw!$C$10:$C$440,0))),\"\",INDEX(RaceDraw!$B$10:$B$440,MATCH(B54,RaceDraw!$C$10:$C$440,0)))","v":"13.48"},50,{"$f":"IF(ISERROR(VLOOKUP($B54,RaceDraw!$C$10:$P$440,COLUMN()-1,FALSE)),\"\",IF(ISBLANK(VLOOKUP($B54,RaceDraw!$C$10:$P$440,COLUMN()-1,FALSE)),\"\",VLOOKUP($B54,RaceDraw!$C$10:$P$440,COLUMN()-1,FALSE)))","v":"Senior C Mixed 10"},{"$f":"IF(ISERROR(VLOOKUP($B54,RaceDraw!$C$10:$P$440,COLUMN()-1,FALSE)),\"\",IF(ISBLANK(VLOOKUP($B54,RaceDraw!$C$10:$P$440,COLUMN()-1,FALSE)),\"\",VLOOKUP($B54,RaceDraw!$C$10:$P$440,COLUMN()-1,FALSE)))","v":200},{"$f":"IF(ISERROR(VLOOKUP($B54,RaceDraw!$C$10:$P$440,COLUMN()-1,FALSE)),\"\",IF(ISBLANK(VLOOKUP($B54,RaceDraw!$C$10:$P$440,COLUMN()-1,FALSE)),F54,VLOOKUP($B54,RaceDraw!$C$10:$P$440,COLUMN()-1,FALSE)))","v":2},{"$f":"IF(ISERROR(VLOOKUP($B54,RaceDraw!$C$10:$P$440,COLUMN()-1,FALSE)),\"\",IF(ISBLANK(VLOOKUP($B54,RaceDraw!$C$10:$P$440,COLUMN()-1,FALSE)),\"\",VLOOKUP($B54,RaceDraw!$C$10:$P$440,COLUMN()-1,FALSE)))","v":4},{"$f":"IF(ISERROR(VLOOKUP($B54,RaceDraw!$C$10:$P$440,COLUMN()-1,FALSE)),\" \",IF(ISBLANK(VLOOKUP($B54,RaceDraw!$C$10:$P$440,COLUMN()-1,FALSE)),\" \",VLOOKUP($B54,RaceDraw!$C$10:$P$440,COLUMN()-1,FALSE)))","v":"FNC"},{"$f":"IF(ISERROR(VLOOKUP($B54,RaceDraw!$C$10:$P$440,COLUMN()-1,FALSE)),\" \",IF(ISBLANK(VLOOKUP($B54,RaceDraw!$C$10:$P$440,COLUMN()-1,FALSE)),\" \",VLOOKUP($B54,RaceDraw!$C$10:$P$440,COLUMN()-1,FALSE)))","v":"Dragon Masters Yellow"},{"$f":"IF(ISERROR(VLOOKUP($B54,RaceDraw!$C$10:$P$440,COLUMN()-1,FALSE)),\" \",IF(ISBLANK(VLOOKUP($B54,RaceDraw!$C$10:$P$440,COLUMN()-1,FALSE)),\" \",VLOOKUP($B54,RaceDraw!$C$10:$P$440,COLUMN()-1,FALSE)))","v":"Newcastle Dragon Hunters Purple"},{"$f":"IF(ISERROR(VLOOKUP($B54,RaceDraw!$C$10:$P$440,COLUMN()-1,FALSE)),\" \",IF(ISBLANK(VLOOKUP($B54,RaceDraw!$C$10:$P$440,COLUMN()-1,FALSE)),\" \",VLOOKUP($B54,RaceDraw!$C$10:$P$440,COLUMN()-1,FALSE)))","v":"Gypsy Dragons"},{"$f":"IF(ISERROR(VLOOKUP($B54,RaceDraw!$C$10:$P$440,COLUMN()-1,FALSE)),\" \",IF(ISBLANK(VLOOKUP($B54,RaceDraw!$C$10:$P$440,COLUMN()-1,FALSE)),\" \",VLOOKUP($B54,RaceDraw!$C$10:$P$440,COLUMN()-1,FALSE)))","v":"Gippsland United Blue"},{"$f":"IF(ISERROR(VLOOKUP($B54,RaceDraw!$C$10:$P$440,COLUMN()-1,FALSE)),\" \",IF(ISBLANK(VLOOKUP($B54,RaceDraw!$C$10:$P$440,COLUMN()-1,FALSE)),\" \",VLOOKUP($B54,RaceDraw!$C$10:$P$440,COLUMN()-1,FALSE)))","v":"Rainbow Dragons White"},{"$f":"IF(ISERROR(VLOOKUP($B54,RaceDraw!$C$10:$P$440,COLUMN()-1,FALSE)),\" \",IF(ISBLANK(VLOOKUP($B54,RaceDraw!$C$10:$P$440,COLUMN()-1,FALSE)),\" \",VLOOKUP($B54,RaceDraw!$C$10:$P$440,COLUMN()-1,FALSE)))","v":" "},{"$f":"IF(ISERROR(VLOOKUP($B54,RaceDraw!$C$10:$P$440,COLUMN()-1,FALSE)),\" \",IF(ISBLANK(VLOOKUP($B54,RaceDraw!$C$10:$P$440,COLUMN()-1,FALSE)),\" \",VLOOKUP($B54,RaceDraw!$C$10:$P$440,COLUMN()-1,FALSE)))","v":" "},{"$f":"IF(ISERROR(VLOOKUP($B54,RaceDraw!$C$10:$P$440,COLUMN()-1,FALSE)),\" \",IF(ISBLANK(VLOOKUP($B54,RaceDraw!$C$10:$P$440,COLUMN()-1,FALSE)),\" \",VLOOKUP($B54,RaceDraw!$C$10:$P$440,COLUMN()-1,FALSE)))","v":" "},"Fri"]
[{"$f":"IF(ISERROR(INDEX(RaceDraw!$B$10:$B$440,MATCH(B55,RaceDraw!$C$10:$C$440,0))),\"\",INDEX(RaceDraw!$B$10:$B$440,MATCH(B55,RaceDraw!$C$10:$C$440,0)))","v":"13.54"},51,{"$f":"IF(ISERROR(VLOOKUP($B55,RaceDraw!$C$10:$P$440,COLUMN()-1,FALSE)),\"\",IF(ISBLANK(VLOOKUP($B55,RaceDraw!$C$10:$P$440,COLUMN()-1,FALSE)),\"\",VLOOKUP($B55,RaceDraw!$C$10:$P$440,COLUMN()-1,FALSE)))","v":"Senior B Mixed 10's"},{"$f":"IF(ISERROR(VLOOKUP($B55,RaceDraw!$C$10:$P$440,COLUMN()-1,FALSE)),\"\",IF(ISBLANK(VLOOKUP($B55,RaceDraw!$C$10:$P$440,COLUMN()-1,FALSE)),\"\",VLOOKUP($B55,RaceDraw!$C$10:$P$440,COLUMN()-1,FALSE)))","v":200},{"$f":"IF(ISERROR(VLOOKUP($B55,RaceDraw!$C$10:$P$440,COLUMN()-1,FALSE)),\"\",IF(ISBLANK(VLOOKUP($B55,RaceDraw!$C$10:$P$440,COLUMN()-1,FALSE)),F55,VLOOKUP($B55,RaceDraw!$C$10:$P$440,COLUMN()-1,FALSE)))","v":2},{"$f":"IF(ISERROR(VLOOKUP($B55,RaceDraw!$C$10:$P$440,COLUMN()-1,FALSE)),\"\",IF(ISBLANK(VLOOKUP($B55,RaceDraw!$C$10:$P$440,COLUMN()-1,FALSE)),\"\",VLOOKUP($B55,RaceDraw!$C$10:$P$440,COLUMN()-1,FALSE)))","v":1},{"$f":"IF(ISERROR(VLOOKUP($B55,RaceDraw!$C$10:$P$440,COLUMN()-1,FALSE)),\" \",IF(ISBLANK(VLOOKUP($B55,RaceDraw!$C$10:$P$440,COLUMN()-1,FALSE)),\" \",VLOOKUP($B55,RaceDraw!$C$10:$P$440,COLUMN()-1,FALSE)))","v":"Newcastle Dragon Hunters Red"},{"$f":"IF(ISERROR(VLOOKUP($B55,RaceDraw!$C$10:$P$440,COLUMN()-1,FALSE)),\" \",IF(ISBLANK(VLOOKUP($B55,RaceDraw!$C$10:$P$440,COLUMN()-1,FALSE)),\" \",VLOOKUP($B55,RaceDraw!$C$10:$P$440,COLUMN()-1,FALSE)))","v":"Black Sea Dragons"},{"$f":"IF(ISERROR(VLOOKUP($B55,RaceDraw!$C$10:$P$440,COLUMN()-1,FALSE)),\" \",IF(ISBLANK(VLOOKUP($B55,RaceDraw!$C$10:$P$440,COLUMN()-1,FALSE)),\" \",VLOOKUP($B55,RaceDraw!$C$10:$P$440,COLUMN()-1,FALSE)))","v":"Gippsland United"},{"$f":"IF(ISERROR(VLOOKUP($B55,RaceDraw!$C$10:$P$440,COLUMN()-1,FALSE)),\" \",IF(ISBLANK(VLOOKUP($B55,RaceDraw!$C$10:$P$440,COLUMN()-1,FALSE)),\" \",VLOOKUP($B55,RaceDraw!$C$10:$P$440,COLUMN()-1,FALSE)))","v":"Powerblades"},{"$f":"IF(ISERROR(VLOOKUP($B55,RaceDraw!$C$10:$P$440,COLUMN()-1,FALSE)),\" \",IF(ISBLANK(VLOOKUP($B55,RaceDraw!$C$10:$P$440,COLUMN()-1,FALSE)),\" \",VLOOKUP($B55,RaceDraw!$C$10:$P$440,COLUMN()-1,FALSE)))","v":"Deepwater Dragons"},{"$f":"IF(ISERROR(VLOOKUP($B55,RaceDraw!$C$10:$P$440,COLUMN()-1,FALSE)),\" \",IF(ISBLANK(VLOOKUP($B55,RaceDraw!$C$10:$P$440,COLUMN()-1,FALSE)),\" \",VLOOKUP($B55,RaceDraw!$C$10:$P$440,COLUMN()-1,FALSE)))","v":"Kombo Dragons Black"},{"$f":"IF(ISERROR(VLOOKUP($B55,RaceDraw!$C$10:$P$440,COLUMN()-1,FALSE)),\" \",IF(ISBLANK(VLOOKUP($B55,RaceDraw!$C$10:$P$440,COLUMN()-1,FALSE)),\" \",VLOOKUP($B55,RaceDraw!$C$10:$P$440,COLUMN()-1,FALSE)))","v":" "},{"$f":"IF(ISERROR(VLOOKUP($B55,RaceDraw!$C$10:$P$440,COLUMN()-1,FALSE)),\" \",IF(ISBLANK(VLOOKUP($B55,RaceDraw!$C$10:$P$440,COLUMN()-1,FALSE)),\" \",VLOOKUP($B55,RaceDraw!$C$10:$P$440,COLUMN()-1,FALSE)))","v":" "},{"$f":"IF(ISERROR(VLOOKUP($B55,RaceDraw!$C$10:$P$440,COLUMN()-1,FALSE)),\" \",IF(ISBLANK(VLOOKUP($B55,RaceDraw!$C$10:$P$440,COLUMN()-1,FALSE)),\" \",VLOOKUP($B55,RaceDraw!$C$10:$P$440,COLUMN()-1,FALSE)))","v":" "},"Fri"]
[{"$f":"IF(ISERROR(INDEX(RaceDraw!$B$10:$B$440,MATCH(B56,RaceDraw!$C$10:$C$440,0))),\"\",INDEX(RaceDraw!$B$10:$B$440,MATCH(B56,RaceDraw!$C$10:$C$440,0)))","v":"14.00"},52,{"$f":"IF(ISERROR(VLOOKUP($B56,RaceDraw!$C$10:$P$440,COLUMN()-1,FALSE)),\"\",IF(ISBLANK(VLOOKUP($B56,RaceDraw!$C$10:$P$440,COLUMN()-1,FALSE)),\"\",VLOOKUP($B56,RaceDraw!$C$10:$P$440,COLUMN()-1,FALSE)))","v":"Senior B Mixed 10's"},{"$f":"IF(ISERROR(VLOOKUP($B56,RaceDraw!$C$10:$P$440,COLUMN()-1,FALSE)),\"\",IF(ISBLANK(VLOOKUP($B56,RaceDraw!$C$10:$P$440,COLUMN()-1,FALSE)),\"\",VLOOKUP($B56,RaceDraw!$C$10:$P$440,COLUMN()-1,FALSE)))","v":200},{"$f":"IF(ISERROR(VLOOKUP($B56,RaceDraw!$C$10:$P$440,COLUMN()-1,FALSE)),\"\",IF(ISBLANK(VLOOKUP($B56,RaceDraw!$C$10:$P$440,COLUMN()-1,FALSE)),F56,VLOOKUP($B56,RaceDraw!$C$10:$P$440,COLUMN()-1,FALSE)))","v":2},{"$f":"IF(ISERROR(VLOOKUP($B56,RaceDraw!$C$10:$P$440,COLUMN()-1,FALSE)),\"\",IF(ISBLANK(VLOOKUP($B56,RaceDraw!$C$10:$P$440,COLUMN()-1,FALSE)),\"\",VLOOKUP($B56,RaceDraw!$C$10:$P$440,COLUMN()-1,FALSE)))","v":2},{"$f":"IF(ISERROR(VLOOKUP($B56,RaceDraw!$C$10:$P$440,COLUMN()-1,FALSE)),\" \",IF(ISBLANK(VLOOKUP($B56,RaceDraw!$C$10:$P$440,COLUMN()-1,FALSE)),\" \",VLOOKUP($B56,RaceDraw!$C$10:$P$440,COLUMN()-1,FALSE)))","v":"Gypsy Dragons"},{"$f":"IF(ISERROR(VLOOKUP($B56,RaceDraw!$C$10:$P$440,COLUMN()-1,FALSE)),\" \",IF(ISBLANK(VLOOKUP($B56,RaceDraw!$C$10:$P$440,COLUMN()-1,FALSE)),\" \",VLOOKUP($B56,RaceDraw!$C$10:$P$440,COLUMN()-1,FALSE)))","v":"Goolwa River Dragons"},{"$f":"IF(ISERROR(VLOOKUP($B56,RaceDraw!$C$10:$P$440,COLUMN()-1,FALSE)),\" \",IF(ISBLANK(VLOOKUP($B56,RaceDraw!$C$10:$P$440,COLUMN()-1,FALSE)),\" \",VLOOKUP($B56,RaceDraw!$C$10:$P$440,COLUMN()-1,FALSE)))","v":"Kombo Dragons Purple"},{"$f":"IF(ISERROR(VLOOKUP($B56,RaceDraw!$C$10:$P$440,COLUMN()-1,FALSE)),\" \",IF(ISBLANK(VLOOKUP($B56,RaceDraw!$C$10:$P$440,COLUMN()-1,FALSE)),\" \",VLOOKUP($B56,RaceDraw!$C$10:$P$440,COLUMN()-1,FALSE)))","v":"Outback Dragons"},{"$f":"IF(ISERROR(VLOOKUP($B56,RaceDraw!$C$10:$P$440,COLUMN()-1,FALSE)),\" \",IF(ISBLANK(VLOOKUP($B56,RaceDraw!$C$10:$P$440,COLUMN()-1,FALSE)),\" \",VLOOKUP($B56,RaceDraw!$C$10:$P$440,COLUMN()-1,FALSE)))","v":"SADA Sonix Yellow"},{"$f":"IF(ISERROR(VLOOKUP($B56,RaceDraw!$C$10:$P$440,COLUMN()-1,FALSE)),\" \",IF(ISBLANK(VLOOKUP($B56,RaceDraw!$C$10:$P$440,COLUMN()-1,FALSE)),\" \",VLOOKUP($B56,RaceDraw!$C$10:$P$440,COLUMN()-1,FALSE)))","v":"FNC"},{"$f":"IF(ISERROR(VLOOKUP($B56,RaceDraw!$C$10:$P$440,COLUMN()-1,FALSE)),\" \",IF(ISBLANK(VLOOKUP($B56,RaceDraw!$C$10:$P$440,COLUMN()-1,FALSE)),\" \",VLOOKUP($B56,RaceDraw!$C$10:$P$440,COLUMN()-1,FALSE)))","v":" "},{"$f":"IF(ISERROR(VLOOKUP($B56,RaceDraw!$C$10:$P$440,COLUMN()-1,FALSE)),\" \",IF(ISBLANK(VLOOKUP($B56,RaceDraw!$C$10:$P$440,COLUMN()-1,FALSE)),\" \",VLOOKUP($B56,RaceDraw!$C$10:$P$440,COLUMN()-1,FALSE)))","v":" "},{"$f":"IF(ISERROR(VLOOKUP($B56,RaceDraw!$C$10:$P$440,COLUMN()-1,FALSE)),\" \",IF(ISBLANK(VLOOKUP($B56,RaceDraw!$C$10:$P$440,COLUMN()-1,FALSE)),\" \",VLOOKUP($B56,RaceDraw!$C$10:$P$440,COLUMN()-1,FALSE)))","v":" "},"Fri"]
[{"$f":"IF(ISERROR(INDEX(RaceDraw!$B$10:$B$440,MATCH(B57,RaceDraw!$C$10:$C$440,0))),\"\",INDEX(RaceDraw!$B$10:$B$440,MATCH(B57,RaceDraw!$C$10:$C$440,0)))","v":"14.06"},53,{"$f":"IF(ISERROR(VLOOKUP($B57,RaceDraw!$C$10:$P$440,COLUMN()-1,FALSE)),\"\",IF(ISBLANK(VLOOKUP($B57,RaceDraw!$C$10:$P$440,COLUMN()-1,FALSE)),\"\",VLOOKUP($B57,RaceDraw!$C$10:$P$440,COLUMN()-1,FALSE)))","v":"Senior B Mixed 10's"},{"$f":"IF(ISERROR(VLOOKUP($B57,RaceDraw!$C$10:$P$440,COLUMN()-1,FALSE)),\"\",IF(ISBLANK(VLOOKUP($B57,RaceDraw!$C$10:$P$440,COLUMN()-1,FALSE)),\"\",VLOOKUP($B57,RaceDraw!$C$10:$P$440,COLUMN()-1,FALSE)))","v":200},{"$f":"IF(ISERROR(VLOOKUP($B57,RaceDraw!$C$10:$P$440,COLUMN()-1,FALSE)),\"\",IF(ISBLANK(VLOOKUP($B57,RaceDraw!$C$10:$P$440,COLUMN()-1,FALSE)),F57,VLOOKUP($B57,RaceDraw!$C$10:$P$440,COLUMN()-1,FALSE)))","v":2},{"$f":"IF(ISERROR(VLOOKUP($B57,RaceDraw!$C$10:$P$440,COLUMN()-1,FALSE)),\"\",IF(ISBLANK(VLOOKUP($B57,RaceDraw!$C$10:$P$440,COLUMN()-1,FALSE)),\"\",VLOOKUP($B57,RaceDraw!$C$10:$P$440,COLUMN()-1,FALSE)))","v":3},{"$f":"IF(ISERROR(VLOOKUP($B57,RaceDraw!$C$10:$P$440,COLUMN()-1,FALSE)),\" \",IF(ISBLANK(VLOOKUP($B57,RaceDraw!$C$10:$P$440,COLUMN()-1,FALSE)),\" \",VLOOKUP($B57,RaceDraw!$C$10:$P$440,COLUMN()-1,FALSE)))","v":"Newcastle Dragon Hunters Purple"},{"$f":"IF(ISERROR(VLOOKUP($B57,RaceDraw!$C$10:$P$440,COLUMN()-1,FALSE)),\" \",IF(ISBLANK(VLOOKUP($B57,RaceDraw!$C$10:$P$440,COLUMN()-1,FALSE)),\" \",VLOOKUP($B57,RaceDraw!$C$10:$P$440,COLUMN()-1,FALSE)))","v":"SADA Sonix Blue"},{"$f":"IF(ISERROR(VLOOKUP($B57,RaceDraw!$C$10:$P$440,COLUMN()-1,FALSE)),\" \",IF(ISBLANK(VLOOKUP($B57,RaceDraw!$C$10:$P$440,COLUMN()-1,FALSE)),\" \",VLOOKUP($B57,RaceDraw!$C$10:$P$440,COLUMN()-1,FALSE)))","v":"Mannum"},{"$f":"IF(ISERROR(VLOOKUP($B57,RaceDraw!$C$10:$P$440,COLUMN()-1,FALSE)),\" \",IF(ISBLANK(VLOOKUP($B57,RaceDraw!$C$10:$P$440,COLUMN()-1,FALSE)),\" \",VLOOKUP($B57,RaceDraw!$C$10:$P$440,COLUMN()-1,FALSE)))","v":"Southern Warriors"},{"$f":"IF(ISERROR(VLOOKUP($B57,RaceDraw!$C$10:$P$440,COLUMN()-1,FALSE)),\" \",IF(ISBLANK(VLOOKUP($B57,RaceDraw!$C$10:$P$440,COLUMN()-1,FALSE)),\" \",VLOOKUP($B57,RaceDraw!$C$10:$P$440,COLUMN()-1,FALSE)))","v":"Mildura"},{"$f":"IF(ISERROR(VLOOKUP($B57,RaceDraw!$C$10:$P$440,COLUMN()-1,FALSE)),\" \",IF(ISBLANK(VLOOKUP($B57,RaceDraw!$C$10:$P$440,COLUMN()-1,FALSE)),\" \",VLOOKUP($B57,RaceDraw!$C$10:$P$440,COLUMN()-1,FALSE)))","v":"Hunter River Dragons"},{"$f":"IF(ISERROR(VLOOKUP($B57,RaceDraw!$C$10:$P$440,COLUMN()-1,FALSE)),\" \",IF(ISBLANK(VLOOKUP($B57,RaceDraw!$C$10:$P$440,COLUMN()-1,FALSE)),\" \",VLOOKUP($B57,RaceDraw!$C$10:$P$440,COLUMN()-1,FALSE)))","v":" "},{"$f":"IF(ISERROR(VLOOKUP($B57,RaceDraw!$C$10:$P$440,COLUMN()-1,FALSE)),\" \",IF(ISBLANK(VLOOKUP($B57,RaceDraw!$C$10:$P$440,COLUMN()-1,FALSE)),\" \",VLOOKUP($B57,RaceDraw!$C$10:$P$440,COLUMN()-1,FALSE)))","v":" "},{"$f":"IF(ISERROR(VLOOKUP($B57,RaceDraw!$C$10:$P$440,COLUMN()-1,FALSE)),\" \",IF(ISBLANK(VLOOKUP($B57,RaceDraw!$C$10:$P$440,COLUMN()-1,FALSE)),\" \",VLOOKUP($B57,RaceDraw!$C$10:$P$440,COLUMN()-1,FALSE)))","v":" "},"Fri"]
[{"$f":"IF(ISERROR(INDEX(RaceDraw!$B$10:$B$440,MATCH(B58,RaceDraw!$C$10:$C$440,0))),\"\",INDEX(RaceDraw!$B$10:$B$440,MATCH(B58,RaceDraw!$C$10:$C$440,0)))","v":"14.12"},54,{"$f":"IF(ISERROR(VLOOKUP($B58,RaceDraw!$C$10:$P$440,COLUMN()-1,FALSE)),\"\",IF(ISBLANK(VLOOKUP($B58,RaceDraw!$C$10:$P$440,COLUMN()-1,FALSE)),\"\",VLOOKUP($B58,RaceDraw!$C$10:$P$440,COLUMN()-1,FALSE)))","v":"Senior B Mixed 20's"},{"$f":"IF(ISERROR(VLOOKUP($B58,RaceDraw!$C$10:$P$440,COLUMN()-1,FALSE)),\"\",IF(ISBLANK(VLOOKUP($B58,RaceDraw!$C$10:$P$440,COLUMN()-1,FALSE)),\"\",VLOOKUP($B58,RaceDraw!$C$10:$P$440,COLUMN()-1,FALSE)))","v":200},{"$f":"IF(ISERROR(VLOOKUP($B58,RaceDraw!$C$10:$P$440,COLUMN()-1,FALSE)),\"\",IF(ISBLANK(VLOOKUP($B58,RaceDraw!$C$10:$P$440,COLUMN()-1,FALSE)),F58,VLOOKUP($B58,RaceDraw!$C$10:$P$440,COLUMN()-1,FALSE)))","v":2},{"$f":"IF(ISERROR(VLOOKUP($B58,RaceDraw!$C$10:$P$440,COLUMN()-1,FALSE)),\"\",IF(ISBLANK(VLOOKUP($B58,RaceDraw!$C$10:$P$440,COLUMN()-1,FALSE)),\"\",VLOOKUP($B58,RaceDraw!$C$10:$P$440,COLUMN()-1,FALSE)))","v":1},{"$f":"IF(ISERROR(VLOOKUP($B58,RaceDraw!$C$10:$P$440,COLUMN()-1,FALSE)),\" \",IF(ISBLANK(VLOOKUP($B58,RaceDraw!$C$10:$P$440,COLUMN()-1,FALSE)),\" \",VLOOKUP($B58,RaceDraw!$C$10:$P$440,COLUMN()-1,FALSE)))","v":"Dragon Masters"},{"$f":"IF(ISERROR(VLOOKUP($B58,RaceDraw!$C$10:$P$440,COLUMN()-1,FALSE)),\" \",IF(ISBLANK(VLOOKUP($B58,RaceDraw!$C$10:$P$440,COLUMN()-1,FALSE)),\" \",VLOOKUP($B58,RaceDraw!$C$10:$P$440,COLUMN()-1,FALSE)))","v":"Rainbow Dragons"},{"$f":"IF(ISERROR(VLOOKUP($B58,RaceDraw!$C$10:$P$440,COLUMN()-1,FALSE)),\" \",IF(ISBLANK(VLOOKUP($B58,RaceDraw!$C$10:$P$440,COLUMN()-1,FALSE)),\" \",VLOOKUP($B58,RaceDraw!$C$10:$P$440,COLUMN()-1,FALSE)))","v":"Kombo Dragons Black"},{"$f":"IF(ISERROR(VLOOKUP($B58,RaceDraw!$C$10:$P$440,COLUMN()-1,FALSE)),\" \",IF(ISBLANK(VLOOKUP($B58,RaceDraw!$C$10:$P$440,COLUMN()-1,FALSE)),\" \",VLOOKUP($B58,RaceDraw!$C$10:$P$440,COLUMN()-1,FALSE)))","v":"Newcastle Dragon Hunters Red"},{"$f":"IF(ISERROR(VLOOKUP($B58,RaceDraw!$C$10:$P$440,COLUMN()-1,FALSE)),\" \",IF(ISBLANK(VLOOKUP($B58,RaceDraw!$C$10:$P$440,COLUMN()-1,FALSE)),\" \",VLOOKUP($B58,RaceDraw!$C$10:$P$440,COLUMN()-1,FALSE)))","v":"Deepwater Dragons"},{"$f":"IF(ISERROR(VLOOKUP($B58,RaceDraw!$C$10:$P$440,COLUMN()-1,FALSE)),\" \",IF(ISBLANK(VLOOKUP($B58,RaceDraw!$C$10:$P$440,COLUMN()-1,FALSE)),\" \",VLOOKUP($B58,RaceDraw!$C$10:$P$440,COLUMN()-1,FALSE)))","v":"Powerblades"},{"$f":"IF(ISERROR(VLOOKUP($B58,RaceDraw!$C$10:$P$440,COLUMN()-1,FALSE)),\" \",IF(ISBLANK(VLOOKUP($B58,RaceDraw!$C$10:$P$440,COLUMN()-1,FALSE)),\" \",VLOOKUP($B58,RaceDraw!$C$10:$P$440,COLUMN()-1,FALSE)))","v":" "},{"$f":"IF(ISERROR(VLOOKUP($B58,RaceDraw!$C$10:$P$440,COLUMN()-1,FALSE)),\" \",IF(ISBLANK(VLOOKUP($B58,RaceDraw!$C$10:$P$440,COLUMN()-1,FALSE)),\" \",VLOOKUP($B58,RaceDraw!$C$10:$P$440,COLUMN()-1,FALSE)))","v":" "},{"$f":"IF(ISERROR(VLOOKUP($B58,RaceDraw!$C$10:$P$440,COLUMN()-1,FALSE)),\" \",IF(ISBLANK(VLOOKUP($B58,RaceDraw!$C$10:$P$440,COLUMN()-1,FALSE)),\" \",VLOOKUP($B58,RaceDraw!$C$10:$P$440,COLUMN()-1,FALSE)))","v":" "},"Fri"]
[{"$f":"IF(ISERROR(INDEX(RaceDraw!$B$10:$B$440,MATCH(B59,RaceDraw!$C$10:$C$440,0))),\"\",INDEX(RaceDraw!$B$10:$B$440,MATCH(B59,RaceDraw!$C$10:$C$440,0)))","v":"14.18"},55,{"$f":"IF(ISERROR(VLOOKUP($B59,RaceDraw!$C$10:$P$440,COLUMN()-1,FALSE)),\"\",IF(ISBLANK(VLOOKUP($B59,RaceDraw!$C$10:$P$440,COLUMN()-1,FALSE)),\"\",VLOOKUP($B59,RaceDraw!$C$10:$P$440,COLUMN()-1,FALSE)))","v":"Senior B Mixed 20's"},{"$f":"IF(ISERROR(VLOOKUP($B59,RaceDraw!$C$10:$P$440,COLUMN()-1,FALSE)),\"\",IF(ISBLANK(VLOOKUP($B59,RaceDraw!$C$10:$P$440,COLUMN()-1,FALSE)),\"\",VLOOKUP($B59,RaceDraw!$C$10:$P$440,COLUMN()-1,FALSE)))","v":200},{"$f":"IF(ISERROR(VLOOKUP($B59,RaceDraw!$C$10:$P$440,COLUMN()-1,FALSE)),\"\",IF(ISBLANK(VLOOKUP($B59,RaceDraw!$C$10:$P$440,COLUMN()-1,FALSE)),F59,VLOOKUP($B59,RaceDraw!$C$10:$P$440,COLUMN()-1,FALSE)))","v":2},{"$f":"IF(ISERROR(VLOOKUP($B59,RaceDraw!$C$10:$P$440,COLUMN()-1,FALSE)),\"\",IF(ISBLANK(VLOOKUP($B59,RaceDraw!$C$10:$P$440,COLUMN()-1,FALSE)),\"\",VLOOKUP($B59,RaceDraw!$C$10:$P$440,COLUMN()-1,FALSE)))","v":2},{"$f":"IF(ISERROR(VLOOKUP($B59,RaceDraw!$C$10:$P$440,COLUMN()-1,FALSE)),\" \",IF(ISBLANK(VLOOKUP($B59,RaceDraw!$C$10:$P$440,COLUMN()-1,FALSE)),\" \",VLOOKUP($B59,RaceDraw!$C$10:$P$440,COLUMN()-1,FALSE)))","v":"Motley Crew"},{"$f":"IF(ISERROR(VLOOKUP($B59,RaceDraw!$C$10:$P$440,COLUMN()-1,FALSE)),\" \",IF(ISBLANK(VLOOKUP($B59,RaceDraw!$C$10:$P$440,COLUMN()-1,FALSE)),\" \",VLOOKUP($B59,RaceDraw!$C$10:$P$440,COLUMN()-1,FALSE)))","v":"Newcastle Dragon Hunters Purple"},{"$f":"IF(ISERROR(VLOOKUP($B59,RaceDraw!$C$10:$P$440,COLUMN()-1,FALSE)),\" \",IF(ISBLANK(VLOOKUP($B59,RaceDraw!$C$10:$P$440,COLUMN()-1,FALSE)),\" \",VLOOKUP($B59,RaceDraw!$C$10:$P$440,COLUMN()-1,FALSE)))","v":"Hunter River Dragons"},{"$f":"IF(ISERROR(VLOOKUP($B59,RaceDraw!$C$10:$P$440,COLUMN()-1,FALSE)),\" \",IF(ISBLANK(VLOOKUP($B59,RaceDraw!$C$10:$P$440,COLUMN()-1,FALSE)),\" \",VLOOKUP($B59,RaceDraw!$C$10:$P$440,COLUMN()-1,FALSE)))","v":"Gippsland United"},{"$f":"IF(ISERROR(VLOOKUP($B59,RaceDraw!$C$10:$P$440,COLUMN()-1,FALSE)),\" \",IF(ISBLANK(VLOOKUP($B59,RaceDraw!$C$10:$P$440,COLUMN()-1,FALSE)),\" \",VLOOKUP($B59,RaceDraw!$C$10:$P$440,COLUMN()-1,FALSE)))","v":"Mildura"},{"$f":"IF(ISERROR(VLOOKUP($B59,RaceDraw!$C$10:$P$440,COLUMN()-1,FALSE)),\" \",IF(ISBLANK(VLOOKUP($B59,RaceDraw!$C$10:$P$440,COLUMN()-1,FALSE)),\" \",VLOOKUP($B59,RaceDraw!$C$10:$P$440,COLUMN()-1,FALSE)))","v":"SADA Sonix"},{"$f":"IF(ISERROR(VLOOKUP($B59,RaceDraw!$C$10:$P$440,COLUMN()-1,FALSE)),\" \",IF(ISBLANK(VLOOKUP($B59,RaceDraw!$C$10:$P$440,COLUMN()-1,FALSE)),\" \",VLOOKUP($B59,RaceDraw!$C$10:$P$440,COLUMN()-1,FALSE)))","v":" "},{"$f":"IF(ISERROR(VLOOKUP($B59,RaceDraw!$C$10:$P$440,COLUMN()-1,FALSE)),\" \",IF(ISBLANK(VLOOKUP($B59,RaceDraw!$C$10:$P$440,COLUMN()-1,FALSE)),\" \",VLOOKUP($B59,RaceDraw!$C$10:$P$440,COLUMN()-1,FALSE)))","v":" "},{"$f":"IF(ISERROR(VLOOKUP($B59,RaceDraw!$C$10:$P$440,COLUMN()-1,FALSE)),\" \",IF(ISBLANK(VLOOKUP($B59,RaceDraw!$C$10:$P$440,COLUMN()-1,FALSE)),\" \",VLOOKUP($B59,RaceDraw!$C$10:$P$440,COLUMN()-1,FALSE)))","v":" "},"Fri"]
[{"$f":"IF(ISERROR(INDEX(RaceDraw!$B$10:$B$440,MATCH(B60,RaceDraw!$C$10:$C$440,0))),\"\",INDEX(RaceDraw!$B$10:$B$440,MATCH(B60,RaceDraw!$C$10:$C$440,0)))","v":"14.24"},56,{"$f":"IF(ISERROR(VLOOKUP($B60,RaceDraw!$C$10:$P$440,COLUMN()-1,FALSE)),\"\",IF(ISBLANK(VLOOKUP($B60,RaceDraw!$C$10:$P$440,COLUMN()-1,FALSE)),\"\",VLOOKUP($B60,RaceDraw!$C$10:$P$440,COLUMN()-1,FALSE)))","v":"Senior A Mixed 10's"},{"$f":"IF(ISERROR(VLOOKUP($B60,RaceDraw!$C$10:$P$440,COLUMN()-1,FALSE)),\"\",IF(ISBLANK(VLOOKUP($B60,RaceDraw!$C$10:$P$440,COLUMN()-1,FALSE)),\"\",VLOOKUP($B60,RaceDraw!$C$10:$P$440,COLUMN()-1,FALSE)))","v":200},{"$f":"IF(ISERROR(VLOOKUP($B60,RaceDraw!$C$10:$P$440,COLUMN()-1,FALSE)),\"\",IF(ISBLANK(VLOOKUP($B60,RaceDraw!$C$10:$P$440,COLUMN()-1,FALSE)),F60,VLOOKUP($B60,RaceDraw!$C$10:$P$440,COLUMN()-1,FALSE)))","v":2},{"$f":"IF(ISERROR(VLOOKUP($B60,RaceDraw!$C$10:$P$440,COLUMN()-1,FALSE)),\"\",IF(ISBLANK(VLOOKUP($B60,RaceDraw!$C$10:$P$440,COLUMN()-1,FALSE)),\"\",VLOOKUP($B60,RaceDraw!$C$10:$P$440,COLUMN()-1,FALSE)))","v":1},{"$f":"IF(ISERROR(VLOOKUP($B60,RaceDraw!$C$10:$P$440,COLUMN()-1,FALSE)),\" \",IF(ISBLANK(VLOOKUP($B60,RaceDraw!$C$10:$P$440,COLUMN()-1,FALSE)),\" \",VLOOKUP($B60,RaceDraw!$C$10:$P$440,COLUMN()-1,FALSE)))","v":"Black Sea Dragons"},{"$f":"IF(ISERROR(VLOOKUP($B60,RaceDraw!$C$10:$P$440,COLUMN()-1,FALSE)),\" \",IF(ISBLANK(VLOOKUP($B60,RaceDraw!$C$10:$P$440,COLUMN()-1,FALSE)),\" \",VLOOKUP($B60,RaceDraw!$C$10:$P$440,COLUMN()-1,FALSE)))","v":"Newcastle Dragon Hunters"},{"$f":"IF(ISERROR(VLOOKUP($B60,RaceDraw!$C$10:$P$440,COLUMN()-1,FALSE)),\" \",IF(ISBLANK(VLOOKUP($B60,RaceDraw!$C$10:$P$440,COLUMN()-1,FALSE)),\" \",VLOOKUP($B60,RaceDraw!$C$10:$P$440,COLUMN()-1,FALSE)))","v":"Mildura"},{"$f":"IF(ISERROR(VLOOKUP($B60,RaceDraw!$C$10:$P$440,COLUMN()-1,FALSE)),\" \",IF(ISBLANK(VLOOKUP($B60,RaceDraw!$C$10:$P$440,COLUMN()-1,FALSE)),\" \",VLOOKUP($B60,RaceDraw!$C$10:$P$440,COLUMN()-1,FALSE)))","v":"Powerblades"},{"$f":"IF(ISERROR(VLOOKUP($B60,RaceDraw!$C$10:$P$440,COLUMN()-1,FALSE)),\" \",IF(ISBLANK(VLOOKUP($B60,RaceDraw!$C$10:$P$440,COLUMN()-1,FALSE)),\" \",VLOOKUP($B60,RaceDraw!$C$10:$P$440,COLUMN()-1,FALSE)))","v":"Kombo Dragons Black"},{"$f":"IF(ISERROR(VLOOKUP($B60,RaceDraw!$C$10:$P$440,COLUMN()-1,FALSE)),\" \",IF(ISBLANK(VLOOKUP($B60,RaceDraw!$C$10:$P$440,COLUMN()-1,FALSE)),\" \",VLOOKUP($B60,RaceDraw!$C$10:$P$440,COLUMN()-1,FALSE)))","v":" "},{"$f":"IF(ISERROR(VLOOKUP($B60,RaceDraw!$C$10:$P$440,COLUMN()-1,FALSE)),\" \",IF(ISBLANK(VLOOKUP($B60,RaceDraw!$C$10:$P$440,COLUMN()-1,FALSE)),\" \",VLOOKUP($B60,RaceDraw!$C$10:$P$440,COLUMN()-1,FALSE)))","v":" "},{"$f":"IF(ISERROR(VLOOKUP($B60,RaceDraw!$C$10:$P$440,COLUMN()-1,FALSE)),\" \",IF(ISBLANK(VLOOKUP($B60,RaceDraw!$C$10:$P$440,COLUMN()-1,FALSE)),\" \",VLOOKUP($B60,RaceDraw!$C$10:$P$440,COLUMN()-1,FALSE)))","v":" "},{"$f":"IF(ISERROR(VLOOKUP($B60,RaceDraw!$C$10:$P$440,COLUMN()-1,FALSE)),\" \",IF(ISBLANK(VLOOKUP($B60,RaceDraw!$C$10:$P$440,COLUMN()-1,FALSE)),\" \",VLOOKUP($B60,RaceDraw!$C$10:$P$440,COLUMN()-1,FALSE)))","v":" "},"Fri"]
[{"$f":"IF(ISERROR(INDEX(RaceDraw!$B$10:$B$440,MATCH(B61,RaceDraw!$C$10:$C$440,0))),\"\",INDEX(RaceDraw!$B$10:$B$440,MATCH(B61,RaceDraw!$C$10:$C$440,0)))","v":"14.30"},57,{"$f":"IF(ISERROR(VLOOKUP($B61,RaceDraw!$C$10:$P$440,COLUMN()-1,FALSE)),\"\",IF(ISBLANK(VLOOKUP($B61,RaceDraw!$C$10:$P$440,COLUMN()-1,FALSE)),\"\",VLOOKUP($B61,RaceDraw!$C$10:$P$440,COLUMN()-1,FALSE)))","v":"Senior A Mixed 10's"},{"$f":"IF(ISERROR(VLOOKUP($B61,RaceDraw!$C$10:$P$440,COLUMN()-1,FALSE)),\"\",IF(ISBLANK(VLOOKUP($B61,RaceDraw!$C$10:$P$440,COLUMN()-1,FALSE)),\"\",VLOOKUP($B61,RaceDraw!$C$10:$P$440,COLUMN()-1,FALSE)))","v":200},{"$f":"IF(ISERROR(VLOOKUP($B61,RaceDraw!$C$10:$P$440,COLUMN()-1,FALSE)),\"\",IF(ISBLANK(VLOOKUP($B61,RaceDraw!$C$10:$P$440,COLUMN()-1,FALSE)),F61,VLOOKUP($B61,RaceDraw!$C$10:$P$440,COLUMN()-1,FALSE)))","v":2},{"$f":"IF(ISERROR(VLOOKUP($B61,RaceDraw!$C$10:$P$440,COLUMN()-1,FALSE)),\"\",IF(ISBLANK(VLOOKUP($B61,RaceDraw!$C$10:$P$440,COLUMN()-1,FALSE)),\"\",VLOOKUP($B61,RaceDraw!$C$10:$P$440,COLUMN()-1,FALSE)))","v":2},{"$f":"IF(ISERROR(VLOOKUP($B61,RaceDraw!$C$10:$P$440,COLUMN()-1,FALSE)),\" \",IF(ISBLANK(VLOOKUP($B61,RaceDraw!$C$10:$P$440,COLUMN()-1,FALSE)),\" \",VLOOKUP($B61,RaceDraw!$C$10:$P$440,COLUMN()-1,FALSE)))","v":"Rainbow Dragons"},{"$f":"IF(ISERROR(VLOOKUP($B61,RaceDraw!$C$10:$P$440,COLUMN()-1,FALSE)),\" \",IF(ISBLANK(VLOOKUP($B61,RaceDraw!$C$10:$P$440,COLUMN()-1,FALSE)),\" \",VLOOKUP($B61,RaceDraw!$C$10:$P$440,COLUMN()-1,FALSE)))","v":"Kombo Dragons Black"},{"$f":"IF(ISERROR(VLOOKUP($B61,RaceDraw!$C$10:$P$440,COLUMN()-1,FALSE)),\" \",IF(ISBLANK(VLOOKUP($B61,RaceDraw!$C$10:$P$440,COLUMN()-1,FALSE)),\" \",VLOOKUP($B61,RaceDraw!$C$10:$P$440,COLUMN()-1,FALSE)))","v":"Hunter River Dragons"},{"$f":"IF(ISERROR(VLOOKUP($B61,RaceDraw!$C$10:$P$440,COLUMN()-1,FALSE)),\" \",IF(ISBLANK(VLOOKUP($B61,RaceDraw!$C$10:$P$440,COLUMN()-1,FALSE)),\" \",VLOOKUP($B61,RaceDraw!$C$10:$P$440,COLUMN()-1,FALSE)))","v":"Broadwater Dragons"},{"$f":"IF(ISERROR(VLOOKUP($B61,RaceDraw!$C$10:$P$440,COLUMN()-1,FALSE)),\" \",IF(ISBLANK(VLOOKUP($B61,RaceDraw!$C$10:$P$440,COLUMN()-1,FALSE)),\" \",VLOOKUP($B61,RaceDraw!$C$10:$P$440,COLUMN()-1,FALSE)))","v":"Deepwater Dragons"},{"$f":"IF(ISERROR(VLOOKUP($B61,RaceDraw!$C$10:$P$440,COLUMN()-1,FALSE)),\" \",IF(ISBLANK(VLOOKUP($B61,RaceDraw!$C$10:$P$440,COLUMN()-1,FALSE)),\" \",VLOOKUP($B61,RaceDraw!$C$10:$P$440,COLUMN()-1,FALSE)))","v":" "},{"$f":"IF(ISERROR(VLOOKUP($B61,RaceDraw!$C$10:$P$440,COLUMN()-1,FALSE)),\" \",IF(ISBLANK(VLOOKUP($B61,RaceDraw!$C$10:$P$440,COLUMN()-1,FALSE)),\" \",VLOOKUP($B61,RaceDraw!$C$10:$P$440,COLUMN()-1,FALSE)))","v":" "},{"$f":"IF(ISERROR(VLOOKUP($B61,RaceDraw!$C$10:$P$440,COLUMN()-1,FALSE)),\" \",IF(ISBLANK(VLOOKUP($B61,RaceDraw!$C$10:$P$440,COLUMN()-1,FALSE)),\" \",VLOOKUP($B61,RaceDraw!$C$10:$P$440,COLUMN()-1,FALSE)))","v":" "},{"$f":"IF(ISERROR(VLOOKUP($B61,RaceDraw!$C$10:$P$440,COLUMN()-1,FALSE)),\" \",IF(ISBLANK(VLOOKUP($B61,RaceDraw!$C$10:$P$440,COLUMN()-1,FALSE)),\" \",VLOOKUP($B61,RaceDraw!$C$10:$P$440,COLUMN()-1,FALSE)))","v":" "},"Fri"]
[{"$f":"IF(ISERROR(INDEX(RaceDraw!$B$10:$B$440,MATCH(B62,RaceDraw!$C$10:$C$440,0))),\"\",INDEX(RaceDraw!$B$10:$B$440,MATCH(B62,RaceDraw!$C$10:$C$440,0)))","v":"14.36"},58,{"$f":"IF(ISERROR(VLOOKUP($B62,RaceDraw!$C$10:$P$440,COLUMN()-1,FALSE)),\"\",IF(ISBLANK(VLOOKUP($B62,RaceDraw!$C$10:$P$440,COLUMN()-1,FALSE)),\"\",VLOOKUP($B62,RaceDraw!$C$10:$P$440,COLUMN()-1,FALSE)))","v":"Senior A Mixed 10's"},{"$f":"IF(ISERROR(VLOOKUP($B62,RaceDraw!$C$10:$P$440,COLUMN()-1,FALSE)),\"\",IF(ISBLANK(VLOOKUP($B62,RaceDraw!$C$10:$P$440,COLUMN()-1,FALSE)),\"\",VLOOKUP($B62,RaceDraw!$C$10:$P$440,COLUMN()-1,FALSE)))","v":200},{"$f":"IF(ISERROR(VLOOKUP($B62,RaceDraw!$C$10:$P$440,COLUMN()-1,FALSE)),\"\",IF(ISBLANK(VLOOKUP($B62,RaceDraw!$C$10:$P$440,COLUMN()-1,FALSE)),F62,VLOOKUP($B62,RaceDraw!$C$10:$P$440,COLUMN()-1,FALSE)))","v":2},{"$f":"IF(ISERROR(VLOOKUP($B62,RaceDraw!$C$10:$P$440,COLUMN()-1,FALSE)),\"\",IF(ISBLANK(VLOOKUP($B62,RaceDraw!$C$10:$P$440,COLUMN()-1,FALSE)),\"\",VLOOKUP($B62,RaceDraw!$C$10:$P$440,COLUMN()-1,FALSE)))","v":3},{"$f":"IF(ISERROR(VLOOKUP($B62,RaceDraw!$C$10:$P$440,COLUMN()-1,FALSE)),\" \",IF(ISBLANK(VLOOKUP($B62,RaceDraw!$C$10:$P$440,COLUMN()-1,FALSE)),\" \",VLOOKUP($B62,RaceDraw!$C$10:$P$440,COLUMN()-1,FALSE)))","v":"Gippsland United"},{"$f":"IF(ISERROR(VLOOKUP($B62,RaceDraw!$C$10:$P$440,COLUMN()-1,FALSE)),\" \",IF(ISBLANK(VLOOKUP($B62,RaceDraw!$C$10:$P$440,COLUMN()-1,FALSE)),\" \",VLOOKUP($B62,RaceDraw!$C$10:$P$440,COLUMN()-1,FALSE)))","v":"Peninsula Dragonfly"},{"$f":"IF(ISERROR(VLOOKUP($B62,RaceDraw!$C$10:$P$440,COLUMN()-1,FALSE)),\" \",IF(ISBLANK(VLOOKUP($B62,RaceDraw!$C$10:$P$440,COLUMN()-1,FALSE)),\" \",VLOOKUP($B62,RaceDraw!$C$10:$P$440,COLUMN()-1,FALSE)))","v":"Southern Warriors"},{"$f":"IF(ISERROR(VLOOKUP($B62,RaceDraw!$C$10:$P$440,COLUMN()-1,FALSE)),\" \",IF(ISBLANK(VLOOKUP($B62,RaceDraw!$C$10:$P$440,COLUMN()-1,FALSE)),\" \",VLOOKUP($B62,RaceDraw!$C$10:$P$440,COLUMN()-1,FALSE)))","v":"Goolwa River Dragons"},{"$f":"IF(ISERROR(VLOOKUP($B62,RaceDraw!$C$10:$P$440,COLUMN()-1,FALSE)),\" \",IF(ISBLANK(VLOOKUP($B62,RaceDraw!$C$10:$P$440,COLUMN()-1,FALSE)),\" \",VLOOKUP($B62,RaceDraw!$C$10:$P$440,COLUMN()-1,FALSE)))","v":"Dragonfire"},{"$f":"IF(ISERROR(VLOOKUP($B62,RaceDraw!$C$10:$P$440,COLUMN()-1,FALSE)),\" \",IF(ISBLANK(VLOOKUP($B62,RaceDraw!$C$10:$P$440,COLUMN()-1,FALSE)),\" \",VLOOKUP($B62,RaceDraw!$C$10:$P$440,COLUMN()-1,FALSE)))","v":" "},{"$f":"IF(ISERROR(VLOOKUP($B62,RaceDraw!$C$10:$P$440,COLUMN()-1,FALSE)),\" \",IF(ISBLANK(VLOOKUP($B62,RaceDraw!$C$10:$P$440,COLUMN()-1,FALSE)),\" \",VLOOKUP($B62,RaceDraw!$C$10:$P$440,COLUMN()-1,FALSE)))","v":" "},{"$f":"IF(ISERROR(VLOOKUP($B62,RaceDraw!$C$10:$P$440,COLUMN()-1,FALSE)),\" \",IF(ISBLANK(VLOOKUP($B62,RaceDraw!$C$10:$P$440,COLUMN()-1,FALSE)),\" \",VLOOKUP($B62,RaceDraw!$C$10:$P$440,COLUMN()-1,FALSE)))","v":" "},{"$f":"IF(ISERROR(VLOOKUP($B62,RaceDraw!$C$10:$P$440,COLUMN()-1,FALSE)),\" \",IF(ISBLANK(VLOOKUP($B62,RaceDraw!$C$10:$P$440,COLUMN()-1,FALSE)),\" \",VLOOKUP($B62,RaceDraw!$C$10:$P$440,COLUMN()-1,FALSE)))","v":" "},"Fri"]
[{"$f":"IF(ISERROR(INDEX(RaceDraw!$B$10:$B$440,MATCH(B63,RaceDraw!$C$10:$C$440,0))),\"\",INDEX(RaceDraw!$B$10:$B$440,MATCH(B63,RaceDraw!$C$10:$C$440,0)))","v":"14.42"},59,{"$f":"IF(ISERROR(VLOOKUP($B63,RaceDraw!$C$10:$P$440,COLUMN()-1,FALSE)),\"\",IF(ISBLANK(VLOOKUP($B63,RaceDraw!$C$10:$P$440,COLUMN()-1,FALSE)),\"\",VLOOKUP($B63,RaceDraw!$C$10:$P$440,COLUMN()-1,FALSE)))","v":"Senior A Mixed 20"},{"$f":"IF(ISERROR(VLOOKUP($B63,RaceDraw!$C$10:$P$440,COLUMN()-1,FALSE)),\"\",IF(ISBLANK(VLOOKUP($B63,RaceDraw!$C$10:$P$440,COLUMN()-1,FALSE)),\"\",VLOOKUP($B63,RaceDraw!$C$10:$P$440,COLUMN()-1,FALSE)))","v":200},{"$f":"IF(ISERROR(VLOOKUP($B63,RaceDraw!$C$10:$P$440,COLUMN()-1,FALSE)),\"\",IF(ISBLANK(VLOOKUP($B63,RaceDraw!$C$10:$P$440,COLUMN()-1,FALSE)),F63,VLOOKUP($B63,RaceDraw!$C$10:$P$440,COLUMN()-1,FALSE)))","v":2},{"$f":"IF(ISERROR(VLOOKUP($B63,RaceDraw!$C$10:$P$440,COLUMN()-1,FALSE)),\"\",IF(ISBLANK(VLOOKUP($B63,RaceDraw!$C$10:$P$440,COLUMN()-1,FALSE)),\"\",VLOOKUP($B63,RaceDraw!$C$10:$P$440,COLUMN()-1,FALSE)))","v":1},{"$f":"IF(ISERROR(VLOOKUP($B63,RaceDraw!$C$10:$P$440,COLUMN()-1,FALSE)),\" \",IF(ISBLANK(VLOOKUP($B63,RaceDraw!$C$10:$P$440,COLUMN()-1,FALSE)),\" \",VLOOKUP($B63,RaceDraw!$C$10:$P$440,COLUMN()-1,FALSE)))","v":"Kombo Dragons Black"},{"$f":"IF(ISERROR(VLOOKUP($B63,RaceDraw!$C$10:$P$440,COLUMN()-1,FALSE)),\" \",IF(ISBLANK(VLOOKUP($B63,RaceDraw!$C$10:$P$440,COLUMN()-1,FALSE)),\" \",VLOOKUP($B63,RaceDraw!$C$10:$P$440,COLUMN()-1,FALSE)))","v":"Hunter River Dragons"},{"$f":"IF(ISERROR(VLOOKUP($B63,RaceDraw!$C$10:$P$440,COLUMN()-1,FALSE)),\" \",IF(ISBLANK(VLOOKUP($B63,RaceDraw!$C$10:$P$440,COLUMN()-1,FALSE)),\" \",VLOOKUP($B63,RaceDraw!$C$10:$P$440,COLUMN()-1,FALSE)))","v":"Deepwater Dragons"},{"$f":"IF(ISERROR(VLOOKUP($B63,RaceDraw!$C$10:$P$440,COLUMN()-1,FALSE)),\" \",IF(ISBLANK(VLOOKUP($B63,RaceDraw!$C$10:$P$440,COLUMN()-1,FALSE)),\" \",VLOOKUP($B63,RaceDraw!$C$10:$P$440,COLUMN()-1,FALSE)))","v":"Motley Crew"},{"$f":"IF(ISERROR(VLOOKUP($B63,RaceDraw!$C$10:$P$440,COLUMN()-1,FALSE)),\" \",IF(ISBLANK(VLOOKUP($B63,RaceDraw!$C$10:$P$440,COLUMN()-1,FALSE)),\" \",VLOOKUP($B63,RaceDraw!$C$10:$P$440,COLUMN()-1,FALSE)))","v":"Gippsland United"},{"$f":"IF(ISERROR(VLOOKUP($B63,RaceDraw!$C$10:$P$440,COLUMN()-1,FALSE)),\" \",IF(ISBLANK(VLOOKUP($B63,RaceDraw!$C$10:$P$440,COLUMN()-1,FALSE)),\" \",VLOOKUP($B63,RaceDraw!$C$10:$P$440,COLUMN()-1,FALSE)))","v":"Mildura"},{"$f":"IF(ISERROR(VLOOKUP($B63,RaceDraw!$C$10:$P$440,COLUMN()-1,FALSE)),\" \",IF(ISBLANK(VLOOKUP($B63,RaceDraw!$C$10:$P$440,COLUMN()-1,FALSE)),\" \",VLOOKUP($B63,RaceDraw!$C$10:$P$440,COLUMN()-1,FALSE)))","v":" "},{"$f":"IF(ISERROR(VLOOKUP($B63,RaceDraw!$C$10:$P$440,COLUMN()-1,FALSE)),\" \",IF(ISBLANK(VLOOKUP($B63,RaceDraw!$C$10:$P$440,COLUMN()-1,FALSE)),\" \",VLOOKUP($B63,RaceDraw!$C$10:$P$440,COLUMN()-1,FALSE)))","v":" "},{"$f":"IF(ISERROR(VLOOKUP($B63,RaceDraw!$C$10:$P$440,COLUMN()-1,FALSE)),\" \",IF(ISBLANK(VLOOKUP($B63,RaceDraw!$C$10:$P$440,COLUMN()-1,FALSE)),\" \",VLOOKUP($B63,RaceDraw!$C$10:$P$440,COLUMN()-1,FALSE)))","v":" "},"Fri"]
[{"$f":"IF(ISERROR(INDEX(RaceDraw!$B$10:$B$440,MATCH(B64,RaceDraw!$C$10:$C$440,0))),\"\",INDEX(RaceDraw!$B$10:$B$440,MATCH(B64,RaceDraw!$C$10:$C$440,0)))","v":"14.48"},60,{"$f":"IF(ISERROR(VLOOKUP($B64,RaceDraw!$C$10:$P$440,COLUMN()-1,FALSE)),\"\",IF(ISBLANK(VLOOKUP($B64,RaceDraw!$C$10:$P$440,COLUMN()-1,FALSE)),\"\",VLOOKUP($B64,RaceDraw!$C$10:$P$440,COLUMN()-1,FALSE)))","v":"Senior C Women 10"},{"$f":"IF(ISERROR(VLOOKUP($B64,RaceDraw!$C$10:$P$440,COLUMN()-1,FALSE)),\"\",IF(ISBLANK(VLOOKUP($B64,RaceDraw!$C$10:$P$440,COLUMN()-1,FALSE)),\"\",VLOOKUP($B64,RaceDraw!$C$10:$P$440,COLUMN()-1,FALSE)))","v":200},{"$f":"IF(ISERROR(VLOOKUP($B64,RaceDraw!$C$10:$P$440,COLUMN()-1,FALSE)),\"\",IF(ISBLANK(VLOOKUP($B64,RaceDraw!$C$10:$P$440,COLUMN()-1,FALSE)),F64,VLOOKUP($B64,RaceDraw!$C$10:$P$440,COLUMN()-1,FALSE)))","v":2},{"$f":"IF(ISERROR(VLOOKUP($B64,RaceDraw!$C$10:$P$440,COLUMN()-1,FALSE)),\"\",IF(ISBLANK(VLOOKUP($B64,RaceDraw!$C$10:$P$440,COLUMN()-1,FALSE)),\"\",VLOOKUP($B64,RaceDraw!$C$10:$P$440,COLUMN()-1,FALSE)))","v":1},{"$f":"IF(ISERROR(VLOOKUP($B64,RaceDraw!$C$10:$P$440,COLUMN()-1,FALSE)),\" \",IF(ISBLANK(VLOOKUP($B64,RaceDraw!$C$10:$P$440,COLUMN()-1,FALSE)),\" \",VLOOKUP($B64,RaceDraw!$C$10:$P$440,COLUMN()-1,FALSE)))","v":"Black Sea Dragons"},{"$f":"IF(ISERROR(VLOOKUP($B64,RaceDraw!$C$10:$P$440,COLUMN()-1,FALSE)),\" \",IF(ISBLANK(VLOOKUP($B64,RaceDraw!$C$10:$P$440,COLUMN()-1,FALSE)),\" \",VLOOKUP($B64,RaceDraw!$C$10:$P$440,COLUMN()-1,FALSE)))","v":"Rainbow Dragons Blue"},{"$f":"IF(ISERROR(VLOOKUP($B64,RaceDraw!$C$10:$P$440,COLUMN()-1,FALSE)),\" \",IF(ISBLANK(VLOOKUP($B64,RaceDraw!$C$10:$P$440,COLUMN()-1,FALSE)),\" \",VLOOKUP($B64,RaceDraw!$C$10:$P$440,COLUMN()-1,FALSE)))","v":"SADA Sonix Blue"},{"$f":"IF(ISERROR(VLOOKUP($B64,RaceDraw!$C$10:$P$440,COLUMN()-1,FALSE)),\" \",IF(ISBLANK(VLOOKUP($B64,RaceDraw!$C$10:$P$440,COLUMN()-1,FALSE)),\" \",VLOOKUP($B64,RaceDraw!$C$10:$P$440,COLUMN()-1,FALSE)))","v":"Newcastle Dragon Hunters Red"},{"$f":"IF(ISERROR(VLOOKUP($B64,RaceDraw!$C$10:$P$440,COLUMN()-1,FALSE)),\" \",IF(ISBLANK(VLOOKUP($B64,RaceDraw!$C$10:$P$440,COLUMN()-1,FALSE)),\" \",VLOOKUP($B64,RaceDraw!$C$10:$P$440,COLUMN()-1,FALSE)))","v":"Dragons Afloat Port Lincoln"},{"$f":"IF(ISERROR(VLOOKUP($B64,RaceDraw!$C$10:$P$440,COLUMN()-1,FALSE)),\" \",IF(ISBLANK(VLOOKUP($B64,RaceDraw!$C$10:$P$440,COLUMN()-1,FALSE)),\" \",VLOOKUP($B64,RaceDraw!$C$10:$P$440,COLUMN()-1,FALSE)))","v":"Deepwater Green"},{"$f":"IF(ISERROR(VLOOKUP($B64,RaceDraw!$C$10:$P$440,COLUMN()-1,FALSE)),\" \",IF(ISBLANK(VLOOKUP($B64,RaceDraw!$C$10:$P$440,COLUMN()-1,FALSE)),\" \",VLOOKUP($B64,RaceDraw!$C$10:$P$440,COLUMN()-1,FALSE)))","v":" "},{"$f":"IF(ISERROR(VLOOKUP($B64,RaceDraw!$C$10:$P$440,COLUMN()-1,FALSE)),\" \",IF(ISBLANK(VLOOKUP($B64,RaceDraw!$C$10:$P$440,COLUMN()-1,FALSE)),\" \",VLOOKUP($B64,RaceDraw!$C$10:$P$440,COLUMN()-1,FALSE)))","v":" "},{"$f":"IF(ISERROR(VLOOKUP($B64,RaceDraw!$C$10:$P$440,COLUMN()-1,FALSE)),\" \",IF(ISBLANK(VLOOKUP($B64,RaceDraw!$C$10:$P$440,COLUMN()-1,FALSE)),\" \",VLOOKUP($B64,RaceDraw!$C$10:$P$440,COLUMN()-1,FALSE)))","v":" "},"Fri"]
[{"$f":"IF(ISERROR(INDEX(RaceDraw!$B$10:$B$440,MATCH(B65,RaceDraw!$C$10:$C$440,0))),\"\",INDEX(RaceDraw!$B$10:$B$440,MATCH(B65,RaceDraw!$C$10:$C$440,0)))","v":"14.54"},61,{"$f":"IF(ISERROR(VLOOKUP($B65,RaceDraw!$C$10:$P$440,COLUMN()-1,FALSE)),\"\",IF(ISBLANK(VLOOKUP($B65,RaceDraw!$C$10:$P$440,COLUMN()-1,FALSE)),\"\",VLOOKUP($B65,RaceDraw!$C$10:$P$440,COLUMN()-1,FALSE)))","v":"Senior C Women 10"},{"$f":"IF(ISERROR(VLOOKUP($B65,RaceDraw!$C$10:$P$440,COLUMN()-1,FALSE)),\"\",IF(ISBLANK(VLOOKUP($B65,RaceDraw!$C$10:$P$440,COLUMN()-1,FALSE)),\"\",VLOOKUP($B65,RaceDraw!$C$10:$P$440,COLUMN()-1,FALSE)))","v":200},{"$f":"IF(ISERROR(VLOOKUP($B65,RaceDraw!$C$10:$P$440,COLUMN()-1,FALSE)),\"\",IF(ISBLANK(VLOOKUP($B65,RaceDraw!$C$10:$P$440,COLUMN()-1,FALSE)),F65,VLOOKUP($B65,RaceDraw!$C$10:$P$440,COLUMN()-1,FALSE)))","v":2},{"$f":"IF(ISERROR(VLOOKUP($B65,RaceDraw!$C$10:$P$440,COLUMN()-1,FALSE)),\"\",IF(ISBLANK(VLOOKUP($B65,RaceDraw!$C$10:$P$440,COLUMN()-1,FALSE)),\"\",VLOOKUP($B65,RaceDraw!$C$10:$P$440,COLUMN()-1,FALSE)))","v":2},{"$f":"IF(ISERROR(VLOOKUP($B65,RaceDraw!$C$10:$P$440,COLUMN()-1,FALSE)),\" \",IF(ISBLANK(VLOOKUP($B65,RaceDraw!$C$10:$P$440,COLUMN()-1,FALSE)),\" \",VLOOKUP($B65,RaceDraw!$C$10:$P$440,COLUMN()-1,FALSE)))","v":"Southern Warriors White"},{"$f":"IF(ISERROR(VLOOKUP($B65,RaceDraw!$C$10:$P$440,COLUMN()-1,FALSE)),\" \",IF(ISBLANK(VLOOKUP($B65,RaceDraw!$C$10:$P$440,COLUMN()-1,FALSE)),\" \",VLOOKUP($B65,RaceDraw!$C$10:$P$440,COLUMN()-1,FALSE)))","v":"Rainbow Dragons Red"},{"$f":"IF(ISERROR(VLOOKUP($B65,RaceDraw!$C$10:$P$440,COLUMN()-1,FALSE)),\" \",IF(ISBLANK(VLOOKUP($B65,RaceDraw!$C$10:$P$440,COLUMN()-1,FALSE)),\" \",VLOOKUP($B65,RaceDraw!$C$10:$P$440,COLUMN()-1,FALSE)))","v":"SCD Warrnambool"},{"$f":"IF(ISERROR(VLOOKUP($B65,RaceDraw!$C$10:$P$440,COLUMN()-1,FALSE)),\" \",IF(ISBLANK(VLOOKUP($B65,RaceDraw!$C$10:$P$440,COLUMN()-1,FALSE)),\" \",VLOOKUP($B65,RaceDraw!$C$10:$P$440,COLUMN()-1,FALSE)))","v":"DA Bendigo Blue"},{"$f":"IF(ISERROR(VLOOKUP($B65,RaceDraw!$C$10:$P$440,COLUMN()-1,FALSE)),\" \",IF(ISBLANK(VLOOKUP($B65,RaceDraw!$C$10:$P$440,COLUMN()-1,FALSE)),\" \",VLOOKUP($B65,RaceDraw!$C$10:$P$440,COLUMN()-1,FALSE)))","v":"FNC"},{"$f":"IF(ISERROR(VLOOKUP($B65,RaceDraw!$C$10:$P$440,COLUMN()-1,FALSE)),\" \",IF(ISBLANK(VLOOKUP($B65,RaceDraw!$C$10:$P$440,COLUMN()-1,FALSE)),\" \",VLOOKUP($B65,RaceDraw!$C$10:$P$440,COLUMN()-1,FALSE)))","v":"Gypsy Dragons"},{"$f":"IF(ISERROR(VLOOKUP($B65,RaceDraw!$C$10:$P$440,COLUMN()-1,FALSE)),\" \",IF(ISBLANK(VLOOKUP($B65,RaceDraw!$C$10:$P$440,COLUMN()-1,FALSE)),\" \",VLOOKUP($B65,RaceDraw!$C$10:$P$440,COLUMN()-1,FALSE)))","v":" "},{"$f":"IF(ISERROR(VLOOKUP($B65,RaceDraw!$C$10:$P$440,COLUMN()-1,FALSE)),\" \",IF(ISBLANK(VLOOKUP($B65,RaceDraw!$C$10:$P$440,COLUMN()-1,FALSE)),\" \",VLOOKUP($B65,RaceDraw!$C$10:$P$440,COLUMN()-1,FALSE)))","v":" "},{"$f":"IF(ISERROR(VLOOKUP($B65,RaceDraw!$C$10:$P$440,COLUMN()-1,FALSE)),\" \",IF(ISBLANK(VLOOKUP($B65,RaceDraw!$C$10:$P$440,COLUMN()-1,FALSE)),\" \",VLOOKUP($B65,RaceDraw!$C$10:$P$440,COLUMN()-1,FALSE)))","v":" "},"Fri"]
[{"$f":"IF(ISERROR(INDEX(RaceDraw!$B$10:$B$440,MATCH(B66,RaceDraw!$C$10:$C$440,0))),\"\",INDEX(RaceDraw!$B$10:$B$440,MATCH(B66,RaceDraw!$C$10:$C$440,0)))","v":"15.00"},62,{"$f":"IF(ISERROR(VLOOKUP($B66,RaceDraw!$C$10:$P$440,COLUMN()-1,FALSE)),\"\",IF(ISBLANK(VLOOKUP($B66,RaceDraw!$C$10:$P$440,COLUMN()-1,FALSE)),\"\",VLOOKUP($B66,RaceDraw!$C$10:$P$440,COLUMN()-1,FALSE)))","v":"Senior C Women 10"},{"$f":"IF(ISERROR(VLOOKUP($B66,RaceDraw!$C$10:$P$440,COLUMN()-1,FALSE)),\"\",IF(ISBLANK(VLOOKUP($B66,RaceDraw!$C$10:$P$440,COLUMN()-1,FALSE)),\"\",VLOOKUP($B66,RaceDraw!$C$10:$P$440,COLUMN()-1,FALSE)))","v":200},{"$f":"IF(ISERROR(VLOOKUP($B66,RaceDraw!$C$10:$P$440,COLUMN()-1,FALSE)),\"\",IF(ISBLANK(VLOOKUP($B66,RaceDraw!$C$10:$P$440,COLUMN()-1,FALSE)),F66,VLOOKUP($B66,RaceDraw!$C$10:$P$440,COLUMN()-1,FALSE)))","v":2},{"$f":"IF(ISERROR(VLOOKUP($B66,RaceDraw!$C$10:$P$440,COLUMN()-1,FALSE)),\"\",IF(ISBLANK(VLOOKUP($B66,RaceDraw!$C$10:$P$440,COLUMN()-1,FALSE)),\"\",VLOOKUP($B66,RaceDraw!$C$10:$P$440,COLUMN()-1,FALSE)))","v":3},{"$f":"IF(ISERROR(VLOOKUP($B66,RaceDraw!$C$10:$P$440,COLUMN()-1,FALSE)),\" \",IF(ISBLANK(VLOOKUP($B66,RaceDraw!$C$10:$P$440,COLUMN()-1,FALSE)),\" \",VLOOKUP($B66,RaceDraw!$C$10:$P$440,COLUMN()-1,FALSE)))","v":"Gippsland Blue"},{"$f":"IF(ISERROR(VLOOKUP($B66,RaceDraw!$C$10:$P$440,COLUMN()-1,FALSE)),\" \",IF(ISBLANK(VLOOKUP($B66,RaceDraw!$C$10:$P$440,COLUMN()-1,FALSE)),\" \",VLOOKUP($B66,RaceDraw!$C$10:$P$440,COLUMN()-1,FALSE)))","v":"Dragons Afloat Bendigo"},{"$f":"IF(ISERROR(VLOOKUP($B66,RaceDraw!$C$10:$P$440,COLUMN()-1,FALSE)),\" \",IF(ISBLANK(VLOOKUP($B66,RaceDraw!$C$10:$P$440,COLUMN()-1,FALSE)),\" \",VLOOKUP($B66,RaceDraw!$C$10:$P$440,COLUMN()-1,FALSE)))","v":"Hunter River Dragons"},{"$f":"IF(ISERROR(VLOOKUP($B66,RaceDraw!$C$10:$P$440,COLUMN()-1,FALSE)),\" \",IF(ISBLANK(VLOOKUP($B66,RaceDraw!$C$10:$P$440,COLUMN()-1,FALSE)),\" \",VLOOKUP($B66,RaceDraw!$C$10:$P$440,COLUMN()-1,FALSE)))","v":"Dragon Masters"},{"$f":"IF(ISERROR(VLOOKUP($B66,RaceDraw!$C$10:$P$440,COLUMN()-1,FALSE)),\" \",IF(ISBLANK(VLOOKUP($B66,RaceDraw!$C$10:$P$440,COLUMN()-1,FALSE)),\" \",VLOOKUP($B66,RaceDraw!$C$10:$P$440,COLUMN()-1,FALSE)))","v":"Outback Dragons"},{"$f":"IF(ISERROR(VLOOKUP($B66,RaceDraw!$C$10:$P$440,COLUMN()-1,FALSE)),\" \",IF(ISBLANK(VLOOKUP($B66,RaceDraw!$C$10:$P$440,COLUMN()-1,FALSE)),\" \",VLOOKUP($B66,RaceDraw!$C$10:$P$440,COLUMN()-1,FALSE)))","v":"Kangaroo Island Dragons"},{"$f":"IF(ISERROR(VLOOKUP($B66,RaceDraw!$C$10:$P$440,COLUMN()-1,FALSE)),\" \",IF(ISBLANK(VLOOKUP($B66,RaceDraw!$C$10:$P$440,COLUMN()-1,FALSE)),\" \",VLOOKUP($B66,RaceDraw!$C$10:$P$440,COLUMN()-1,FALSE)))","v":" "},{"$f":"IF(ISERROR(VLOOKUP($B66,RaceDraw!$C$10:$P$440,COLUMN()-1,FALSE)),\" \",IF(ISBLANK(VLOOKUP($B66,RaceDraw!$C$10:$P$440,COLUMN()-1,FALSE)),\" \",VLOOKUP($B66,RaceDraw!$C$10:$P$440,COLUMN()-1,FALSE)))","v":" "},{"$f":"IF(ISERROR(VLOOKUP($B66,RaceDraw!$C$10:$P$440,COLUMN()-1,FALSE)),\" \",IF(ISBLANK(VLOOKUP($B66,RaceDraw!$C$10:$P$440,COLUMN()-1,FALSE)),\" \",VLOOKUP($B66,RaceDraw!$C$10:$P$440,COLUMN()-1,FALSE)))","v":" "},"Fri"]
[{"$f":"IF(ISERROR(INDEX(RaceDraw!$B$10:$B$440,MATCH(B67,RaceDraw!$C$10:$C$440,0))),\"\",INDEX(RaceDraw!$B$10:$B$440,MATCH(B67,RaceDraw!$C$10:$C$440,0)))","v":"15.06"},63,{"$f":"IF(ISERROR(VLOOKUP($B67,RaceDraw!$C$10:$P$440,COLUMN()-1,FALSE)),\"\",IF(ISBLANK(VLOOKUP($B67,RaceDraw!$C$10:$P$440,COLUMN()-1,FALSE)),\"\",VLOOKUP($B67,RaceDraw!$C$10:$P$440,COLUMN()-1,FALSE)))","v":"Senior C Women 10"},{"$f":"IF(ISERROR(VLOOKUP($B67,RaceDraw!$C$10:$P$440,COLUMN()-1,FALSE)),\"\",IF(ISBLANK(VLOOKUP($B67,RaceDraw!$C$10:$P$440,COLUMN()-1,FALSE)),\"\",VLOOKUP($B67,RaceDraw!$C$10:$P$440,COLUMN()-1,FALSE)))","v":200},{"$f":"IF(ISERROR(VLOOKUP($B67,RaceDraw!$C$10:$P$440,COLUMN()-1,FALSE)),\"\",IF(ISBLANK(VLOOKUP($B67,RaceDraw!$C$10:$P$440,COLUMN()-1,FALSE)),F67,VLOOKUP($B67,RaceDraw!$C$10:$P$440,COLUMN()-1,FALSE)))","v":2},{"$f":"IF(ISERROR(VLOOKUP($B67,RaceDraw!$C$10:$P$440,COLUMN()-1,FALSE)),\"\",IF(ISBLANK(VLOOKUP($B67,RaceDraw!$C$10:$P$440,COLUMN()-1,FALSE)),\"\",VLOOKUP($B67,RaceDraw!$C$10:$P$440,COLUMN()-1,FALSE)))","v":4},{"$f":"IF(ISERROR(VLOOKUP($B67,RaceDraw!$C$10:$P$440,COLUMN()-1,FALSE)),\" \",IF(ISBLANK(VLOOKUP($B67,RaceDraw!$C$10:$P$440,COLUMN()-1,FALSE)),\" \",VLOOKUP($B67,RaceDraw!$C$10:$P$440,COLUMN()-1,FALSE)))","v":"Mildura"},{"$f":"IF(ISERROR(VLOOKUP($B67,RaceDraw!$C$10:$P$440,COLUMN()-1,FALSE)),\" \",IF(ISBLANK(VLOOKUP($B67,RaceDraw!$C$10:$P$440,COLUMN()-1,FALSE)),\" \",VLOOKUP($B67,RaceDraw!$C$10:$P$440,COLUMN()-1,FALSE)))","v":"Peninsula Dragonfly"},{"$f":"IF(ISERROR(VLOOKUP($B67,RaceDraw!$C$10:$P$440,COLUMN()-1,FALSE)),\" \",IF(ISBLANK(VLOOKUP($B67,RaceDraw!$C$10:$P$440,COLUMN()-1,FALSE)),\" \",VLOOKUP($B67,RaceDraw!$C$10:$P$440,COLUMN()-1,FALSE)))","v":"Golden Dragons"},{"$f":"IF(ISERROR(VLOOKUP($B67,RaceDraw!$C$10:$P$440,COLUMN()-1,FALSE)),\" \",IF(ISBLANK(VLOOKUP($B67,RaceDraw!$C$10:$P$440,COLUMN()-1,FALSE)),\" \",VLOOKUP($B67,RaceDraw!$C$10:$P$440,COLUMN()-1,FALSE)))","v":"Southern Warriors Blue"},{"$f":"IF(ISERROR(VLOOKUP($B67,RaceDraw!$C$10:$P$440,COLUMN()-1,FALSE)),\" \",IF(ISBLANK(VLOOKUP($B67,RaceDraw!$C$10:$P$440,COLUMN()-1,FALSE)),\" \",VLOOKUP($B67,RaceDraw!$C$10:$P$440,COLUMN()-1,FALSE)))","v":"SADA Sonix Yellow"},{"$f":"IF(ISERROR(VLOOKUP($B67,RaceDraw!$C$10:$P$440,COLUMN()-1,FALSE)),\" \",IF(ISBLANK(VLOOKUP($B67,RaceDraw!$C$10:$P$440,COLUMN()-1,FALSE)),\" \",VLOOKUP($B67,RaceDraw!$C$10:$P$440,COLUMN()-1,FALSE)))","v":"Deepwater Purple"},{"$f":"IF(ISERROR(VLOOKUP($B67,RaceDraw!$C$10:$P$440,COLUMN()-1,FALSE)),\" \",IF(ISBLANK(VLOOKUP($B67,RaceDraw!$C$10:$P$440,COLUMN()-1,FALSE)),\" \",VLOOKUP($B67,RaceDraw!$C$10:$P$440,COLUMN()-1,FALSE)))","v":" "},{"$f":"IF(ISERROR(VLOOKUP($B67,RaceDraw!$C$10:$P$440,COLUMN()-1,FALSE)),\" \",IF(ISBLANK(VLOOKUP($B67,RaceDraw!$C$10:$P$440,COLUMN()-1,FALSE)),\" \",VLOOKUP($B67,RaceDraw!$C$10:$P$440,COLUMN()-1,FALSE)))","v":" "},{"$f":"IF(ISERROR(VLOOKUP($B67,RaceDraw!$C$10:$P$440,COLUMN()-1,FALSE)),\" \",IF(ISBLANK(VLOOKUP($B67,RaceDraw!$C$10:$P$440,COLUMN()-1,FALSE)),\" \",VLOOKUP($B67,RaceDraw!$C$10:$P$440,COLUMN()-1,FALSE)))","v":" "},"Fri"]
[{"$f":"IF(ISERROR(INDEX(RaceDraw!$B$10:$B$440,MATCH(B68,RaceDraw!$C$10:$C$440,0))),\"\",INDEX(RaceDraw!$B$10:$B$440,MATCH(B68,RaceDraw!$C$10:$C$440,0)))","v":"15.12"},64,{"$f":"IF(ISERROR(VLOOKUP($B68,RaceDraw!$C$10:$P$440,COLUMN()-1,FALSE)),\"\",IF(ISBLANK(VLOOKUP($B68,RaceDraw!$C$10:$P$440,COLUMN()-1,FALSE)),\"\",VLOOKUP($B68,RaceDraw!$C$10:$P$440,COLUMN()-1,FALSE)))","v":"Senior C Women 10"},{"$f":"IF(ISERROR(VLOOKUP($B68,RaceDraw!$C$10:$P$440,COLUMN()-1,FALSE)),\"\",IF(ISBLANK(VLOOKUP($B68,RaceDraw!$C$10:$P$440,COLUMN()-1,FALSE)),\"\",VLOOKUP($B68,RaceDraw!$C$10:$P$440,COLUMN()-1,FALSE)))","v":200},{"$f":"IF(ISERROR(VLOOKUP($B68,RaceDraw!$C$10:$P$440,COLUMN()-1,FALSE)),\"\",IF(ISBLANK(VLOOKUP($B68,RaceDraw!$C$10:$P$440,COLUMN()-1,FALSE)),F68,VLOOKUP($B68,RaceDraw!$C$10:$P$440,COLUMN()-1,FALSE)))","v":2},{"$f":"IF(ISERROR(VLOOKUP($B68,RaceDraw!$C$10:$P$440,COLUMN()-1,FALSE)),\"\",IF(ISBLANK(VLOOKUP($B68,RaceDraw!$C$10:$P$440,COLUMN()-1,FALSE)),\"\",VLOOKUP($B68,RaceDraw!$C$10:$P$440,COLUMN()-1,FALSE)))","v":5},{"$f":"IF(ISERROR(VLOOKUP($B68,RaceDraw!$C$10:$P$440,COLUMN()-1,FALSE)),\" \",IF(ISBLANK(VLOOKUP($B68,RaceDraw!$C$10:$P$440,COLUMN()-1,FALSE)),\" \",VLOOKUP($B68,RaceDraw!$C$10:$P$440,COLUMN()-1,FALSE)))","v":"Kombo Dragons Black"},{"$f":"IF(ISERROR(VLOOKUP($B68,RaceDraw!$C$10:$P$440,COLUMN()-1,FALSE)),\" \",IF(ISBLANK(VLOOKUP($B68,RaceDraw!$C$10:$P$440,COLUMN()-1,FALSE)),\" \",VLOOKUP($B68,RaceDraw!$C$10:$P$440,COLUMN()-1,FALSE)))","v":"DA Bendigo Pink"},{"$f":"IF(ISERROR(VLOOKUP($B68,RaceDraw!$C$10:$P$440,COLUMN()-1,FALSE)),\" \",IF(ISBLANK(VLOOKUP($B68,RaceDraw!$C$10:$P$440,COLUMN()-1,FALSE)),\" \",VLOOKUP($B68,RaceDraw!$C$10:$P$440,COLUMN()-1,FALSE)))","v":"Juggernauts"},{"$f":"IF(ISERROR(VLOOKUP($B68,RaceDraw!$C$10:$P$440,COLUMN()-1,FALSE)),\" \",IF(ISBLANK(VLOOKUP($B68,RaceDraw!$C$10:$P$440,COLUMN()-1,FALSE)),\" \",VLOOKUP($B68,RaceDraw!$C$10:$P$440,COLUMN()-1,FALSE)))","v":"Motley Crew"},{"$f":"IF(ISERROR(VLOOKUP($B68,RaceDraw!$C$10:$P$440,COLUMN()-1,FALSE)),\" \",IF(ISBLANK(VLOOKUP($B68,RaceDraw!$C$10:$P$440,COLUMN()-1,FALSE)),\" \",VLOOKUP($B68,RaceDraw!$C$10:$P$440,COLUMN()-1,FALSE)))","v":"Powerblades"},{"$f":"IF(ISERROR(VLOOKUP($B68,RaceDraw!$C$10:$P$440,COLUMN()-1,FALSE)),\" \",IF(ISBLANK(VLOOKUP($B68,RaceDraw!$C$10:$P$440,COLUMN()-1,FALSE)),\" \",VLOOKUP($B68,RaceDraw!$C$10:$P$440,COLUMN()-1,FALSE)))","v":"Newcastle Dragon Hunters Purple"},{"$f":"IF(ISERROR(VLOOKUP($B68,RaceDraw!$C$10:$P$440,COLUMN()-1,FALSE)),\" \",IF(ISBLANK(VLOOKUP($B68,RaceDraw!$C$10:$P$440,COLUMN()-1,FALSE)),\" \",VLOOKUP($B68,RaceDraw!$C$10:$P$440,COLUMN()-1,FALSE)))","v":"Gippsland Orange"},{"$f":"IF(ISERROR(VLOOKUP($B68,RaceDraw!$C$10:$P$440,COLUMN()-1,FALSE)),\" \",IF(ISBLANK(VLOOKUP($B68,RaceDraw!$C$10:$P$440,COLUMN()-1,FALSE)),\" \",VLOOKUP($B68,RaceDraw!$C$10:$P$440,COLUMN()-1,FALSE)))","v":" "},{"$f":"IF(ISERROR(VLOOKUP($B68,RaceDraw!$C$10:$P$440,COLUMN()-1,FALSE)),\" \",IF(ISBLANK(VLOOKUP($B68,RaceDraw!$C$10:$P$440,COLUMN()-1,FALSE)),\" \",VLOOKUP($B68,RaceDraw!$C$10:$P$440,COLUMN()-1,FALSE)))","v":" "},"Fri"]
[{"$f":"IF(ISERROR(INDEX(RaceDraw!$B$10:$B$440,MATCH(B69,RaceDraw!$C$10:$C$440,0))),\"\",INDEX(RaceDraw!$B$10:$B$440,MATCH(B69,RaceDraw!$C$10:$C$440,0)))","v":"15.18"},65,{"$f":"IF(ISERROR(VLOOKUP($B69,RaceDraw!$C$10:$P$440,COLUMN()-1,FALSE)),\"\",IF(ISBLANK(VLOOKUP($B69,RaceDraw!$C$10:$P$440,COLUMN()-1,FALSE)),\"\",VLOOKUP($B69,RaceDraw!$C$10:$P$440,COLUMN()-1,FALSE)))","v":"Senior C Open 10's"},{"$f":"IF(ISERROR(VLOOKUP($B69,RaceDraw!$C$10:$P$440,COLUMN()-1,FALSE)),\"\",IF(ISBLANK(VLOOKUP($B69,RaceDraw!$C$10:$P$440,COLUMN()-1,FALSE)),\"\",VLOOKUP($B69,RaceDraw!$C$10:$P$440,COLUMN()-1,FALSE)))","v":200},{"$f":"IF(ISERROR(VLOOKUP($B69,RaceDraw!$C$10:$P$440,COLUMN()-1,FALSE)),\"\",IF(ISBLANK(VLOOKUP($B69,RaceDraw!$C$10:$P$440,COLUMN()-1,FALSE)),F69,VLOOKUP($B69,RaceDraw!$C$10:$P$440,COLUMN()-1,FALSE)))","v":2},{"$f":"IF(ISERROR(VLOOKUP($B69,RaceDraw!$C$10:$P$440,COLUMN()-1,FALSE)),\"\",IF(ISBLANK(VLOOKUP($B69,RaceDraw!$C$10:$P$440,COLUMN()-1,FALSE)),\"\",VLOOKUP($B69,RaceDraw!$C$10:$P$440,COLUMN()-1,FALSE)))","v":1},{"$f":"IF(ISERROR(VLOOKUP($B69,RaceDraw!$C$10:$P$440,COLUMN()-1,FALSE)),\" \",IF(ISBLANK(VLOOKUP($B69,RaceDraw!$C$10:$P$440,COLUMN()-1,FALSE)),\" \",VLOOKUP($B69,RaceDraw!$C$10:$P$440,COLUMN()-1,FALSE)))","v":"Rainbow Dragons"},{"$f":"IF(ISERROR(VLOOKUP($B69,RaceDraw!$C$10:$P$440,COLUMN()-1,FALSE)),\" \",IF(ISBLANK(VLOOKUP($B69,RaceDraw!$C$10:$P$440,COLUMN()-1,FALSE)),\" \",VLOOKUP($B69,RaceDraw!$C$10:$P$440,COLUMN()-1,FALSE)))","v":"Mildura"},{"$f":"IF(ISERROR(VLOOKUP($B69,RaceDraw!$C$10:$P$440,COLUMN()-1,FALSE)),\" \",IF(ISBLANK(VLOOKUP($B69,RaceDraw!$C$10:$P$440,COLUMN()-1,FALSE)),\" \",VLOOKUP($B69,RaceDraw!$C$10:$P$440,COLUMN()-1,FALSE)))","v":"PowerBlades"},{"$f":"IF(ISERROR(VLOOKUP($B69,RaceDraw!$C$10:$P$440,COLUMN()-1,FALSE)),\" \",IF(ISBLANK(VLOOKUP($B69,RaceDraw!$C$10:$P$440,COLUMN()-1,FALSE)),\" \",VLOOKUP($B69,RaceDraw!$C$10:$P$440,COLUMN()-1,FALSE)))","v":"SADA Sonix"},{"$f":"IF(ISERROR(VLOOKUP($B69,RaceDraw!$C$10:$P$440,COLUMN()-1,FALSE)),\" \",IF(ISBLANK(VLOOKUP($B69,RaceDraw!$C$10:$P$440,COLUMN()-1,FALSE)),\" \",VLOOKUP($B69,RaceDraw!$C$10:$P$440,COLUMN()-1,FALSE)))","v":"Kangaroo Island Dragons"},{"$f":"IF(ISERROR(VLOOKUP($B69,RaceDraw!$C$10:$P$440,COLUMN()-1,FALSE)),\" \",IF(ISBLANK(VLOOKUP($B69,RaceDraw!$C$10:$P$440,COLUMN()-1,FALSE)),\" \",VLOOKUP($B69,RaceDraw!$C$10:$P$440,COLUMN()-1,FALSE)))","v":"Hunter River Dragons"},{"$f":"IF(ISERROR(VLOOKUP($B69,RaceDraw!$C$10:$P$440,COLUMN()-1,FALSE)),\" \",IF(ISBLANK(VLOOKUP($B69,RaceDraw!$C$10:$P$440,COLUMN()-1,FALSE)),\" \",VLOOKUP($B69,RaceDraw!$C$10:$P$440,COLUMN()-1,FALSE)))","v":" "},{"$f":"IF(ISERROR(VLOOKUP($B69,RaceDraw!$C$10:$P$440,COLUMN()-1,FALSE)),\" \",IF(ISBLANK(VLOOKUP($B69,RaceDraw!$C$10:$P$440,COLUMN()-1,FALSE)),\" \",VLOOKUP($B69,RaceDraw!$C$10:$P$440,COLUMN()-1,FALSE)))","v":" "},{"$f":"IF(ISERROR(VLOOKUP($B69,RaceDraw!$C$10:$P$440,COLUMN()-1,FALSE)),\" \",IF(ISBLANK(VLOOKUP($B69,RaceDraw!$C$10:$P$440,COLUMN()-1,FALSE)),\" \",VLOOKUP($B69,RaceDraw!$C$10:$P$440,COLUMN()-1,FALSE)))","v":" "},"Fri"]
[{"$f":"IF(ISERROR(INDEX(RaceDraw!$B$10:$B$440,MATCH(B70,RaceDraw!$C$10:$C$440,0))),\"\",INDEX(RaceDraw!$B$10:$B$440,MATCH(B70,RaceDraw!$C$10:$C$440,0)))","v":"15.24"},66,{"$f":"IF(ISERROR(VLOOKUP($B70,RaceDraw!$C$10:$P$440,COLUMN()-1,FALSE)),\"\",IF(ISBLANK(VLOOKUP($B70,RaceDraw!$C$10:$P$440,COLUMN()-1,FALSE)),\"\",VLOOKUP($B70,RaceDraw!$C$10:$P$440,COLUMN()-1,FALSE)))","v":"Senior C Open 10's"},{"$f":"IF(ISERROR(VLOOKUP($B70,RaceDraw!$C$10:$P$440,COLUMN()-1,FALSE)),\"\",IF(ISBLANK(VLOOKUP($B70,RaceDraw!$C$10:$P$440,COLUMN()-1,FALSE)),\"\",VLOOKUP($B70,RaceDraw!$C$10:$P$440,COLUMN()-1,FALSE)))","v":200},{"$f":"IF(ISERROR(VLOOKUP($B70,RaceDraw!$C$10:$P$440,COLUMN()-1,FALSE)),\"\",IF(ISBLANK(VLOOKUP($B70,RaceDraw!$C$10:$P$440,COLUMN()-1,FALSE)),F70,VLOOKUP($B70,RaceDraw!$C$10:$P$440,COLUMN()-1,FALSE)))","v":2},{"$f":"IF(ISERROR(VLOOKUP($B70,RaceDraw!$C$10:$P$440,COLUMN()-1,FALSE)),\"\",IF(ISBLANK(VLOOKUP($B70,RaceDraw!$C$10:$P$440,COLUMN()-1,FALSE)),\"\",VLOOKUP($B70,RaceDraw!$C$10:$P$440,COLUMN()-1,FALSE)))","v":2},{"$f":"IF(ISERROR(VLOOKUP($B70,RaceDraw!$C$10:$P$440,COLUMN()-1,FALSE)),\" \",IF(ISBLANK(VLOOKUP($B70,RaceDraw!$C$10:$P$440,COLUMN()-1,FALSE)),\" \",VLOOKUP($B70,RaceDraw!$C$10:$P$440,COLUMN()-1,FALSE)))","v":"Deepwater"},{"$f":"IF(ISERROR(VLOOKUP($B70,RaceDraw!$C$10:$P$440,COLUMN()-1,FALSE)),\" \",IF(ISBLANK(VLOOKUP($B70,RaceDraw!$C$10:$P$440,COLUMN()-1,FALSE)),\" \",VLOOKUP($B70,RaceDraw!$C$10:$P$440,COLUMN()-1,FALSE)))","v":"Gippsland United"},{"$f":"IF(ISERROR(VLOOKUP($B70,RaceDraw!$C$10:$P$440,COLUMN()-1,FALSE)),\" \",IF(ISBLANK(VLOOKUP($B70,RaceDraw!$C$10:$P$440,COLUMN()-1,FALSE)),\" \",VLOOKUP($B70,RaceDraw!$C$10:$P$440,COLUMN()-1,FALSE)))","v":"Southern Warriors Blue"},{"$f":"IF(ISERROR(VLOOKUP($B70,RaceDraw!$C$10:$P$440,COLUMN()-1,FALSE)),\" \",IF(ISBLANK(VLOOKUP($B70,RaceDraw!$C$10:$P$440,COLUMN()-1,FALSE)),\" \",VLOOKUP($B70,RaceDraw!$C$10:$P$440,COLUMN()-1,FALSE)))","v":"FNC"},{"$f":"IF(ISERROR(VLOOKUP($B70,RaceDraw!$C$10:$P$440,COLUMN()-1,FALSE)),\" \",IF(ISBLANK(VLOOKUP($B70,RaceDraw!$C$10:$P$440,COLUMN()-1,FALSE)),\" \",VLOOKUP($B70,RaceDraw!$C$10:$P$440,COLUMN()-1,FALSE)))","v":"Gypsy Dragons"},{"$f":"IF(ISERROR(VLOOKUP($B70,RaceDraw!$C$10:$P$440,COLUMN()-1,FALSE)),\" \",IF(ISBLANK(VLOOKUP($B70,RaceDraw!$C$10:$P$440,COLUMN()-1,FALSE)),\" \",VLOOKUP($B70,RaceDraw!$C$10:$P$440,COLUMN()-1,FALSE)))","v":"Kombo Dragons Black"},{"$f":"IF(ISERROR(VLOOKUP($B70,RaceDraw!$C$10:$P$440,COLUMN()-1,FALSE)),\" \",IF(ISBLANK(VLOOKUP($B70,RaceDraw!$C$10:$P$440,COLUMN()-1,FALSE)),\" \",VLOOKUP($B70,RaceDraw!$C$10:$P$440,COLUMN()-1,FALSE)))","v":"ASA"},{"$f":"IF(ISERROR(VLOOKUP($B70,RaceDraw!$C$10:$P$440,COLUMN()-1,FALSE)),\" \",IF(ISBLANK(VLOOKUP($B70,RaceDraw!$C$10:$P$440,COLUMN()-1,FALSE)),\" \",VLOOKUP($B70,RaceDraw!$C$10:$P$440,COLUMN()-1,FALSE)))","v":" "},{"$f":"IF(ISERROR(VLOOKUP($B70,RaceDraw!$C$10:$P$440,COLUMN()-1,FALSE)),\" \",IF(ISBLANK(VLOOKUP($B70,RaceDraw!$C$10:$P$440,COLUMN()-1,FALSE)),\" \",VLOOKUP($B70,RaceDraw!$C$10:$P$440,COLUMN()-1,FALSE)))","v":" "},"Fri"]
[{"$f":"IF(ISERROR(INDEX(RaceDraw!$B$10:$B$440,MATCH(B71,RaceDraw!$C$10:$C$440,0))),\"\",INDEX(RaceDraw!$B$10:$B$440,MATCH(B71,RaceDraw!$C$10:$C$440,0)))","v":"15.30"},67,{"$f":"IF(ISERROR(VLOOKUP($B71,RaceDraw!$C$10:$P$440,COLUMN()-1,FALSE)),\"\",IF(ISBLANK(VLOOKUP($B71,RaceDraw!$C$10:$P$440,COLUMN()-1,FALSE)),\"\",VLOOKUP($B71,RaceDraw!$C$10:$P$440,COLUMN()-1,FALSE)))","v":"Senior C Open 10's"},{"$f":"IF(ISERROR(VLOOKUP($B71,RaceDraw!$C$10:$P$440,COLUMN()-1,FALSE)),\"\",IF(ISBLANK(VLOOKUP($B71,RaceDraw!$C$10:$P$440,COLUMN()-1,FALSE)),\"\",VLOOKUP($B71,RaceDraw!$C$10:$P$440,COLUMN()-1,FALSE)))","v":200},{"$f":"IF(ISERROR(VLOOKUP($B71,RaceDraw!$C$10:$P$440,COLUMN()-1,FALSE)),\"\",IF(ISBLANK(VLOOKUP($B71,RaceDraw!$C$10:$P$440,COLUMN()-1,FALSE)),F71,VLOOKUP($B71,RaceDraw!$C$10:$P$440,COLUMN()-1,FALSE)))","v":2},{"$f":"IF(ISERROR(VLOOKUP($B71,RaceDraw!$C$10:$P$440,COLUMN()-1,FALSE)),\"\",IF(ISBLANK(VLOOKUP($B71,RaceDraw!$C$10:$P$440,COLUMN()-1,FALSE)),\"\",VLOOKUP($B71,RaceDraw!$C$10:$P$440,COLUMN()-1,FALSE)))","v":3},{"$f":"IF(ISERROR(VLOOKUP($B71,RaceDraw!$C$10:$P$440,COLUMN()-1,FALSE)),\" \",IF(ISBLANK(VLOOKUP($B71,RaceDraw!$C$10:$P$440,COLUMN()-1,FALSE)),\" \",VLOOKUP($B71,RaceDraw!$C$10:$P$440,COLUMN()-1,FALSE)))","v":"Southern Warriors White"},{"$f":"IF(ISERROR(VLOOKUP($B71,RaceDraw!$C$10:$P$440,COLUMN()-1,FALSE)),\" \",IF(ISBLANK(VLOOKUP($B71,RaceDraw!$C$10:$P$440,COLUMN()-1,FALSE)),\" \",VLOOKUP($B71,RaceDraw!$C$10:$P$440,COLUMN()-1,FALSE)))","v":"Outback Dragons"},{"$f":"IF(ISERROR(VLOOKUP($B71,RaceDraw!$C$10:$P$440,COLUMN()-1,FALSE)),\" \",IF(ISBLANK(VLOOKUP($B71,RaceDraw!$C$10:$P$440,COLUMN()-1,FALSE)),\" \",VLOOKUP($B71,RaceDraw!$C$10:$P$440,COLUMN()-1,FALSE)))","v":"Newcastle Dragon Hunters Red"},{"$f":"IF(ISERROR(VLOOKUP($B71,RaceDraw!$C$10:$P$440,COLUMN()-1,FALSE)),\" \",IF(ISBLANK(VLOOKUP($B71,RaceDraw!$C$10:$P$440,COLUMN()-1,FALSE)),\" \",VLOOKUP($B71,RaceDraw!$C$10:$P$440,COLUMN()-1,FALSE)))","v":"Kombo Dragons Purple"},{"$f":"IF(ISERROR(VLOOKUP($B71,RaceDraw!$C$10:$P$440,COLUMN()-1,FALSE)),\" \",IF(ISBLANK(VLOOKUP($B71,RaceDraw!$C$10:$P$440,COLUMN()-1,FALSE)),\" \",VLOOKUP($B71,RaceDraw!$C$10:$P$440,COLUMN()-1,FALSE)))","v":"Motley Crew"},{"$f":"IF(ISERROR(VLOOKUP($B71,RaceDraw!$C$10:$P$440,COLUMN()-1,FALSE)),\" \",IF(ISBLANK(VLOOKUP($B71,RaceDraw!$C$10:$P$440,COLUMN()-1,FALSE)),\" \",VLOOKUP($B71,RaceDraw!$C$10:$P$440,COLUMN()-1,FALSE)))","v":"Dragon Masters"},{"$f":"IF(ISERROR(VLOOKUP($B71,RaceDraw!$C$10:$P$440,COLUMN()-1,FALSE)),\" \",IF(ISBLANK(VLOOKUP($B71,RaceDraw!$C$10:$P$440,COLUMN()-1,FALSE)),\" \",VLOOKUP($B71,RaceDraw!$C$10:$P$440,COLUMN()-1,FALSE)))","v":" "},{"$f":"IF(ISERROR(VLOOKUP($B71,RaceDraw!$C$10:$P$440,COLUMN()-1,FALSE)),\" \",IF(ISBLANK(VLOOKUP($B71,RaceDraw!$C$10:$P$440,COLUMN()-1,FALSE)),\" \",VLOOKUP($B71,RaceDraw!$C$10:$P$440,COLUMN()-1,FALSE)))","v":" "},{"$f":"IF(ISERROR(VLOOKUP($B71,RaceDraw!$C$10:$P$440,COLUMN()-1,FALSE)),\" \",IF(ISBLANK(VLOOKUP($B71,RaceDraw!$C$10:$P$440,COLUMN()-1,FALSE)),\" \",VLOOKUP($B71,RaceDraw!$C$10:$P$440,COLUMN()-1,FALSE)))","v":" "},"Fri"]
[{"$f":"IF(ISERROR(INDEX(RaceDraw!$B$10:$B$440,MATCH(B72,RaceDraw!$C$10:$C$440,0))),\"\",INDEX(RaceDraw!$B$10:$B$440,MATCH(B72,RaceDraw!$C$10:$C$440,0)))","v":"15.36"},68,{"$f":"IF(ISERROR(VLOOKUP($B72,RaceDraw!$C$10:$P$440,COLUMN()-1,FALSE)),\"\",IF(ISBLANK(VLOOKUP($B72,RaceDraw!$C$10:$P$440,COLUMN()-1,FALSE)),\"\",VLOOKUP($B72,RaceDraw!$C$10:$P$440,COLUMN()-1,FALSE)))","v":"BCS 10"},{"$f":"IF(ISERROR(VLOOKUP($B72,RaceDraw!$C$10:$P$440,COLUMN()-1,FALSE)),\"\",IF(ISBLANK(VLOOKUP($B72,RaceDraw!$C$10:$P$440,COLUMN()-1,FALSE)),\"\",VLOOKUP($B72,RaceDraw!$C$10:$P$440,COLUMN()-1,FALSE)))","v":200},{"$f":"IF(ISERROR(VLOOKUP($B72,RaceDraw!$C$10:$P$440,COLUMN()-1,FALSE)),\"\",IF(ISBLANK(VLOOKUP($B72,RaceDraw!$C$10:$P$440,COLUMN()-1,FALSE)),F72,VLOOKUP($B72,RaceDraw!$C$10:$P$440,COLUMN()-1,FALSE)))","v":2},{"$f":"IF(ISERROR(VLOOKUP($B72,RaceDraw!$C$10:$P$440,COLUMN()-1,FALSE)),\"\",IF(ISBLANK(VLOOKUP($B72,RaceDraw!$C$10:$P$440,COLUMN()-1,FALSE)),\"\",VLOOKUP($B72,RaceDraw!$C$10:$P$440,COLUMN()-1,FALSE)))","v":1},{"$f":"IF(ISERROR(VLOOKUP($B72,RaceDraw!$C$10:$P$440,COLUMN()-1,FALSE)),\" \",IF(ISBLANK(VLOOKUP($B72,RaceDraw!$C$10:$P$440,COLUMN()-1,FALSE)),\" \",VLOOKUP($B72,RaceDraw!$C$10:$P$440,COLUMN()-1,FALSE)))","v":"Rainbow Dragons"},{"$f":"IF(ISERROR(VLOOKUP($B72,RaceDraw!$C$10:$P$440,COLUMN()-1,FALSE)),\" \",IF(ISBLANK(VLOOKUP($B72,RaceDraw!$C$10:$P$440,COLUMN()-1,FALSE)),\" \",VLOOKUP($B72,RaceDraw!$C$10:$P$440,COLUMN()-1,FALSE)))","v":"SADA Sonix"},{"$f":"IF(ISERROR(VLOOKUP($B72,RaceDraw!$C$10:$P$440,COLUMN()-1,FALSE)),\" \",IF(ISBLANK(VLOOKUP($B72,RaceDraw!$C$10:$P$440,COLUMN()-1,FALSE)),\" \",VLOOKUP($B72,RaceDraw!$C$10:$P$440,COLUMN()-1,FALSE)))","v":"Pink Dragons"},{"$f":"IF(ISERROR(VLOOKUP($B72,RaceDraw!$C$10:$P$440,COLUMN()-1,FALSE)),\" \",IF(ISBLANK(VLOOKUP($B72,RaceDraw!$C$10:$P$440,COLUMN()-1,FALSE)),\" \",VLOOKUP($B72,RaceDraw!$C$10:$P$440,COLUMN()-1,FALSE)))","v":"DA Bendigo Blue"},{"$f":"IF(ISERROR(VLOOKUP($B72,RaceDraw!$C$10:$P$440,COLUMN()-1,FALSE)),\" \",IF(ISBLANK(VLOOKUP($B72,RaceDraw!$C$10:$P$440,COLUMN()-1,FALSE)),\" \",VLOOKUP($B72,RaceDraw!$C$10:$P$440,COLUMN()-1,FALSE)))","v":"Juggernauts"},{"$f":"IF(ISERROR(VLOOKUP($B72,RaceDraw!$C$10:$P$440,COLUMN()-1,FALSE)),\" \",IF(ISBLANK(VLOOKUP($B72,RaceDraw!$C$10:$P$440,COLUMN()-1,FALSE)),\" \",VLOOKUP($B72,RaceDraw!$C$10:$P$440,COLUMN()-1,FALSE)))","v":" "},{"$f":"IF(ISERROR(VLOOKUP($B72,RaceDraw!$C$10:$P$440,COLUMN()-1,FALSE)),\" \",IF(ISBLANK(VLOOKUP($B72,RaceDraw!$C$10:$P$440,COLUMN()-1,FALSE)),\" \",VLOOKUP($B72,RaceDraw!$C$10:$P$440,COLUMN()-1,FALSE)))","v":" "},{"$f":"IF(ISERROR(VLOOKUP($B72,RaceDraw!$C$10:$P$440,COLUMN()-1,FALSE)),\" \",IF(ISBLANK(VLOOKUP($B72,RaceDraw!$C$10:$P$440,COLUMN()-1,FALSE)),\" \",VLOOKUP($B72,RaceDraw!$C$10:$P$440,COLUMN()-1,FALSE)))","v":" "},{"$f":"IF(ISERROR(VLOOKUP($B72,RaceDraw!$C$10:$P$440,COLUMN()-1,FALSE)),\" \",IF(ISBLANK(VLOOKUP($B72,RaceDraw!$C$10:$P$440,COLUMN()-1,FALSE)),\" \",VLOOKUP($B72,RaceDraw!$C$10:$P$440,COLUMN()-1,FALSE)))","v":" "},"Fri"]
[{"$f":"IF(ISERROR(INDEX(RaceDraw!$B$10:$B$440,MATCH(B73,RaceDraw!$C$10:$C$440,0))),\"\",INDEX(RaceDraw!$B$10:$B$440,MATCH(B73,RaceDraw!$C$10:$C$440,0)))","v":"15.42"},69,{"$f":"IF(ISERROR(VLOOKUP($B73,RaceDraw!$C$10:$P$440,COLUMN()-1,FALSE)),\"\",IF(ISBLANK(VLOOKUP($B73,RaceDraw!$C$10:$P$440,COLUMN()-1,FALSE)),\"\",VLOOKUP($B73,RaceDraw!$C$10:$P$440,COLUMN()-1,FALSE)))","v":"BCS 10"},{"$f":"IF(ISERROR(VLOOKUP($B73,RaceDraw!$C$10:$P$440,COLUMN()-1,FALSE)),\"\",IF(ISBLANK(VLOOKUP($B73,RaceDraw!$C$10:$P$440,COLUMN()-1,FALSE)),\"\",VLOOKUP($B73,RaceDraw!$C$10:$P$440,COLUMN()-1,FALSE)))","v":200},{"$f":"IF(ISERROR(VLOOKUP($B73,RaceDraw!$C$10:$P$440,COLUMN()-1,FALSE)),\"\",IF(ISBLANK(VLOOKUP($B73,RaceDraw!$C$10:$P$440,COLUMN()-1,FALSE)),F73,VLOOKUP($B73,RaceDraw!$C$10:$P$440,COLUMN()-1,FALSE)))","v":2},{"$f":"IF(ISERROR(VLOOKUP($B73,RaceDraw!$C$10:$P$440,COLUMN()-1,FALSE)),\"\",IF(ISBLANK(VLOOKUP($B73,RaceDraw!$C$10:$P$440,COLUMN()-1,FALSE)),\"\",VLOOKUP($B73,RaceDraw!$C$10:$P$440,COLUMN()-1,FALSE)))","v":2},{"$f":"IF(ISERROR(VLOOKUP($B73,RaceDraw!$C$10:$P$440,COLUMN()-1,FALSE)),\" \",IF(ISBLANK(VLOOKUP($B73,RaceDraw!$C$10:$P$440,COLUMN()-1,FALSE)),\" \",VLOOKUP($B73,RaceDraw!$C$10:$P$440,COLUMN()-1,FALSE)))","v":"DA Bendigo Pink"},{"$f":"IF(ISERROR(VLOOKUP($B73,RaceDraw!$C$10:$P$440,COLUMN()-1,FALSE)),\" \",IF(ISBLANK(VLOOKUP($B73,RaceDraw!$C$10:$P$440,COLUMN()-1,FALSE)),\" \",VLOOKUP($B73,RaceDraw!$C$10:$P$440,COLUMN()-1,FALSE)))","v":"Motley Crew"},{"$f":"IF(ISERROR(VLOOKUP($B73,RaceDraw!$C$10:$P$440,COLUMN()-1,FALSE)),\" \",IF(ISBLANK(VLOOKUP($B73,RaceDraw!$C$10:$P$440,COLUMN()-1,FALSE)),\" \",VLOOKUP($B73,RaceDraw!$C$10:$P$440,COLUMN()-1,FALSE)))","v":"Dragons Abreast Adelaide"},{"$f":"IF(ISERROR(VLOOKUP($B73,RaceDraw!$C$10:$P$440,COLUMN()-1,FALSE)),\" \",IF(ISBLANK(VLOOKUP($B73,RaceDraw!$C$10:$P$440,COLUMN()-1,FALSE)),\" \",VLOOKUP($B73,RaceDraw!$C$10:$P$440,COLUMN()-1,FALSE)))","v":"ASA"},{"$f":"IF(ISERROR(VLOOKUP($B73,RaceDraw!$C$10:$P$440,COLUMN()-1,FALSE)),\" \",IF(ISBLANK(VLOOKUP($B73,RaceDraw!$C$10:$P$440,COLUMN()-1,FALSE)),\" \",VLOOKUP($B73,RaceDraw!$C$10:$P$440,COLUMN()-1,FALSE)))","v":" "},{"$f":"IF(ISERROR(VLOOKUP($B73,RaceDraw!$C$10:$P$440,COLUMN()-1,FALSE)),\" \",IF(ISBLANK(VLOOKUP($B73,RaceDraw!$C$10:$P$440,COLUMN()-1,FALSE)),\" \",VLOOKUP($B73,RaceDraw!$C$10:$P$440,COLUMN()-1,FALSE)))","v":" "},{"$f":"IF(ISERROR(VLOOKUP($B73,RaceDraw!$C$10:$P$440,COLUMN()-1,FALSE)),\" \",IF(ISBLANK(VLOOKUP($B73,RaceDraw!$C$10:$P$440,COLUMN()-1,FALSE)),\" \",VLOOKUP($B73,RaceDraw!$C$10:$P$440,COLUMN()-1,FALSE)))","v":" "},{"$f":"IF(ISERROR(VLOOKUP($B73,RaceDraw!$C$10:$P$440,COLUMN()-1,FALSE)),\" \",IF(ISBLANK(VLOOKUP($B73,RaceDraw!$C$10:$P$440,COLUMN()-1,FALSE)),\" \",VLOOKUP($B73,RaceDraw!$C$10:$P$440,COLUMN()-1,FALSE)))","v":" "},{"$f":"IF(ISERROR(VLOOKUP($B73,RaceDraw!$C$10:$P$440,COLUMN()-1,FALSE)),\" \",IF(ISBLANK(VLOOKUP($B73,RaceDraw!$C$10:$P$440,COLUMN()-1,FALSE)),\" \",VLOOKUP($B73,RaceDraw!$C$10:$P$440,COLUMN()-1,FALSE)))","v":" "},"Fri"]
[{"$f":"IF(ISERROR(INDEX(RaceDraw!$B$10:$B$440,MATCH(B74,RaceDraw!$C$10:$C$440,0))),\"\",INDEX(RaceDraw!$B$10:$B$440,MATCH(B74,RaceDraw!$C$10:$C$440,0)))","v":"15.48"},70,{"$f":"IF(ISERROR(VLOOKUP($B74,RaceDraw!$C$10:$P$440,COLUMN()-1,FALSE)),\"\",IF(ISBLANK(VLOOKUP($B74,RaceDraw!$C$10:$P$440,COLUMN()-1,FALSE)),\"\",VLOOKUP($B74,RaceDraw!$C$10:$P$440,COLUMN()-1,FALSE)))","v":"Senior B Women 10"},{"$f":"IF(ISERROR(VLOOKUP($B74,RaceDraw!$C$10:$P$440,COLUMN()-1,FALSE)),\"\",IF(ISBLANK(VLOOKUP($B74,RaceDraw!$C$10:$P$440,COLUMN()-1,FALSE)),\"\",VLOOKUP($B74,RaceDraw!$C$10:$P$440,COLUMN()-1,FALSE)))","v":200},{"$f":"IF(ISERROR(VLOOKUP($B74,RaceDraw!$C$10:$P$440,COLUMN()-1,FALSE)),\"\",IF(ISBLANK(VLOOKUP($B74,RaceDraw!$C$10:$P$440,COLUMN()-1,FALSE)),F74,VLOOKUP($B74,RaceDraw!$C$10:$P$440,COLUMN()-1,FALSE)))","v":2},{"$f":"IF(ISERROR(VLOOKUP($B74,RaceDraw!$C$10:$P$440,COLUMN()-1,FALSE)),\"\",IF(ISBLANK(VLOOKUP($B74,RaceDraw!$C$10:$P$440,COLUMN()-1,FALSE)),\"\",VLOOKUP($B74,RaceDraw!$C$10:$P$440,COLUMN()-1,FALSE)))","v":1},{"$f":"IF(ISERROR(VLOOKUP($B74,RaceDraw!$C$10:$P$440,COLUMN()-1,FALSE)),\" \",IF(ISBLANK(VLOOKUP($B74,RaceDraw!$C$10:$P$440,COLUMN()-1,FALSE)),\" \",VLOOKUP($B74,RaceDraw!$C$10:$P$440,COLUMN()-1,FALSE)))","v":"Newcastle Dragon Hunters Purple"},{"$f":"IF(ISERROR(VLOOKUP($B74,RaceDraw!$C$10:$P$440,COLUMN()-1,FALSE)),\" \",IF(ISBLANK(VLOOKUP($B74,RaceDraw!$C$10:$P$440,COLUMN()-1,FALSE)),\" \",VLOOKUP($B74,RaceDraw!$C$10:$P$440,COLUMN()-1,FALSE)))","v":"Outback Dragons"},{"$f":"IF(ISERROR(VLOOKUP($B74,RaceDraw!$C$10:$P$440,COLUMN()-1,FALSE)),\" \",IF(ISBLANK(VLOOKUP($B74,RaceDraw!$C$10:$P$440,COLUMN()-1,FALSE)),\" \",VLOOKUP($B74,RaceDraw!$C$10:$P$440,COLUMN()-1,FALSE)))","v":"Golden Dragons"},{"$f":"IF(ISERROR(VLOOKUP($B74,RaceDraw!$C$10:$P$440,COLUMN()-1,FALSE)),\" \",IF(ISBLANK(VLOOKUP($B74,RaceDraw!$C$10:$P$440,COLUMN()-1,FALSE)),\" \",VLOOKUP($B74,RaceDraw!$C$10:$P$440,COLUMN()-1,FALSE)))","v":"Kombo Dragons Purple"},{"$f":"IF(ISERROR(VLOOKUP($B74,RaceDraw!$C$10:$P$440,COLUMN()-1,FALSE)),\" \",IF(ISBLANK(VLOOKUP($B74,RaceDraw!$C$10:$P$440,COLUMN()-1,FALSE)),\" \",VLOOKUP($B74,RaceDraw!$C$10:$P$440,COLUMN()-1,FALSE)))","v":"Goolwa River Dragons"},{"$f":"IF(ISERROR(VLOOKUP($B74,RaceDraw!$C$10:$P$440,COLUMN()-1,FALSE)),\" \",IF(ISBLANK(VLOOKUP($B74,RaceDraw!$C$10:$P$440,COLUMN()-1,FALSE)),\" \",VLOOKUP($B74,RaceDraw!$C$10:$P$440,COLUMN()-1,FALSE)))","v":"Black Sea Dragons"},{"$f":"IF(ISERROR(VLOOKUP($B74,RaceDraw!$C$10:$P$440,COLUMN()-1,FALSE)),\" \",IF(ISBLANK(VLOOKUP($B74,RaceDraw!$C$10:$P$440,COLUMN()-1,FALSE)),\" \",VLOOKUP($B74,RaceDraw!$C$10:$P$440,COLUMN()-1,FALSE)))","v":" "},{"$f":"IF(ISERROR(VLOOKUP($B74,RaceDraw!$C$10:$P$440,COLUMN()-1,FALSE)),\" \",IF(ISBLANK(VLOOKUP($B74,RaceDraw!$C$10:$P$440,COLUMN()-1,FALSE)),\" \",VLOOKUP($B74,RaceDraw!$C$10:$P$440,COLUMN()-1,FALSE)))","v":" "},{"$f":"IF(ISERROR(VLOOKUP($B74,RaceDraw!$C$10:$P$440,COLUMN()-1,FALSE)),\" \",IF(ISBLANK(VLOOKUP($B74,RaceDraw!$C$10:$P$440,COLUMN()-1,FALSE)),\" \",VLOOKUP($B74,RaceDraw!$C$10:$P$440,COLUMN()-1,FALSE)))","v":" "},"Fri"]
[{"$f":"IF(ISERROR(INDEX(RaceDraw!$B$10:$B$440,MATCH(B75,RaceDraw!$C$10:$C$440,0))),\"\",INDEX(RaceDraw!$B$10:$B$440,MATCH(B75,RaceDraw!$C$10:$C$440,0)))","v":"15.54"},71,{"$f":"IF(ISERROR(VLOOKUP($B75,RaceDraw!$C$10:$P$440,COLUMN()-1,FALSE)),\"\",IF(ISBLANK(VLOOKUP($B75,RaceDraw!$C$10:$P$440,COLUMN()-1,FALSE)),\"\",VLOOKUP($B75,RaceDraw!$C$10:$P$440,COLUMN()-1,FALSE)))","v":"Senior B Women 10"},{"$f":"IF(ISERROR(VLOOKUP($B75,RaceDraw!$C$10:$P$440,COLUMN()-1,FALSE)),\"\",IF(ISBLANK(VLOOKUP($B75,RaceDraw!$C$10:$P$440,COLUMN()-1,FALSE)),\"\",VLOOKUP($B75,RaceDraw!$C$10:$P$440,COLUMN()-1,FALSE)))","v":200},{"$f":"IF(ISERROR(VLOOKUP($B75,RaceDraw!$C$10:$P$440,COLUMN()-1,FALSE)),\"\",IF(ISBLANK(VLOOKUP($B75,RaceDraw!$C$10:$P$440,COLUMN()-1,FALSE)),F75,VLOOKUP($B75,RaceDraw!$C$10:$P$440,COLUMN()-1,FALSE)))","v":2},{"$f":"IF(ISERROR(VLOOKUP($B75,RaceDraw!$C$10:$P$440,COLUMN()-1,FALSE)),\"\",IF(ISBLANK(VLOOKUP($B75,RaceDraw!$C$10:$P$440,COLUMN()-1,FALSE)),\"\",VLOOKUP($B75,RaceDraw!$C$10:$P$440,COLUMN()-1,FALSE)))","v":2},{"$f":"IF(ISERROR(VLOOKUP($B75,RaceDraw!$C$10:$P$440,COLUMN()-1,FALSE)),\" \",IF(ISBLANK(VLOOKUP($B75,RaceDraw!$C$10:$P$440,COLUMN()-1,FALSE)),\" \",VLOOKUP($B75,RaceDraw!$C$10:$P$440,COLUMN()-1,FALSE)))","v":"Dragonfire"},{"$f":"IF(ISERROR(VLOOKUP($B75,RaceDraw!$C$10:$P$440,COLUMN()-1,FALSE)),\" \",IF(ISBLANK(VLOOKUP($B75,RaceDraw!$C$10:$P$440,COLUMN()-1,FALSE)),\" \",VLOOKUP($B75,RaceDraw!$C$10:$P$440,COLUMN()-1,FALSE)))","v":"Mildura"},{"$f":"IF(ISERROR(VLOOKUP($B75,RaceDraw!$C$10:$P$440,COLUMN()-1,FALSE)),\" \",IF(ISBLANK(VLOOKUP($B75,RaceDraw!$C$10:$P$440,COLUMN()-1,FALSE)),\" \",VLOOKUP($B75,RaceDraw!$C$10:$P$440,COLUMN()-1,FALSE)))","v":"Kombo Dragons Black"},{"$f":"IF(ISERROR(VLOOKUP($B75,RaceDraw!$C$10:$P$440,COLUMN()-1,FALSE)),\" \",IF(ISBLANK(VLOOKUP($B75,RaceDraw!$C$10:$P$440,COLUMN()-1,FALSE)),\" \",VLOOKUP($B75,RaceDraw!$C$10:$P$440,COLUMN()-1,FALSE)))","v":"Dragons Afloat Port Lincoln"},{"$f":"IF(ISERROR(VLOOKUP($B75,RaceDraw!$C$10:$P$440,COLUMN()-1,FALSE)),\" \",IF(ISBLANK(VLOOKUP($B75,RaceDraw!$C$10:$P$440,COLUMN()-1,FALSE)),\" \",VLOOKUP($B75,RaceDraw!$C$10:$P$440,COLUMN()-1,FALSE)))","v":"Broadwater Dragons"},{"$f":"IF(ISERROR(VLOOKUP($B75,RaceDraw!$C$10:$P$440,COLUMN()-1,FALSE)),\" \",IF(ISBLANK(VLOOKUP($B75,RaceDraw!$C$10:$P$440,COLUMN()-1,FALSE)),\" \",VLOOKUP($B75,RaceDraw!$C$10:$P$440,COLUMN()-1,FALSE)))","v":"Newcastle Dragon Hunters Red"},{"$f":"IF(ISERROR(VLOOKUP($B75,RaceDraw!$C$10:$P$440,COLUMN()-1,FALSE)),\" \",IF(ISBLANK(VLOOKUP($B75,RaceDraw!$C$10:$P$440,COLUMN()-1,FALSE)),\" \",VLOOKUP($B75,RaceDraw!$C$10:$P$440,COLUMN()-1,FALSE)))","v":"SCD Warrnambool"},{"$f":"IF(ISERROR(VLOOKUP($B75,RaceDraw!$C$10:$P$440,COLUMN()-1,FALSE)),\" \",IF(ISBLANK(VLOOKUP($B75,RaceDraw!$C$10:$P$440,COLUMN()-1,FALSE)),\" \",VLOOKUP($B75,RaceDraw!$C$10:$P$440,COLUMN()-1,FALSE)))","v":" "},{"$f":"IF(ISERROR(VLOOKUP($B75,RaceDraw!$C$10:$P$440,COLUMN()-1,FALSE)),\" \",IF(ISBLANK(VLOOKUP($B75,RaceDraw!$C$10:$P$440,COLUMN()-1,FALSE)),\" \",VLOOKUP($B75,RaceDraw!$C$10:$P$440,COLUMN()-1,FALSE)))","v":" "},"Fri"]
[{"$f":"IF(ISERROR(INDEX(RaceDraw!$B$10:$B$440,MATCH(B76,RaceDraw!$C$10:$C$440,0))),\"\",INDEX(RaceDraw!$B$10:$B$440,MATCH(B76,RaceDraw!$C$10:$C$440,0)))","v":"16.00"},72,{"$f":"IF(ISERROR(VLOOKUP($B76,RaceDraw!$C$10:$P$440,COLUMN()-1,FALSE)),\"\",IF(ISBLANK(VLOOKUP($B76,RaceDraw!$C$10:$P$440,COLUMN()-1,FALSE)),\"\",VLOOKUP($B76,RaceDraw!$C$10:$P$440,COLUMN()-1,FALSE)))","v":"Senior B Women 10"},{"$f":"IF(ISERROR(VLOOKUP($B76,RaceDraw!$C$10:$P$440,COLUMN()-1,FALSE)),\"\",IF(ISBLANK(VLOOKUP($B76,RaceDraw!$C$10:$P$440,COLUMN()-1,FALSE)),\"\",VLOOKUP($B76,RaceDraw!$C$10:$P$440,COLUMN()-1,FALSE)))","v":200},{"$f":"IF(ISERROR(VLOOKUP($B76,RaceDraw!$C$10:$P$440,COLUMN()-1,FALSE)),\"\",IF(ISBLANK(VLOOKUP($B76,RaceDraw!$C$10:$P$440,COLUMN()-1,FALSE)),F76,VLOOKUP($B76,RaceDraw!$C$10:$P$440,COLUMN()-1,FALSE)))","v":2},{"$f":"IF(ISERROR(VLOOKUP($B76,RaceDraw!$C$10:$P$440,COLUMN()-1,FALSE)),\"\",IF(ISBLANK(VLOOKUP($B76,RaceDraw!$C$10:$P$440,COLUMN()-1,FALSE)),\"\",VLOOKUP($B76,RaceDraw!$C$10:$P$440,COLUMN()-1,FALSE)))","v":3},{"$f":"IF(ISERROR(VLOOKUP($B76,RaceDraw!$C$10:$P$440,COLUMN()-1,FALSE)),\" \",IF(ISBLANK(VLOOKUP($B76,RaceDraw!$C$10:$P$440,COLUMN()-1,FALSE)),\" \",VLOOKUP($B76,RaceDraw!$C$10:$P$440,COLUMN()-1,FALSE)))","v":"Deepwater"},{"$f":"IF(ISERROR(VLOOKUP($B76,RaceDraw!$C$10:$P$440,COLUMN()-1,FALSE)),\" \",IF(ISBLANK(VLOOKUP($B76,RaceDraw!$C$10:$P$440,COLUMN()-1,FALSE)),\" \",VLOOKUP($B76,RaceDraw!$C$10:$P$440,COLUMN()-1,FALSE)))","v":"SADA Sonix Blue"},{"$f":"IF(ISERROR(VLOOKUP($B76,RaceDraw!$C$10:$P$440,COLUMN()-1,FALSE)),\" \",IF(ISBLANK(VLOOKUP($B76,RaceDraw!$C$10:$P$440,COLUMN()-1,FALSE)),\" \",VLOOKUP($B76,RaceDraw!$C$10:$P$440,COLUMN()-1,FALSE)))","v":"Gypsy Dragons"},{"$f":"IF(ISERROR(VLOOKUP($B76,RaceDraw!$C$10:$P$440,COLUMN()-1,FALSE)),\" \",IF(ISBLANK(VLOOKUP($B76,RaceDraw!$C$10:$P$440,COLUMN()-1,FALSE)),\" \",VLOOKUP($B76,RaceDraw!$C$10:$P$440,COLUMN()-1,FALSE)))","v":"Southern Warriors"},{"$f":"IF(ISERROR(VLOOKUP($B76,RaceDraw!$C$10:$P$440,COLUMN()-1,FALSE)),\" \",IF(ISBLANK(VLOOKUP($B76,RaceDraw!$C$10:$P$440,COLUMN()-1,FALSE)),\" \",VLOOKUP($B76,RaceDraw!$C$10:$P$440,COLUMN()-1,FALSE)))","v":"Gippsland United"},{"$f":"IF(ISERROR(VLOOKUP($B76,RaceDraw!$C$10:$P$440,COLUMN()-1,FALSE)),\" \",IF(ISBLANK(VLOOKUP($B76,RaceDraw!$C$10:$P$440,COLUMN()-1,FALSE)),\" \",VLOOKUP($B76,RaceDraw!$C$10:$P$440,COLUMN()-1,FALSE)))","v":"Juggernauts"},{"$f":"IF(ISERROR(VLOOKUP($B76,RaceDraw!$C$10:$P$440,COLUMN()-1,FALSE)),\" \",IF(ISBLANK(VLOOKUP($B76,RaceDraw!$C$10:$P$440,COLUMN()-1,FALSE)),\" \",VLOOKUP($B76,RaceDraw!$C$10:$P$440,COLUMN()-1,FALSE)))","v":" "},{"$f":"IF(ISERROR(VLOOKUP($B76,RaceDraw!$C$10:$P$440,COLUMN()-1,FALSE)),\" \",IF(ISBLANK(VLOOKUP($B76,RaceDraw!$C$10:$P$440,COLUMN()-1,FALSE)),\" \",VLOOKUP($B76,RaceDraw!$C$10:$P$440,COLUMN()-1,FALSE)))","v":" "},{"$f":"IF(ISERROR(VLOOKUP($B76,RaceDraw!$C$10:$P$440,COLUMN()-1,FALSE)),\" \",IF(ISBLANK(VLOOKUP($B76,RaceDraw!$C$10:$P$440,COLUMN()-1,FALSE)),\" \",VLOOKUP($B76,RaceDraw!$C$10:$P$440,COLUMN()-1,FALSE)))","v":" "},"Fri"]
[{"$f":"IF(ISERROR(INDEX(RaceDraw!$B$10:$B$440,MATCH(B77,RaceDraw!$C$10:$C$440,0))),\"\",INDEX(RaceDraw!$B$10:$B$440,MATCH(B77,RaceDraw!$C$10:$C$440,0)))","v":"16.06"},73,{"$f":"IF(ISERROR(VLOOKUP($B77,RaceDraw!$C$10:$P$440,COLUMN()-1,FALSE)),\"\",IF(ISBLANK(VLOOKUP($B77,RaceDraw!$C$10:$P$440,COLUMN()-1,FALSE)),\"\",VLOOKUP($B77,RaceDraw!$C$10:$P$440,COLUMN()-1,FALSE)))","v":"Senior B Women 10"},{"$f":"IF(ISERROR(VLOOKUP($B77,RaceDraw!$C$10:$P$440,COLUMN()-1,FALSE)),\"\",IF(ISBLANK(VLOOKUP($B77,RaceDraw!$C$10:$P$440,COLUMN()-1,FALSE)),\"\",VLOOKUP($B77,RaceDraw!$C$10:$P$440,COLUMN()-1,FALSE)))","v":200},{"$f":"IF(ISERROR(VLOOKUP($B77,RaceDraw!$C$10:$P$440,COLUMN()-1,FALSE)),\"\",IF(ISBLANK(VLOOKUP($B77,RaceDraw!$C$10:$P$440,COLUMN()-1,FALSE)),F77,VLOOKUP($B77,RaceDraw!$C$10:$P$440,COLUMN()-1,FALSE)))","v":2},{"$f":"IF(ISERROR(VLOOKUP($B77,RaceDraw!$C$10:$P$440,COLUMN()-1,FALSE)),\"\",IF(ISBLANK(VLOOKUP($B77,RaceDraw!$C$10:$P$440,COLUMN()-1,FALSE)),\"\",VLOOKUP($B77,RaceDraw!$C$10:$P$440,COLUMN()-1,FALSE)))","v":4},{"$f":"IF(ISERROR(VLOOKUP($B77,RaceDraw!$C$10:$P$440,COLUMN()-1,FALSE)),\" \",IF(ISBLANK(VLOOKUP($B77,RaceDraw!$C$10:$P$440,COLUMN()-1,FALSE)),\" \",VLOOKUP($B77,RaceDraw!$C$10:$P$440,COLUMN()-1,FALSE)))","v":"Powerblades"},{"$f":"IF(ISERROR(VLOOKUP($B77,RaceDraw!$C$10:$P$440,COLUMN()-1,FALSE)),\" \",IF(ISBLANK(VLOOKUP($B77,RaceDraw!$C$10:$P$440,COLUMN()-1,FALSE)),\" \",VLOOKUP($B77,RaceDraw!$C$10:$P$440,COLUMN()-1,FALSE)))","v":"FNC"},{"$f":"IF(ISERROR(VLOOKUP($B77,RaceDraw!$C$10:$P$440,COLUMN()-1,FALSE)),\" \",IF(ISBLANK(VLOOKUP($B77,RaceDraw!$C$10:$P$440,COLUMN()-1,FALSE)),\" \",VLOOKUP($B77,RaceDraw!$C$10:$P$440,COLUMN()-1,FALSE)))","v":"SADA Sonix Yellow"},{"$f":"IF(ISERROR(VLOOKUP($B77,RaceDraw!$C$10:$P$440,COLUMN()-1,FALSE)),\" \",IF(ISBLANK(VLOOKUP($B77,RaceDraw!$C$10:$P$440,COLUMN()-1,FALSE)),\" \",VLOOKUP($B77,RaceDraw!$C$10:$P$440,COLUMN()-1,FALSE)))","v":"Hunter River Dragons"},{"$f":"IF(ISERROR(VLOOKUP($B77,RaceDraw!$C$10:$P$440,COLUMN()-1,FALSE)),\" \",IF(ISBLANK(VLOOKUP($B77,RaceDraw!$C$10:$P$440,COLUMN()-1,FALSE)),\" \",VLOOKUP($B77,RaceDraw!$C$10:$P$440,COLUMN()-1,FALSE)))","v":"DA Bendigo"},{"$f":"IF(ISERROR(VLOOKUP($B77,RaceDraw!$C$10:$P$440,COLUMN()-1,FALSE)),\" \",IF(ISBLANK(VLOOKUP($B77,RaceDraw!$C$10:$P$440,COLUMN()-1,FALSE)),\" \",VLOOKUP($B77,RaceDraw!$C$10:$P$440,COLUMN()-1,FALSE)))","v":"Dragons Afloat Bendigo"},{"$f":"IF(ISERROR(VLOOKUP($B77,RaceDraw!$C$10:$P$440,COLUMN()-1,FALSE)),\" \",IF(ISBLANK(VLOOKUP($B77,RaceDraw!$C$10:$P$440,COLUMN()-1,FALSE)),\" \",VLOOKUP($B77,RaceDraw!$C$10:$P$440,COLUMN()-1,FALSE)))","v":" "},{"$f":"IF(ISERROR(VLOOKUP($B77,RaceDraw!$C$10:$P$440,COLUMN()-1,FALSE)),\" \",IF(ISBLANK(VLOOKUP($B77,RaceDraw!$C$10:$P$440,COLUMN()-1,FALSE)),\" \",VLOOKUP($B77,RaceDraw!$C$10:$P$440,COLUMN()-1,FALSE)))","v":" "},{"$f":"IF(ISERROR(VLOOKUP($B77,RaceDraw!$C$10:$P$440,COLUMN()-1,FALSE)),\" \",IF(ISBLANK(VLOOKUP($B77,RaceDraw!$C$10:$P$440,COLUMN()-1,FALSE)),\" \",VLOOKUP($B77,RaceDraw!$C$10:$P$440,COLUMN()-1,FALSE)))","v":" "},"Fri"]
[{"$f":"IF(ISERROR(INDEX(RaceDraw!$B$10:$B$440,MATCH(B78,RaceDraw!$C$10:$C$440,0))),\"\",INDEX(RaceDraw!$B$10:$B$440,MATCH(B78,RaceDraw!$C$10:$C$440,0)))","v":"16.12"},74,{"$f":"IF(ISERROR(VLOOKUP($B78,RaceDraw!$C$10:$P$440,COLUMN()-1,FALSE)),\"\",IF(ISBLANK(VLOOKUP($B78,RaceDraw!$C$10:$P$440,COLUMN()-1,FALSE)),\"\",VLOOKUP($B78,RaceDraw!$C$10:$P$440,COLUMN()-1,FALSE)))","v":"Senior B Open 10"},{"$f":"IF(ISERROR(VLOOKUP($B78,RaceDraw!$C$10:$P$440,COLUMN()-1,FALSE)),\"\",IF(ISBLANK(VLOOKUP($B78,RaceDraw!$C$10:$P$440,COLUMN()-1,FALSE)),\"\",VLOOKUP($B78,RaceDraw!$C$10:$P$440,COLUMN()-1,FALSE)))","v":200},{"$f":"IF(ISERROR(VLOOKUP($B78,RaceDraw!$C$10:$P$440,COLUMN()-1,FALSE)),\"\",IF(ISBLANK(VLOOKUP($B78,RaceDraw!$C$10:$P$440,COLUMN()-1,FALSE)),F78,VLOOKUP($B78,RaceDraw!$C$10:$P$440,COLUMN()-1,FALSE)))","v":2},{"$f":"IF(ISERROR(VLOOKUP($B78,RaceDraw!$C$10:$P$440,COLUMN()-1,FALSE)),\"\",IF(ISBLANK(VLOOKUP($B78,RaceDraw!$C$10:$P$440,COLUMN()-1,FALSE)),\"\",VLOOKUP($B78,RaceDraw!$C$10:$P$440,COLUMN()-1,FALSE)))","v":1},{"$f":"IF(ISERROR(VLOOKUP($B78,RaceDraw!$C$10:$P$440,COLUMN()-1,FALSE)),\" \",IF(ISBLANK(VLOOKUP($B78,RaceDraw!$C$10:$P$440,COLUMN()-1,FALSE)),\" \",VLOOKUP($B78,RaceDraw!$C$10:$P$440,COLUMN()-1,FALSE)))","v":"Kombo Dragons Purple"},{"$f":"IF(ISERROR(VLOOKUP($B78,RaceDraw!$C$10:$P$440,COLUMN()-1,FALSE)),\" \",IF(ISBLANK(VLOOKUP($B78,RaceDraw!$C$10:$P$440,COLUMN()-1,FALSE)),\" \",VLOOKUP($B78,RaceDraw!$C$10:$P$440,COLUMN()-1,FALSE)))","v":"ASA"},{"$f":"IF(ISERROR(VLOOKUP($B78,RaceDraw!$C$10:$P$440,COLUMN()-1,FALSE)),\" \",IF(ISBLANK(VLOOKUP($B78,RaceDraw!$C$10:$P$440,COLUMN()-1,FALSE)),\" \",VLOOKUP($B78,RaceDraw!$C$10:$P$440,COLUMN()-1,FALSE)))","v":"Mannum"},{"$f":"IF(ISERROR(VLOOKUP($B78,RaceDraw!$C$10:$P$440,COLUMN()-1,FALSE)),\" \",IF(ISBLANK(VLOOKUP($B78,RaceDraw!$C$10:$P$440,COLUMN()-1,FALSE)),\" \",VLOOKUP($B78,RaceDraw!$C$10:$P$440,COLUMN()-1,FALSE)))","v":"Gypsy Dragons"},{"$f":"IF(ISERROR(VLOOKUP($B78,RaceDraw!$C$10:$P$440,COLUMN()-1,FALSE)),\" \",IF(ISBLANK(VLOOKUP($B78,RaceDraw!$C$10:$P$440,COLUMN()-1,FALSE)),\" \",VLOOKUP($B78,RaceDraw!$C$10:$P$440,COLUMN()-1,FALSE)))","v":"Southern Warriors"},{"$f":"IF(ISERROR(VLOOKUP($B78,RaceDraw!$C$10:$P$440,COLUMN()-1,FALSE)),\" \",IF(ISBLANK(VLOOKUP($B78,RaceDraw!$C$10:$P$440,COLUMN()-1,FALSE)),\" \",VLOOKUP($B78,RaceDraw!$C$10:$P$440,COLUMN()-1,FALSE)))","v":"Black Sea Dragons"},{"$f":"IF(ISERROR(VLOOKUP($B78,RaceDraw!$C$10:$P$440,COLUMN()-1,FALSE)),\" \",IF(ISBLANK(VLOOKUP($B78,RaceDraw!$C$10:$P$440,COLUMN()-1,FALSE)),\" \",VLOOKUP($B78,RaceDraw!$C$10:$P$440,COLUMN()-1,FALSE)))","v":" "},{"$f":"IF(ISERROR(VLOOKUP($B78,RaceDraw!$C$10:$P$440,COLUMN()-1,FALSE)),\" \",IF(ISBLANK(VLOOKUP($B78,RaceDraw!$C$10:$P$440,COLUMN()-1,FALSE)),\" \",VLOOKUP($B78,RaceDraw!$C$10:$P$440,COLUMN()-1,FALSE)))","v":" "},{"$f":"IF(ISERROR(VLOOKUP($B78,RaceDraw!$C$10:$P$440,COLUMN()-1,FALSE)),\" \",IF(ISBLANK(VLOOKUP($B78,RaceDraw!$C$10:$P$440,COLUMN()-1,FALSE)),\" \",VLOOKUP($B78,RaceDraw!$C$10:$P$440,COLUMN()-1,FALSE)))","v":" "},"Fri"]
[{"$f":"IF(ISERROR(INDEX(RaceDraw!$B$10:$B$440,MATCH(B79,RaceDraw!$C$10:$C$440,0))),\"\",INDEX(RaceDraw!$B$10:$B$440,MATCH(B79,RaceDraw!$C$10:$C$440,0)))","v":"16.18"},75,{"$f":"IF(ISERROR(VLOOKUP($B79,RaceDraw!$C$10:$P$440,COLUMN()-1,FALSE)),\"\",IF(ISBLANK(VLOOKUP($B79,RaceDraw!$C$10:$P$440,COLUMN()-1,FALSE)),\"\",VLOOKUP($B79,RaceDraw!$C$10:$P$440,COLUMN()-1,FALSE)))","v":"Senior B Open 10"},{"$f":"IF(ISERROR(VLOOKUP($B79,RaceDraw!$C$10:$P$440,COLUMN()-1,FALSE)),\"\",IF(ISBLANK(VLOOKUP($B79,RaceDraw!$C$10:$P$440,COLUMN()-1,FALSE)),\"\",VLOOKUP($B79,RaceDraw!$C$10:$P$440,COLUMN()-1,FALSE)))","v":200},{"$f":"IF(ISERROR(VLOOKUP($B79,RaceDraw!$C$10:$P$440,COLUMN()-1,FALSE)),\"\",IF(ISBLANK(VLOOKUP($B79,RaceDraw!$C$10:$P$440,COLUMN()-1,FALSE)),F79,VLOOKUP($B79,RaceDraw!$C$10:$P$440,COLUMN()-1,FALSE)))","v":2},{"$f":"IF(ISERROR(VLOOKUP($B79,RaceDraw!$C$10:$P$440,COLUMN()-1,FALSE)),\"\",IF(ISBLANK(VLOOKUP($B79,RaceDraw!$C$10:$P$440,COLUMN()-1,FALSE)),\"\",VLOOKUP($B79,RaceDraw!$C$10:$P$440,COLUMN()-1,FALSE)))","v":2},{"$f":"IF(ISERROR(VLOOKUP($B79,RaceDraw!$C$10:$P$440,COLUMN()-1,FALSE)),\" \",IF(ISBLANK(VLOOKUP($B79,RaceDraw!$C$10:$P$440,COLUMN()-1,FALSE)),\" \",VLOOKUP($B79,RaceDraw!$C$10:$P$440,COLUMN()-1,FALSE)))","v":"Goolwa River Dragons"},{"$f":"IF(ISERROR(VLOOKUP($B79,RaceDraw!$C$10:$P$440,COLUMN()-1,FALSE)),\" \",IF(ISBLANK(VLOOKUP($B79,RaceDraw!$C$10:$P$440,COLUMN()-1,FALSE)),\" \",VLOOKUP($B79,RaceDraw!$C$10:$P$440,COLUMN()-1,FALSE)))","v":"Kombo Dragons Black"},{"$f":"IF(ISERROR(VLOOKUP($B79,RaceDraw!$C$10:$P$440,COLUMN()-1,FALSE)),\" \",IF(ISBLANK(VLOOKUP($B79,RaceDraw!$C$10:$P$440,COLUMN()-1,FALSE)),\" \",VLOOKUP($B79,RaceDraw!$C$10:$P$440,COLUMN()-1,FALSE)))","v":"Newcastle Dragon Hunters Red"},{"$f":"IF(ISERROR(VLOOKUP($B79,RaceDraw!$C$10:$P$440,COLUMN()-1,FALSE)),\" \",IF(ISBLANK(VLOOKUP($B79,RaceDraw!$C$10:$P$440,COLUMN()-1,FALSE)),\" \",VLOOKUP($B79,RaceDraw!$C$10:$P$440,COLUMN()-1,FALSE)))","v":"SADA Sonix"},{"$f":"IF(ISERROR(VLOOKUP($B79,RaceDraw!$C$10:$P$440,COLUMN()-1,FALSE)),\" \",IF(ISBLANK(VLOOKUP($B79,RaceDraw!$C$10:$P$440,COLUMN()-1,FALSE)),\" \",VLOOKUP($B79,RaceDraw!$C$10:$P$440,COLUMN()-1,FALSE)))","v":"Gippsland United"},{"$f":"IF(ISERROR(VLOOKUP($B79,RaceDraw!$C$10:$P$440,COLUMN()-1,FALSE)),\" \",IF(ISBLANK(VLOOKUP($B79,RaceDraw!$C$10:$P$440,COLUMN()-1,FALSE)),\" \",VLOOKUP($B79,RaceDraw!$C$10:$P$440,COLUMN()-1,FALSE)))","v":"Outback Dragons"},{"$f":"IF(ISERROR(VLOOKUP($B79,RaceDraw!$C$10:$P$440,COLUMN()-1,FALSE)),\" \",IF(ISBLANK(VLOOKUP($B79,RaceDraw!$C$10:$P$440,COLUMN()-1,FALSE)),\" \",VLOOKUP($B79,RaceDraw!$C$10:$P$440,COLUMN()-1,FALSE)))","v":" "},{"$f":"IF(ISERROR(VLOOKUP($B79,RaceDraw!$C$10:$P$440,COLUMN()-1,FALSE)),\" \",IF(ISBLANK(VLOOKUP($B79,RaceDraw!$C$10:$P$440,COLUMN()-1,FALSE)),\" \",VLOOKUP($B79,RaceDraw!$C$10:$P$440,COLUMN()-1,FALSE)))","v":" "},{"$f":"IF(ISERROR(VLOOKUP($B79,RaceDraw!$C$10:$P$440,COLUMN()-1,FALSE)),\" \",IF(ISBLANK(VLOOKUP($B79,RaceDraw!$C$10:$P$440,COLUMN()-1,FALSE)),\" \",VLOOKUP($B79,RaceDraw!$C$10:$P$440,COLUMN()-1,FALSE)))","v":" "},"Fri"]
[{"$f":"IF(ISERROR(INDEX(RaceDraw!$B$10:$B$440,MATCH(B80,RaceDraw!$C$10:$C$440,0))),\"\",INDEX(RaceDraw!$B$10:$B$440,MATCH(B80,RaceDraw!$C$10:$C$440,0)))","v":"16.24"},76,{"$f":"IF(ISERROR(VLOOKUP($B80,RaceDraw!$C$10:$P$440,COLUMN()-1,FALSE)),\"\",IF(ISBLANK(VLOOKUP($B80,RaceDraw!$C$10:$P$440,COLUMN()-1,FALSE)),\"\",VLOOKUP($B80,RaceDraw!$C$10:$P$440,COLUMN()-1,FALSE)))","v":"Senior B Open 10"},{"$f":"IF(ISERROR(VLOOKUP($B80,RaceDraw!$C$10:$P$440,COLUMN()-1,FALSE)),\"\",IF(ISBLANK(VLOOKUP($B80,RaceDraw!$C$10:$P$440,COLUMN()-1,FALSE)),\"\",VLOOKUP($B80,RaceDraw!$C$10:$P$440,COLUMN()-1,FALSE)))","v":200},{"$f":"IF(ISERROR(VLOOKUP($B80,RaceDraw!$C$10:$P$440,COLUMN()-1,FALSE)),\"\",IF(ISBLANK(VLOOKUP($B80,RaceDraw!$C$10:$P$440,COLUMN()-1,FALSE)),F80,VLOOKUP($B80,RaceDraw!$C$10:$P$440,COLUMN()-1,FALSE)))","v":2},{"$f":"IF(ISERROR(VLOOKUP($B80,RaceDraw!$C$10:$P$440,COLUMN()-1,FALSE)),\"\",IF(ISBLANK(VLOOKUP($B80,RaceDraw!$C$10:$P$440,COLUMN()-1,FALSE)),\"\",VLOOKUP($B80,RaceDraw!$C$10:$P$440,COLUMN()-1,FALSE)))","v":3},{"$f":"IF(ISERROR(VLOOKUP($B80,RaceDraw!$C$10:$P$440,COLUMN()-1,FALSE)),\" \",IF(ISBLANK(VLOOKUP($B80,RaceDraw!$C$10:$P$440,COLUMN()-1,FALSE)),\" \",VLOOKUP($B80,RaceDraw!$C$10:$P$440,COLUMN()-1,FALSE)))","v":"Dragonfire"},{"$f":"IF(ISERROR(VLOOKUP($B80,RaceDraw!$C$10:$P$440,COLUMN()-1,FALSE)),\" \",IF(ISBLANK(VLOOKUP($B80,RaceDraw!$C$10:$P$440,COLUMN()-1,FALSE)),\" \",VLOOKUP($B80,RaceDraw!$C$10:$P$440,COLUMN()-1,FALSE)))","v":"Mildura"},{"$f":"IF(ISERROR(VLOOKUP($B80,RaceDraw!$C$10:$P$440,COLUMN()-1,FALSE)),\" \",IF(ISBLANK(VLOOKUP($B80,RaceDraw!$C$10:$P$440,COLUMN()-1,FALSE)),\" \",VLOOKUP($B80,RaceDraw!$C$10:$P$440,COLUMN()-1,FALSE)))","v":"Kombo Dragons Green"},{"$f":"IF(ISERROR(VLOOKUP($B80,RaceDraw!$C$10:$P$440,COLUMN()-1,FALSE)),\" \",IF(ISBLANK(VLOOKUP($B80,RaceDraw!$C$10:$P$440,COLUMN()-1,FALSE)),\" \",VLOOKUP($B80,RaceDraw!$C$10:$P$440,COLUMN()-1,FALSE)))","v":"Hunter River Dragons"},{"$f":"IF(ISERROR(VLOOKUP($B80,RaceDraw!$C$10:$P$440,COLUMN()-1,FALSE)),\" \",IF(ISBLANK(VLOOKUP($B80,RaceDraw!$C$10:$P$440,COLUMN()-1,FALSE)),\" \",VLOOKUP($B80,RaceDraw!$C$10:$P$440,COLUMN()-1,FALSE)))","v":"Deepwater"},{"$f":"IF(ISERROR(VLOOKUP($B80,RaceDraw!$C$10:$P$440,COLUMN()-1,FALSE)),\" \",IF(ISBLANK(VLOOKUP($B80,RaceDraw!$C$10:$P$440,COLUMN()-1,FALSE)),\" \",VLOOKUP($B80,RaceDraw!$C$10:$P$440,COLUMN()-1,FALSE)))","v":" "},{"$f":"IF(ISERROR(VLOOKUP($B80,RaceDraw!$C$10:$P$440,COLUMN()-1,FALSE)),\" \",IF(ISBLANK(VLOOKUP($B80,RaceDraw!$C$10:$P$440,COLUMN()-1,FALSE)),\" \",VLOOKUP($B80,RaceDraw!$C$10:$P$440,COLUMN()-1,FALSE)))","v":" "},{"$f":"IF(ISERROR(VLOOKUP($B80,RaceDraw!$C$10:$P$440,COLUMN()-1,FALSE)),\" \",IF(ISBLANK(VLOOKUP($B80,RaceDraw!$C$10:$P$440,COLUMN()-1,FALSE)),\" \",VLOOKUP($B80,RaceDraw!$C$10:$P$440,COLUMN()-1,FALSE)))","v":" "},{"$f":"IF(ISERROR(VLOOKUP($B80,RaceDraw!$C$10:$P$440,COLUMN()-1,FALSE)),\" \",IF(ISBLANK(VLOOKUP($B80,RaceDraw!$C$10:$P$440,COLUMN()-1,FALSE)),\" \",VLOOKUP($B80,RaceDraw!$C$10:$P$440,COLUMN()-1,FALSE)))","v":" "},"Fri"]
[{"$f":"IF(ISERROR(INDEX(RaceDraw!$B$10:$B$440,MATCH(B81,RaceDraw!$C$10:$C$440,0))),\"\",INDEX(RaceDraw!$B$10:$B$440,MATCH(B81,RaceDraw!$C$10:$C$440,0)))","v":"16.30"},77,{"$f":"IF(ISERROR(VLOOKUP($B81,RaceDraw!$C$10:$P$440,COLUMN()-1,FALSE)),\"\",IF(ISBLANK(VLOOKUP($B81,RaceDraw!$C$10:$P$440,COLUMN()-1,FALSE)),\"\",VLOOKUP($B81,RaceDraw!$C$10:$P$440,COLUMN()-1,FALSE)))","v":"BCS 20"},{"$f":"IF(ISERROR(VLOOKUP($B81,RaceDraw!$C$10:$P$440,COLUMN()-1,FALSE)),\"\",IF(ISBLANK(VLOOKUP($B81,RaceDraw!$C$10:$P$440,COLUMN()-1,FALSE)),\"\",VLOOKUP($B81,RaceDraw!$C$10:$P$440,COLUMN()-1,FALSE)))","v":200},{"$f":"IF(ISERROR(VLOOKUP($B81,RaceDraw!$C$10:$P$440,COLUMN()-1,FALSE)),\"\",IF(ISBLANK(VLOOKUP($B81,RaceDraw!$C$10:$P$440,COLUMN()-1,FALSE)),F81,VLOOKUP($B81,RaceDraw!$C$10:$P$440,COLUMN()-1,FALSE)))","v":2},{"$f":"IF(ISERROR(VLOOKUP($B81,RaceDraw!$C$10:$P$440,COLUMN()-1,FALSE)),\"\",IF(ISBLANK(VLOOKUP($B81,RaceDraw!$C$10:$P$440,COLUMN()-1,FALSE)),\"\",VLOOKUP($B81,RaceDraw!$C$10:$P$440,COLUMN()-1,FALSE)))","v":1},{"$f":"IF(ISERROR(VLOOKUP($B81,RaceDraw!$C$10:$P$440,COLUMN()-1,FALSE)),\" \",IF(ISBLANK(VLOOKUP($B81,RaceDraw!$C$10:$P$440,COLUMN()-1,FALSE)),\" \",VLOOKUP($B81,RaceDraw!$C$10:$P$440,COLUMN()-1,FALSE)))","v":" "},{"$f":"IF(ISERROR(VLOOKUP($B81,RaceDraw!$C$10:$P$440,COLUMN()-1,FALSE)),\" \",IF(ISBLANK(VLOOKUP($B81,RaceDraw!$C$10:$P$440,COLUMN()-1,FALSE)),\" \",VLOOKUP($B81,RaceDraw!$C$10:$P$440,COLUMN()-1,FALSE)))","v":"Dragons Afloat Port Lincoln"},{"$f":"IF(ISERROR(VLOOKUP($B81,RaceDraw!$C$10:$P$440,COLUMN()-1,FALSE)),\" \",IF(ISBLANK(VLOOKUP($B81,RaceDraw!$C$10:$P$440,COLUMN()-1,FALSE)),\" \",VLOOKUP($B81,RaceDraw!$C$10:$P$440,COLUMN()-1,FALSE)))","v":"DA Bendigo"},{"$f":"IF(ISERROR(VLOOKUP($B81,RaceDraw!$C$10:$P$440,COLUMN()-1,FALSE)),\" \",IF(ISBLANK(VLOOKUP($B81,RaceDraw!$C$10:$P$440,COLUMN()-1,FALSE)),\" \",VLOOKUP($B81,RaceDraw!$C$10:$P$440,COLUMN()-1,FALSE)))","v":"Juggernauts"},{"$f":"IF(ISERROR(VLOOKUP($B81,RaceDraw!$C$10:$P$440,COLUMN()-1,FALSE)),\" \",IF(ISBLANK(VLOOKUP($B81,RaceDraw!$C$10:$P$440,COLUMN()-1,FALSE)),\" \",VLOOKUP($B81,RaceDraw!$C$10:$P$440,COLUMN()-1,FALSE)))","v":" "},{"$f":"IF(ISERROR(VLOOKUP($B81,RaceDraw!$C$10:$P$440,COLUMN()-1,FALSE)),\" \",IF(ISBLANK(VLOOKUP($B81,RaceDraw!$C$10:$P$440,COLUMN()-1,FALSE)),\" \",VLOOKUP($B81,RaceDraw!$C$10:$P$440,COLUMN()-1,FALSE)))","v":" "},{"$f":"IF(ISERROR(VLOOKUP($B81,RaceDraw!$C$10:$P$440,COLUMN()-1,FALSE)),\" \",IF(ISBLANK(VLOOKUP($B81,RaceDraw!$C$10:$P$440,COLUMN()-1,FALSE)),\" \",VLOOKUP($B81,RaceDraw!$C$10:$P$440,COLUMN()-1,FALSE)))","v":" "},{"$f":"IF(ISERROR(VLOOKUP($B81,RaceDraw!$C$10:$P$440,COLUMN()-1,FALSE)),\" \",IF(ISBLANK(VLOOKUP($B81,RaceDraw!$C$10:$P$440,COLUMN()-1,FALSE)),\" \",VLOOKUP($B81,RaceDraw!$C$10:$P$440,COLUMN()-1,FALSE)))","v":" "},{"$f":"IF(ISERROR(VLOOKUP($B81,RaceDraw!$C$10:$P$440,COLUMN()-1,FALSE)),\" \",IF(ISBLANK(VLOOKUP($B81,RaceDraw!$C$10:$P$440,COLUMN()-1,FALSE)),\" \",VLOOKUP($B81,RaceDraw!$C$10:$P$440,COLUMN()-1,FALSE)))","v":" "},"Fri"]
[null,null,"2023-10-14",null,null,null,"1  RED","2  BLUE","3  YELLOW","4  PINK","5  GREEN","6 ORANGE","7 BLACK","8 WHITE","9 PURPLE"]
[{"$f":"IF(ISERROR(INDEX(RaceDraw!$B$10:$B$440,MATCH(B83,RaceDraw!$C$10:$C$440,0))),\"\",INDEX(RaceDraw!$B$10:$B$440,MATCH(B83,RaceDraw!$C$10:$C$440,0)))","v":"9.00"},78,{"$f":"IF(ISERROR(VLOOKUP($B83,RaceDraw!$C$10:$P$440,COLUMN()-1,FALSE)),\"\",IF(ISBLANK(VLOOKUP($B83,RaceDraw!$C$10:$P$440,COLUMN()-1,FALSE)),\"\",VLOOKUP($B83,RaceDraw!$C$10:$P$440,COLUMN()-1,FALSE)))","v":"Senior B Women 20"},{"$f":"IF(ISERROR(VLOOKUP($B83,RaceDraw!$C$10:$P$440,COLUMN()-1,FALSE)),\"\",IF(ISBLANK(VLOOKUP($B83,RaceDraw!$C$10:$P$440,COLUMN()-1,FALSE)),\"\",VLOOKUP($B83,RaceDraw!$C$10:$P$440,COLUMN()-1,FALSE)))","v":200},{"$f":"IF(ISERROR(VLOOKUP($B83,RaceDraw!$C$10:$P$440,COLUMN()-1,FALSE)),\"\",IF(ISBLANK(VLOOKUP($B83,RaceDraw!$C$10:$P$440,COLUMN()-1,FALSE)),F83,VLOOKUP($B83,RaceDraw!$C$10:$P$440,COLUMN()-1,FALSE)))","v":2},{"$f":"IF(ISERROR(VLOOKUP($B83,RaceDraw!$C$10:$P$440,COLUMN()-1,FALSE)),\"\",IF(ISBLANK(VLOOKUP($B83,RaceDraw!$C$10:$P$440,COLUMN()-1,FALSE)),\"\",VLOOKUP($B83,RaceDraw!$C$10:$P$440,COLUMN()-1,FALSE)))","v":1},{"$f":"IF(ISERROR(VLOOKUP($B83,RaceDraw!$C$10:$P$440,COLUMN()-1,FALSE)),\" \",IF(ISBLANK(VLOOKUP($B83,RaceDraw!$C$10:$P$440,COLUMN()-1,FALSE)),\" \",VLOOKUP($B83,RaceDraw!$C$10:$P$440,COLUMN()-1,FALSE)))","v":"Deepwater Purple"},{"$f":"IF(ISERROR(VLOOKUP($B83,RaceDraw!$C$10:$P$440,COLUMN()-1,FALSE)),\" \",IF(ISBLANK(VLOOKUP($B83,RaceDraw!$C$10:$P$440,COLUMN()-1,FALSE)),\" \",VLOOKUP($B83,RaceDraw!$C$10:$P$440,COLUMN()-1,FALSE)))","v":"Kombo Dragons Black"},{"$f":"IF(ISERROR(VLOOKUP($B83,RaceDraw!$C$10:$P$440,COLUMN()-1,FALSE)),\" \",IF(ISBLANK(VLOOKUP($B83,RaceDraw!$C$10:$P$440,COLUMN()-1,FALSE)),\" \",VLOOKUP($B83,RaceDraw!$C$10:$P$440,COLUMN()-1,FALSE)))","v":"Rainbow Dragons"},{"$f":"IF(ISERROR(VLOOKUP($B83,RaceDraw!$C$10:$P$440,COLUMN()-1,FALSE)),\" \",IF(ISBLANK(VLOOKUP($B83,RaceDraw!$C$10:$P$440,COLUMN()-1,FALSE)),\" \",VLOOKUP($B83,RaceDraw!$C$10:$P$440,COLUMN()-1,FALSE)))","v":"Newcastle Dragon Hunters Purple"},{"$f":"IF(ISERROR(VLOOKUP($B83,RaceDraw!$C$10:$P$440,COLUMN()-1,FALSE)),\" \",IF(ISBLANK(VLOOKUP($B83,RaceDraw!$C$10:$P$440,COLUMN()-1,FALSE)),\" \",VLOOKUP($B83,RaceDraw!$C$10:$P$440,COLUMN()-1,FALSE)))","v":"FNC"},{"$f":"IF(ISERROR(VLOOKUP($B83,RaceDraw!$C$10:$P$440,COLUMN()-1,FALSE)),\" \",IF(ISBLANK(VLOOKUP($B83,RaceDraw!$C$10:$P$440,COLUMN()-1,FALSE)),\" \",VLOOKUP($B83,RaceDraw!$C$10:$P$440,COLUMN()-1,FALSE)))","v":"Mildura"},{"$f":"IF(ISERROR(VLOOKUP($B83,RaceDraw!$C$10:$P$440,COLUMN()-1,FALSE)),\" \",IF(ISBLANK(VLOOKUP($B83,RaceDraw!$C$10:$P$440,COLUMN()-1,FALSE)),\" \",VLOOKUP($B83,RaceDraw!$C$10:$P$440,COLUMN()-1,FALSE)))","v":"Motley Crew"},{"$f":"IF(ISERROR(VLOOKUP($B83,RaceDraw!$C$10:$P$440,COLUMN()-1,FALSE)),\" \",IF(ISBLANK(VLOOKUP($B83,RaceDraw!$C$10:$P$440,COLUMN()-1,FALSE)),\" \",VLOOKUP($B83,RaceDraw!$C$10:$P$440,COLUMN()-1,FALSE)))","v":" "},{"$f":"IF(ISERROR(VLOOKUP($B83,RaceDraw!$C$10:$P$440,COLUMN()-1,FALSE)),\" \",IF(ISBLANK(VLOOKUP($B83,RaceDraw!$C$10:$P$440,COLUMN()-1,FALSE)),\" \",VLOOKUP($B83,RaceDraw!$C$10:$P$440,COLUMN()-1,FALSE)))","v":" "},"Sat"]
[{"$f":"IF(ISERROR(INDEX(RaceDraw!$B$10:$B$440,MATCH(B84,RaceDraw!$C$10:$C$440,0))),\"\",INDEX(RaceDraw!$B$10:$B$440,MATCH(B84,RaceDraw!$C$10:$C$440,0)))","v":"9.32"},{"$f":"B83+1","v":79},{"$f":"IF(ISERROR(VLOOKUP($B84,RaceDraw!$C$10:$P$440,COLUMN()-1,FALSE)),\"\",IF(ISBLANK(VLOOKUP($B84,RaceDraw!$C$10:$P$440,COLUMN()-1,FALSE)),\"\",VLOOKUP($B84,RaceDraw!$C$10:$P$440,COLUMN()-1,FALSE)))","v":"Senior B Women 20"},{"$f":"IF(ISERROR(VLOOKUP($B84,RaceDraw!$C$10:$P$440,COLUMN()-1,FALSE)),\"\",IF(ISBLANK(VLOOKUP($B84,RaceDraw!$C$10:$P$440,COLUMN()-1,FALSE)),\"\",VLOOKUP($B84,RaceDraw!$C$10:$P$440,COLUMN()-1,FALSE)))","v":200},{"$f":"IF(ISERROR(VLOOKUP($B84,RaceDraw!$C$10:$P$440,COLUMN()-1,FALSE)),\"\",IF(ISBLANK(VLOOKUP($B84,RaceDraw!$C$10:$P$440,COLUMN()-1,FALSE)),F84,VLOOKUP($B84,RaceDraw!$C$10:$P$440,COLUMN()-1,FALSE)))","v":2},{"$f":"IF(ISERROR(VLOOKUP($B84,RaceDraw!$C$10:$P$440,COLUMN()-1,FALSE)),\"\",IF(ISBLANK(VLOOKUP($B84,RaceDraw!$C$10:$P$440,COLUMN()-1,FALSE)),\"\",VLOOKUP($B84,RaceDraw!$C$10:$P$440,COLUMN()-1,FALSE)))","v":2},{"$f":"IF(ISERROR(VLOOKUP($B84,RaceDraw!$C$10:$P$440,COLUMN()-1,FALSE)),\" \",IF(ISBLANK(VLOOKUP($B84,RaceDraw!$C$10:$P$440,COLUMN()-1,FALSE)),\" \",VLOOKUP($B84,RaceDraw!$C$10:$P$440,COLUMN()-1,FALSE)))","v":"Gippsland United"},{"$f":"IF(ISERROR(VLOOKUP($B84,RaceDraw!$C$10:$P$440,COLUMN()-1,FALSE)),\" \",IF(ISBLANK(VLOOKUP($B84,RaceDraw!$C$10:$P$440,COLUMN()-1,FALSE)),\" \",VLOOKUP($B84,RaceDraw!$C$10:$P$440,COLUMN()-1,FALSE)))","v":"SADA Sonix"},{"$f":"IF(ISERROR(VLOOKUP($B84,RaceDraw!$C$10:$P$440,COLUMN()-1,FALSE)),\" \",IF(ISBLANK(VLOOKUP($B84,RaceDraw!$C$10:$P$440,COLUMN()-1,FALSE)),\" \",VLOOKUP($B84,RaceDraw!$C$10:$P$440,COLUMN()-1,FALSE)))","v":"Newcastle Dsragon Hunters Red"},{"$f":"IF(ISERROR(VLOOKUP($B84,RaceDraw!$C$10:$P$440,COLUMN()-1,FALSE)),\" \",IF(ISBLANK(VLOOKUP($B84,RaceDraw!$C$10:$P$440,COLUMN()-1,FALSE)),\" \",VLOOKUP($B84,RaceDraw!$C$10:$P$440,COLUMN()-1,FALSE)))","v":"Southern Warriors"},{"$f":"IF(ISERROR(VLOOKUP($B84,RaceDraw!$C$10:$P$440,COLUMN()-1,FALSE)),\" \",IF(ISBLANK(VLOOKUP($B84,RaceDraw!$C$10:$P$440,COLUMN()-1,FALSE)),\" \",VLOOKUP($B84,RaceDraw!$C$10:$P$440,COLUMN()-1,FALSE)))","v":"Deepwater Green"},{"$f":"IF(ISERROR(VLOOKUP($B84,RaceDraw!$C$10:$P$440,COLUMN()-1,FALSE)),\" \",IF(ISBLANK(VLOOKUP($B84,RaceDraw!$C$10:$P$440,COLUMN()-1,FALSE)),\" \",VLOOKUP($B84,RaceDraw!$C$10:$P$440,COLUMN()-1,FALSE)))","v":"Hunter River Dragons"},{"$f":"IF(ISERROR(VLOOKUP($B84,RaceDraw!$C$10:$P$440,COLUMN()-1,FALSE)),\" \",IF(ISBLANK(VLOOKUP($B84,RaceDraw!$C$10:$P$440,COLUMN()-1,FALSE)),\" \",VLOOKUP($B84,RaceDraw!$C$10:$P$440,COLUMN()-1,FALSE)))","v":"Gragons Afloat Bendigo"},{"$f":"IF(ISERROR(VLOOKUP($B84,RaceDraw!$C$10:$P$440,COLUMN()-1,FALSE)),\" \",IF(ISBLANK(VLOOKUP($B84,RaceDraw!$C$10:$P$440,COLUMN()-1,FALSE)),\" \",VLOOKUP($B84,RaceDraw!$C$10:$P$440,COLUMN()-1,FALSE)))","v":" "},{"$f":"IF(ISERROR(VLOOKUP($B84,RaceDraw!$C$10:$P$440,COLUMN()-1,FALSE)),\" \",IF(ISBLANK(VLOOKUP($B84,RaceDraw!$C$10:$P$440,COLUMN()-1,FALSE)),\" \",VLOOKUP($B84,RaceDraw!$C$10:$P$440,COLUMN()-1,FALSE)))","v":" "},"Sat"]
[{"$f":"IF(ISERROR(INDEX(RaceDraw!$B$10:$B$440,MATCH(B85,RaceDraw!$C$10:$C$440,0))),\"\",INDEX(RaceDraw!$B$10:$B$440,MATCH(B85,RaceDraw!$C$10:$C$440,0)))","v":"9.40"},80,{"$f":"IF(ISERROR(VLOOKUP($B85,RaceDraw!$C$10:$P$440,COLUMN()-1,FALSE)),\"\",IF(ISBLANK(VLOOKUP($B85,RaceDraw!$C$10:$P$440,COLUMN()-1,FALSE)),\"\",VLOOKUP($B85,RaceDraw!$C$10:$P$440,COLUMN()-1,FALSE)))","v":"Senior B Open 20"},{"$f":"IF(ISERROR(VLOOKUP($B85,RaceDraw!$C$10:$P$440,COLUMN()-1,FALSE)),\"\",IF(ISBLANK(VLOOKUP($B85,RaceDraw!$C$10:$P$440,COLUMN()-1,FALSE)),\"\",VLOOKUP($B85,RaceDraw!$C$10:$P$440,COLUMN()-1,FALSE)))","v":200},{"$f":"IF(ISERROR(VLOOKUP($B85,RaceDraw!$C$10:$P$440,COLUMN()-1,FALSE)),\"\",IF(ISBLANK(VLOOKUP($B85,RaceDraw!$C$10:$P$440,COLUMN()-1,FALSE)),F85,VLOOKUP($B85,RaceDraw!$C$10:$P$440,COLUMN()-1,FALSE)))","v":2},{"$f":"IF(ISERROR(VLOOKUP($B85,RaceDraw!$C$10:$P$440,COLUMN()-1,FALSE)),\"\",IF(ISBLANK(VLOOKUP($B85,RaceDraw!$C$10:$P$440,COLUMN()-1,FALSE)),\"\",VLOOKUP($B85,RaceDraw!$C$10:$P$440,COLUMN()-1,FALSE)))","v":1},{"$f":"IF(ISERROR(VLOOKUP($B85,RaceDraw!$C$10:$P$440,COLUMN()-1,FALSE)),\" \",IF(ISBLANK(VLOOKUP($B85,RaceDraw!$C$10:$P$440,COLUMN()-1,FALSE)),\" \",VLOOKUP($B85,RaceDraw!$C$10:$P$440,COLUMN()-1,FALSE)))","v":"Southern Warriors"},{"$f":"IF(ISERROR(VLOOKUP($B85,RaceDraw!$C$10:$P$440,COLUMN()-1,FALSE)),\" \",IF(ISBLANK(VLOOKUP($B85,RaceDraw!$C$10:$P$440,COLUMN()-1,FALSE)),\" \",VLOOKUP($B85,RaceDraw!$C$10:$P$440,COLUMN()-1,FALSE)))","v":"Deepwater"},{"$f":"IF(ISERROR(VLOOKUP($B85,RaceDraw!$C$10:$P$440,COLUMN()-1,FALSE)),\" \",IF(ISBLANK(VLOOKUP($B85,RaceDraw!$C$10:$P$440,COLUMN()-1,FALSE)),\" \",VLOOKUP($B85,RaceDraw!$C$10:$P$440,COLUMN()-1,FALSE)))","v":"Outback Dragons"},{"$f":"IF(ISERROR(VLOOKUP($B85,RaceDraw!$C$10:$P$440,COLUMN()-1,FALSE)),\" \",IF(ISBLANK(VLOOKUP($B85,RaceDraw!$C$10:$P$440,COLUMN()-1,FALSE)),\" \",VLOOKUP($B85,RaceDraw!$C$10:$P$440,COLUMN()-1,FALSE)))","v":"Newcastle Dragon Hunters Purple"},{"$f":"IF(ISERROR(VLOOKUP($B85,RaceDraw!$C$10:$P$440,COLUMN()-1,FALSE)),\" \",IF(ISBLANK(VLOOKUP($B85,RaceDraw!$C$10:$P$440,COLUMN()-1,FALSE)),\" \",VLOOKUP($B85,RaceDraw!$C$10:$P$440,COLUMN()-1,FALSE)))","v":"Motley Crew"},{"$f":"IF(ISERROR(VLOOKUP($B85,RaceDraw!$C$10:$P$440,COLUMN()-1,FALSE)),\" \",IF(ISBLANK(VLOOKUP($B85,RaceDraw!$C$10:$P$440,COLUMN()-1,FALSE)),\" \",VLOOKUP($B85,RaceDraw!$C$10:$P$440,COLUMN()-1,FALSE)))","v":" "},{"$f":"IF(ISERROR(VLOOKUP($B85,RaceDraw!$C$10:$P$440,COLUMN()-1,FALSE)),\" \",IF(ISBLANK(VLOOKUP($B85,RaceDraw!$C$10:$P$440,COLUMN()-1,FALSE)),\" \",VLOOKUP($B85,RaceDraw!$C$10:$P$440,COLUMN()-1,FALSE)))","v":" "},{"$f":"IF(ISERROR(VLOOKUP($B85,RaceDraw!$C$10:$P$440,COLUMN()-1,FALSE)),\" \",IF(ISBLANK(VLOOKUP($B85,RaceDraw!$C$10:$P$440,COLUMN()-1,FALSE)),\" \",VLOOKUP($B85,RaceDraw!$C$10:$P$440,COLUMN()-1,FALSE)))","v":" "},{"$f":"IF(ISERROR(VLOOKUP($B85,RaceDraw!$C$10:$P$440,COLUMN()-1,FALSE)),\" \",IF(ISBLANK(VLOOKUP($B85,RaceDraw!$C$10:$P$440,COLUMN()-1,FALSE)),\" \",VLOOKUP($B85,RaceDraw!$C$10:$P$440,COLUMN()-1,FALSE)))","v":" "},"Sat"]
[{"$f":"IF(ISERROR(INDEX(RaceDraw!$B$10:$B$440,MATCH(B86,RaceDraw!$C$10:$C$440,0))),\"\",INDEX(RaceDraw!$B$10:$B$440,MATCH(B86,RaceDraw!$C$10:$C$440,0)))","v":"9.48"},81,{"$f":"IF(ISERROR(VLOOKUP($B86,RaceDraw!$C$10:$P$440,COLUMN()-1,FALSE)),\"\",IF(ISBLANK(VLOOKUP($B86,RaceDraw!$C$10:$P$440,COLUMN()-1,FALSE)),\"\",VLOOKUP($B86,RaceDraw!$C$10:$P$440,COLUMN()-1,FALSE)))","v":"Senior B Open 20"},{"$f":"IF(ISERROR(VLOOKUP($B86,RaceDraw!$C$10:$P$440,COLUMN()-1,FALSE)),\"\",IF(ISBLANK(VLOOKUP($B86,RaceDraw!$C$10:$P$440,COLUMN()-1,FALSE)),\"\",VLOOKUP($B86,RaceDraw!$C$10:$P$440,COLUMN()-1,FALSE)))","v":200},{"$f":"IF(ISERROR(VLOOKUP($B86,RaceDraw!$C$10:$P$440,COLUMN()-1,FALSE)),\"\",IF(ISBLANK(VLOOKUP($B86,RaceDraw!$C$10:$P$440,COLUMN()-1,FALSE)),F86,VLOOKUP($B86,RaceDraw!$C$10:$P$440,COLUMN()-1,FALSE)))","v":2},{"$f":"IF(ISERROR(VLOOKUP($B86,RaceDraw!$C$10:$P$440,COLUMN()-1,FALSE)),\"\",IF(ISBLANK(VLOOKUP($B86,RaceDraw!$C$10:$P$440,COLUMN()-1,FALSE)),\"\",VLOOKUP($B86,RaceDraw!$C$10:$P$440,COLUMN()-1,FALSE)))","v":2},{"$f":"IF(ISERROR(VLOOKUP($B86,RaceDraw!$C$10:$P$440,COLUMN()-1,FALSE)),\" \",IF(ISBLANK(VLOOKUP($B86,RaceDraw!$C$10:$P$440,COLUMN()-1,FALSE)),\" \",VLOOKUP($B86,RaceDraw!$C$10:$P$440,COLUMN()-1,FALSE)))","v":"Kombo Dragons"},{"$f":"IF(ISERROR(VLOOKUP($B86,RaceDraw!$C$10:$P$440,COLUMN()-1,FALSE)),\" \",IF(ISBLANK(VLOOKUP($B86,RaceDraw!$C$10:$P$440,COLUMN()-1,FALSE)),\" \",VLOOKUP($B86,RaceDraw!$C$10:$P$440,COLUMN()-1,FALSE)))","v":"Gippsland United"},{"$f":"IF(ISERROR(VLOOKUP($B86,RaceDraw!$C$10:$P$440,COLUMN()-1,FALSE)),\" \",IF(ISBLANK(VLOOKUP($B86,RaceDraw!$C$10:$P$440,COLUMN()-1,FALSE)),\" \",VLOOKUP($B86,RaceDraw!$C$10:$P$440,COLUMN()-1,FALSE)))","v":"Hunter River Dragons"},{"$f":"IF(ISERROR(VLOOKUP($B86,RaceDraw!$C$10:$P$440,COLUMN()-1,FALSE)),\" \",IF(ISBLANK(VLOOKUP($B86,RaceDraw!$C$10:$P$440,COLUMN()-1,FALSE)),\" \",VLOOKUP($B86,RaceDraw!$C$10:$P$440,COLUMN()-1,FALSE)))","v":"Gypsy Dragons"},{"$f":"IF(ISERROR(VLOOKUP($B86,RaceDraw!$C$10:$P$440,COLUMN()-1,FALSE)),\" \",IF(ISBLANK(VLOOKUP($B86,RaceDraw!$C$10:$P$440,COLUMN()-1,FALSE)),\" \",VLOOKUP($B86,RaceDraw!$C$10:$P$440,COLUMN()-1,FALSE)))","v":"Newcastle Dsragon Hunters Red"},{"$f":"IF(ISERROR(VLOOKUP($B86,RaceDraw!$C$10:$P$440,COLUMN()-1,FALSE)),\" \",IF(ISBLANK(VLOOKUP($B86,RaceDraw!$C$10:$P$440,COLUMN()-1,FALSE)),\" \",VLOOKUP($B86,RaceDraw!$C$10:$P$440,COLUMN()-1,FALSE)))","v":" "},{"$f":"IF(ISERROR(VLOOKUP($B86,RaceDraw!$C$10:$P$440,COLUMN()-1,FALSE)),\" \",IF(ISBLANK(VLOOKUP($B86,RaceDraw!$C$10:$P$440,COLUMN()-1,FALSE)),\" \",VLOOKUP($B86,RaceDraw!$C$10:$P$440,COLUMN()-1,FALSE)))","v":" "},{"$f":"IF(ISERROR(VLOOKUP($B86,RaceDraw!$C$10:$P$440,COLUMN()-1,FALSE)),\" \",IF(ISBLANK(VLOOKUP($B86,RaceDraw!$C$10:$P$440,COLUMN()-1,FALSE)),\" \",VLOOKUP($B86,RaceDraw!$C$10:$P$440,COLUMN()-1,FALSE)))","v":" "},{"$f":"IF(ISERROR(VLOOKUP($B86,RaceDraw!$C$10:$P$440,COLUMN()-1,FALSE)),\" \",IF(ISBLANK(VLOOKUP($B86,RaceDraw!$C$10:$P$440,COLUMN()-1,FALSE)),\" \",VLOOKUP($B86,RaceDraw!$C$10:$P$440,COLUMN()-1,FALSE)))","v":" "},"Sat"]
[{"$f":"IF(ISERROR(INDEX(RaceDraw!$B$10:$B$440,MATCH(B87,RaceDraw!$C$10:$C$440,0))),\"\",INDEX(RaceDraw!$B$10:$B$440,MATCH(B87,RaceDraw!$C$10:$C$440,0)))","v":"9.54"},82,{"$f":"IF(ISERROR(VLOOKUP($B87,RaceDraw!$C$10:$P$440,COLUMN()-1,FALSE)),\"\",IF(ISBLANK(VLOOKUP($B87,RaceDraw!$C$10:$P$440,COLUMN()-1,FALSE)),\"\",VLOOKUP($B87,RaceDraw!$C$10:$P$440,COLUMN()-1,FALSE)))","v":"Senior A Women 10"},{"$f":"IF(ISERROR(VLOOKUP($B87,RaceDraw!$C$10:$P$440,COLUMN()-1,FALSE)),\"\",IF(ISBLANK(VLOOKUP($B87,RaceDraw!$C$10:$P$440,COLUMN()-1,FALSE)),\"\",VLOOKUP($B87,RaceDraw!$C$10:$P$440,COLUMN()-1,FALSE)))","v":200},{"$f":"IF(ISERROR(VLOOKUP($B87,RaceDraw!$C$10:$P$440,COLUMN()-1,FALSE)),\"\",IF(ISBLANK(VLOOKUP($B87,RaceDraw!$C$10:$P$440,COLUMN()-1,FALSE)),F87,VLOOKUP($B87,RaceDraw!$C$10:$P$440,COLUMN()-1,FALSE)))","v":2},{"$f":"IF(ISERROR(VLOOKUP($B87,RaceDraw!$C$10:$P$440,COLUMN()-1,FALSE)),\"\",IF(ISBLANK(VLOOKUP($B87,RaceDraw!$C$10:$P$440,COLUMN()-1,FALSE)),\"\",VLOOKUP($B87,RaceDraw!$C$10:$P$440,COLUMN()-1,FALSE)))","v":1},{"$f":"IF(ISERROR(VLOOKUP($B87,RaceDraw!$C$10:$P$440,COLUMN()-1,FALSE)),\" \",IF(ISBLANK(VLOOKUP($B87,RaceDraw!$C$10:$P$440,COLUMN()-1,FALSE)),\" \",VLOOKUP($B87,RaceDraw!$C$10:$P$440,COLUMN()-1,FALSE)))","v":"Sada Sonix"},{"$f":"IF(ISERROR(VLOOKUP($B87,RaceDraw!$C$10:$P$440,COLUMN()-1,FALSE)),\" \",IF(ISBLANK(VLOOKUP($B87,RaceDraw!$C$10:$P$440,COLUMN()-1,FALSE)),\" \",VLOOKUP($B87,RaceDraw!$C$10:$P$440,COLUMN()-1,FALSE)))","v":"Dragonfire"},{"$f":"IF(ISERROR(VLOOKUP($B87,RaceDraw!$C$10:$P$440,COLUMN()-1,FALSE)),\" \",IF(ISBLANK(VLOOKUP($B87,RaceDraw!$C$10:$P$440,COLUMN()-1,FALSE)),\" \",VLOOKUP($B87,RaceDraw!$C$10:$P$440,COLUMN()-1,FALSE)))","v":"Southern Warriors"},{"$f":"IF(ISERROR(VLOOKUP($B87,RaceDraw!$C$10:$P$440,COLUMN()-1,FALSE)),\" \",IF(ISBLANK(VLOOKUP($B87,RaceDraw!$C$10:$P$440,COLUMN()-1,FALSE)),\" \",VLOOKUP($B87,RaceDraw!$C$10:$P$440,COLUMN()-1,FALSE)))","v":"Pink Dragons"},{"$f":"IF(ISERROR(VLOOKUP($B87,RaceDraw!$C$10:$P$440,COLUMN()-1,FALSE)),\" \",IF(ISBLANK(VLOOKUP($B87,RaceDraw!$C$10:$P$440,COLUMN()-1,FALSE)),\" \",VLOOKUP($B87,RaceDraw!$C$10:$P$440,COLUMN()-1,FALSE)))","v":"Powerblades"},{"$f":"IF(ISERROR(VLOOKUP($B87,RaceDraw!$C$10:$P$440,COLUMN()-1,FALSE)),\" \",IF(ISBLANK(VLOOKUP($B87,RaceDraw!$C$10:$P$440,COLUMN()-1,FALSE)),\" \",VLOOKUP($B87,RaceDraw!$C$10:$P$440,COLUMN()-1,FALSE)))","v":"Newcastle Dragon Hunters"},{"$f":"IF(ISERROR(VLOOKUP($B87,RaceDraw!$C$10:$P$440,COLUMN()-1,FALSE)),\" \",IF(ISBLANK(VLOOKUP($B87,RaceDraw!$C$10:$P$440,COLUMN()-1,FALSE)),\" \",VLOOKUP($B87,RaceDraw!$C$10:$P$440,COLUMN()-1,FALSE)))","v":"Mildura"},{"$f":"IF(ISERROR(VLOOKUP($B87,RaceDraw!$C$10:$P$440,COLUMN()-1,FALSE)),\" \",IF(ISBLANK(VLOOKUP($B87,RaceDraw!$C$10:$P$440,COLUMN()-1,FALSE)),\" \",VLOOKUP($B87,RaceDraw!$C$10:$P$440,COLUMN()-1,FALSE)))","v":" "},{"$f":"IF(ISERROR(VLOOKUP($B87,RaceDraw!$C$10:$P$440,COLUMN()-1,FALSE)),\" \",IF(ISBLANK(VLOOKUP($B87,RaceDraw!$C$10:$P$440,COLUMN()-1,FALSE)),\" \",VLOOKUP($B87,RaceDraw!$C$10:$P$440,COLUMN()-1,FALSE)))","v":" "},"Sat"]
[{"$f":"IF(ISERROR(INDEX(RaceDraw!$B$10:$B$440,MATCH(B88,RaceDraw!$C$10:$C$440,0))),\"\",INDEX(RaceDraw!$B$10:$B$440,MATCH(B88,RaceDraw!$C$10:$C$440,0)))","v":"10.00"},83,{"$f":"IF(ISERROR(VLOOKUP($B88,RaceDraw!$C$10:$P$440,COLUMN()-1,FALSE)),\"\",IF(ISBLANK(VLOOKUP($B88,RaceDraw!$C$10:$P$440,COLUMN()-1,FALSE)),\"\",VLOOKUP($B88,RaceDraw!$C$10:$P$440,COLUMN()-1,FALSE)))","v":"Senior A Women 10"},{"$f":"IF(ISERROR(VLOOKUP($B88,RaceDraw!$C$10:$P$440,COLUMN()-1,FALSE)),\"\",IF(ISBLANK(VLOOKUP($B88,RaceDraw!$C$10:$P$440,COLUMN()-1,FALSE)),\"\",VLOOKUP($B88,RaceDraw!$C$10:$P$440,COLUMN()-1,FALSE)))","v":200},{"$f":"IF(ISERROR(VLOOKUP($B88,RaceDraw!$C$10:$P$440,COLUMN()-1,FALSE)),\"\",IF(ISBLANK(VLOOKUP($B88,RaceDraw!$C$10:$P$440,COLUMN()-1,FALSE)),F88,VLOOKUP($B88,RaceDraw!$C$10:$P$440,COLUMN()-1,FALSE)))","v":2},{"$f":"IF(ISERROR(VLOOKUP($B88,RaceDraw!$C$10:$P$440,COLUMN()-1,FALSE)),\"\",IF(ISBLANK(VLOOKUP($B88,RaceDraw!$C$10:$P$440,COLUMN()-1,FALSE)),\"\",VLOOKUP($B88,RaceDraw!$C$10:$P$440,COLUMN()-1,FALSE)))","v":2},{"$f":"IF(ISERROR(VLOOKUP($B88,RaceDraw!$C$10:$P$440,COLUMN()-1,FALSE)),\" \",IF(ISBLANK(VLOOKUP($B88,RaceDraw!$C$10:$P$440,COLUMN()-1,FALSE)),\" \",VLOOKUP($B88,RaceDraw!$C$10:$P$440,COLUMN()-1,FALSE)))","v":"Kombo Dragons Purple"},{"$f":"IF(ISERROR(VLOOKUP($B88,RaceDraw!$C$10:$P$440,COLUMN()-1,FALSE)),\" \",IF(ISBLANK(VLOOKUP($B88,RaceDraw!$C$10:$P$440,COLUMN()-1,FALSE)),\" \",VLOOKUP($B88,RaceDraw!$C$10:$P$440,COLUMN()-1,FALSE)))","v":"Peninsula Dragonflys"},{"$f":"IF(ISERROR(VLOOKUP($B88,RaceDraw!$C$10:$P$440,COLUMN()-1,FALSE)),\" \",IF(ISBLANK(VLOOKUP($B88,RaceDraw!$C$10:$P$440,COLUMN()-1,FALSE)),\" \",VLOOKUP($B88,RaceDraw!$C$10:$P$440,COLUMN()-1,FALSE)))","v":"Golden Dragons"},{"$f":"IF(ISERROR(VLOOKUP($B88,RaceDraw!$C$10:$P$440,COLUMN()-1,FALSE)),\" \",IF(ISBLANK(VLOOKUP($B88,RaceDraw!$C$10:$P$440,COLUMN()-1,FALSE)),\" \",VLOOKUP($B88,RaceDraw!$C$10:$P$440,COLUMN()-1,FALSE)))","v":"Hunter River Dragons"},{"$f":"IF(ISERROR(VLOOKUP($B88,RaceDraw!$C$10:$P$440,COLUMN()-1,FALSE)),\" \",IF(ISBLANK(VLOOKUP($B88,RaceDraw!$C$10:$P$440,COLUMN()-1,FALSE)),\" \",VLOOKUP($B88,RaceDraw!$C$10:$P$440,COLUMN()-1,FALSE)))","v":"FNC"},{"$f":"IF(ISERROR(VLOOKUP($B88,RaceDraw!$C$10:$P$440,COLUMN()-1,FALSE)),\" \",IF(ISBLANK(VLOOKUP($B88,RaceDraw!$C$10:$P$440,COLUMN()-1,FALSE)),\" \",VLOOKUP($B88,RaceDraw!$C$10:$P$440,COLUMN()-1,FALSE)))","v":"Dragons Abreast Adelaide"},{"$f":"IF(ISERROR(VLOOKUP($B88,RaceDraw!$C$10:$P$440,COLUMN()-1,FALSE)),\" \",IF(ISBLANK(VLOOKUP($B88,RaceDraw!$C$10:$P$440,COLUMN()-1,FALSE)),\" \",VLOOKUP($B88,RaceDraw!$C$10:$P$440,COLUMN()-1,FALSE)))","v":" "},{"$f":"IF(ISERROR(VLOOKUP($B88,RaceDraw!$C$10:$P$440,COLUMN()-1,FALSE)),\" \",IF(ISBLANK(VLOOKUP($B88,RaceDraw!$C$10:$P$440,COLUMN()-1,FALSE)),\" \",VLOOKUP($B88,RaceDraw!$C$10:$P$440,COLUMN()-1,FALSE)))","v":" "},{"$f":"IF(ISERROR(VLOOKUP($B88,RaceDraw!$C$10:$P$440,COLUMN()-1,FALSE)),\" \",IF(ISBLANK(VLOOKUP($B88,RaceDraw!$C$10:$P$440,COLUMN()-1,FALSE)),\" \",VLOOKUP($B88,RaceDraw!$C$10:$P$440,COLUMN()-1,FALSE)))","v":" "},"Sat"]
[{"$f":"IF(ISERROR(INDEX(RaceDraw!$B$10:$B$440,MATCH(B89,RaceDraw!$C$10:$C$440,0))),\"\",INDEX(RaceDraw!$B$10:$B$440,MATCH(B89,RaceDraw!$C$10:$C$440,0)))","v":"10.06"},84,{"$f":"IF(ISERROR(VLOOKUP($B89,RaceDraw!$C$10:$P$440,COLUMN()-1,FALSE)),\"\",IF(ISBLANK(VLOOKUP($B89,RaceDraw!$C$10:$P$440,COLUMN()-1,FALSE)),\"\",VLOOKUP($B89,RaceDraw!$C$10:$P$440,COLUMN()-1,FALSE)))","v":"Senior A Women 10"},{"$f":"IF(ISERROR(VLOOKUP($B89,RaceDraw!$C$10:$P$440,COLUMN()-1,FALSE)),\"\",IF(ISBLANK(VLOOKUP($B89,RaceDraw!$C$10:$P$440,COLUMN()-1,FALSE)),\"\",VLOOKUP($B89,RaceDraw!$C$10:$P$440,COLUMN()-1,FALSE)))","v":200},{"$f":"IF(ISERROR(VLOOKUP($B89,RaceDraw!$C$10:$P$440,COLUMN()-1,FALSE)),\"\",IF(ISBLANK(VLOOKUP($B89,RaceDraw!$C$10:$P$440,COLUMN()-1,FALSE)),F89,VLOOKUP($B89,RaceDraw!$C$10:$P$440,COLUMN()-1,FALSE)))","v":2},{"$f":"IF(ISERROR(VLOOKUP($B89,RaceDraw!$C$10:$P$440,COLUMN()-1,FALSE)),\"\",IF(ISBLANK(VLOOKUP($B89,RaceDraw!$C$10:$P$440,COLUMN()-1,FALSE)),\"\",VLOOKUP($B89,RaceDraw!$C$10:$P$440,COLUMN()-1,FALSE)))","v":3},{"$f":"IF(ISERROR(VLOOKUP($B89,RaceDraw!$C$10:$P$440,COLUMN()-1,FALSE)),\" \",IF(ISBLANK(VLOOKUP($B89,RaceDraw!$C$10:$P$440,COLUMN()-1,FALSE)),\" \",VLOOKUP($B89,RaceDraw!$C$10:$P$440,COLUMN()-1,FALSE)))","v":"Goolwa River Dragons"},{"$f":"IF(ISERROR(VLOOKUP($B89,RaceDraw!$C$10:$P$440,COLUMN()-1,FALSE)),\" \",IF(ISBLANK(VLOOKUP($B89,RaceDraw!$C$10:$P$440,COLUMN()-1,FALSE)),\" \",VLOOKUP($B89,RaceDraw!$C$10:$P$440,COLUMN()-1,FALSE)))","v":"Diamond Phoenix"},{"$f":"IF(ISERROR(VLOOKUP($B89,RaceDraw!$C$10:$P$440,COLUMN()-1,FALSE)),\" \",IF(ISBLANK(VLOOKUP($B89,RaceDraw!$C$10:$P$440,COLUMN()-1,FALSE)),\" \",VLOOKUP($B89,RaceDraw!$C$10:$P$440,COLUMN()-1,FALSE)))","v":"Black Sea Dragons"},{"$f":"IF(ISERROR(VLOOKUP($B89,RaceDraw!$C$10:$P$440,COLUMN()-1,FALSE)),\" \",IF(ISBLANK(VLOOKUP($B89,RaceDraw!$C$10:$P$440,COLUMN()-1,FALSE)),\" \",VLOOKUP($B89,RaceDraw!$C$10:$P$440,COLUMN()-1,FALSE)))","v":"Rainbow Dragons"},{"$f":"IF(ISERROR(VLOOKUP($B89,RaceDraw!$C$10:$P$440,COLUMN()-1,FALSE)),\" \",IF(ISBLANK(VLOOKUP($B89,RaceDraw!$C$10:$P$440,COLUMN()-1,FALSE)),\" \",VLOOKUP($B89,RaceDraw!$C$10:$P$440,COLUMN()-1,FALSE)))","v":"Gippsland United"},{"$f":"IF(ISERROR(VLOOKUP($B89,RaceDraw!$C$10:$P$440,COLUMN()-1,FALSE)),\" \",IF(ISBLANK(VLOOKUP($B89,RaceDraw!$C$10:$P$440,COLUMN()-1,FALSE)),\" \",VLOOKUP($B89,RaceDraw!$C$10:$P$440,COLUMN()-1,FALSE)))","v":"Deepwater"},{"$f":"IF(ISERROR(VLOOKUP($B89,RaceDraw!$C$10:$P$440,COLUMN()-1,FALSE)),\" \",IF(ISBLANK(VLOOKUP($B89,RaceDraw!$C$10:$P$440,COLUMN()-1,FALSE)),\" \",VLOOKUP($B89,RaceDraw!$C$10:$P$440,COLUMN()-1,FALSE)))","v":"Kombo Dragons Black"},{"$f":"IF(ISERROR(VLOOKUP($B89,RaceDraw!$C$10:$P$440,COLUMN()-1,FALSE)),\" \",IF(ISBLANK(VLOOKUP($B89,RaceDraw!$C$10:$P$440,COLUMN()-1,FALSE)),\" \",VLOOKUP($B89,RaceDraw!$C$10:$P$440,COLUMN()-1,FALSE)))","v":" "},{"$f":"IF(ISERROR(VLOOKUP($B89,RaceDraw!$C$10:$P$440,COLUMN()-1,FALSE)),\" \",IF(ISBLANK(VLOOKUP($B89,RaceDraw!$C$10:$P$440,COLUMN()-1,FALSE)),\" \",VLOOKUP($B89,RaceDraw!$C$10:$P$440,COLUMN()-1,FALSE)))","v":" "},"Sat"]
[{"$f":"IF(ISERROR(INDEX(RaceDraw!$B$10:$B$440,MATCH(B90,RaceDraw!$C$10:$C$440,0))),\"\",INDEX(RaceDraw!$B$10:$B$440,MATCH(B90,RaceDraw!$C$10:$C$440,0)))","v":"10.12"},85,{"$f":"IF(ISERROR(VLOOKUP($B90,RaceDraw!$C$10:$P$440,COLUMN()-1,FALSE)),\"\",IF(ISBLANK(VLOOKUP($B90,RaceDraw!$C$10:$P$440,COLUMN()-1,FALSE)),\"\",VLOOKUP($B90,RaceDraw!$C$10:$P$440,COLUMN()-1,FALSE)))","v":"Senior A Open 10"},{"$f":"IF(ISERROR(VLOOKUP($B90,RaceDraw!$C$10:$P$440,COLUMN()-1,FALSE)),\"\",IF(ISBLANK(VLOOKUP($B90,RaceDraw!$C$10:$P$440,COLUMN()-1,FALSE)),\"\",VLOOKUP($B90,RaceDraw!$C$10:$P$440,COLUMN()-1,FALSE)))","v":200},{"$f":"IF(ISERROR(VLOOKUP($B90,RaceDraw!$C$10:$P$440,COLUMN()-1,FALSE)),\"\",IF(ISBLANK(VLOOKUP($B90,RaceDraw!$C$10:$P$440,COLUMN()-1,FALSE)),F90,VLOOKUP($B90,RaceDraw!$C$10:$P$440,COLUMN()-1,FALSE)))","v":2},{"$f":"IF(ISERROR(VLOOKUP($B90,RaceDraw!$C$10:$P$440,COLUMN()-1,FALSE)),\"\",IF(ISBLANK(VLOOKUP($B90,RaceDraw!$C$10:$P$440,COLUMN()-1,FALSE)),\"\",VLOOKUP($B90,RaceDraw!$C$10:$P$440,COLUMN()-1,FALSE)))","v":1},{"$f":"IF(ISERROR(VLOOKUP($B90,RaceDraw!$C$10:$P$440,COLUMN()-1,FALSE)),\" \",IF(ISBLANK(VLOOKUP($B90,RaceDraw!$C$10:$P$440,COLUMN()-1,FALSE)),\" \",VLOOKUP($B90,RaceDraw!$C$10:$P$440,COLUMN()-1,FALSE)))","v":"Pink Dragons"},{"$f":"IF(ISERROR(VLOOKUP($B90,RaceDraw!$C$10:$P$440,COLUMN()-1,FALSE)),\" \",IF(ISBLANK(VLOOKUP($B90,RaceDraw!$C$10:$P$440,COLUMN()-1,FALSE)),\" \",VLOOKUP($B90,RaceDraw!$C$10:$P$440,COLUMN()-1,FALSE)))","v":"Mildura"},{"$f":"IF(ISERROR(VLOOKUP($B90,RaceDraw!$C$10:$P$440,COLUMN()-1,FALSE)),\" \",IF(ISBLANK(VLOOKUP($B90,RaceDraw!$C$10:$P$440,COLUMN()-1,FALSE)),\" \",VLOOKUP($B90,RaceDraw!$C$10:$P$440,COLUMN()-1,FALSE)))","v":"Goolwa River Dragons"},{"$f":"IF(ISERROR(VLOOKUP($B90,RaceDraw!$C$10:$P$440,COLUMN()-1,FALSE)),\" \",IF(ISBLANK(VLOOKUP($B90,RaceDraw!$C$10:$P$440,COLUMN()-1,FALSE)),\" \",VLOOKUP($B90,RaceDraw!$C$10:$P$440,COLUMN()-1,FALSE)))","v":"Black Sea Dragons"},{"$f":"IF(ISERROR(VLOOKUP($B90,RaceDraw!$C$10:$P$440,COLUMN()-1,FALSE)),\" \",IF(ISBLANK(VLOOKUP($B90,RaceDraw!$C$10:$P$440,COLUMN()-1,FALSE)),\" \",VLOOKUP($B90,RaceDraw!$C$10:$P$440,COLUMN()-1,FALSE)))","v":"Gippsland United"},{"$f":"IF(ISERROR(VLOOKUP($B90,RaceDraw!$C$10:$P$440,COLUMN()-1,FALSE)),\" \",IF(ISBLANK(VLOOKUP($B90,RaceDraw!$C$10:$P$440,COLUMN()-1,FALSE)),\" \",VLOOKUP($B90,RaceDraw!$C$10:$P$440,COLUMN()-1,FALSE)))","v":" "},{"$f":"IF(ISERROR(VLOOKUP($B90,RaceDraw!$C$10:$P$440,COLUMN()-1,FALSE)),\" \",IF(ISBLANK(VLOOKUP($B90,RaceDraw!$C$10:$P$440,COLUMN()-1,FALSE)),\" \",VLOOKUP($B90,RaceDraw!$C$10:$P$440,COLUMN()-1,FALSE)))","v":" "},{"$f":"IF(ISERROR(VLOOKUP($B90,RaceDraw!$C$10:$P$440,COLUMN()-1,FALSE)),\" \",IF(ISBLANK(VLOOKUP($B90,RaceDraw!$C$10:$P$440,COLUMN()-1,FALSE)),\" \",VLOOKUP($B90,RaceDraw!$C$10:$P$440,COLUMN()-1,FALSE)))","v":" "},{"$f":"IF(ISERROR(VLOOKUP($B90,RaceDraw!$C$10:$P$440,COLUMN()-1,FALSE)),\" \",IF(ISBLANK(VLOOKUP($B90,RaceDraw!$C$10:$P$440,COLUMN()-1,FALSE)),\" \",VLOOKUP($B90,RaceDraw!$C$10:$P$440,COLUMN()-1,FALSE)))","v":" "},"Sat"]
[{"$f":"IF(ISERROR(INDEX(RaceDraw!$B$10:$B$440,MATCH(B91,RaceDraw!$C$10:$C$440,0))),\"\",INDEX(RaceDraw!$B$10:$B$440,MATCH(B91,RaceDraw!$C$10:$C$440,0)))","v":"10.18"},86,{"$f":"IF(ISERROR(VLOOKUP($B91,RaceDraw!$C$10:$P$440,COLUMN()-1,FALSE)),\"\",IF(ISBLANK(VLOOKUP($B91,RaceDraw!$C$10:$P$440,COLUMN()-1,FALSE)),\"\",VLOOKUP($B91,RaceDraw!$C$10:$P$440,COLUMN()-1,FALSE)))","v":"Senior A Open 10"},{"$f":"IF(ISERROR(VLOOKUP($B91,RaceDraw!$C$10:$P$440,COLUMN()-1,FALSE)),\"\",IF(ISBLANK(VLOOKUP($B91,RaceDraw!$C$10:$P$440,COLUMN()-1,FALSE)),\"\",VLOOKUP($B91,RaceDraw!$C$10:$P$440,COLUMN()-1,FALSE)))","v":200},{"$f":"IF(ISERROR(VLOOKUP($B91,RaceDraw!$C$10:$P$440,COLUMN()-1,FALSE)),\"\",IF(ISBLANK(VLOOKUP($B91,RaceDraw!$C$10:$P$440,COLUMN()-1,FALSE)),F91,VLOOKUP($B91,RaceDraw!$C$10:$P$440,COLUMN()-1,FALSE)))","v":2},{"$f":"IF(ISERROR(VLOOKUP($B91,RaceDraw!$C$10:$P$440,COLUMN()-1,FALSE)),\"\",IF(ISBLANK(VLOOKUP($B91,RaceDraw!$C$10:$P$440,COLUMN()-1,FALSE)),\"\",VLOOKUP($B91,RaceDraw!$C$10:$P$440,COLUMN()-1,FALSE)))","v":2},{"$f":"IF(ISERROR(VLOOKUP($B91,RaceDraw!$C$10:$P$440,COLUMN()-1,FALSE)),\" \",IF(ISBLANK(VLOOKUP($B91,RaceDraw!$C$10:$P$440,COLUMN()-1,FALSE)),\" \",VLOOKUP($B91,RaceDraw!$C$10:$P$440,COLUMN()-1,FALSE)))","v":"Southern Warriors"},{"$f":"IF(ISERROR(VLOOKUP($B91,RaceDraw!$C$10:$P$440,COLUMN()-1,FALSE)),\" \",IF(ISBLANK(VLOOKUP($B91,RaceDraw!$C$10:$P$440,COLUMN()-1,FALSE)),\" \",VLOOKUP($B91,RaceDraw!$C$10:$P$440,COLUMN()-1,FALSE)))","v":"Kombo Dragons Purple"},{"$f":"IF(ISERROR(VLOOKUP($B91,RaceDraw!$C$10:$P$440,COLUMN()-1,FALSE)),\" \",IF(ISBLANK(VLOOKUP($B91,RaceDraw!$C$10:$P$440,COLUMN()-1,FALSE)),\" \",VLOOKUP($B91,RaceDraw!$C$10:$P$440,COLUMN()-1,FALSE)))","v":"Kombo Dragons Black"},{"$f":"IF(ISERROR(VLOOKUP($B91,RaceDraw!$C$10:$P$440,COLUMN()-1,FALSE)),\" \",IF(ISBLANK(VLOOKUP($B91,RaceDraw!$C$10:$P$440,COLUMN()-1,FALSE)),\" \",VLOOKUP($B91,RaceDraw!$C$10:$P$440,COLUMN()-1,FALSE)))","v":"FNC"},{"$f":"IF(ISERROR(VLOOKUP($B91,RaceDraw!$C$10:$P$440,COLUMN()-1,FALSE)),\" \",IF(ISBLANK(VLOOKUP($B91,RaceDraw!$C$10:$P$440,COLUMN()-1,FALSE)),\" \",VLOOKUP($B91,RaceDraw!$C$10:$P$440,COLUMN()-1,FALSE)))","v":"Diamond Phoenix"},{"$f":"IF(ISERROR(VLOOKUP($B91,RaceDraw!$C$10:$P$440,COLUMN()-1,FALSE)),\" \",IF(ISBLANK(VLOOKUP($B91,RaceDraw!$C$10:$P$440,COLUMN()-1,FALSE)),\" \",VLOOKUP($B91,RaceDraw!$C$10:$P$440,COLUMN()-1,FALSE)))","v":" "},{"$f":"IF(ISERROR(VLOOKUP($B91,RaceDraw!$C$10:$P$440,COLUMN()-1,FALSE)),\" \",IF(ISBLANK(VLOOKUP($B91,RaceDraw!$C$10:$P$440,COLUMN()-1,FALSE)),\" \",VLOOKUP($B91,RaceDraw!$C$10:$P$440,COLUMN()-1,FALSE)))","v":" "},{"$f":"IF(ISERROR(VLOOKUP($B91,RaceDraw!$C$10:$P$440,COLUMN()-1,FALSE)),\" \",IF(ISBLANK(VLOOKUP($B91,RaceDraw!$C$10:$P$440,COLUMN()-1,FALSE)),\" \",VLOOKUP($B91,RaceDraw!$C$10:$P$440,COLUMN()-1,FALSE)))","v":" "},{"$f":"IF(ISERROR(VLOOKUP($B91,RaceDraw!$C$10:$P$440,COLUMN()-1,FALSE)),\" \",IF(ISBLANK(VLOOKUP($B91,RaceDraw!$C$10:$P$440,COLUMN()-1,FALSE)),\" \",VLOOKUP($B91,RaceDraw!$C$10:$P$440,COLUMN()-1,FALSE)))","v":" "},"Sat"]
[{"$f":"IF(ISERROR(INDEX(RaceDraw!$B$10:$B$440,MATCH(B92,RaceDraw!$C$10:$C$440,0))),\"\",INDEX(RaceDraw!$B$10:$B$440,MATCH(B92,RaceDraw!$C$10:$C$440,0)))","v":"10.24"},87,{"$f":"IF(ISERROR(VLOOKUP($B92,RaceDraw!$C$10:$P$440,COLUMN()-1,FALSE)),\"\",IF(ISBLANK(VLOOKUP($B92,RaceDraw!$C$10:$P$440,COLUMN()-1,FALSE)),\"\",VLOOKUP($B92,RaceDraw!$C$10:$P$440,COLUMN()-1,FALSE)))","v":"Senior A Open 10"},{"$f":"IF(ISERROR(VLOOKUP($B92,RaceDraw!$C$10:$P$440,COLUMN()-1,FALSE)),\"\",IF(ISBLANK(VLOOKUP($B92,RaceDraw!$C$10:$P$440,COLUMN()-1,FALSE)),\"\",VLOOKUP($B92,RaceDraw!$C$10:$P$440,COLUMN()-1,FALSE)))","v":200},{"$f":"IF(ISERROR(VLOOKUP($B92,RaceDraw!$C$10:$P$440,COLUMN()-1,FALSE)),\"\",IF(ISBLANK(VLOOKUP($B92,RaceDraw!$C$10:$P$440,COLUMN()-1,FALSE)),F92,VLOOKUP($B92,RaceDraw!$C$10:$P$440,COLUMN()-1,FALSE)))","v":2},{"$f":"IF(ISERROR(VLOOKUP($B92,RaceDraw!$C$10:$P$440,COLUMN()-1,FALSE)),\"\",IF(ISBLANK(VLOOKUP($B92,RaceDraw!$C$10:$P$440,COLUMN()-1,FALSE)),\"\",VLOOKUP($B92,RaceDraw!$C$10:$P$440,COLUMN()-1,FALSE)))","v":3},{"$f":"IF(ISERROR(VLOOKUP($B92,RaceDraw!$C$10:$P$440,COLUMN()-1,FALSE)),\" \",IF(ISBLANK(VLOOKUP($B92,RaceDraw!$C$10:$P$440,COLUMN()-1,FALSE)),\" \",VLOOKUP($B92,RaceDraw!$C$10:$P$440,COLUMN()-1,FALSE)))","v":"Kombo Dragons Green"},{"$f":"IF(ISERROR(VLOOKUP($B92,RaceDraw!$C$10:$P$440,COLUMN()-1,FALSE)),\" \",IF(ISBLANK(VLOOKUP($B92,RaceDraw!$C$10:$P$440,COLUMN()-1,FALSE)),\" \",VLOOKUP($B92,RaceDraw!$C$10:$P$440,COLUMN()-1,FALSE)))","v":"Deepwater Dragons"},{"$f":"IF(ISERROR(VLOOKUP($B92,RaceDraw!$C$10:$P$440,COLUMN()-1,FALSE)),\" \",IF(ISBLANK(VLOOKUP($B92,RaceDraw!$C$10:$P$440,COLUMN()-1,FALSE)),\" \",VLOOKUP($B92,RaceDraw!$C$10:$P$440,COLUMN()-1,FALSE)))","v":"Hunter River Dragons"},{"$f":"IF(ISERROR(VLOOKUP($B92,RaceDraw!$C$10:$P$440,COLUMN()-1,FALSE)),\" \",IF(ISBLANK(VLOOKUP($B92,RaceDraw!$C$10:$P$440,COLUMN()-1,FALSE)),\" \",VLOOKUP($B92,RaceDraw!$C$10:$P$440,COLUMN()-1,FALSE)))","v":"Dragonfire"},{"$f":"IF(ISERROR(VLOOKUP($B92,RaceDraw!$C$10:$P$440,COLUMN()-1,FALSE)),\" \",IF(ISBLANK(VLOOKUP($B92,RaceDraw!$C$10:$P$440,COLUMN()-1,FALSE)),\" \",VLOOKUP($B92,RaceDraw!$C$10:$P$440,COLUMN()-1,FALSE)))","v":"Broadwater Dragons"},{"$f":"IF(ISERROR(VLOOKUP($B92,RaceDraw!$C$10:$P$440,COLUMN()-1,FALSE)),\" \",IF(ISBLANK(VLOOKUP($B92,RaceDraw!$C$10:$P$440,COLUMN()-1,FALSE)),\" \",VLOOKUP($B92,RaceDraw!$C$10:$P$440,COLUMN()-1,FALSE)))","v":" "},{"$f":"IF(ISERROR(VLOOKUP($B92,RaceDraw!$C$10:$P$440,COLUMN()-1,FALSE)),\" \",IF(ISBLANK(VLOOKUP($B92,RaceDraw!$C$10:$P$440,COLUMN()-1,FALSE)),\" \",VLOOKUP($B92,RaceDraw!$C$10:$P$440,COLUMN()-1,FALSE)))","v":" "},{"$f":"IF(ISERROR(VLOOKUP($B92,RaceDraw!$C$10:$P$440,COLUMN()-1,FALSE)),\" \",IF(ISBLANK(VLOOKUP($B92,RaceDraw!$C$10:$P$440,COLUMN()-1,FALSE)),\" \",VLOOKUP($B92,RaceDraw!$C$10:$P$440,COLUMN()-1,FALSE)))","v":" "},{"$f":"IF(ISERROR(VLOOKUP($B92,RaceDraw!$C$10:$P$440,COLUMN()-1,FALSE)),\" \",IF(ISBLANK(VLOOKUP($B92,RaceDraw!$C$10:$P$440,COLUMN()-1,FALSE)),\" \",VLOOKUP($B92,RaceDraw!$C$10:$P$440,COLUMN()-1,FALSE)))","v":" "},"Sat"]
[{"$f":"IF(ISERROR(INDEX(RaceDraw!$B$10:$B$440,MATCH(B93,RaceDraw!$C$10:$C$440,0))),\"\",INDEX(RaceDraw!$B$10:$B$440,MATCH(B93,RaceDraw!$C$10:$C$440,0)))","v":"10.30"},88,{"$f":"IF(ISERROR(VLOOKUP($B93,RaceDraw!$C$10:$P$440,COLUMN()-1,FALSE)),\"\",IF(ISBLANK(VLOOKUP($B93,RaceDraw!$C$10:$P$440,COLUMN()-1,FALSE)),\"\",VLOOKUP($B93,RaceDraw!$C$10:$P$440,COLUMN()-1,FALSE)))","v":"Senior A Women 20"},{"$f":"IF(ISERROR(VLOOKUP($B93,RaceDraw!$C$10:$P$440,COLUMN()-1,FALSE)),\"\",IF(ISBLANK(VLOOKUP($B93,RaceDraw!$C$10:$P$440,COLUMN()-1,FALSE)),\"\",VLOOKUP($B93,RaceDraw!$C$10:$P$440,COLUMN()-1,FALSE)))","v":200},{"$f":"IF(ISERROR(VLOOKUP($B93,RaceDraw!$C$10:$P$440,COLUMN()-1,FALSE)),\"\",IF(ISBLANK(VLOOKUP($B93,RaceDraw!$C$10:$P$440,COLUMN()-1,FALSE)),F93,VLOOKUP($B93,RaceDraw!$C$10:$P$440,COLUMN()-1,FALSE)))","v":2},{"$f":"IF(ISERROR(VLOOKUP($B93,RaceDraw!$C$10:$P$440,COLUMN()-1,FALSE)),\"\",IF(ISBLANK(VLOOKUP($B93,RaceDraw!$C$10:$P$440,COLUMN()-1,FALSE)),\"\",VLOOKUP($B93,RaceDraw!$C$10:$P$440,COLUMN()-1,FALSE)))","v":1},{"$f":"IF(ISERROR(VLOOKUP($B93,RaceDraw!$C$10:$P$440,COLUMN()-1,FALSE)),\" \",IF(ISBLANK(VLOOKUP($B93,RaceDraw!$C$10:$P$440,COLUMN()-1,FALSE)),\" \",VLOOKUP($B93,RaceDraw!$C$10:$P$440,COLUMN()-1,FALSE)))","v":"Pink Dragons"},{"$f":"IF(ISERROR(VLOOKUP($B93,RaceDraw!$C$10:$P$440,COLUMN()-1,FALSE)),\" \",IF(ISBLANK(VLOOKUP($B93,RaceDraw!$C$10:$P$440,COLUMN()-1,FALSE)),\" \",VLOOKUP($B93,RaceDraw!$C$10:$P$440,COLUMN()-1,FALSE)))","v":"Golden Dragons"},{"$f":"IF(ISERROR(VLOOKUP($B93,RaceDraw!$C$10:$P$440,COLUMN()-1,FALSE)),\" \",IF(ISBLANK(VLOOKUP($B93,RaceDraw!$C$10:$P$440,COLUMN()-1,FALSE)),\" \",VLOOKUP($B93,RaceDraw!$C$10:$P$440,COLUMN()-1,FALSE)))","v":"Powerblades"},{"$f":"IF(ISERROR(VLOOKUP($B93,RaceDraw!$C$10:$P$440,COLUMN()-1,FALSE)),\" \",IF(ISBLANK(VLOOKUP($B93,RaceDraw!$C$10:$P$440,COLUMN()-1,FALSE)),\" \",VLOOKUP($B93,RaceDraw!$C$10:$P$440,COLUMN()-1,FALSE)))","v":"Peninsula Dragonflys"},{"$f":"IF(ISERROR(VLOOKUP($B93,RaceDraw!$C$10:$P$440,COLUMN()-1,FALSE)),\" \",IF(ISBLANK(VLOOKUP($B93,RaceDraw!$C$10:$P$440,COLUMN()-1,FALSE)),\" \",VLOOKUP($B93,RaceDraw!$C$10:$P$440,COLUMN()-1,FALSE)))","v":"SADA Sonix"},{"$f":"IF(ISERROR(VLOOKUP($B93,RaceDraw!$C$10:$P$440,COLUMN()-1,FALSE)),\" \",IF(ISBLANK(VLOOKUP($B93,RaceDraw!$C$10:$P$440,COLUMN()-1,FALSE)),\" \",VLOOKUP($B93,RaceDraw!$C$10:$P$440,COLUMN()-1,FALSE)))","v":" "},{"$f":"IF(ISERROR(VLOOKUP($B93,RaceDraw!$C$10:$P$440,COLUMN()-1,FALSE)),\" \",IF(ISBLANK(VLOOKUP($B93,RaceDraw!$C$10:$P$440,COLUMN()-1,FALSE)),\" \",VLOOKUP($B93,RaceDraw!$C$10:$P$440,COLUMN()-1,FALSE)))","v":" "},{"$f":"IF(ISERROR(VLOOKUP($B93,RaceDraw!$C$10:$P$440,COLUMN()-1,FALSE)),\" \",IF(ISBLANK(VLOOKUP($B93,RaceDraw!$C$10:$P$440,COLUMN()-1,FALSE)),\" \",VLOOKUP($B93,RaceDraw!$C$10:$P$440,COLUMN()-1,FALSE)))","v":" "},{"$f":"IF(ISERROR(VLOOKUP($B93,RaceDraw!$C$10:$P$440,COLUMN()-1,FALSE)),\" \",IF(ISBLANK(VLOOKUP($B93,RaceDraw!$C$10:$P$440,COLUMN()-1,FALSE)),\" \",VLOOKUP($B93,RaceDraw!$C$10:$P$440,COLUMN()-1,FALSE)))","v":" "},"Sat"]
[{"$f":"IF(ISERROR(INDEX(RaceDraw!$B$10:$B$440,MATCH(B94,RaceDraw!$C$10:$C$440,0))),\"\",INDEX(RaceDraw!$B$10:$B$440,MATCH(B94,RaceDraw!$C$10:$C$440,0)))","v":"10.36"},89,{"$f":"IF(ISERROR(VLOOKUP($B94,RaceDraw!$C$10:$P$440,COLUMN()-1,FALSE)),\"\",IF(ISBLANK(VLOOKUP($B94,RaceDraw!$C$10:$P$440,COLUMN()-1,FALSE)),\"\",VLOOKUP($B94,RaceDraw!$C$10:$P$440,COLUMN()-1,FALSE)))","v":"Senior A Women 20"},{"$f":"IF(ISERROR(VLOOKUP($B94,RaceDraw!$C$10:$P$440,COLUMN()-1,FALSE)),\"\",IF(ISBLANK(VLOOKUP($B94,RaceDraw!$C$10:$P$440,COLUMN()-1,FALSE)),\"\",VLOOKUP($B94,RaceDraw!$C$10:$P$440,COLUMN()-1,FALSE)))","v":200},{"$f":"IF(ISERROR(VLOOKUP($B94,RaceDraw!$C$10:$P$440,COLUMN()-1,FALSE)),\"\",IF(ISBLANK(VLOOKUP($B94,RaceDraw!$C$10:$P$440,COLUMN()-1,FALSE)),F94,VLOOKUP($B94,RaceDraw!$C$10:$P$440,COLUMN()-1,FALSE)))","v":2},{"$f":"IF(ISERROR(VLOOKUP($B94,RaceDraw!$C$10:$P$440,COLUMN()-1,FALSE)),\"\",IF(ISBLANK(VLOOKUP($B94,RaceDraw!$C$10:$P$440,COLUMN()-1,FALSE)),\"\",VLOOKUP($B94,RaceDraw!$C$10:$P$440,COLUMN()-1,FALSE)))","v":2},{"$f":"IF(ISERROR(VLOOKUP($B94,RaceDraw!$C$10:$P$440,COLUMN()-1,FALSE)),\" \",IF(ISBLANK(VLOOKUP($B94,RaceDraw!$C$10:$P$440,COLUMN()-1,FALSE)),\" \",VLOOKUP($B94,RaceDraw!$C$10:$P$440,COLUMN()-1,FALSE)))","v":"Black Sea Dragons"},{"$f":"IF(ISERROR(VLOOKUP($B94,RaceDraw!$C$10:$P$440,COLUMN()-1,FALSE)),\" \",IF(ISBLANK(VLOOKUP($B94,RaceDraw!$C$10:$P$440,COLUMN()-1,FALSE)),\" \",VLOOKUP($B94,RaceDraw!$C$10:$P$440,COLUMN()-1,FALSE)))","v":"Southern Warriors"},{"$f":"IF(ISERROR(VLOOKUP($B94,RaceDraw!$C$10:$P$440,COLUMN()-1,FALSE)),\" \",IF(ISBLANK(VLOOKUP($B94,RaceDraw!$C$10:$P$440,COLUMN()-1,FALSE)),\" \",VLOOKUP($B94,RaceDraw!$C$10:$P$440,COLUMN()-1,FALSE)))","v":"Motley Crew"},{"$f":"IF(ISERROR(VLOOKUP($B94,RaceDraw!$C$10:$P$440,COLUMN()-1,FALSE)),\" \",IF(ISBLANK(VLOOKUP($B94,RaceDraw!$C$10:$P$440,COLUMN()-1,FALSE)),\" \",VLOOKUP($B94,RaceDraw!$C$10:$P$440,COLUMN()-1,FALSE)))","v":"Gippsland United"},{"$f":"IF(ISERROR(VLOOKUP($B94,RaceDraw!$C$10:$P$440,COLUMN()-1,FALSE)),\" \",IF(ISBLANK(VLOOKUP($B94,RaceDraw!$C$10:$P$440,COLUMN()-1,FALSE)),\" \",VLOOKUP($B94,RaceDraw!$C$10:$P$440,COLUMN()-1,FALSE)))","v":"Kombo Dragons Black"},{"$f":"IF(ISERROR(VLOOKUP($B94,RaceDraw!$C$10:$P$440,COLUMN()-1,FALSE)),\" \",IF(ISBLANK(VLOOKUP($B94,RaceDraw!$C$10:$P$440,COLUMN()-1,FALSE)),\" \",VLOOKUP($B94,RaceDraw!$C$10:$P$440,COLUMN()-1,FALSE)))","v":" "},{"$f":"IF(ISERROR(VLOOKUP($B94,RaceDraw!$C$10:$P$440,COLUMN()-1,FALSE)),\" \",IF(ISBLANK(VLOOKUP($B94,RaceDraw!$C$10:$P$440,COLUMN()-1,FALSE)),\" \",VLOOKUP($B94,RaceDraw!$C$10:$P$440,COLUMN()-1,FALSE)))","v":" "},{"$f":"IF(ISERROR(VLOOKUP($B94,RaceDraw!$C$10:$P$440,COLUMN()-1,FALSE)),\" \",IF(ISBLANK(VLOOKUP($B94,RaceDraw!$C$10:$P$440,COLUMN()-1,FALSE)),\" \",VLOOKUP($B94,RaceDraw!$C$10:$P$440,COLUMN()-1,FALSE)))","v":" "},{"$f":"IF(ISERROR(VLOOKUP($B94,RaceDraw!$C$10:$P$440,COLUMN()-1,FALSE)),\" \",IF(ISBLANK(VLOOKUP($B94,RaceDraw!$C$10:$P$440,COLUMN()-1,FALSE)),\" \",VLOOKUP($B94,RaceDraw!$C$10:$P$440,COLUMN()-1,FALSE)))","v":" "},"Sat"]
[{"$f":"IF(ISERROR(INDEX(RaceDraw!$B$10:$B$440,MATCH(B95,RaceDraw!$C$10:$C$440,0))),\"\",INDEX(RaceDraw!$B$10:$B$440,MATCH(B95,RaceDraw!$C$10:$C$440,0)))","v":"10.42"},90,{"$f":"IF(ISERROR(VLOOKUP($B95,RaceDraw!$C$10:$P$440,COLUMN()-1,FALSE)),\"\",IF(ISBLANK(VLOOKUP($B95,RaceDraw!$C$10:$P$440,COLUMN()-1,FALSE)),\"\",VLOOKUP($B95,RaceDraw!$C$10:$P$440,COLUMN()-1,FALSE)))","v":"Senior A Women 20"},{"$f":"IF(ISERROR(VLOOKUP($B95,RaceDraw!$C$10:$P$440,COLUMN()-1,FALSE)),\"\",IF(ISBLANK(VLOOKUP($B95,RaceDraw!$C$10:$P$440,COLUMN()-1,FALSE)),\"\",VLOOKUP($B95,RaceDraw!$C$10:$P$440,COLUMN()-1,FALSE)))","v":200},{"$f":"IF(ISERROR(VLOOKUP($B95,RaceDraw!$C$10:$P$440,COLUMN()-1,FALSE)),\"\",IF(ISBLANK(VLOOKUP($B95,RaceDraw!$C$10:$P$440,COLUMN()-1,FALSE)),F95,VLOOKUP($B95,RaceDraw!$C$10:$P$440,COLUMN()-1,FALSE)))","v":2},{"$f":"IF(ISERROR(VLOOKUP($B95,RaceDraw!$C$10:$P$440,COLUMN()-1,FALSE)),\"\",IF(ISBLANK(VLOOKUP($B95,RaceDraw!$C$10:$P$440,COLUMN()-1,FALSE)),\"\",VLOOKUP($B95,RaceDraw!$C$10:$P$440,COLUMN()-1,FALSE)))","v":3},{"$f":"IF(ISERROR(VLOOKUP($B95,RaceDraw!$C$10:$P$440,COLUMN()-1,FALSE)),\" \",IF(ISBLANK(VLOOKUP($B95,RaceDraw!$C$10:$P$440,COLUMN()-1,FALSE)),\" \",VLOOKUP($B95,RaceDraw!$C$10:$P$440,COLUMN()-1,FALSE)))","v":"Broadwater Dragons"},{"$f":"IF(ISERROR(VLOOKUP($B95,RaceDraw!$C$10:$P$440,COLUMN()-1,FALSE)),\" \",IF(ISBLANK(VLOOKUP($B95,RaceDraw!$C$10:$P$440,COLUMN()-1,FALSE)),\" \",VLOOKUP($B95,RaceDraw!$C$10:$P$440,COLUMN()-1,FALSE)))","v":"Hunter River Dragons"},{"$f":"IF(ISERROR(VLOOKUP($B95,RaceDraw!$C$10:$P$440,COLUMN()-1,FALSE)),\" \",IF(ISBLANK(VLOOKUP($B95,RaceDraw!$C$10:$P$440,COLUMN()-1,FALSE)),\" \",VLOOKUP($B95,RaceDraw!$C$10:$P$440,COLUMN()-1,FALSE)))","v":"Newcastle Dragon Hunters"},{"$f":"IF(ISERROR(VLOOKUP($B95,RaceDraw!$C$10:$P$440,COLUMN()-1,FALSE)),\" \",IF(ISBLANK(VLOOKUP($B95,RaceDraw!$C$10:$P$440,COLUMN()-1,FALSE)),\" \",VLOOKUP($B95,RaceDraw!$C$10:$P$440,COLUMN()-1,FALSE)))","v":"Deepwater"},{"$f":"IF(ISERROR(VLOOKUP($B95,RaceDraw!$C$10:$P$440,COLUMN()-1,FALSE)),\" \",IF(ISBLANK(VLOOKUP($B95,RaceDraw!$C$10:$P$440,COLUMN()-1,FALSE)),\" \",VLOOKUP($B95,RaceDraw!$C$10:$P$440,COLUMN()-1,FALSE)))","v":"Dragons Abreast Adelaide"},{"$f":"IF(ISERROR(VLOOKUP($B95,RaceDraw!$C$10:$P$440,COLUMN()-1,FALSE)),\" \",IF(ISBLANK(VLOOKUP($B95,RaceDraw!$C$10:$P$440,COLUMN()-1,FALSE)),\" \",VLOOKUP($B95,RaceDraw!$C$10:$P$440,COLUMN()-1,FALSE)))","v":" "},{"$f":"IF(ISERROR(VLOOKUP($B95,RaceDraw!$C$10:$P$440,COLUMN()-1,FALSE)),\" \",IF(ISBLANK(VLOOKUP($B95,RaceDraw!$C$10:$P$440,COLUMN()-1,FALSE)),\" \",VLOOKUP($B95,RaceDraw!$C$10:$P$440,COLUMN()-1,FALSE)))","v":" "},{"$f":"IF(ISERROR(VLOOKUP($B95,RaceDraw!$C$10:$P$440,COLUMN()-1,FALSE)),\" \",IF(ISBLANK(VLOOKUP($B95,RaceDraw!$C$10:$P$440,COLUMN()-1,FALSE)),\" \",VLOOKUP($B95,RaceDraw!$C$10:$P$440,COLUMN()-1,FALSE)))","v":" "},{"$f":"IF(ISERROR(VLOOKUP($B95,RaceDraw!$C$10:$P$440,COLUMN()-1,FALSE)),\" \",IF(ISBLANK(VLOOKUP($B95,RaceDraw!$C$10:$P$440,COLUMN()-1,FALSE)),\" \",VLOOKUP($B95,RaceDraw!$C$10:$P$440,COLUMN()-1,FALSE)))","v":" "},"Sat"]
[{"$f":"IF(ISERROR(INDEX(RaceDraw!$B$10:$B$440,MATCH(B96,RaceDraw!$C$10:$C$440,0))),\"\",INDEX(RaceDraw!$B$10:$B$440,MATCH(B96,RaceDraw!$C$10:$C$440,0)))","v":"10.48"},91,{"$f":"IF(ISERROR(VLOOKUP($B96,RaceDraw!$C$10:$P$440,COLUMN()-1,FALSE)),\"\",IF(ISBLANK(VLOOKUP($B96,RaceDraw!$C$10:$P$440,COLUMN()-1,FALSE)),\"\",VLOOKUP($B96,RaceDraw!$C$10:$P$440,COLUMN()-1,FALSE)))","v":"Senior A Open 20"},{"$f":"IF(ISERROR(VLOOKUP($B96,RaceDraw!$C$10:$P$440,COLUMN()-1,FALSE)),\"\",IF(ISBLANK(VLOOKUP($B96,RaceDraw!$C$10:$P$440,COLUMN()-1,FALSE)),\"\",VLOOKUP($B96,RaceDraw!$C$10:$P$440,COLUMN()-1,FALSE)))","v":200},{"$f":"IF(ISERROR(VLOOKUP($B96,RaceDraw!$C$10:$P$440,COLUMN()-1,FALSE)),\"\",IF(ISBLANK(VLOOKUP($B96,RaceDraw!$C$10:$P$440,COLUMN()-1,FALSE)),F96,VLOOKUP($B96,RaceDraw!$C$10:$P$440,COLUMN()-1,FALSE)))","v":2},{"$f":"IF(ISERROR(VLOOKUP($B96,RaceDraw!$C$10:$P$440,COLUMN()-1,FALSE)),\"\",IF(ISBLANK(VLOOKUP($B96,RaceDraw!$C$10:$P$440,COLUMN()-1,FALSE)),\"\",VLOOKUP($B96,RaceDraw!$C$10:$P$440,COLUMN()-1,FALSE)))","v":1},{"$f":"IF(ISERROR(VLOOKUP($B96,RaceDraw!$C$10:$P$440,COLUMN()-1,FALSE)),\" \",IF(ISBLANK(VLOOKUP($B96,RaceDraw!$C$10:$P$440,COLUMN()-1,FALSE)),\" \",VLOOKUP($B96,RaceDraw!$C$10:$P$440,COLUMN()-1,FALSE)))","v":"FNC"},{"$f":"IF(ISERROR(VLOOKUP($B96,RaceDraw!$C$10:$P$440,COLUMN()-1,FALSE)),\" \",IF(ISBLANK(VLOOKUP($B96,RaceDraw!$C$10:$P$440,COLUMN()-1,FALSE)),\" \",VLOOKUP($B96,RaceDraw!$C$10:$P$440,COLUMN()-1,FALSE)))","v":"Kombo Dragons Purple"},{"$f":"IF(ISERROR(VLOOKUP($B96,RaceDraw!$C$10:$P$440,COLUMN()-1,FALSE)),\" \",IF(ISBLANK(VLOOKUP($B96,RaceDraw!$C$10:$P$440,COLUMN()-1,FALSE)),\" \",VLOOKUP($B96,RaceDraw!$C$10:$P$440,COLUMN()-1,FALSE)))","v":"Peninsula Dragonflys"},{"$f":"IF(ISERROR(VLOOKUP($B96,RaceDraw!$C$10:$P$440,COLUMN()-1,FALSE)),\" \",IF(ISBLANK(VLOOKUP($B96,RaceDraw!$C$10:$P$440,COLUMN()-1,FALSE)),\" \",VLOOKUP($B96,RaceDraw!$C$10:$P$440,COLUMN()-1,FALSE)))","v":"Goolwa River Dragons"},{"$f":"IF(ISERROR(VLOOKUP($B96,RaceDraw!$C$10:$P$440,COLUMN()-1,FALSE)),\" \",IF(ISBLANK(VLOOKUP($B96,RaceDraw!$C$10:$P$440,COLUMN()-1,FALSE)),\" \",VLOOKUP($B96,RaceDraw!$C$10:$P$440,COLUMN()-1,FALSE)))","v":"Southern Warriors"},{"$f":"IF(ISERROR(VLOOKUP($B96,RaceDraw!$C$10:$P$440,COLUMN()-1,FALSE)),\" \",IF(ISBLANK(VLOOKUP($B96,RaceDraw!$C$10:$P$440,COLUMN()-1,FALSE)),\" \",VLOOKUP($B96,RaceDraw!$C$10:$P$440,COLUMN()-1,FALSE)))","v":" "},{"$f":"IF(ISERROR(VLOOKUP($B96,RaceDraw!$C$10:$P$440,COLUMN()-1,FALSE)),\" \",IF(ISBLANK(VLOOKUP($B96,RaceDraw!$C$10:$P$440,COLUMN()-1,FALSE)),\" \",VLOOKUP($B96,RaceDraw!$C$10:$P$440,COLUMN()-1,FALSE)))","v":" "},{"$f":"IF(ISERROR(VLOOKUP($B96,RaceDraw!$C$10:$P$440,COLUMN()-1,FALSE)),\" \",IF(ISBLANK(VLOOKUP($B96,RaceDraw!$C$10:$P$440,COLUMN()-1,FALSE)),\" \",VLOOKUP($B96,RaceDraw!$C$10:$P$440,COLUMN()-1,FALSE)))","v":" "},{"$f":"IF(ISERROR(VLOOKUP($B96,RaceDraw!$C$10:$P$440,COLUMN()-1,FALSE)),\" \",IF(ISBLANK(VLOOKUP($B96,RaceDraw!$C$10:$P$440,COLUMN()-1,FALSE)),\" \",VLOOKUP($B96,RaceDraw!$C$10:$P$440,COLUMN()-1,FALSE)))","v":" "},"Sat"]
[{"$f":"IF(ISERROR(INDEX(RaceDraw!$B$10:$B$440,MATCH(B97,RaceDraw!$C$10:$C$440,0))),\"\",INDEX(RaceDraw!$B$10:$B$440,MATCH(B97,RaceDraw!$C$10:$C$440,0)))","v":"10.54"},92,{"$f":"IF(ISERROR(VLOOKUP($B97,RaceDraw!$C$10:$P$440,COLUMN()-1,FALSE)),\"\",IF(ISBLANK(VLOOKUP($B97,RaceDraw!$C$10:$P$440,COLUMN()-1,FALSE)),\"\",VLOOKUP($B97,RaceDraw!$C$10:$P$440,COLUMN()-1,FALSE)))","v":"Senior A Open 20"},{"$f":"IF(ISERROR(VLOOKUP($B97,RaceDraw!$C$10:$P$440,COLUMN()-1,FALSE)),\"\",IF(ISBLANK(VLOOKUP($B97,RaceDraw!$C$10:$P$440,COLUMN()-1,FALSE)),\"\",VLOOKUP($B97,RaceDraw!$C$10:$P$440,COLUMN()-1,FALSE)))","v":200},{"$f":"IF(ISERROR(VLOOKUP($B97,RaceDraw!$C$10:$P$440,COLUMN()-1,FALSE)),\"\",IF(ISBLANK(VLOOKUP($B97,RaceDraw!$C$10:$P$440,COLUMN()-1,FALSE)),F97,VLOOKUP($B97,RaceDraw!$C$10:$P$440,COLUMN()-1,FALSE)))","v":2},{"$f":"IF(ISERROR(VLOOKUP($B97,RaceDraw!$C$10:$P$440,COLUMN()-1,FALSE)),\"\",IF(ISBLANK(VLOOKUP($B97,RaceDraw!$C$10:$P$440,COLUMN()-1,FALSE)),\"\",VLOOKUP($B97,RaceDraw!$C$10:$P$440,COLUMN()-1,FALSE)))","v":2},{"$f":"IF(ISERROR(VLOOKUP($B97,RaceDraw!$C$10:$P$440,COLUMN()-1,FALSE)),\" \",IF(ISBLANK(VLOOKUP($B97,RaceDraw!$C$10:$P$440,COLUMN()-1,FALSE)),\" \",VLOOKUP($B97,RaceDraw!$C$10:$P$440,COLUMN()-1,FALSE)))","v":"Dragonfire"},{"$f":"IF(ISERROR(VLOOKUP($B97,RaceDraw!$C$10:$P$440,COLUMN()-1,FALSE)),\" \",IF(ISBLANK(VLOOKUP($B97,RaceDraw!$C$10:$P$440,COLUMN()-1,FALSE)),\" \",VLOOKUP($B97,RaceDraw!$C$10:$P$440,COLUMN()-1,FALSE)))","v":"Motley Crew"},{"$f":"IF(ISERROR(VLOOKUP($B97,RaceDraw!$C$10:$P$440,COLUMN()-1,FALSE)),\" \",IF(ISBLANK(VLOOKUP($B97,RaceDraw!$C$10:$P$440,COLUMN()-1,FALSE)),\" \",VLOOKUP($B97,RaceDraw!$C$10:$P$440,COLUMN()-1,FALSE)))","v":"Deepwater Hunter"},{"$f":"IF(ISERROR(VLOOKUP($B97,RaceDraw!$C$10:$P$440,COLUMN()-1,FALSE)),\" \",IF(ISBLANK(VLOOKUP($B97,RaceDraw!$C$10:$P$440,COLUMN()-1,FALSE)),\" \",VLOOKUP($B97,RaceDraw!$C$10:$P$440,COLUMN()-1,FALSE)))","v":"Kombo Dragons Black"},{"$f":"IF(ISERROR(VLOOKUP($B97,RaceDraw!$C$10:$P$440,COLUMN()-1,FALSE)),\" \",IF(ISBLANK(VLOOKUP($B97,RaceDraw!$C$10:$P$440,COLUMN()-1,FALSE)),\" \",VLOOKUP($B97,RaceDraw!$C$10:$P$440,COLUMN()-1,FALSE)))","v":"Gippsland United"},{"$f":"IF(ISERROR(VLOOKUP($B97,RaceDraw!$C$10:$P$440,COLUMN()-1,FALSE)),\" \",IF(ISBLANK(VLOOKUP($B97,RaceDraw!$C$10:$P$440,COLUMN()-1,FALSE)),\" \",VLOOKUP($B97,RaceDraw!$C$10:$P$440,COLUMN()-1,FALSE)))","v":" "},{"$f":"IF(ISERROR(VLOOKUP($B97,RaceDraw!$C$10:$P$440,COLUMN()-1,FALSE)),\" \",IF(ISBLANK(VLOOKUP($B97,RaceDraw!$C$10:$P$440,COLUMN()-1,FALSE)),\" \",VLOOKUP($B97,RaceDraw!$C$10:$P$440,COLUMN()-1,FALSE)))","v":" "},{"$f":"IF(ISERROR(VLOOKUP($B97,RaceDraw!$C$10:$P$440,COLUMN()-1,FALSE)),\" \",IF(ISBLANK(VLOOKUP($B97,RaceDraw!$C$10:$P$440,COLUMN()-1,FALSE)),\" \",VLOOKUP($B97,RaceDraw!$C$10:$P$440,COLUMN()-1,FALSE)))","v":" "},{"$f":"IF(ISERROR(VLOOKUP($B97,RaceDraw!$C$10:$P$440,COLUMN()-1,FALSE)),\" \",IF(ISBLANK(VLOOKUP($B97,RaceDraw!$C$10:$P$440,COLUMN()-1,FALSE)),\" \",VLOOKUP($B97,RaceDraw!$C$10:$P$440,COLUMN()-1,FALSE)))","v":" "},"Sat"]
[{"$f":"IF(ISERROR(INDEX(RaceDraw!$B$10:$B$440,MATCH(B98,RaceDraw!$C$10:$C$440,0))),\"\",INDEX(RaceDraw!$B$10:$B$440,MATCH(B98,RaceDraw!$C$10:$C$440,0)))","v":"11.06"},93,{"$f":"IF(ISERROR(VLOOKUP($B98,RaceDraw!$C$10:$P$440,COLUMN()-1,FALSE)),\"\",IF(ISBLANK(VLOOKUP($B98,RaceDraw!$C$10:$P$440,COLUMN()-1,FALSE)),\"\",VLOOKUP($B98,RaceDraw!$C$10:$P$440,COLUMN()-1,FALSE)))","v":"Senior C Mixed 10"},{"$f":"IF(ISERROR(VLOOKUP($B98,RaceDraw!$C$10:$P$440,COLUMN()-1,FALSE)),\"\",IF(ISBLANK(VLOOKUP($B98,RaceDraw!$C$10:$P$440,COLUMN()-1,FALSE)),\"\",VLOOKUP($B98,RaceDraw!$C$10:$P$440,COLUMN()-1,FALSE)))","v":200},{"$f":"IF(ISERROR(VLOOKUP($B98,RaceDraw!$C$10:$P$440,COLUMN()-1,FALSE)),\"\",IF(ISBLANK(VLOOKUP($B98,RaceDraw!$C$10:$P$440,COLUMN()-1,FALSE)),F98,VLOOKUP($B98,RaceDraw!$C$10:$P$440,COLUMN()-1,FALSE)))","v":3},{"$f":"IF(ISERROR(VLOOKUP($B98,RaceDraw!$C$10:$P$440,COLUMN()-1,FALSE)),\"\",IF(ISBLANK(VLOOKUP($B98,RaceDraw!$C$10:$P$440,COLUMN()-1,FALSE)),\"\",VLOOKUP($B98,RaceDraw!$C$10:$P$440,COLUMN()-1,FALSE)))","v":1},{"$f":"IF(ISERROR(VLOOKUP($B98,RaceDraw!$C$10:$P$440,COLUMN()-1,FALSE)),\" \",IF(ISBLANK(VLOOKUP($B98,RaceDraw!$C$10:$P$440,COLUMN()-1,FALSE)),\" \",VLOOKUP($B98,RaceDraw!$C$10:$P$440,COLUMN()-1,FALSE)))","v":"Rainbow Dragons Teal"},{"$f":"IF(ISERROR(VLOOKUP($B98,RaceDraw!$C$10:$P$440,COLUMN()-1,FALSE)),\" \",IF(ISBLANK(VLOOKUP($B98,RaceDraw!$C$10:$P$440,COLUMN()-1,FALSE)),\" \",VLOOKUP($B98,RaceDraw!$C$10:$P$440,COLUMN()-1,FALSE)))","v":"SADA Sonix Yellow"},{"$f":"IF(ISERROR(VLOOKUP($B98,RaceDraw!$C$10:$P$440,COLUMN()-1,FALSE)),\" \",IF(ISBLANK(VLOOKUP($B98,RaceDraw!$C$10:$P$440,COLUMN()-1,FALSE)),\" \",VLOOKUP($B98,RaceDraw!$C$10:$P$440,COLUMN()-1,FALSE)))","v":"Newcastle Dragon Hunters Red"},{"$f":"IF(ISERROR(VLOOKUP($B98,RaceDraw!$C$10:$P$440,COLUMN()-1,FALSE)),\" \",IF(ISBLANK(VLOOKUP($B98,RaceDraw!$C$10:$P$440,COLUMN()-1,FALSE)),\" \",VLOOKUP($B98,RaceDraw!$C$10:$P$440,COLUMN()-1,FALSE)))","v":"Mildura"},{"$f":"IF(ISERROR(VLOOKUP($B98,RaceDraw!$C$10:$P$440,COLUMN()-1,FALSE)),\" \",IF(ISBLANK(VLOOKUP($B98,RaceDraw!$C$10:$P$440,COLUMN()-1,FALSE)),\" \",VLOOKUP($B98,RaceDraw!$C$10:$P$440,COLUMN()-1,FALSE)))","v":"Dragon Masters Red"},{"$f":"IF(ISERROR(VLOOKUP($B98,RaceDraw!$C$10:$P$440,COLUMN()-1,FALSE)),\" \",IF(ISBLANK(VLOOKUP($B98,RaceDraw!$C$10:$P$440,COLUMN()-1,FALSE)),\" \",VLOOKUP($B98,RaceDraw!$C$10:$P$440,COLUMN()-1,FALSE)))","v":"Powerblades"},{"$f":"IF(ISERROR(VLOOKUP($B98,RaceDraw!$C$10:$P$440,COLUMN()-1,FALSE)),\" \",IF(ISBLANK(VLOOKUP($B98,RaceDraw!$C$10:$P$440,COLUMN()-1,FALSE)),\" \",VLOOKUP($B98,RaceDraw!$C$10:$P$440,COLUMN()-1,FALSE)))","v":" "},{"$f":"IF(ISERROR(VLOOKUP($B98,RaceDraw!$C$10:$P$440,COLUMN()-1,FALSE)),\" \",IF(ISBLANK(VLOOKUP($B98,RaceDraw!$C$10:$P$440,COLUMN()-1,FALSE)),\" \",VLOOKUP($B98,RaceDraw!$C$10:$P$440,COLUMN()-1,FALSE)))","v":" "},{"$f":"IF(ISERROR(VLOOKUP($B98,RaceDraw!$C$10:$P$440,COLUMN()-1,FALSE)),\" \",IF(ISBLANK(VLOOKUP($B98,RaceDraw!$C$10:$P$440,COLUMN()-1,FALSE)),\" \",VLOOKUP($B98,RaceDraw!$C$10:$P$440,COLUMN()-1,FALSE)))","v":" "},"Sat"]
[{"$f":"IF(ISERROR(INDEX(RaceDraw!$B$10:$B$440,MATCH(B99,RaceDraw!$C$10:$C$440,0))),\"\",INDEX(RaceDraw!$B$10:$B$440,MATCH(B99,RaceDraw!$C$10:$C$440,0)))","v":"11.12"},94,{"$f":"IF(ISERROR(VLOOKUP($B99,RaceDraw!$C$10:$P$440,COLUMN()-1,FALSE)),\"\",IF(ISBLANK(VLOOKUP($B99,RaceDraw!$C$10:$P$440,COLUMN()-1,FALSE)),\"\",VLOOKUP($B99,RaceDraw!$C$10:$P$440,COLUMN()-1,FALSE)))","v":"Senior C Mixed 10"},{"$f":"IF(ISERROR(VLOOKUP($B99,RaceDraw!$C$10:$P$440,COLUMN()-1,FALSE)),\"\",IF(ISBLANK(VLOOKUP($B99,RaceDraw!$C$10:$P$440,COLUMN()-1,FALSE)),\"\",VLOOKUP($B99,RaceDraw!$C$10:$P$440,COLUMN()-1,FALSE)))","v":200},{"$f":"IF(ISERROR(VLOOKUP($B99,RaceDraw!$C$10:$P$440,COLUMN()-1,FALSE)),\"\",IF(ISBLANK(VLOOKUP($B99,RaceDraw!$C$10:$P$440,COLUMN()-1,FALSE)),F99,VLOOKUP($B99,RaceDraw!$C$10:$P$440,COLUMN()-1,FALSE)))","v":3},{"$f":"IF(ISERROR(VLOOKUP($B99,RaceDraw!$C$10:$P$440,COLUMN()-1,FALSE)),\"\",IF(ISBLANK(VLOOKUP($B99,RaceDraw!$C$10:$P$440,COLUMN()-1,FALSE)),\"\",VLOOKUP($B99,RaceDraw!$C$10:$P$440,COLUMN()-1,FALSE)))","v":2},{"$f":"IF(ISERROR(VLOOKUP($B99,RaceDraw!$C$10:$P$440,COLUMN()-1,FALSE)),\" \",IF(ISBLANK(VLOOKUP($B99,RaceDraw!$C$10:$P$440,COLUMN()-1,FALSE)),\" \",VLOOKUP($B99,RaceDraw!$C$10:$P$440,COLUMN()-1,FALSE)))","v":"Southern Warriors"},{"$f":"IF(ISERROR(VLOOKUP($B99,RaceDraw!$C$10:$P$440,COLUMN()-1,FALSE)),\" \",IF(ISBLANK(VLOOKUP($B99,RaceDraw!$C$10:$P$440,COLUMN()-1,FALSE)),\" \",VLOOKUP($B99,RaceDraw!$C$10:$P$440,COLUMN()-1,FALSE)))","v":"Black Sea Dragons"},{"$f":"IF(ISERROR(VLOOKUP($B99,RaceDraw!$C$10:$P$440,COLUMN()-1,FALSE)),\" \",IF(ISBLANK(VLOOKUP($B99,RaceDraw!$C$10:$P$440,COLUMN()-1,FALSE)),\" \",VLOOKUP($B99,RaceDraw!$C$10:$P$440,COLUMN()-1,FALSE)))","v":"Motley Crew"},{"$f":"IF(ISERROR(VLOOKUP($B99,RaceDraw!$C$10:$P$440,COLUMN()-1,FALSE)),\" \",IF(ISBLANK(VLOOKUP($B99,RaceDraw!$C$10:$P$440,COLUMN()-1,FALSE)),\" \",VLOOKUP($B99,RaceDraw!$C$10:$P$440,COLUMN()-1,FALSE)))","v":"Peninsula Dragonflys"},{"$f":"IF(ISERROR(VLOOKUP($B99,RaceDraw!$C$10:$P$440,COLUMN()-1,FALSE)),\" \",IF(ISBLANK(VLOOKUP($B99,RaceDraw!$C$10:$P$440,COLUMN()-1,FALSE)),\" \",VLOOKUP($B99,RaceDraw!$C$10:$P$440,COLUMN()-1,FALSE)))","v":"Gippsland United Orange"},{"$f":"IF(ISERROR(VLOOKUP($B99,RaceDraw!$C$10:$P$440,COLUMN()-1,FALSE)),\" \",IF(ISBLANK(VLOOKUP($B99,RaceDraw!$C$10:$P$440,COLUMN()-1,FALSE)),\" \",VLOOKUP($B99,RaceDraw!$C$10:$P$440,COLUMN()-1,FALSE)))","v":"Kombo Dragons Black"},{"$f":"IF(ISERROR(VLOOKUP($B99,RaceDraw!$C$10:$P$440,COLUMN()-1,FALSE)),\" \",IF(ISBLANK(VLOOKUP($B99,RaceDraw!$C$10:$P$440,COLUMN()-1,FALSE)),\" \",VLOOKUP($B99,RaceDraw!$C$10:$P$440,COLUMN()-1,FALSE)))","v":" "},{"$f":"IF(ISERROR(VLOOKUP($B99,RaceDraw!$C$10:$P$440,COLUMN()-1,FALSE)),\" \",IF(ISBLANK(VLOOKUP($B99,RaceDraw!$C$10:$P$440,COLUMN()-1,FALSE)),\" \",VLOOKUP($B99,RaceDraw!$C$10:$P$440,COLUMN()-1,FALSE)))","v":" "},{"$f":"IF(ISERROR(VLOOKUP($B99,RaceDraw!$C$10:$P$440,COLUMN()-1,FALSE)),\" \",IF(ISBLANK(VLOOKUP($B99,RaceDraw!$C$10:$P$440,COLUMN()-1,FALSE)),\" \",VLOOKUP($B99,RaceDraw!$C$10:$P$440,COLUMN()-1,FALSE)))","v":" "},"Sat"]
[{"$f":"IF(ISERROR(INDEX(RaceDraw!$B$10:$B$440,MATCH(B100,RaceDraw!$C$10:$C$440,0))),\"\",INDEX(RaceDraw!$B$10:$B$440,MATCH(B100,RaceDraw!$C$10:$C$440,0)))","v":"11.18"},95,{"$f":"IF(ISERROR(VLOOKUP($B100,RaceDraw!$C$10:$P$440,COLUMN()-1,FALSE)),\"\",IF(ISBLANK(VLOOKUP($B100,RaceDraw!$C$10:$P$440,COLUMN()-1,FALSE)),\"\",VLOOKUP($B100,RaceDraw!$C$10:$P$440,COLUMN()-1,FALSE)))","v":"Senior C Mixed 10"},{"$f":"IF(ISERROR(VLOOKUP($B100,RaceDraw!$C$10:$P$440,COLUMN()-1,FALSE)),\"\",IF(ISBLANK(VLOOKUP($B100,RaceDraw!$C$10:$P$440,COLUMN()-1,FALSE)),\"\",VLOOKUP($B100,RaceDraw!$C$10:$P$440,COLUMN()-1,FALSE)))","v":200},{"$f":"IF(ISERROR(VLOOKUP($B100,RaceDraw!$C$10:$P$440,COLUMN()-1,FALSE)),\"\",IF(ISBLANK(VLOOKUP($B100,RaceDraw!$C$10:$P$440,COLUMN()-1,FALSE)),F100,VLOOKUP($B100,RaceDraw!$C$10:$P$440,COLUMN()-1,FALSE)))","v":3},{"$f":"IF(ISERROR(VLOOKUP($B100,RaceDraw!$C$10:$P$440,COLUMN()-1,FALSE)),\"\",IF(ISBLANK(VLOOKUP($B100,RaceDraw!$C$10:$P$440,COLUMN()-1,FALSE)),\"\",VLOOKUP($B100,RaceDraw!$C$10:$P$440,COLUMN()-1,FALSE)))","v":3},{"$f":"IF(ISERROR(VLOOKUP($B100,RaceDraw!$C$10:$P$440,COLUMN()-1,FALSE)),\" \",IF(ISBLANK(VLOOKUP($B100,RaceDraw!$C$10:$P$440,COLUMN()-1,FALSE)),\" \",VLOOKUP($B100,RaceDraw!$C$10:$P$440,COLUMN()-1,FALSE)))","v":"Deepwater Dragons"},{"$f":"IF(ISERROR(VLOOKUP($B100,RaceDraw!$C$10:$P$440,COLUMN()-1,FALSE)),\" \",IF(ISBLANK(VLOOKUP($B100,RaceDraw!$C$10:$P$440,COLUMN()-1,FALSE)),\" \",VLOOKUP($B100,RaceDraw!$C$10:$P$440,COLUMN()-1,FALSE)))","v":"Kombo Dragons Purple"},{"$f":"IF(ISERROR(VLOOKUP($B100,RaceDraw!$C$10:$P$440,COLUMN()-1,FALSE)),\" \",IF(ISBLANK(VLOOKUP($B100,RaceDraw!$C$10:$P$440,COLUMN()-1,FALSE)),\" \",VLOOKUP($B100,RaceDraw!$C$10:$P$440,COLUMN()-1,FALSE)))","v":"Kangaroo Island Dragons"},{"$f":"IF(ISERROR(VLOOKUP($B100,RaceDraw!$C$10:$P$440,COLUMN()-1,FALSE)),\" \",IF(ISBLANK(VLOOKUP($B100,RaceDraw!$C$10:$P$440,COLUMN()-1,FALSE)),\" \",VLOOKUP($B100,RaceDraw!$C$10:$P$440,COLUMN()-1,FALSE)))","v":"Gippsland United Blue"},{"$f":"IF(ISERROR(VLOOKUP($B100,RaceDraw!$C$10:$P$440,COLUMN()-1,FALSE)),\" \",IF(ISBLANK(VLOOKUP($B100,RaceDraw!$C$10:$P$440,COLUMN()-1,FALSE)),\" \",VLOOKUP($B100,RaceDraw!$C$10:$P$440,COLUMN()-1,FALSE)))","v":"FNC"},{"$f":"IF(ISERROR(VLOOKUP($B100,RaceDraw!$C$10:$P$440,COLUMN()-1,FALSE)),\" \",IF(ISBLANK(VLOOKUP($B100,RaceDraw!$C$10:$P$440,COLUMN()-1,FALSE)),\" \",VLOOKUP($B100,RaceDraw!$C$10:$P$440,COLUMN()-1,FALSE)))","v":"Newcastle Dragon Hunters Purple"},{"$f":"IF(ISERROR(VLOOKUP($B100,RaceDraw!$C$10:$P$440,COLUMN()-1,FALSE)),\" \",IF(ISBLANK(VLOOKUP($B100,RaceDraw!$C$10:$P$440,COLUMN()-1,FALSE)),\" \",VLOOKUP($B100,RaceDraw!$C$10:$P$440,COLUMN()-1,FALSE)))","v":" "},{"$f":"IF(ISERROR(VLOOKUP($B100,RaceDraw!$C$10:$P$440,COLUMN()-1,FALSE)),\" \",IF(ISBLANK(VLOOKUP($B100,RaceDraw!$C$10:$P$440,COLUMN()-1,FALSE)),\" \",VLOOKUP($B100,RaceDraw!$C$10:$P$440,COLUMN()-1,FALSE)))","v":" "},{"$f":"IF(ISERROR(VLOOKUP($B100,RaceDraw!$C$10:$P$440,COLUMN()-1,FALSE)),\" \",IF(ISBLANK(VLOOKUP($B100,RaceDraw!$C$10:$P$440,COLUMN()-1,FALSE)),\" \",VLOOKUP($B100,RaceDraw!$C$10:$P$440,COLUMN()-1,FALSE)))","v":" "},"Sat"]
[{"$f":"IF(ISERROR(INDEX(RaceDraw!$B$10:$B$440,MATCH(B101,RaceDraw!$C$10:$C$440,0))),\"\",INDEX(RaceDraw!$B$10:$B$440,MATCH(B101,RaceDraw!$C$10:$C$440,0)))","v":"11.24"},96,{"$f":"IF(ISERROR(VLOOKUP($B101,RaceDraw!$C$10:$P$440,COLUMN()-1,FALSE)),\"\",IF(ISBLANK(VLOOKUP($B101,RaceDraw!$C$10:$P$440,COLUMN()-1,FALSE)),\"\",VLOOKUP($B101,RaceDraw!$C$10:$P$440,COLUMN()-1,FALSE)))","v":"Senior C Mixed 10"},{"$f":"IF(ISERROR(VLOOKUP($B101,RaceDraw!$C$10:$P$440,COLUMN()-1,FALSE)),\"\",IF(ISBLANK(VLOOKUP($B101,RaceDraw!$C$10:$P$440,COLUMN()-1,FALSE)),\"\",VLOOKUP($B101,RaceDraw!$C$10:$P$440,COLUMN()-1,FALSE)))","v":200},{"$f":"IF(ISERROR(VLOOKUP($B101,RaceDraw!$C$10:$P$440,COLUMN()-1,FALSE)),\"\",IF(ISBLANK(VLOOKUP($B101,RaceDraw!$C$10:$P$440,COLUMN()-1,FALSE)),F101,VLOOKUP($B101,RaceDraw!$C$10:$P$440,COLUMN()-1,FALSE)))","v":3},{"$f":"IF(ISERROR(VLOOKUP($B101,RaceDraw!$C$10:$P$440,COLUMN()-1,FALSE)),\"\",IF(ISBLANK(VLOOKUP($B101,RaceDraw!$C$10:$P$440,COLUMN()-1,FALSE)),\"\",VLOOKUP($B101,RaceDraw!$C$10:$P$440,COLUMN()-1,FALSE)))","v":4},{"$f":"IF(ISERROR(VLOOKUP($B101,RaceDraw!$C$10:$P$440,COLUMN()-1,FALSE)),\" \",IF(ISBLANK(VLOOKUP($B101,RaceDraw!$C$10:$P$440,COLUMN()-1,FALSE)),\" \",VLOOKUP($B101,RaceDraw!$C$10:$P$440,COLUMN()-1,FALSE)))","v":"Outback Dragons"},{"$f":"IF(ISERROR(VLOOKUP($B101,RaceDraw!$C$10:$P$440,COLUMN()-1,FALSE)),\" \",IF(ISBLANK(VLOOKUP($B101,RaceDraw!$C$10:$P$440,COLUMN()-1,FALSE)),\" \",VLOOKUP($B101,RaceDraw!$C$10:$P$440,COLUMN()-1,FALSE)))","v":"Goolwa River Dragons"},{"$f":"IF(ISERROR(VLOOKUP($B101,RaceDraw!$C$10:$P$440,COLUMN()-1,FALSE)),\" \",IF(ISBLANK(VLOOKUP($B101,RaceDraw!$C$10:$P$440,COLUMN()-1,FALSE)),\" \",VLOOKUP($B101,RaceDraw!$C$10:$P$440,COLUMN()-1,FALSE)))","v":"SADA Sonix Blue"},{"$f":"IF(ISERROR(VLOOKUP($B101,RaceDraw!$C$10:$P$440,COLUMN()-1,FALSE)),\" \",IF(ISBLANK(VLOOKUP($B101,RaceDraw!$C$10:$P$440,COLUMN()-1,FALSE)),\" \",VLOOKUP($B101,RaceDraw!$C$10:$P$440,COLUMN()-1,FALSE)))","v":"Dragon Masters Yellow"},{"$f":"IF(ISERROR(VLOOKUP($B101,RaceDraw!$C$10:$P$440,COLUMN()-1,FALSE)),\" \",IF(ISBLANK(VLOOKUP($B101,RaceDraw!$C$10:$P$440,COLUMN()-1,FALSE)),\" \",VLOOKUP($B101,RaceDraw!$C$10:$P$440,COLUMN()-1,FALSE)))","v":"Rainbow Dragons White"},{"$f":"IF(ISERROR(VLOOKUP($B101,RaceDraw!$C$10:$P$440,COLUMN()-1,FALSE)),\" \",IF(ISBLANK(VLOOKUP($B101,RaceDraw!$C$10:$P$440,COLUMN()-1,FALSE)),\" \",VLOOKUP($B101,RaceDraw!$C$10:$P$440,COLUMN()-1,FALSE)))","v":"Gypsy Dragons"},{"$f":"IF(ISERROR(VLOOKUP($B101,RaceDraw!$C$10:$P$440,COLUMN()-1,FALSE)),\" \",IF(ISBLANK(VLOOKUP($B101,RaceDraw!$C$10:$P$440,COLUMN()-1,FALSE)),\" \",VLOOKUP($B101,RaceDraw!$C$10:$P$440,COLUMN()-1,FALSE)))","v":" "},{"$f":"IF(ISERROR(VLOOKUP($B101,RaceDraw!$C$10:$P$440,COLUMN()-1,FALSE)),\" \",IF(ISBLANK(VLOOKUP($B101,RaceDraw!$C$10:$P$440,COLUMN()-1,FALSE)),\" \",VLOOKUP($B101,RaceDraw!$C$10:$P$440,COLUMN()-1,FALSE)))","v":" "},{"$f":"IF(ISERROR(VLOOKUP($B101,RaceDraw!$C$10:$P$440,COLUMN()-1,FALSE)),\" \",IF(ISBLANK(VLOOKUP($B101,RaceDraw!$C$10:$P$440,COLUMN()-1,FALSE)),\" \",VLOOKUP($B101,RaceDraw!$C$10:$P$440,COLUMN()-1,FALSE)))","v":" "},"Sat"]
[{"$f":"IF(ISERROR(INDEX(RaceDraw!$B$10:$B$440,MATCH(B102,RaceDraw!$C$10:$C$440,0))),\"\",INDEX(RaceDraw!$B$10:$B$440,MATCH(B102,RaceDraw!$C$10:$C$440,0)))","v":"11.30"},97,{"$f":"IF(ISERROR(VLOOKUP($B102,RaceDraw!$C$10:$P$440,COLUMN()-1,FALSE)),\"\",IF(ISBLANK(VLOOKUP($B102,RaceDraw!$C$10:$P$440,COLUMN()-1,FALSE)),\"\",VLOOKUP($B102,RaceDraw!$C$10:$P$440,COLUMN()-1,FALSE)))","v":"Senior B Mixed 10's"},{"$f":"IF(ISERROR(VLOOKUP($B102,RaceDraw!$C$10:$P$440,COLUMN()-1,FALSE)),\"\",IF(ISBLANK(VLOOKUP($B102,RaceDraw!$C$10:$P$440,COLUMN()-1,FALSE)),\"\",VLOOKUP($B102,RaceDraw!$C$10:$P$440,COLUMN()-1,FALSE)))","v":200},{"$f":"IF(ISERROR(VLOOKUP($B102,RaceDraw!$C$10:$P$440,COLUMN()-1,FALSE)),\"\",IF(ISBLANK(VLOOKUP($B102,RaceDraw!$C$10:$P$440,COLUMN()-1,FALSE)),F102,VLOOKUP($B102,RaceDraw!$C$10:$P$440,COLUMN()-1,FALSE)))","v":3},{"$f":"IF(ISERROR(VLOOKUP($B102,RaceDraw!$C$10:$P$440,COLUMN()-1,FALSE)),\"\",IF(ISBLANK(VLOOKUP($B102,RaceDraw!$C$10:$P$440,COLUMN()-1,FALSE)),\"\",VLOOKUP($B102,RaceDraw!$C$10:$P$440,COLUMN()-1,FALSE)))","v":1},{"$f":"IF(ISERROR(VLOOKUP($B102,RaceDraw!$C$10:$P$440,COLUMN()-1,FALSE)),\" \",IF(ISBLANK(VLOOKUP($B102,RaceDraw!$C$10:$P$440,COLUMN()-1,FALSE)),\" \",VLOOKUP($B102,RaceDraw!$C$10:$P$440,COLUMN()-1,FALSE)))","v":"Hunter River Dragons"},{"$f":"IF(ISERROR(VLOOKUP($B102,RaceDraw!$C$10:$P$440,COLUMN()-1,FALSE)),\" \",IF(ISBLANK(VLOOKUP($B102,RaceDraw!$C$10:$P$440,COLUMN()-1,FALSE)),\" \",VLOOKUP($B102,RaceDraw!$C$10:$P$440,COLUMN()-1,FALSE)))","v":"Mannum"},{"$f":"IF(ISERROR(VLOOKUP($B102,RaceDraw!$C$10:$P$440,COLUMN()-1,FALSE)),\" \",IF(ISBLANK(VLOOKUP($B102,RaceDraw!$C$10:$P$440,COLUMN()-1,FALSE)),\" \",VLOOKUP($B102,RaceDraw!$C$10:$P$440,COLUMN()-1,FALSE)))","v":"Black Sea Dragons"},{"$f":"IF(ISERROR(VLOOKUP($B102,RaceDraw!$C$10:$P$440,COLUMN()-1,FALSE)),\" \",IF(ISBLANK(VLOOKUP($B102,RaceDraw!$C$10:$P$440,COLUMN()-1,FALSE)),\" \",VLOOKUP($B102,RaceDraw!$C$10:$P$440,COLUMN()-1,FALSE)))","v":"Mildura"},{"$f":"IF(ISERROR(VLOOKUP($B102,RaceDraw!$C$10:$P$440,COLUMN()-1,FALSE)),\" \",IF(ISBLANK(VLOOKUP($B102,RaceDraw!$C$10:$P$440,COLUMN()-1,FALSE)),\" \",VLOOKUP($B102,RaceDraw!$C$10:$P$440,COLUMN()-1,FALSE)))","v":"Kombo Dragons Purple"},{"$f":"IF(ISERROR(VLOOKUP($B102,RaceDraw!$C$10:$P$440,COLUMN()-1,FALSE)),\" \",IF(ISBLANK(VLOOKUP($B102,RaceDraw!$C$10:$P$440,COLUMN()-1,FALSE)),\" \",VLOOKUP($B102,RaceDraw!$C$10:$P$440,COLUMN()-1,FALSE)))","v":"Newcastle Dragon Hunters Purple"},{"$f":"IF(ISERROR(VLOOKUP($B102,RaceDraw!$C$10:$P$440,COLUMN()-1,FALSE)),\" \",IF(ISBLANK(VLOOKUP($B102,RaceDraw!$C$10:$P$440,COLUMN()-1,FALSE)),\" \",VLOOKUP($B102,RaceDraw!$C$10:$P$440,COLUMN()-1,FALSE)))","v":" "},{"$f":"IF(ISERROR(VLOOKUP($B102,RaceDraw!$C$10:$P$440,COLUMN()-1,FALSE)),\" \",IF(ISBLANK(VLOOKUP($B102,RaceDraw!$C$10:$P$440,COLUMN()-1,FALSE)),\" \",VLOOKUP($B102,RaceDraw!$C$10:$P$440,COLUMN()-1,FALSE)))","v":" "},{"$f":"IF(ISERROR(VLOOKUP($B102,RaceDraw!$C$10:$P$440,COLUMN()-1,FALSE)),\" \",IF(ISBLANK(VLOOKUP($B102,RaceDraw!$C$10:$P$440,COLUMN()-1,FALSE)),\" \",VLOOKUP($B102,RaceDraw!$C$10:$P$440,COLUMN()-1,FALSE)))","v":" "},"Sat"]
[{"$f":"IF(ISERROR(INDEX(RaceDraw!$B$10:$B$440,MATCH(B103,RaceDraw!$C$10:$C$440,0))),\"\",INDEX(RaceDraw!$B$10:$B$440,MATCH(B103,RaceDraw!$C$10:$C$440,0)))","v":"11.36"},98,{"$f":"IF(ISERROR(VLOOKUP($B103,RaceDraw!$C$10:$P$440,COLUMN()-1,FALSE)),\"\",IF(ISBLANK(VLOOKUP($B103,RaceDraw!$C$10:$P$440,COLUMN()-1,FALSE)),\"\",VLOOKUP($B103,RaceDraw!$C$10:$P$440,COLUMN()-1,FALSE)))","v":"Senior B Mixed 10's"},{"$f":"IF(ISERROR(VLOOKUP($B103,RaceDraw!$C$10:$P$440,COLUMN()-1,FALSE)),\"\",IF(ISBLANK(VLOOKUP($B103,RaceDraw!$C$10:$P$440,COLUMN()-1,FALSE)),\"\",VLOOKUP($B103,RaceDraw!$C$10:$P$440,COLUMN()-1,FALSE)))","v":200},{"$f":"IF(ISERROR(VLOOKUP($B103,RaceDraw!$C$10:$P$440,COLUMN()-1,FALSE)),\"\",IF(ISBLANK(VLOOKUP($B103,RaceDraw!$C$10:$P$440,COLUMN()-1,FALSE)),F103,VLOOKUP($B103,RaceDraw!$C$10:$P$440,COLUMN()-1,FALSE)))","v":3},{"$f":"IF(ISERROR(VLOOKUP($B103,RaceDraw!$C$10:$P$440,COLUMN()-1,FALSE)),\"\",IF(ISBLANK(VLOOKUP($B103,RaceDraw!$C$10:$P$440,COLUMN()-1,FALSE)),\"\",VLOOKUP($B103,RaceDraw!$C$10:$P$440,COLUMN()-1,FALSE)))","v":2},{"$f":"IF(ISERROR(VLOOKUP($B103,RaceDraw!$C$10:$P$440,COLUMN()-1,FALSE)),\" \",IF(ISBLANK(VLOOKUP($B103,RaceDraw!$C$10:$P$440,COLUMN()-1,FALSE)),\" \",VLOOKUP($B103,RaceDraw!$C$10:$P$440,COLUMN()-1,FALSE)))","v":"FNC"},{"$f":"IF(ISERROR(VLOOKUP($B103,RaceDraw!$C$10:$P$440,COLUMN()-1,FALSE)),\" \",IF(ISBLANK(VLOOKUP($B103,RaceDraw!$C$10:$P$440,COLUMN()-1,FALSE)),\" \",VLOOKUP($B103,RaceDraw!$C$10:$P$440,COLUMN()-1,FALSE)))","v":"Southern Warriors"},{"$f":"IF(ISERROR(VLOOKUP($B103,RaceDraw!$C$10:$P$440,COLUMN()-1,FALSE)),\" \",IF(ISBLANK(VLOOKUP($B103,RaceDraw!$C$10:$P$440,COLUMN()-1,FALSE)),\" \",VLOOKUP($B103,RaceDraw!$C$10:$P$440,COLUMN()-1,FALSE)))","v":"SADA Sonix Blue"},{"$f":"IF(ISERROR(VLOOKUP($B103,RaceDraw!$C$10:$P$440,COLUMN()-1,FALSE)),\" \",IF(ISBLANK(VLOOKUP($B103,RaceDraw!$C$10:$P$440,COLUMN()-1,FALSE)),\" \",VLOOKUP($B103,RaceDraw!$C$10:$P$440,COLUMN()-1,FALSE)))","v":"Deepwater Dragons"},{"$f":"IF(ISERROR(VLOOKUP($B103,RaceDraw!$C$10:$P$440,COLUMN()-1,FALSE)),\" \",IF(ISBLANK(VLOOKUP($B103,RaceDraw!$C$10:$P$440,COLUMN()-1,FALSE)),\" \",VLOOKUP($B103,RaceDraw!$C$10:$P$440,COLUMN()-1,FALSE)))","v":"Powerblades"},{"$f":"IF(ISERROR(VLOOKUP($B103,RaceDraw!$C$10:$P$440,COLUMN()-1,FALSE)),\" \",IF(ISBLANK(VLOOKUP($B103,RaceDraw!$C$10:$P$440,COLUMN()-1,FALSE)),\" \",VLOOKUP($B103,RaceDraw!$C$10:$P$440,COLUMN()-1,FALSE)))","v":"Newcastle Dragon Hunters Red"},{"$f":"IF(ISERROR(VLOOKUP($B103,RaceDraw!$C$10:$P$440,COLUMN()-1,FALSE)),\" \",IF(ISBLANK(VLOOKUP($B103,RaceDraw!$C$10:$P$440,COLUMN()-1,FALSE)),\" \",VLOOKUP($B103,RaceDraw!$C$10:$P$440,COLUMN()-1,FALSE)))","v":" "},{"$f":"IF(ISERROR(VLOOKUP($B103,RaceDraw!$C$10:$P$440,COLUMN()-1,FALSE)),\" \",IF(ISBLANK(VLOOKUP($B103,RaceDraw!$C$10:$P$440,COLUMN()-1,FALSE)),\" \",VLOOKUP($B103,RaceDraw!$C$10:$P$440,COLUMN()-1,FALSE)))","v":" "},{"$f":"IF(ISERROR(VLOOKUP($B103,RaceDraw!$C$10:$P$440,COLUMN()-1,FALSE)),\" \",IF(ISBLANK(VLOOKUP($B103,RaceDraw!$C$10:$P$440,COLUMN()-1,FALSE)),\" \",VLOOKUP($B103,RaceDraw!$C$10:$P$440,COLUMN()-1,FALSE)))","v":" "},"Sat"]
[{"$f":"IF(ISERROR(INDEX(RaceDraw!$B$10:$B$440,MATCH(B104,RaceDraw!$C$10:$C$440,0))),\"\",INDEX(RaceDraw!$B$10:$B$440,MATCH(B104,RaceDraw!$C$10:$C$440,0)))","v":"11.42"},99,{"$f":"IF(ISERROR(VLOOKUP($B104,RaceDraw!$C$10:$P$440,COLUMN()-1,FALSE)),\"\",IF(ISBLANK(VLOOKUP($B104,RaceDraw!$C$10:$P$440,COLUMN()-1,FALSE)),\"\",VLOOKUP($B104,RaceDraw!$C$10:$P$440,COLUMN()-1,FALSE)))","v":"Senior B Mixed 10's"},{"$f":"IF(ISERROR(VLOOKUP($B104,RaceDraw!$C$10:$P$440,COLUMN()-1,FALSE)),\"\",IF(ISBLANK(VLOOKUP($B104,RaceDraw!$C$10:$P$440,COLUMN()-1,FALSE)),\"\",VLOOKUP($B104,RaceDraw!$C$10:$P$440,COLUMN()-1,FALSE)))","v":200},{"$f":"IF(ISERROR(VLOOKUP($B104,RaceDraw!$C$10:$P$440,COLUMN()-1,FALSE)),\"\",IF(ISBLANK(VLOOKUP($B104,RaceDraw!$C$10:$P$440,COLUMN()-1,FALSE)),F104,VLOOKUP($B104,RaceDraw!$C$10:$P$440,COLUMN()-1,FALSE)))","v":3},{"$f":"IF(ISERROR(VLOOKUP($B104,RaceDraw!$C$10:$P$440,COLUMN()-1,FALSE)),\"\",IF(ISBLANK(VLOOKUP($B104,RaceDraw!$C$10:$P$440,COLUMN()-1,FALSE)),\"\",VLOOKUP($B104,RaceDraw!$C$10:$P$440,COLUMN()-1,FALSE)))","v":3},{"$f":"IF(ISERROR(VLOOKUP($B104,RaceDraw!$C$10:$P$440,COLUMN()-1,FALSE)),\" \",IF(ISBLANK(VLOOKUP($B104,RaceDraw!$C$10:$P$440,COLUMN()-1,FALSE)),\" \",VLOOKUP($B104,RaceDraw!$C$10:$P$440,COLUMN()-1,FALSE)))","v":"Kombo Dragons Black"},{"$f":"IF(ISERROR(VLOOKUP($B104,RaceDraw!$C$10:$P$440,COLUMN()-1,FALSE)),\" \",IF(ISBLANK(VLOOKUP($B104,RaceDraw!$C$10:$P$440,COLUMN()-1,FALSE)),\" \",VLOOKUP($B104,RaceDraw!$C$10:$P$440,COLUMN()-1,FALSE)))","v":"Outback Dragons"},{"$f":"IF(ISERROR(VLOOKUP($B104,RaceDraw!$C$10:$P$440,COLUMN()-1,FALSE)),\" \",IF(ISBLANK(VLOOKUP($B104,RaceDraw!$C$10:$P$440,COLUMN()-1,FALSE)),\" \",VLOOKUP($B104,RaceDraw!$C$10:$P$440,COLUMN()-1,FALSE)))","v":"Goolwa River Dragons"},{"$f":"IF(ISERROR(VLOOKUP($B104,RaceDraw!$C$10:$P$440,COLUMN()-1,FALSE)),\" \",IF(ISBLANK(VLOOKUP($B104,RaceDraw!$C$10:$P$440,COLUMN()-1,FALSE)),\" \",VLOOKUP($B104,RaceDraw!$C$10:$P$440,COLUMN()-1,FALSE)))","v":"SADA Sonix Yellow"},{"$f":"IF(ISERROR(VLOOKUP($B104,RaceDraw!$C$10:$P$440,COLUMN()-1,FALSE)),\" \",IF(ISBLANK(VLOOKUP($B104,RaceDraw!$C$10:$P$440,COLUMN()-1,FALSE)),\" \",VLOOKUP($B104,RaceDraw!$C$10:$P$440,COLUMN()-1,FALSE)))","v":"Gippsland United"},{"$f":"IF(ISERROR(VLOOKUP($B104,RaceDraw!$C$10:$P$440,COLUMN()-1,FALSE)),\" \",IF(ISBLANK(VLOOKUP($B104,RaceDraw!$C$10:$P$440,COLUMN()-1,FALSE)),\" \",VLOOKUP($B104,RaceDraw!$C$10:$P$440,COLUMN()-1,FALSE)))","v":"Gypsy Dragons"},{"$f":"IF(ISERROR(VLOOKUP($B104,RaceDraw!$C$10:$P$440,COLUMN()-1,FALSE)),\" \",IF(ISBLANK(VLOOKUP($B104,RaceDraw!$C$10:$P$440,COLUMN()-1,FALSE)),\" \",VLOOKUP($B104,RaceDraw!$C$10:$P$440,COLUMN()-1,FALSE)))","v":" "},{"$f":"IF(ISERROR(VLOOKUP($B104,RaceDraw!$C$10:$P$440,COLUMN()-1,FALSE)),\" \",IF(ISBLANK(VLOOKUP($B104,RaceDraw!$C$10:$P$440,COLUMN()-1,FALSE)),\" \",VLOOKUP($B104,RaceDraw!$C$10:$P$440,COLUMN()-1,FALSE)))","v":" "},{"$f":"IF(ISERROR(VLOOKUP($B104,RaceDraw!$C$10:$P$440,COLUMN()-1,FALSE)),\" \",IF(ISBLANK(VLOOKUP($B104,RaceDraw!$C$10:$P$440,COLUMN()-1,FALSE)),\" \",VLOOKUP($B104,RaceDraw!$C$10:$P$440,COLUMN()-1,FALSE)))","v":" "},"Sat"]
[{"$f":"IF(ISERROR(INDEX(RaceDraw!$B$10:$B$440,MATCH(B105,RaceDraw!$C$10:$C$440,0))),\"\",INDEX(RaceDraw!$B$10:$B$440,MATCH(B105,RaceDraw!$C$10:$C$440,0)))","v":"11.48"},100,{"$f":"IF(ISERROR(VLOOKUP($B105,RaceDraw!$C$10:$P$440,COLUMN()-1,FALSE)),\"\",IF(ISBLANK(VLOOKUP($B105,RaceDraw!$C$10:$P$440,COLUMN()-1,FALSE)),\"\",VLOOKUP($B105,RaceDraw!$C$10:$P$440,COLUMN()-1,FALSE)))","v":"Senior B Mixed 20's"},{"$f":"IF(ISERROR(VLOOKUP($B105,RaceDraw!$C$10:$P$440,COLUMN()-1,FALSE)),\"\",IF(ISBLANK(VLOOKUP($B105,RaceDraw!$C$10:$P$440,COLUMN()-1,FALSE)),\"\",VLOOKUP($B105,RaceDraw!$C$10:$P$440,COLUMN()-1,FALSE)))","v":200},{"$f":"IF(ISERROR(VLOOKUP($B105,RaceDraw!$C$10:$P$440,COLUMN()-1,FALSE)),\"\",IF(ISBLANK(VLOOKUP($B105,RaceDraw!$C$10:$P$440,COLUMN()-1,FALSE)),F105,VLOOKUP($B105,RaceDraw!$C$10:$P$440,COLUMN()-1,FALSE)))","v":3},{"$f":"IF(ISERROR(VLOOKUP($B105,RaceDraw!$C$10:$P$440,COLUMN()-1,FALSE)),\"\",IF(ISBLANK(VLOOKUP($B105,RaceDraw!$C$10:$P$440,COLUMN()-1,FALSE)),\"\",VLOOKUP($B105,RaceDraw!$C$10:$P$440,COLUMN()-1,FALSE)))","v":1},{"$f":"IF(ISERROR(VLOOKUP($B105,RaceDraw!$C$10:$P$440,COLUMN()-1,FALSE)),\" \",IF(ISBLANK(VLOOKUP($B105,RaceDraw!$C$10:$P$440,COLUMN()-1,FALSE)),\" \",VLOOKUP($B105,RaceDraw!$C$10:$P$440,COLUMN()-1,FALSE)))","v":"Newcastle Dragon Hunters Red"},{"$f":"IF(ISERROR(VLOOKUP($B105,RaceDraw!$C$10:$P$440,COLUMN()-1,FALSE)),\" \",IF(ISBLANK(VLOOKUP($B105,RaceDraw!$C$10:$P$440,COLUMN()-1,FALSE)),\" \",VLOOKUP($B105,RaceDraw!$C$10:$P$440,COLUMN()-1,FALSE)))","v":"Powerblades"},{"$f":"IF(ISERROR(VLOOKUP($B105,RaceDraw!$C$10:$P$440,COLUMN()-1,FALSE)),\" \",IF(ISBLANK(VLOOKUP($B105,RaceDraw!$C$10:$P$440,COLUMN()-1,FALSE)),\" \",VLOOKUP($B105,RaceDraw!$C$10:$P$440,COLUMN()-1,FALSE)))","v":"Deepwater Dragons"},{"$f":"IF(ISERROR(VLOOKUP($B105,RaceDraw!$C$10:$P$440,COLUMN()-1,FALSE)),\" \",IF(ISBLANK(VLOOKUP($B105,RaceDraw!$C$10:$P$440,COLUMN()-1,FALSE)),\" \",VLOOKUP($B105,RaceDraw!$C$10:$P$440,COLUMN()-1,FALSE)))","v":"Mildura"},{"$f":"IF(ISERROR(VLOOKUP($B105,RaceDraw!$C$10:$P$440,COLUMN()-1,FALSE)),\" \",IF(ISBLANK(VLOOKUP($B105,RaceDraw!$C$10:$P$440,COLUMN()-1,FALSE)),\" \",VLOOKUP($B105,RaceDraw!$C$10:$P$440,COLUMN()-1,FALSE)))","v":"Dragon Masters"},{"$f":"IF(ISERROR(VLOOKUP($B105,RaceDraw!$C$10:$P$440,COLUMN()-1,FALSE)),\" \",IF(ISBLANK(VLOOKUP($B105,RaceDraw!$C$10:$P$440,COLUMN()-1,FALSE)),\" \",VLOOKUP($B105,RaceDraw!$C$10:$P$440,COLUMN()-1,FALSE)))","v":"Hunter River Dragons"},{"$f":"IF(ISERROR(VLOOKUP($B105,RaceDraw!$C$10:$P$440,COLUMN()-1,FALSE)),\" \",IF(ISBLANK(VLOOKUP($B105,RaceDraw!$C$10:$P$440,COLUMN()-1,FALSE)),\" \",VLOOKUP($B105,RaceDraw!$C$10:$P$440,COLUMN()-1,FALSE)))","v":" "},{"$f":"IF(ISERROR(VLOOKUP($B105,RaceDraw!$C$10:$P$440,COLUMN()-1,FALSE)),\" \",IF(ISBLANK(VLOOKUP($B105,RaceDraw!$C$10:$P$440,COLUMN()-1,FALSE)),\" \",VLOOKUP($B105,RaceDraw!$C$10:$P$440,COLUMN()-1,FALSE)))","v":" "},{"$f":"IF(ISERROR(VLOOKUP($B105,RaceDraw!$C$10:$P$440,COLUMN()-1,FALSE)),\" \",IF(ISBLANK(VLOOKUP($B105,RaceDraw!$C$10:$P$440,COLUMN()-1,FALSE)),\" \",VLOOKUP($B105,RaceDraw!$C$10:$P$440,COLUMN()-1,FALSE)))","v":" "},"Sat"]
[{"$f":"IF(ISERROR(INDEX(RaceDraw!$B$10:$B$440,MATCH(B106,RaceDraw!$C$10:$C$440,0))),\"\",INDEX(RaceDraw!$B$10:$B$440,MATCH(B106,RaceDraw!$C$10:$C$440,0)))","v":"11.54"},101,{"$f":"IF(ISERROR(VLOOKUP($B106,RaceDraw!$C$10:$P$440,COLUMN()-1,FALSE)),\"\",IF(ISBLANK(VLOOKUP($B106,RaceDraw!$C$10:$P$440,COLUMN()-1,FALSE)),\"\",VLOOKUP($B106,RaceDraw!$C$10:$P$440,COLUMN()-1,FALSE)))","v":"Senior B Mixed 20's"},{"$f":"IF(ISERROR(VLOOKUP($B106,RaceDraw!$C$10:$P$440,COLUMN()-1,FALSE)),\"\",IF(ISBLANK(VLOOKUP($B106,RaceDraw!$C$10:$P$440,COLUMN()-1,FALSE)),\"\",VLOOKUP($B106,RaceDraw!$C$10:$P$440,COLUMN()-1,FALSE)))","v":200},{"$f":"IF(ISERROR(VLOOKUP($B106,RaceDraw!$C$10:$P$440,COLUMN()-1,FALSE)),\"\",IF(ISBLANK(VLOOKUP($B106,RaceDraw!$C$10:$P$440,COLUMN()-1,FALSE)),F106,VLOOKUP($B106,RaceDraw!$C$10:$P$440,COLUMN()-1,FALSE)))","v":3},{"$f":"IF(ISERROR(VLOOKUP($B106,RaceDraw!$C$10:$P$440,COLUMN()-1,FALSE)),\"\",IF(ISBLANK(VLOOKUP($B106,RaceDraw!$C$10:$P$440,COLUMN()-1,FALSE)),\"\",VLOOKUP($B106,RaceDraw!$C$10:$P$440,COLUMN()-1,FALSE)))","v":2},{"$f":"IF(ISERROR(VLOOKUP($B106,RaceDraw!$C$10:$P$440,COLUMN()-1,FALSE)),\" \",IF(ISBLANK(VLOOKUP($B106,RaceDraw!$C$10:$P$440,COLUMN()-1,FALSE)),\" \",VLOOKUP($B106,RaceDraw!$C$10:$P$440,COLUMN()-1,FALSE)))","v":"Gippsland United"},{"$f":"IF(ISERROR(VLOOKUP($B106,RaceDraw!$C$10:$P$440,COLUMN()-1,FALSE)),\" \",IF(ISBLANK(VLOOKUP($B106,RaceDraw!$C$10:$P$440,COLUMN()-1,FALSE)),\" \",VLOOKUP($B106,RaceDraw!$C$10:$P$440,COLUMN()-1,FALSE)))","v":"Rainbow Dragons"},{"$f":"IF(ISERROR(VLOOKUP($B106,RaceDraw!$C$10:$P$440,COLUMN()-1,FALSE)),\" \",IF(ISBLANK(VLOOKUP($B106,RaceDraw!$C$10:$P$440,COLUMN()-1,FALSE)),\" \",VLOOKUP($B106,RaceDraw!$C$10:$P$440,COLUMN()-1,FALSE)))","v":"Newcastle Dragon Hunters Purple"},{"$f":"IF(ISERROR(VLOOKUP($B106,RaceDraw!$C$10:$P$440,COLUMN()-1,FALSE)),\" \",IF(ISBLANK(VLOOKUP($B106,RaceDraw!$C$10:$P$440,COLUMN()-1,FALSE)),\" \",VLOOKUP($B106,RaceDraw!$C$10:$P$440,COLUMN()-1,FALSE)))","v":"SADA Sonix"},{"$f":"IF(ISERROR(VLOOKUP($B106,RaceDraw!$C$10:$P$440,COLUMN()-1,FALSE)),\" \",IF(ISBLANK(VLOOKUP($B106,RaceDraw!$C$10:$P$440,COLUMN()-1,FALSE)),\" \",VLOOKUP($B106,RaceDraw!$C$10:$P$440,COLUMN()-1,FALSE)))","v":"Motley Crew"},{"$f":"IF(ISERROR(VLOOKUP($B106,RaceDraw!$C$10:$P$440,COLUMN()-1,FALSE)),\" \",IF(ISBLANK(VLOOKUP($B106,RaceDraw!$C$10:$P$440,COLUMN()-1,FALSE)),\" \",VLOOKUP($B106,RaceDraw!$C$10:$P$440,COLUMN()-1,FALSE)))","v":"Kombo Dragons Black"},{"$f":"IF(ISERROR(VLOOKUP($B106,RaceDraw!$C$10:$P$440,COLUMN()-1,FALSE)),\" \",IF(ISBLANK(VLOOKUP($B106,RaceDraw!$C$10:$P$440,COLUMN()-1,FALSE)),\" \",VLOOKUP($B106,RaceDraw!$C$10:$P$440,COLUMN()-1,FALSE)))","v":" "},{"$f":"IF(ISERROR(VLOOKUP($B106,RaceDraw!$C$10:$P$440,COLUMN()-1,FALSE)),\" \",IF(ISBLANK(VLOOKUP($B106,RaceDraw!$C$10:$P$440,COLUMN()-1,FALSE)),\" \",VLOOKUP($B106,RaceDraw!$C$10:$P$440,COLUMN()-1,FALSE)))","v":" "},{"$f":"IF(ISERROR(VLOOKUP($B106,RaceDraw!$C$10:$P$440,COLUMN()-1,FALSE)),\" \",IF(ISBLANK(VLOOKUP($B106,RaceDraw!$C$10:$P$440,COLUMN()-1,FALSE)),\" \",VLOOKUP($B106,RaceDraw!$C$10:$P$440,COLUMN()-1,FALSE)))","v":" "},"Sat"]
[{"$f":"IF(ISERROR(INDEX(RaceDraw!$B$10:$B$440,MATCH(B107,RaceDraw!$C$10:$C$440,0))),\"\",INDEX(RaceDraw!$B$10:$B$440,MATCH(B107,RaceDraw!$C$10:$C$440,0)))","v":"12.00"},102,{"$f":"IF(ISERROR(VLOOKUP($B107,RaceDraw!$C$10:$P$440,COLUMN()-1,FALSE)),\"\",IF(ISBLANK(VLOOKUP($B107,RaceDraw!$C$10:$P$440,COLUMN()-1,FALSE)),\"\",VLOOKUP($B107,RaceDraw!$C$10:$P$440,COLUMN()-1,FALSE)))","v":"Senior A Mixed 10's"},{"$f":"IF(ISERROR(VLOOKUP($B107,RaceDraw!$C$10:$P$440,COLUMN()-1,FALSE)),\"\",IF(ISBLANK(VLOOKUP($B107,RaceDraw!$C$10:$P$440,COLUMN()-1,FALSE)),\"\",VLOOKUP($B107,RaceDraw!$C$10:$P$440,COLUMN()-1,FALSE)))","v":200},{"$f":"IF(ISERROR(VLOOKUP($B107,RaceDraw!$C$10:$P$440,COLUMN()-1,FALSE)),\"\",IF(ISBLANK(VLOOKUP($B107,RaceDraw!$C$10:$P$440,COLUMN()-1,FALSE)),F107,VLOOKUP($B107,RaceDraw!$C$10:$P$440,COLUMN()-1,FALSE)))","v":3},{"$f":"IF(ISERROR(VLOOKUP($B107,RaceDraw!$C$10:$P$440,COLUMN()-1,FALSE)),\"\",IF(ISBLANK(VLOOKUP($B107,RaceDraw!$C$10:$P$440,COLUMN()-1,FALSE)),\"\",VLOOKUP($B107,RaceDraw!$C$10:$P$440,COLUMN()-1,FALSE)))","v":1},{"$f":"IF(ISERROR(VLOOKUP($B107,RaceDraw!$C$10:$P$440,COLUMN()-1,FALSE)),\" \",IF(ISBLANK(VLOOKUP($B107,RaceDraw!$C$10:$P$440,COLUMN()-1,FALSE)),\" \",VLOOKUP($B107,RaceDraw!$C$10:$P$440,COLUMN()-1,FALSE)))","v":"Goolwa River Dragons"},{"$f":"IF(ISERROR(VLOOKUP($B107,RaceDraw!$C$10:$P$440,COLUMN()-1,FALSE)),\" \",IF(ISBLANK(VLOOKUP($B107,RaceDraw!$C$10:$P$440,COLUMN()-1,FALSE)),\" \",VLOOKUP($B107,RaceDraw!$C$10:$P$440,COLUMN()-1,FALSE)))","v":"Deepwater Dragons"},{"$f":"IF(ISERROR(VLOOKUP($B107,RaceDraw!$C$10:$P$440,COLUMN()-1,FALSE)),\" \",IF(ISBLANK(VLOOKUP($B107,RaceDraw!$C$10:$P$440,COLUMN()-1,FALSE)),\" \",VLOOKUP($B107,RaceDraw!$C$10:$P$440,COLUMN()-1,FALSE)))","v":"Southern Warriors"},{"$f":"IF(ISERROR(VLOOKUP($B107,RaceDraw!$C$10:$P$440,COLUMN()-1,FALSE)),\" \",IF(ISBLANK(VLOOKUP($B107,RaceDraw!$C$10:$P$440,COLUMN()-1,FALSE)),\" \",VLOOKUP($B107,RaceDraw!$C$10:$P$440,COLUMN()-1,FALSE)))","v":"Peninsula Dragonfly"},{"$f":"IF(ISERROR(VLOOKUP($B107,RaceDraw!$C$10:$P$440,COLUMN()-1,FALSE)),\" \",IF(ISBLANK(VLOOKUP($B107,RaceDraw!$C$10:$P$440,COLUMN()-1,FALSE)),\" \",VLOOKUP($B107,RaceDraw!$C$10:$P$440,COLUMN()-1,FALSE)))","v":"Gippsland United"},{"$f":"IF(ISERROR(VLOOKUP($B107,RaceDraw!$C$10:$P$440,COLUMN()-1,FALSE)),\" \",IF(ISBLANK(VLOOKUP($B107,RaceDraw!$C$10:$P$440,COLUMN()-1,FALSE)),\" \",VLOOKUP($B107,RaceDraw!$C$10:$P$440,COLUMN()-1,FALSE)))","v":" "},{"$f":"IF(ISERROR(VLOOKUP($B107,RaceDraw!$C$10:$P$440,COLUMN()-1,FALSE)),\" \",IF(ISBLANK(VLOOKUP($B107,RaceDraw!$C$10:$P$440,COLUMN()-1,FALSE)),\" \",VLOOKUP($B107,RaceDraw!$C$10:$P$440,COLUMN()-1,FALSE)))","v":" "},{"$f":"IF(ISERROR(VLOOKUP($B107,RaceDraw!$C$10:$P$440,COLUMN()-1,FALSE)),\" \",IF(ISBLANK(VLOOKUP($B107,RaceDraw!$C$10:$P$440,COLUMN()-1,FALSE)),\" \",VLOOKUP($B107,RaceDraw!$C$10:$P$440,COLUMN()-1,FALSE)))","v":" "},{"$f":"IF(ISERROR(VLOOKUP($B107,RaceDraw!$C$10:$P$440,COLUMN()-1,FALSE)),\" \",IF(ISBLANK(VLOOKUP($B107,RaceDraw!$C$10:$P$440,COLUMN()-1,FALSE)),\" \",VLOOKUP($B107,RaceDraw!$C$10:$P$440,COLUMN()-1,FALSE)))","v":" "},"Sat"]
[{"$f":"IF(ISERROR(INDEX(RaceDraw!$B$10:$B$440,MATCH(B108,RaceDraw!$C$10:$C$440,0))),\"\",INDEX(RaceDraw!$B$10:$B$440,MATCH(B108,RaceDraw!$C$10:$C$440,0)))","v":"12.06"},103,{"$f":"IF(ISERROR(VLOOKUP($B108,RaceDraw!$C$10:$P$440,COLUMN()-1,FALSE)),\"\",IF(ISBLANK(VLOOKUP($B108,RaceDraw!$C$10:$P$440,COLUMN()-1,FALSE)),\"\",VLOOKUP($B108,RaceDraw!$C$10:$P$440,COLUMN()-1,FALSE)))","v":"Senior A Mixed 10's"},{"$f":"IF(ISERROR(VLOOKUP($B108,RaceDraw!$C$10:$P$440,COLUMN()-1,FALSE)),\"\",IF(ISBLANK(VLOOKUP($B108,RaceDraw!$C$10:$P$440,COLUMN()-1,FALSE)),\"\",VLOOKUP($B108,RaceDraw!$C$10:$P$440,COLUMN()-1,FALSE)))","v":200},{"$f":"IF(ISERROR(VLOOKUP($B108,RaceDraw!$C$10:$P$440,COLUMN()-1,FALSE)),\"\",IF(ISBLANK(VLOOKUP($B108,RaceDraw!$C$10:$P$440,COLUMN()-1,FALSE)),F108,VLOOKUP($B108,RaceDraw!$C$10:$P$440,COLUMN()-1,FALSE)))","v":3},{"$f":"IF(ISERROR(VLOOKUP($B108,RaceDraw!$C$10:$P$440,COLUMN()-1,FALSE)),\"\",IF(ISBLANK(VLOOKUP($B108,RaceDraw!$C$10:$P$440,COLUMN()-1,FALSE)),\"\",VLOOKUP($B108,RaceDraw!$C$10:$P$440,COLUMN()-1,FALSE)))","v":2},{"$f":"IF(ISERROR(VLOOKUP($B108,RaceDraw!$C$10:$P$440,COLUMN()-1,FALSE)),\" \",IF(ISBLANK(VLOOKUP($B108,RaceDraw!$C$10:$P$440,COLUMN()-1,FALSE)),\" \",VLOOKUP($B108,RaceDraw!$C$10:$P$440,COLUMN()-1,FALSE)))","v":"Powerblades"},{"$f":"IF(ISERROR(VLOOKUP($B108,RaceDraw!$C$10:$P$440,COLUMN()-1,FALSE)),\" \",IF(ISBLANK(VLOOKUP($B108,RaceDraw!$C$10:$P$440,COLUMN()-1,FALSE)),\" \",VLOOKUP($B108,RaceDraw!$C$10:$P$440,COLUMN()-1,FALSE)))","v":"Kombo Dragons Black"},{"$f":"IF(ISERROR(VLOOKUP($B108,RaceDraw!$C$10:$P$440,COLUMN()-1,FALSE)),\" \",IF(ISBLANK(VLOOKUP($B108,RaceDraw!$C$10:$P$440,COLUMN()-1,FALSE)),\" \",VLOOKUP($B108,RaceDraw!$C$10:$P$440,COLUMN()-1,FALSE)))","v":"Mildura"},{"$f":"IF(ISERROR(VLOOKUP($B108,RaceDraw!$C$10:$P$440,COLUMN()-1,FALSE)),\" \",IF(ISBLANK(VLOOKUP($B108,RaceDraw!$C$10:$P$440,COLUMN()-1,FALSE)),\" \",VLOOKUP($B108,RaceDraw!$C$10:$P$440,COLUMN()-1,FALSE)))","v":"Kombo Dragons Purple"},{"$f":"IF(ISERROR(VLOOKUP($B108,RaceDraw!$C$10:$P$440,COLUMN()-1,FALSE)),\" \",IF(ISBLANK(VLOOKUP($B108,RaceDraw!$C$10:$P$440,COLUMN()-1,FALSE)),\" \",VLOOKUP($B108,RaceDraw!$C$10:$P$440,COLUMN()-1,FALSE)))","v":"Black Sea Dragons"},{"$f":"IF(ISERROR(VLOOKUP($B108,RaceDraw!$C$10:$P$440,COLUMN()-1,FALSE)),\" \",IF(ISBLANK(VLOOKUP($B108,RaceDraw!$C$10:$P$440,COLUMN()-1,FALSE)),\" \",VLOOKUP($B108,RaceDraw!$C$10:$P$440,COLUMN()-1,FALSE)))","v":" "},{"$f":"IF(ISERROR(VLOOKUP($B108,RaceDraw!$C$10:$P$440,COLUMN()-1,FALSE)),\" \",IF(ISBLANK(VLOOKUP($B108,RaceDraw!$C$10:$P$440,COLUMN()-1,FALSE)),\" \",VLOOKUP($B108,RaceDraw!$C$10:$P$440,COLUMN()-1,FALSE)))","v":" "},{"$f":"IF(ISERROR(VLOOKUP($B108,RaceDraw!$C$10:$P$440,COLUMN()-1,FALSE)),\" \",IF(ISBLANK(VLOOKUP($B108,RaceDraw!$C$10:$P$440,COLUMN()-1,FALSE)),\" \",VLOOKUP($B108,RaceDraw!$C$10:$P$440,COLUMN()-1,FALSE)))","v":" "},{"$f":"IF(ISERROR(VLOOKUP($B108,RaceDraw!$C$10:$P$440,COLUMN()-1,FALSE)),\" \",IF(ISBLANK(VLOOKUP($B108,RaceDraw!$C$10:$P$440,COLUMN()-1,FALSE)),\" \",VLOOKUP($B108,RaceDraw!$C$10:$P$440,COLUMN()-1,FALSE)))","v":" "},"Sat"]
[{"$f":"IF(ISERROR(INDEX(RaceDraw!$B$10:$B$440,MATCH(B109,RaceDraw!$C$10:$C$440,0))),\"\",INDEX(RaceDraw!$B$10:$B$440,MATCH(B109,RaceDraw!$C$10:$C$440,0)))","v":"12.12"},104,{"$f":"IF(ISERROR(VLOOKUP($B109,RaceDraw!$C$10:$P$440,COLUMN()-1,FALSE)),\"\",IF(ISBLANK(VLOOKUP($B109,RaceDraw!$C$10:$P$440,COLUMN()-1,FALSE)),\"\",VLOOKUP($B109,RaceDraw!$C$10:$P$440,COLUMN()-1,FALSE)))","v":"Senior A Mixed 10's"},{"$f":"IF(ISERROR(VLOOKUP($B109,RaceDraw!$C$10:$P$440,COLUMN()-1,FALSE)),\"\",IF(ISBLANK(VLOOKUP($B109,RaceDraw!$C$10:$P$440,COLUMN()-1,FALSE)),\"\",VLOOKUP($B109,RaceDraw!$C$10:$P$440,COLUMN()-1,FALSE)))","v":200},{"$f":"IF(ISERROR(VLOOKUP($B109,RaceDraw!$C$10:$P$440,COLUMN()-1,FALSE)),\"\",IF(ISBLANK(VLOOKUP($B109,RaceDraw!$C$10:$P$440,COLUMN()-1,FALSE)),F109,VLOOKUP($B109,RaceDraw!$C$10:$P$440,COLUMN()-1,FALSE)))","v":3},{"$f":"IF(ISERROR(VLOOKUP($B109,RaceDraw!$C$10:$P$440,COLUMN()-1,FALSE)),\"\",IF(ISBLANK(VLOOKUP($B109,RaceDraw!$C$10:$P$440,COLUMN()-1,FALSE)),\"\",VLOOKUP($B109,RaceDraw!$C$10:$P$440,COLUMN()-1,FALSE)))","v":3},{"$f":"IF(ISERROR(VLOOKUP($B109,RaceDraw!$C$10:$P$440,COLUMN()-1,FALSE)),\" \",IF(ISBLANK(VLOOKUP($B109,RaceDraw!$C$10:$P$440,COLUMN()-1,FALSE)),\" \",VLOOKUP($B109,RaceDraw!$C$10:$P$440,COLUMN()-1,FALSE)))","v":"Rainbow Dragons"},{"$f":"IF(ISERROR(VLOOKUP($B109,RaceDraw!$C$10:$P$440,COLUMN()-1,FALSE)),\" \",IF(ISBLANK(VLOOKUP($B109,RaceDraw!$C$10:$P$440,COLUMN()-1,FALSE)),\" \",VLOOKUP($B109,RaceDraw!$C$10:$P$440,COLUMN()-1,FALSE)))","v":"Dragonfire"},{"$f":"IF(ISERROR(VLOOKUP($B109,RaceDraw!$C$10:$P$440,COLUMN()-1,FALSE)),\" \",IF(ISBLANK(VLOOKUP($B109,RaceDraw!$C$10:$P$440,COLUMN()-1,FALSE)),\" \",VLOOKUP($B109,RaceDraw!$C$10:$P$440,COLUMN()-1,FALSE)))","v":"Hunter River Dragons"},{"$f":"IF(ISERROR(VLOOKUP($B109,RaceDraw!$C$10:$P$440,COLUMN()-1,FALSE)),\" \",IF(ISBLANK(VLOOKUP($B109,RaceDraw!$C$10:$P$440,COLUMN()-1,FALSE)),\" \",VLOOKUP($B109,RaceDraw!$C$10:$P$440,COLUMN()-1,FALSE)))","v":"Newcastle Dragon Hunters"},{"$f":"IF(ISERROR(VLOOKUP($B109,RaceDraw!$C$10:$P$440,COLUMN()-1,FALSE)),\" \",IF(ISBLANK(VLOOKUP($B109,RaceDraw!$C$10:$P$440,COLUMN()-1,FALSE)),\" \",VLOOKUP($B109,RaceDraw!$C$10:$P$440,COLUMN()-1,FALSE)))","v":"Broadwater Dragons"},{"$f":"IF(ISERROR(VLOOKUP($B109,RaceDraw!$C$10:$P$440,COLUMN()-1,FALSE)),\" \",IF(ISBLANK(VLOOKUP($B109,RaceDraw!$C$10:$P$440,COLUMN()-1,FALSE)),\" \",VLOOKUP($B109,RaceDraw!$C$10:$P$440,COLUMN()-1,FALSE)))","v":" "},{"$f":"IF(ISERROR(VLOOKUP($B109,RaceDraw!$C$10:$P$440,COLUMN()-1,FALSE)),\" \",IF(ISBLANK(VLOOKUP($B109,RaceDraw!$C$10:$P$440,COLUMN()-1,FALSE)),\" \",VLOOKUP($B109,RaceDraw!$C$10:$P$440,COLUMN()-1,FALSE)))","v":" "},{"$f":"IF(ISERROR(VLOOKUP($B109,RaceDraw!$C$10:$P$440,COLUMN()-1,FALSE)),\" \",IF(ISBLANK(VLOOKUP($B109,RaceDraw!$C$10:$P$440,COLUMN()-1,FALSE)),\" \",VLOOKUP($B109,RaceDraw!$C$10:$P$440,COLUMN()-1,FALSE)))","v":" "},{"$f":"IF(ISERROR(VLOOKUP($B109,RaceDraw!$C$10:$P$440,COLUMN()-1,FALSE)),\" \",IF(ISBLANK(VLOOKUP($B109,RaceDraw!$C$10:$P$440,COLUMN()-1,FALSE)),\" \",VLOOKUP($B109,RaceDraw!$C$10:$P$440,COLUMN()-1,FALSE)))","v":" "},"Sat"]
[{"$f":"IF(ISERROR(INDEX(RaceDraw!$B$10:$B$440,MATCH(B110,RaceDraw!$C$10:$C$440,0))),\"\",INDEX(RaceDraw!$B$10:$B$440,MATCH(B110,RaceDraw!$C$10:$C$440,0)))","v":"12.42"},105,{"$f":"IF(ISERROR(VLOOKUP($B110,RaceDraw!$C$10:$P$440,COLUMN()-1,FALSE)),\"\",IF(ISBLANK(VLOOKUP($B110,RaceDraw!$C$10:$P$440,COLUMN()-1,FALSE)),\"\",VLOOKUP($B110,RaceDraw!$C$10:$P$440,COLUMN()-1,FALSE)))","v":"Senior A Mixed 20"},{"$f":"IF(ISERROR(VLOOKUP($B110,RaceDraw!$C$10:$P$440,COLUMN()-1,FALSE)),\"\",IF(ISBLANK(VLOOKUP($B110,RaceDraw!$C$10:$P$440,COLUMN()-1,FALSE)),\"\",VLOOKUP($B110,RaceDraw!$C$10:$P$440,COLUMN()-1,FALSE)))","v":200},{"$f":"IF(ISERROR(VLOOKUP($B110,RaceDraw!$C$10:$P$440,COLUMN()-1,FALSE)),\"\",IF(ISBLANK(VLOOKUP($B110,RaceDraw!$C$10:$P$440,COLUMN()-1,FALSE)),F110,VLOOKUP($B110,RaceDraw!$C$10:$P$440,COLUMN()-1,FALSE)))","v":3},{"$f":"IF(ISERROR(VLOOKUP($B110,RaceDraw!$C$10:$P$440,COLUMN()-1,FALSE)),\"\",IF(ISBLANK(VLOOKUP($B110,RaceDraw!$C$10:$P$440,COLUMN()-1,FALSE)),\"\",VLOOKUP($B110,RaceDraw!$C$10:$P$440,COLUMN()-1,FALSE)))","v":1},{"$f":"IF(ISERROR(VLOOKUP($B110,RaceDraw!$C$10:$P$440,COLUMN()-1,FALSE)),\" \",IF(ISBLANK(VLOOKUP($B110,RaceDraw!$C$10:$P$440,COLUMN()-1,FALSE)),\" \",VLOOKUP($B110,RaceDraw!$C$10:$P$440,COLUMN()-1,FALSE)))","v":"Mildura"},{"$f":"IF(ISERROR(VLOOKUP($B110,RaceDraw!$C$10:$P$440,COLUMN()-1,FALSE)),\" \",IF(ISBLANK(VLOOKUP($B110,RaceDraw!$C$10:$P$440,COLUMN()-1,FALSE)),\" \",VLOOKUP($B110,RaceDraw!$C$10:$P$440,COLUMN()-1,FALSE)))","v":"Deepwater Dragons"},{"$f":"IF(ISERROR(VLOOKUP($B110,RaceDraw!$C$10:$P$440,COLUMN()-1,FALSE)),\" \",IF(ISBLANK(VLOOKUP($B110,RaceDraw!$C$10:$P$440,COLUMN()-1,FALSE)),\" \",VLOOKUP($B110,RaceDraw!$C$10:$P$440,COLUMN()-1,FALSE)))","v":"Hunter River Dragons"},{"$f":"IF(ISERROR(VLOOKUP($B110,RaceDraw!$C$10:$P$440,COLUMN()-1,FALSE)),\" \",IF(ISBLANK(VLOOKUP($B110,RaceDraw!$C$10:$P$440,COLUMN()-1,FALSE)),\" \",VLOOKUP($B110,RaceDraw!$C$10:$P$440,COLUMN()-1,FALSE)))","v":"Gippsland United"},{"$f":"IF(ISERROR(VLOOKUP($B110,RaceDraw!$C$10:$P$440,COLUMN()-1,FALSE)),\" \",IF(ISBLANK(VLOOKUP($B110,RaceDraw!$C$10:$P$440,COLUMN()-1,FALSE)),\" \",VLOOKUP($B110,RaceDraw!$C$10:$P$440,COLUMN()-1,FALSE)))","v":"Motley Crew"},{"$f":"IF(ISERROR(VLOOKUP($B110,RaceDraw!$C$10:$P$440,COLUMN()-1,FALSE)),\" \",IF(ISBLANK(VLOOKUP($B110,RaceDraw!$C$10:$P$440,COLUMN()-1,FALSE)),\" \",VLOOKUP($B110,RaceDraw!$C$10:$P$440,COLUMN()-1,FALSE)))","v":"Kombo Dragons Black"},{"$f":"IF(ISERROR(VLOOKUP($B110,RaceDraw!$C$10:$P$440,COLUMN()-1,FALSE)),\" \",IF(ISBLANK(VLOOKUP($B110,RaceDraw!$C$10:$P$440,COLUMN()-1,FALSE)),\" \",VLOOKUP($B110,RaceDraw!$C$10:$P$440,COLUMN()-1,FALSE)))","v":" "},{"$f":"IF(ISERROR(VLOOKUP($B110,RaceDraw!$C$10:$P$440,COLUMN()-1,FALSE)),\" \",IF(ISBLANK(VLOOKUP($B110,RaceDraw!$C$10:$P$440,COLUMN()-1,FALSE)),\" \",VLOOKUP($B110,RaceDraw!$C$10:$P$440,COLUMN()-1,FALSE)))","v":" "},{"$f":"IF(ISERROR(VLOOKUP($B110,RaceDraw!$C$10:$P$440,COLUMN()-1,FALSE)),\" \",IF(ISBLANK(VLOOKUP($B110,RaceDraw!$C$10:$P$440,COLUMN()-1,FALSE)),\" \",VLOOKUP($B110,RaceDraw!$C$10:$P$440,COLUMN()-1,FALSE)))","v":" "},"Sat"]
[{"$f":"IF(ISERROR(INDEX(RaceDraw!$B$10:$B$440,MATCH(B111,RaceDraw!$C$10:$C$440,0))),\"\",INDEX(RaceDraw!$B$10:$B$440,MATCH(B111,RaceDraw!$C$10:$C$440,0)))","v":"12.48"},106,{"$f":"IF(ISERROR(VLOOKUP($B111,RaceDraw!$C$10:$P$440,COLUMN()-1,FALSE)),\"\",IF(ISBLANK(VLOOKUP($B111,RaceDraw!$C$10:$P$440,COLUMN()-1,FALSE)),\"\",VLOOKUP($B111,RaceDraw!$C$10:$P$440,COLUMN()-1,FALSE)))","v":"Senior C Women 10"},{"$f":"IF(ISERROR(VLOOKUP($B111,RaceDraw!$C$10:$P$440,COLUMN()-1,FALSE)),\"\",IF(ISBLANK(VLOOKUP($B111,RaceDraw!$C$10:$P$440,COLUMN()-1,FALSE)),\"\",VLOOKUP($B111,RaceDraw!$C$10:$P$440,COLUMN()-1,FALSE)))","v":200},{"$f":"IF(ISERROR(VLOOKUP($B111,RaceDraw!$C$10:$P$440,COLUMN()-1,FALSE)),\"\",IF(ISBLANK(VLOOKUP($B111,RaceDraw!$C$10:$P$440,COLUMN()-1,FALSE)),F111,VLOOKUP($B111,RaceDraw!$C$10:$P$440,COLUMN()-1,FALSE)))","v":3},{"$f":"IF(ISERROR(VLOOKUP($B111,RaceDraw!$C$10:$P$440,COLUMN()-1,FALSE)),\"\",IF(ISBLANK(VLOOKUP($B111,RaceDraw!$C$10:$P$440,COLUMN()-1,FALSE)),\"\",VLOOKUP($B111,RaceDraw!$C$10:$P$440,COLUMN()-1,FALSE)))","v":1},{"$f":"IF(ISERROR(VLOOKUP($B111,RaceDraw!$C$10:$P$440,COLUMN()-1,FALSE)),\" \",IF(ISBLANK(VLOOKUP($B111,RaceDraw!$C$10:$P$440,COLUMN()-1,FALSE)),\" \",VLOOKUP($B111,RaceDraw!$C$10:$P$440,COLUMN()-1,FALSE)))","v":"SADA Sonix Yellow"},{"$f":"IF(ISERROR(VLOOKUP($B111,RaceDraw!$C$10:$P$440,COLUMN()-1,FALSE)),\" \",IF(ISBLANK(VLOOKUP($B111,RaceDraw!$C$10:$P$440,COLUMN()-1,FALSE)),\" \",VLOOKUP($B111,RaceDraw!$C$10:$P$440,COLUMN()-1,FALSE)))","v":"FNC"},{"$f":"IF(ISERROR(VLOOKUP($B111,RaceDraw!$C$10:$P$440,COLUMN()-1,FALSE)),\" \",IF(ISBLANK(VLOOKUP($B111,RaceDraw!$C$10:$P$440,COLUMN()-1,FALSE)),\" \",VLOOKUP($B111,RaceDraw!$C$10:$P$440,COLUMN()-1,FALSE)))","v":"Dragons Afloat Bendigo"},{"$f":"IF(ISERROR(VLOOKUP($B111,RaceDraw!$C$10:$P$440,COLUMN()-1,FALSE)),\" \",IF(ISBLANK(VLOOKUP($B111,RaceDraw!$C$10:$P$440,COLUMN()-1,FALSE)),\" \",VLOOKUP($B111,RaceDraw!$C$10:$P$440,COLUMN()-1,FALSE)))","v":"Dragons Afloat Port Lincoln"},{"$f":"IF(ISERROR(VLOOKUP($B111,RaceDraw!$C$10:$P$440,COLUMN()-1,FALSE)),\" \",IF(ISBLANK(VLOOKUP($B111,RaceDraw!$C$10:$P$440,COLUMN()-1,FALSE)),\" \",VLOOKUP($B111,RaceDraw!$C$10:$P$440,COLUMN()-1,FALSE)))","v":"Motley Crew"},{"$f":"IF(ISERROR(VLOOKUP($B111,RaceDraw!$C$10:$P$440,COLUMN()-1,FALSE)),\" \",IF(ISBLANK(VLOOKUP($B111,RaceDraw!$C$10:$P$440,COLUMN()-1,FALSE)),\" \",VLOOKUP($B111,RaceDraw!$C$10:$P$440,COLUMN()-1,FALSE)))","v":"Mildura"},{"$f":"IF(ISERROR(VLOOKUP($B111,RaceDraw!$C$10:$P$440,COLUMN()-1,FALSE)),\" \",IF(ISBLANK(VLOOKUP($B111,RaceDraw!$C$10:$P$440,COLUMN()-1,FALSE)),\" \",VLOOKUP($B111,RaceDraw!$C$10:$P$440,COLUMN()-1,FALSE)))","v":" "},{"$f":"IF(ISERROR(VLOOKUP($B111,RaceDraw!$C$10:$P$440,COLUMN()-1,FALSE)),\" \",IF(ISBLANK(VLOOKUP($B111,RaceDraw!$C$10:$P$440,COLUMN()-1,FALSE)),\" \",VLOOKUP($B111,RaceDraw!$C$10:$P$440,COLUMN()-1,FALSE)))","v":" "},{"$f":"IF(ISERROR(VLOOKUP($B111,RaceDraw!$C$10:$P$440,COLUMN()-1,FALSE)),\" \",IF(ISBLANK(VLOOKUP($B111,RaceDraw!$C$10:$P$440,COLUMN()-1,FALSE)),\" \",VLOOKUP($B111,RaceDraw!$C$10:$P$440,COLUMN()-1,FALSE)))","v":" "},"Sat"]
[{"$f":"IF(ISERROR(INDEX(RaceDraw!$B$10:$B$440,MATCH(B112,RaceDraw!$C$10:$C$440,0))),\"\",INDEX(RaceDraw!$B$10:$B$440,MATCH(B112,RaceDraw!$C$10:$C$440,0)))","v":"12.54"},107,{"$f":"IF(ISERROR(VLOOKUP($B112,RaceDraw!$C$10:$P$440,COLUMN()-1,FALSE)),\"\",IF(ISBLANK(VLOOKUP($B112,RaceDraw!$C$10:$P$440,COLUMN()-1,FALSE)),\"\",VLOOKUP($B112,RaceDraw!$C$10:$P$440,COLUMN()-1,FALSE)))","v":"Senior C Women 10"},{"$f":"IF(ISERROR(VLOOKUP($B112,RaceDraw!$C$10:$P$440,COLUMN()-1,FALSE)),\"\",IF(ISBLANK(VLOOKUP($B112,RaceDraw!$C$10:$P$440,COLUMN()-1,FALSE)),\"\",VLOOKUP($B112,RaceDraw!$C$10:$P$440,COLUMN()-1,FALSE)))","v":200},{"$f":"IF(ISERROR(VLOOKUP($B112,RaceDraw!$C$10:$P$440,COLUMN()-1,FALSE)),\"\",IF(ISBLANK(VLOOKUP($B112,RaceDraw!$C$10:$P$440,COLUMN()-1,FALSE)),F112,VLOOKUP($B112,RaceDraw!$C$10:$P$440,COLUMN()-1,FALSE)))","v":3},{"$f":"IF(ISERROR(VLOOKUP($B112,RaceDraw!$C$10:$P$440,COLUMN()-1,FALSE)),\"\",IF(ISBLANK(VLOOKUP($B112,RaceDraw!$C$10:$P$440,COLUMN()-1,FALSE)),\"\",VLOOKUP($B112,RaceDraw!$C$10:$P$440,COLUMN()-1,FALSE)))","v":2},{"$f":"IF(ISERROR(VLOOKUP($B112,RaceDraw!$C$10:$P$440,COLUMN()-1,FALSE)),\" \",IF(ISBLANK(VLOOKUP($B112,RaceDraw!$C$10:$P$440,COLUMN()-1,FALSE)),\" \",VLOOKUP($B112,RaceDraw!$C$10:$P$440,COLUMN()-1,FALSE)))","v":"DA Bendigo Blue"},{"$f":"IF(ISERROR(VLOOKUP($B112,RaceDraw!$C$10:$P$440,COLUMN()-1,FALSE)),\" \",IF(ISBLANK(VLOOKUP($B112,RaceDraw!$C$10:$P$440,COLUMN()-1,FALSE)),\" \",VLOOKUP($B112,RaceDraw!$C$10:$P$440,COLUMN()-1,FALSE)))","v":"Southern Warriors Blue"},{"$f":"IF(ISERROR(VLOOKUP($B112,RaceDraw!$C$10:$P$440,COLUMN()-1,FALSE)),\" \",IF(ISBLANK(VLOOKUP($B112,RaceDraw!$C$10:$P$440,COLUMN()-1,FALSE)),\" \",VLOOKUP($B112,RaceDraw!$C$10:$P$440,COLUMN()-1,FALSE)))","v":"Gippsland Orange"},{"$f":"IF(ISERROR(VLOOKUP($B112,RaceDraw!$C$10:$P$440,COLUMN()-1,FALSE)),\" \",IF(ISBLANK(VLOOKUP($B112,RaceDraw!$C$10:$P$440,COLUMN()-1,FALSE)),\" \",VLOOKUP($B112,RaceDraw!$C$10:$P$440,COLUMN()-1,FALSE)))","v":"Newcastle Dragon Hunters Red"},{"$f":"IF(ISERROR(VLOOKUP($B112,RaceDraw!$C$10:$P$440,COLUMN()-1,FALSE)),\" \",IF(ISBLANK(VLOOKUP($B112,RaceDraw!$C$10:$P$440,COLUMN()-1,FALSE)),\" \",VLOOKUP($B112,RaceDraw!$C$10:$P$440,COLUMN()-1,FALSE)))","v":"Juggernauts"},{"$f":"IF(ISERROR(VLOOKUP($B112,RaceDraw!$C$10:$P$440,COLUMN()-1,FALSE)),\" \",IF(ISBLANK(VLOOKUP($B112,RaceDraw!$C$10:$P$440,COLUMN()-1,FALSE)),\" \",VLOOKUP($B112,RaceDraw!$C$10:$P$440,COLUMN()-1,FALSE)))","v":"Kangaroo Island Dragons"},{"$f":"IF(ISERROR(VLOOKUP($B112,RaceDraw!$C$10:$P$440,COLUMN()-1,FALSE)),\" \",IF(ISBLANK(VLOOKUP($B112,RaceDraw!$C$10:$P$440,COLUMN()-1,FALSE)),\" \",VLOOKUP($B112,RaceDraw!$C$10:$P$440,COLUMN()-1,FALSE)))","v":" "},{"$f":"IF(ISERROR(VLOOKUP($B112,RaceDraw!$C$10:$P$440,COLUMN()-1,FALSE)),\" \",IF(ISBLANK(VLOOKUP($B112,RaceDraw!$C$10:$P$440,COLUMN()-1,FALSE)),\" \",VLOOKUP($B112,RaceDraw!$C$10:$P$440,COLUMN()-1,FALSE)))","v":" "},{"$f":"IF(ISERROR(VLOOKUP($B112,RaceDraw!$C$10:$P$440,COLUMN()-1,FALSE)),\" \",IF(ISBLANK(VLOOKUP($B112,RaceDraw!$C$10:$P$440,COLUMN()-1,FALSE)),\" \",VLOOKUP($B112,RaceDraw!$C$10:$P$440,COLUMN()-1,FALSE)))","v":" "},"Sat"]
[{"$f":"IF(ISERROR(INDEX(RaceDraw!$B$10:$B$440,MATCH(B113,RaceDraw!$C$10:$C$440,0))),\"\",INDEX(RaceDraw!$B$10:$B$440,MATCH(B113,RaceDraw!$C$10:$C$440,0)))","v":"13.00"},108,{"$f":"IF(ISERROR(VLOOKUP($B113,RaceDraw!$C$10:$P$440,COLUMN()-1,FALSE)),\"\",IF(ISBLANK(VLOOKUP($B113,RaceDraw!$C$10:$P$440,COLUMN()-1,FALSE)),\"\",VLOOKUP($B113,RaceDraw!$C$10:$P$440,COLUMN()-1,FALSE)))","v":"Senior C Women 10"},{"$f":"IF(ISERROR(VLOOKUP($B113,RaceDraw!$C$10:$P$440,COLUMN()-1,FALSE)),\"\",IF(ISBLANK(VLOOKUP($B113,RaceDraw!$C$10:$P$440,COLUMN()-1,FALSE)),\"\",VLOOKUP($B113,RaceDraw!$C$10:$P$440,COLUMN()-1,FALSE)))","v":200},{"$f":"IF(ISERROR(VLOOKUP($B113,RaceDraw!$C$10:$P$440,COLUMN()-1,FALSE)),\"\",IF(ISBLANK(VLOOKUP($B113,RaceDraw!$C$10:$P$440,COLUMN()-1,FALSE)),F113,VLOOKUP($B113,RaceDraw!$C$10:$P$440,COLUMN()-1,FALSE)))","v":3},{"$f":"IF(ISERROR(VLOOKUP($B113,RaceDraw!$C$10:$P$440,COLUMN()-1,FALSE)),\"\",IF(ISBLANK(VLOOKUP($B113,RaceDraw!$C$10:$P$440,COLUMN()-1,FALSE)),\"\",VLOOKUP($B113,RaceDraw!$C$10:$P$440,COLUMN()-1,FALSE)))","v":3},{"$f":"IF(ISERROR(VLOOKUP($B113,RaceDraw!$C$10:$P$440,COLUMN()-1,FALSE)),\" \",IF(ISBLANK(VLOOKUP($B113,RaceDraw!$C$10:$P$440,COLUMN()-1,FALSE)),\" \",VLOOKUP($B113,RaceDraw!$C$10:$P$440,COLUMN()-1,FALSE)))","v":"Scd Warrnambool"},{"$f":"IF(ISERROR(VLOOKUP($B113,RaceDraw!$C$10:$P$440,COLUMN()-1,FALSE)),\" \",IF(ISBLANK(VLOOKUP($B113,RaceDraw!$C$10:$P$440,COLUMN()-1,FALSE)),\" \",VLOOKUP($B113,RaceDraw!$C$10:$P$440,COLUMN()-1,FALSE)))","v":"Rainbow Dragons Blue"},{"$f":"IF(ISERROR(VLOOKUP($B113,RaceDraw!$C$10:$P$440,COLUMN()-1,FALSE)),\" \",IF(ISBLANK(VLOOKUP($B113,RaceDraw!$C$10:$P$440,COLUMN()-1,FALSE)),\" \",VLOOKUP($B113,RaceDraw!$C$10:$P$440,COLUMN()-1,FALSE)))","v":"Deepwater Purple"},{"$f":"IF(ISERROR(VLOOKUP($B113,RaceDraw!$C$10:$P$440,COLUMN()-1,FALSE)),\" \",IF(ISBLANK(VLOOKUP($B113,RaceDraw!$C$10:$P$440,COLUMN()-1,FALSE)),\" \",VLOOKUP($B113,RaceDraw!$C$10:$P$440,COLUMN()-1,FALSE)))","v":"Hunter River Dragons"},{"$f":"IF(ISERROR(VLOOKUP($B113,RaceDraw!$C$10:$P$440,COLUMN()-1,FALSE)),\" \",IF(ISBLANK(VLOOKUP($B113,RaceDraw!$C$10:$P$440,COLUMN()-1,FALSE)),\" \",VLOOKUP($B113,RaceDraw!$C$10:$P$440,COLUMN()-1,FALSE)))","v":"Outback Dragons"},{"$f":"IF(ISERROR(VLOOKUP($B113,RaceDraw!$C$10:$P$440,COLUMN()-1,FALSE)),\" \",IF(ISBLANK(VLOOKUP($B113,RaceDraw!$C$10:$P$440,COLUMN()-1,FALSE)),\" \",VLOOKUP($B113,RaceDraw!$C$10:$P$440,COLUMN()-1,FALSE)))","v":"Powerblades"},{"$f":"IF(ISERROR(VLOOKUP($B113,RaceDraw!$C$10:$P$440,COLUMN()-1,FALSE)),\" \",IF(ISBLANK(VLOOKUP($B113,RaceDraw!$C$10:$P$440,COLUMN()-1,FALSE)),\" \",VLOOKUP($B113,RaceDraw!$C$10:$P$440,COLUMN()-1,FALSE)))","v":" "},{"$f":"IF(ISERROR(VLOOKUP($B113,RaceDraw!$C$10:$P$440,COLUMN()-1,FALSE)),\" \",IF(ISBLANK(VLOOKUP($B113,RaceDraw!$C$10:$P$440,COLUMN()-1,FALSE)),\" \",VLOOKUP($B113,RaceDraw!$C$10:$P$440,COLUMN()-1,FALSE)))","v":" "},{"$f":"IF(ISERROR(VLOOKUP($B113,RaceDraw!$C$10:$P$440,COLUMN()-1,FALSE)),\" \",IF(ISBLANK(VLOOKUP($B113,RaceDraw!$C$10:$P$440,COLUMN()-1,FALSE)),\" \",VLOOKUP($B113,RaceDraw!$C$10:$P$440,COLUMN()-1,FALSE)))","v":" "},"Sat"]
[{"$f":"IF(ISERROR(INDEX(RaceDraw!$B$10:$B$440,MATCH(B114,RaceDraw!$C$10:$C$440,0))),\"\",INDEX(RaceDraw!$B$10:$B$440,MATCH(B114,RaceDraw!$C$10:$C$440,0)))","v":"13.06"},109,{"$f":"IF(ISERROR(VLOOKUP($B114,RaceDraw!$C$10:$P$440,COLUMN()-1,FALSE)),\"\",IF(ISBLANK(VLOOKUP($B114,RaceDraw!$C$10:$P$440,COLUMN()-1,FALSE)),\"\",VLOOKUP($B114,RaceDraw!$C$10:$P$440,COLUMN()-1,FALSE)))","v":"Senior C Women 10"},{"$f":"IF(ISERROR(VLOOKUP($B114,RaceDraw!$C$10:$P$440,COLUMN()-1,FALSE)),\"\",IF(ISBLANK(VLOOKUP($B114,RaceDraw!$C$10:$P$440,COLUMN()-1,FALSE)),\"\",VLOOKUP($B114,RaceDraw!$C$10:$P$440,COLUMN()-1,FALSE)))","v":200},{"$f":"IF(ISERROR(VLOOKUP($B114,RaceDraw!$C$10:$P$440,COLUMN()-1,FALSE)),\"\",IF(ISBLANK(VLOOKUP($B114,RaceDraw!$C$10:$P$440,COLUMN()-1,FALSE)),F114,VLOOKUP($B114,RaceDraw!$C$10:$P$440,COLUMN()-1,FALSE)))","v":3},{"$f":"IF(ISERROR(VLOOKUP($B114,RaceDraw!$C$10:$P$440,COLUMN()-1,FALSE)),\"\",IF(ISBLANK(VLOOKUP($B114,RaceDraw!$C$10:$P$440,COLUMN()-1,FALSE)),\"\",VLOOKUP($B114,RaceDraw!$C$10:$P$440,COLUMN()-1,FALSE)))","v":4},{"$f":"IF(ISERROR(VLOOKUP($B114,RaceDraw!$C$10:$P$440,COLUMN()-1,FALSE)),\" \",IF(ISBLANK(VLOOKUP($B114,RaceDraw!$C$10:$P$440,COLUMN()-1,FALSE)),\" \",VLOOKUP($B114,RaceDraw!$C$10:$P$440,COLUMN()-1,FALSE)))","v":"Peninsula Dragonfly"},{"$f":"IF(ISERROR(VLOOKUP($B114,RaceDraw!$C$10:$P$440,COLUMN()-1,FALSE)),\" \",IF(ISBLANK(VLOOKUP($B114,RaceDraw!$C$10:$P$440,COLUMN()-1,FALSE)),\" \",VLOOKUP($B114,RaceDraw!$C$10:$P$440,COLUMN()-1,FALSE)))","v":"Gypsy Dragons"},{"$f":"IF(ISERROR(VLOOKUP($B114,RaceDraw!$C$10:$P$440,COLUMN()-1,FALSE)),\" \",IF(ISBLANK(VLOOKUP($B114,RaceDraw!$C$10:$P$440,COLUMN()-1,FALSE)),\" \",VLOOKUP($B114,RaceDraw!$C$10:$P$440,COLUMN()-1,FALSE)))","v":"SADA Sonix Blue"},{"$f":"IF(ISERROR(VLOOKUP($B114,RaceDraw!$C$10:$P$440,COLUMN()-1,FALSE)),\" \",IF(ISBLANK(VLOOKUP($B114,RaceDraw!$C$10:$P$440,COLUMN()-1,FALSE)),\" \",VLOOKUP($B114,RaceDraw!$C$10:$P$440,COLUMN()-1,FALSE)))","v":"DA Bendigo Pink"},{"$f":"IF(ISERROR(VLOOKUP($B114,RaceDraw!$C$10:$P$440,COLUMN()-1,FALSE)),\" \",IF(ISBLANK(VLOOKUP($B114,RaceDraw!$C$10:$P$440,COLUMN()-1,FALSE)),\" \",VLOOKUP($B114,RaceDraw!$C$10:$P$440,COLUMN()-1,FALSE)))","v":"Deepwater Green"},{"$f":"IF(ISERROR(VLOOKUP($B114,RaceDraw!$C$10:$P$440,COLUMN()-1,FALSE)),\" \",IF(ISBLANK(VLOOKUP($B114,RaceDraw!$C$10:$P$440,COLUMN()-1,FALSE)),\" \",VLOOKUP($B114,RaceDraw!$C$10:$P$440,COLUMN()-1,FALSE)))","v":"Rainbow Dragons Red"},{"$f":"IF(ISERROR(VLOOKUP($B114,RaceDraw!$C$10:$P$440,COLUMN()-1,FALSE)),\" \",IF(ISBLANK(VLOOKUP($B114,RaceDraw!$C$10:$P$440,COLUMN()-1,FALSE)),\" \",VLOOKUP($B114,RaceDraw!$C$10:$P$440,COLUMN()-1,FALSE)))","v":" "},{"$f":"IF(ISERROR(VLOOKUP($B114,RaceDraw!$C$10:$P$440,COLUMN()-1,FALSE)),\" \",IF(ISBLANK(VLOOKUP($B114,RaceDraw!$C$10:$P$440,COLUMN()-1,FALSE)),\" \",VLOOKUP($B114,RaceDraw!$C$10:$P$440,COLUMN()-1,FALSE)))","v":" "},{"$f":"IF(ISERROR(VLOOKUP($B114,RaceDraw!$C$10:$P$440,COLUMN()-1,FALSE)),\" \",IF(ISBLANK(VLOOKUP($B114,RaceDraw!$C$10:$P$440,COLUMN()-1,FALSE)),\" \",VLOOKUP($B114,RaceDraw!$C$10:$P$440,COLUMN()-1,FALSE)))","v":" "},"Sat"]
[{"$f":"IF(ISERROR(INDEX(RaceDraw!$B$10:$B$440,MATCH(B115,RaceDraw!$C$10:$C$440,0))),\"\",INDEX(RaceDraw!$B$10:$B$440,MATCH(B115,RaceDraw!$C$10:$C$440,0)))","v":"13.12"},110,{"$f":"IF(ISERROR(VLOOKUP($B115,RaceDraw!$C$10:$P$440,COLUMN()-1,FALSE)),\"\",IF(ISBLANK(VLOOKUP($B115,RaceDraw!$C$10:$P$440,COLUMN()-1,FALSE)),\"\",VLOOKUP($B115,RaceDraw!$C$10:$P$440,COLUMN()-1,FALSE)))","v":"Senior C Women 10"},{"$f":"IF(ISERROR(VLOOKUP($B115,RaceDraw!$C$10:$P$440,COLUMN()-1,FALSE)),\"\",IF(ISBLANK(VLOOKUP($B115,RaceDraw!$C$10:$P$440,COLUMN()-1,FALSE)),\"\",VLOOKUP($B115,RaceDraw!$C$10:$P$440,COLUMN()-1,FALSE)))","v":200},{"$f":"IF(ISERROR(VLOOKUP($B115,RaceDraw!$C$10:$P$440,COLUMN()-1,FALSE)),\"\",IF(ISBLANK(VLOOKUP($B115,RaceDraw!$C$10:$P$440,COLUMN()-1,FALSE)),F115,VLOOKUP($B115,RaceDraw!$C$10:$P$440,COLUMN()-1,FALSE)))","v":3},{"$f":"IF(ISERROR(VLOOKUP($B115,RaceDraw!$C$10:$P$440,COLUMN()-1,FALSE)),\"\",IF(ISBLANK(VLOOKUP($B115,RaceDraw!$C$10:$P$440,COLUMN()-1,FALSE)),\"\",VLOOKUP($B115,RaceDraw!$C$10:$P$440,COLUMN()-1,FALSE)))","v":5},{"$f":"IF(ISERROR(VLOOKUP($B115,RaceDraw!$C$10:$P$440,COLUMN()-1,FALSE)),\" \",IF(ISBLANK(VLOOKUP($B115,RaceDraw!$C$10:$P$440,COLUMN()-1,FALSE)),\" \",VLOOKUP($B115,RaceDraw!$C$10:$P$440,COLUMN()-1,FALSE)))","v":"Gippsland Blue"},{"$f":"IF(ISERROR(VLOOKUP($B115,RaceDraw!$C$10:$P$440,COLUMN()-1,FALSE)),\" \",IF(ISBLANK(VLOOKUP($B115,RaceDraw!$C$10:$P$440,COLUMN()-1,FALSE)),\" \",VLOOKUP($B115,RaceDraw!$C$10:$P$440,COLUMN()-1,FALSE)))","v":"Black Sea Dragons"},{"$f":"IF(ISERROR(VLOOKUP($B115,RaceDraw!$C$10:$P$440,COLUMN()-1,FALSE)),\" \",IF(ISBLANK(VLOOKUP($B115,RaceDraw!$C$10:$P$440,COLUMN()-1,FALSE)),\" \",VLOOKUP($B115,RaceDraw!$C$10:$P$440,COLUMN()-1,FALSE)))","v":"Kombo Dragons Black"},{"$f":"IF(ISERROR(VLOOKUP($B115,RaceDraw!$C$10:$P$440,COLUMN()-1,FALSE)),\" \",IF(ISBLANK(VLOOKUP($B115,RaceDraw!$C$10:$P$440,COLUMN()-1,FALSE)),\" \",VLOOKUP($B115,RaceDraw!$C$10:$P$440,COLUMN()-1,FALSE)))","v":"Golden Dragons"},{"$f":"IF(ISERROR(VLOOKUP($B115,RaceDraw!$C$10:$P$440,COLUMN()-1,FALSE)),\" \",IF(ISBLANK(VLOOKUP($B115,RaceDraw!$C$10:$P$440,COLUMN()-1,FALSE)),\" \",VLOOKUP($B115,RaceDraw!$C$10:$P$440,COLUMN()-1,FALSE)))","v":"Southern Warriors White"},{"$f":"IF(ISERROR(VLOOKUP($B115,RaceDraw!$C$10:$P$440,COLUMN()-1,FALSE)),\" \",IF(ISBLANK(VLOOKUP($B115,RaceDraw!$C$10:$P$440,COLUMN()-1,FALSE)),\" \",VLOOKUP($B115,RaceDraw!$C$10:$P$440,COLUMN()-1,FALSE)))","v":"Newcastle Dragon Hunters Purple"},{"$f":"IF(ISERROR(VLOOKUP($B115,RaceDraw!$C$10:$P$440,COLUMN()-1,FALSE)),\" \",IF(ISBLANK(VLOOKUP($B115,RaceDraw!$C$10:$P$440,COLUMN()-1,FALSE)),\" \",VLOOKUP($B115,RaceDraw!$C$10:$P$440,COLUMN()-1,FALSE)))","v":"Dragon Masters"},{"$f":"IF(ISERROR(VLOOKUP($B115,RaceDraw!$C$10:$P$440,COLUMN()-1,FALSE)),\" \",IF(ISBLANK(VLOOKUP($B115,RaceDraw!$C$10:$P$440,COLUMN()-1,FALSE)),\" \",VLOOKUP($B115,RaceDraw!$C$10:$P$440,COLUMN()-1,FALSE)))","v":" "},{"$f":"IF(ISERROR(VLOOKUP($B115,RaceDraw!$C$10:$P$440,COLUMN()-1,FALSE)),\" \",IF(ISBLANK(VLOOKUP($B115,RaceDraw!$C$10:$P$440,COLUMN()-1,FALSE)),\" \",VLOOKUP($B115,RaceDraw!$C$10:$P$440,COLUMN()-1,FALSE)))","v":" "},"Sat"]
[{"$f":"IF(ISERROR(INDEX(RaceDraw!$B$10:$B$440,MATCH(B116,RaceDraw!$C$10:$C$440,0))),\"\",INDEX(RaceDraw!$B$10:$B$440,MATCH(B116,RaceDraw!$C$10:$C$440,0)))","v":"13.18"},{"$f":"B115+1","v":111},{"$f":"IF(ISERROR(VLOOKUP($B116,RaceDraw!$C$10:$P$440,COLUMN()-1,FALSE)),\"\",IF(ISBLANK(VLOOKUP($B116,RaceDraw!$C$10:$P$440,COLUMN()-1,FALSE)),\"\",VLOOKUP($B116,RaceDraw!$C$10:$P$440,COLUMN()-1,FALSE)))","v":"Senior C Open 10's"},{"$f":"IF(ISERROR(VLOOKUP($B116,RaceDraw!$C$10:$P$440,COLUMN()-1,FALSE)),\"\",IF(ISBLANK(VLOOKUP($B116,RaceDraw!$C$10:$P$440,COLUMN()-1,FALSE)),\"\",VLOOKUP($B116,RaceDraw!$C$10:$P$440,COLUMN()-1,FALSE)))","v":200},{"$f":"IF(ISERROR(VLOOKUP($B116,RaceDraw!$C$10:$P$440,COLUMN()-1,FALSE)),\"\",IF(ISBLANK(VLOOKUP($B116,RaceDraw!$C$10:$P$440,COLUMN()-1,FALSE)),F116,VLOOKUP($B116,RaceDraw!$C$10:$P$440,COLUMN()-1,FALSE)))","v":3},{"$f":"IF(ISERROR(VLOOKUP($B116,RaceDraw!$C$10:$P$440,COLUMN()-1,FALSE)),\"\",IF(ISBLANK(VLOOKUP($B116,RaceDraw!$C$10:$P$440,COLUMN()-1,FALSE)),\"\",VLOOKUP($B116,RaceDraw!$C$10:$P$440,COLUMN()-1,FALSE)))","v":1},{"$f":"IF(ISERROR(VLOOKUP($B116,RaceDraw!$C$10:$P$440,COLUMN()-1,FALSE)),\" \",IF(ISBLANK(VLOOKUP($B116,RaceDraw!$C$10:$P$440,COLUMN()-1,FALSE)),\" \",VLOOKUP($B116,RaceDraw!$C$10:$P$440,COLUMN()-1,FALSE)))","v":"Rainbow Dragons"},{"$f":"IF(ISERROR(VLOOKUP($B116,RaceDraw!$C$10:$P$440,COLUMN()-1,FALSE)),\" \",IF(ISBLANK(VLOOKUP($B116,RaceDraw!$C$10:$P$440,COLUMN()-1,FALSE)),\" \",VLOOKUP($B116,RaceDraw!$C$10:$P$440,COLUMN()-1,FALSE)))","v":"Hunter River Dragons"},{"$f":"IF(ISERROR(VLOOKUP($B116,RaceDraw!$C$10:$P$440,COLUMN()-1,FALSE)),\" \",IF(ISBLANK(VLOOKUP($B116,RaceDraw!$C$10:$P$440,COLUMN()-1,FALSE)),\" \",VLOOKUP($B116,RaceDraw!$C$10:$P$440,COLUMN()-1,FALSE)))","v":"Gippsland United"},{"$f":"IF(ISERROR(VLOOKUP($B116,RaceDraw!$C$10:$P$440,COLUMN()-1,FALSE)),\" \",IF(ISBLANK(VLOOKUP($B116,RaceDraw!$C$10:$P$440,COLUMN()-1,FALSE)),\" \",VLOOKUP($B116,RaceDraw!$C$10:$P$440,COLUMN()-1,FALSE)))","v":"Motley Crew"},{"$f":"IF(ISERROR(VLOOKUP($B116,RaceDraw!$C$10:$P$440,COLUMN()-1,FALSE)),\" \",IF(ISBLANK(VLOOKUP($B116,RaceDraw!$C$10:$P$440,COLUMN()-1,FALSE)),\" \",VLOOKUP($B116,RaceDraw!$C$10:$P$440,COLUMN()-1,FALSE)))","v":"FNC"},{"$f":"IF(ISERROR(VLOOKUP($B116,RaceDraw!$C$10:$P$440,COLUMN()-1,FALSE)),\" \",IF(ISBLANK(VLOOKUP($B116,RaceDraw!$C$10:$P$440,COLUMN()-1,FALSE)),\" \",VLOOKUP($B116,RaceDraw!$C$10:$P$440,COLUMN()-1,FALSE)))","v":"Southern Warriors Blue"},{"$f":"IF(ISERROR(VLOOKUP($B116,RaceDraw!$C$10:$P$440,COLUMN()-1,FALSE)),\" \",IF(ISBLANK(VLOOKUP($B116,RaceDraw!$C$10:$P$440,COLUMN()-1,FALSE)),\" \",VLOOKUP($B116,RaceDraw!$C$10:$P$440,COLUMN()-1,FALSE)))","v":" "},{"$f":"IF(ISERROR(VLOOKUP($B116,RaceDraw!$C$10:$P$440,COLUMN()-1,FALSE)),\" \",IF(ISBLANK(VLOOKUP($B116,RaceDraw!$C$10:$P$440,COLUMN()-1,FALSE)),\" \",VLOOKUP($B116,RaceDraw!$C$10:$P$440,COLUMN()-1,FALSE)))","v":" "},{"$f":"IF(ISERROR(VLOOKUP($B116,RaceDraw!$C$10:$P$440,COLUMN()-1,FALSE)),\" \",IF(ISBLANK(VLOOKUP($B116,RaceDraw!$C$10:$P$440,COLUMN()-1,FALSE)),\" \",VLOOKUP($B116,RaceDraw!$C$10:$P$440,COLUMN()-1,FALSE)))","v":" "},"Sat"]
[{"$f":"IF(ISERROR(INDEX(RaceDraw!$B$10:$B$440,MATCH(B117,RaceDraw!$C$10:$C$440,0))),\"\",INDEX(RaceDraw!$B$10:$B$440,MATCH(B117,RaceDraw!$C$10:$C$440,0)))","v":"13.24"},112,{"$f":"IF(ISERROR(VLOOKUP($B117,RaceDraw!$C$10:$P$440,COLUMN()-1,FALSE)),\"\",IF(ISBLANK(VLOOKUP($B117,RaceDraw!$C$10:$P$440,COLUMN()-1,FALSE)),\"\",VLOOKUP($B117,RaceDraw!$C$10:$P$440,COLUMN()-1,FALSE)))","v":"Senior C Open 10's"},{"$f":"IF(ISERROR(VLOOKUP($B117,RaceDraw!$C$10:$P$440,COLUMN()-1,FALSE)),\"\",IF(ISBLANK(VLOOKUP($B117,RaceDraw!$C$10:$P$440,COLUMN()-1,FALSE)),\"\",VLOOKUP($B117,RaceDraw!$C$10:$P$440,COLUMN()-1,FALSE)))","v":200},{"$f":"IF(ISERROR(VLOOKUP($B117,RaceDraw!$C$10:$P$440,COLUMN()-1,FALSE)),\"\",IF(ISBLANK(VLOOKUP($B117,RaceDraw!$C$10:$P$440,COLUMN()-1,FALSE)),F117,VLOOKUP($B117,RaceDraw!$C$10:$P$440,COLUMN()-1,FALSE)))","v":2},{"$f":"IF(ISERROR(VLOOKUP($B117,RaceDraw!$C$10:$P$440,COLUMN()-1,FALSE)),\"\",IF(ISBLANK(VLOOKUP($B117,RaceDraw!$C$10:$P$440,COLUMN()-1,FALSE)),\"\",VLOOKUP($B117,RaceDraw!$C$10:$P$440,COLUMN()-1,FALSE)))","v":2},{"$f":"IF(ISERROR(VLOOKUP($B117,RaceDraw!$C$10:$P$440,COLUMN()-1,FALSE)),\" \",IF(ISBLANK(VLOOKUP($B117,RaceDraw!$C$10:$P$440,COLUMN()-1,FALSE)),\" \",VLOOKUP($B117,RaceDraw!$C$10:$P$440,COLUMN()-1,FALSE)))","v":"Kombo Dragons Purple"},{"$f":"IF(ISERROR(VLOOKUP($B117,RaceDraw!$C$10:$P$440,COLUMN()-1,FALSE)),\" \",IF(ISBLANK(VLOOKUP($B117,RaceDraw!$C$10:$P$440,COLUMN()-1,FALSE)),\" \",VLOOKUP($B117,RaceDraw!$C$10:$P$440,COLUMN()-1,FALSE)))","v":"Dragon Masters"},{"$f":"IF(ISERROR(VLOOKUP($B117,RaceDraw!$C$10:$P$440,COLUMN()-1,FALSE)),\" \",IF(ISBLANK(VLOOKUP($B117,RaceDraw!$C$10:$P$440,COLUMN()-1,FALSE)),\" \",VLOOKUP($B117,RaceDraw!$C$10:$P$440,COLUMN()-1,FALSE)))","v":"Outback Dragons"},{"$f":"IF(ISERROR(VLOOKUP($B117,RaceDraw!$C$10:$P$440,COLUMN()-1,FALSE)),\" \",IF(ISBLANK(VLOOKUP($B117,RaceDraw!$C$10:$P$440,COLUMN()-1,FALSE)),\" \",VLOOKUP($B117,RaceDraw!$C$10:$P$440,COLUMN()-1,FALSE)))","v":"Kangaroo Island Dragons"},{"$f":"IF(ISERROR(VLOOKUP($B117,RaceDraw!$C$10:$P$440,COLUMN()-1,FALSE)),\" \",IF(ISBLANK(VLOOKUP($B117,RaceDraw!$C$10:$P$440,COLUMN()-1,FALSE)),\" \",VLOOKUP($B117,RaceDraw!$C$10:$P$440,COLUMN()-1,FALSE)))","v":"Gypsy Dragons"},{"$f":"IF(ISERROR(VLOOKUP($B117,RaceDraw!$C$10:$P$440,COLUMN()-1,FALSE)),\" \",IF(ISBLANK(VLOOKUP($B117,RaceDraw!$C$10:$P$440,COLUMN()-1,FALSE)),\" \",VLOOKUP($B117,RaceDraw!$C$10:$P$440,COLUMN()-1,FALSE)))","v":"Southern Warriors White"},{"$f":"IF(ISERROR(VLOOKUP($B117,RaceDraw!$C$10:$P$440,COLUMN()-1,FALSE)),\" \",IF(ISBLANK(VLOOKUP($B117,RaceDraw!$C$10:$P$440,COLUMN()-1,FALSE)),\" \",VLOOKUP($B117,RaceDraw!$C$10:$P$440,COLUMN()-1,FALSE)))","v":"Powerblades"},{"$f":"IF(ISERROR(VLOOKUP($B117,RaceDraw!$C$10:$P$440,COLUMN()-1,FALSE)),\" \",IF(ISBLANK(VLOOKUP($B117,RaceDraw!$C$10:$P$440,COLUMN()-1,FALSE)),\" \",VLOOKUP($B117,RaceDraw!$C$10:$P$440,COLUMN()-1,FALSE)))","v":" "},{"$f":"IF(ISERROR(VLOOKUP($B117,RaceDraw!$C$10:$P$440,COLUMN()-1,FALSE)),\" \",IF(ISBLANK(VLOOKUP($B117,RaceDraw!$C$10:$P$440,COLUMN()-1,FALSE)),\" \",VLOOKUP($B117,RaceDraw!$C$10:$P$440,COLUMN()-1,FALSE)))","v":" "},"Sat"]
[{"$f":"IF(ISERROR(INDEX(RaceDraw!$B$10:$B$440,MATCH(B118,RaceDraw!$C$10:$C$440,0))),\"\",INDEX(RaceDraw!$B$10:$B$440,MATCH(B118,RaceDraw!$C$10:$C$440,0)))","v":"13.30"},113,{"$f":"IF(ISERROR(VLOOKUP($B118,RaceDraw!$C$10:$P$440,COLUMN()-1,FALSE)),\"\",IF(ISBLANK(VLOOKUP($B118,RaceDraw!$C$10:$P$440,COLUMN()-1,FALSE)),\"\",VLOOKUP($B118,RaceDraw!$C$10:$P$440,COLUMN()-1,FALSE)))","v":"Senior C Open 10's"},{"$f":"IF(ISERROR(VLOOKUP($B118,RaceDraw!$C$10:$P$440,COLUMN()-1,FALSE)),\"\",IF(ISBLANK(VLOOKUP($B118,RaceDraw!$C$10:$P$440,COLUMN()-1,FALSE)),\"\",VLOOKUP($B118,RaceDraw!$C$10:$P$440,COLUMN()-1,FALSE)))","v":200},{"$f":"IF(ISERROR(VLOOKUP($B118,RaceDraw!$C$10:$P$440,COLUMN()-1,FALSE)),\"\",IF(ISBLANK(VLOOKUP($B118,RaceDraw!$C$10:$P$440,COLUMN()-1,FALSE)),F118,VLOOKUP($B118,RaceDraw!$C$10:$P$440,COLUMN()-1,FALSE)))","v":3},{"$f":"IF(ISERROR(VLOOKUP($B118,RaceDraw!$C$10:$P$440,COLUMN()-1,FALSE)),\"\",IF(ISBLANK(VLOOKUP($B118,RaceDraw!$C$10:$P$440,COLUMN()-1,FALSE)),\"\",VLOOKUP($B118,RaceDraw!$C$10:$P$440,COLUMN()-1,FALSE)))","v":3},{"$f":"IF(ISERROR(VLOOKUP($B118,RaceDraw!$C$10:$P$440,COLUMN()-1,FALSE)),\" \",IF(ISBLANK(VLOOKUP($B118,RaceDraw!$C$10:$P$440,COLUMN()-1,FALSE)),\" \",VLOOKUP($B118,RaceDraw!$C$10:$P$440,COLUMN()-1,FALSE)))","v":"SADA Sonix"},{"$f":"IF(ISERROR(VLOOKUP($B118,RaceDraw!$C$10:$P$440,COLUMN()-1,FALSE)),\" \",IF(ISBLANK(VLOOKUP($B118,RaceDraw!$C$10:$P$440,COLUMN()-1,FALSE)),\" \",VLOOKUP($B118,RaceDraw!$C$10:$P$440,COLUMN()-1,FALSE)))","v":"Kombo Dragons Black"},{"$f":"IF(ISERROR(VLOOKUP($B118,RaceDraw!$C$10:$P$440,COLUMN()-1,FALSE)),\" \",IF(ISBLANK(VLOOKUP($B118,RaceDraw!$C$10:$P$440,COLUMN()-1,FALSE)),\" \",VLOOKUP($B118,RaceDraw!$C$10:$P$440,COLUMN()-1,FALSE)))","v":"Mildura"},{"$f":"IF(ISERROR(VLOOKUP($B118,RaceDraw!$C$10:$P$440,COLUMN()-1,FALSE)),\" \",IF(ISBLANK(VLOOKUP($B118,RaceDraw!$C$10:$P$440,COLUMN()-1,FALSE)),\" \",VLOOKUP($B118,RaceDraw!$C$10:$P$440,COLUMN()-1,FALSE)))","v":"ASA"},{"$f":"IF(ISERROR(VLOOKUP($B118,RaceDraw!$C$10:$P$440,COLUMN()-1,FALSE)),\" \",IF(ISBLANK(VLOOKUP($B118,RaceDraw!$C$10:$P$440,COLUMN()-1,FALSE)),\" \",VLOOKUP($B118,RaceDraw!$C$10:$P$440,COLUMN()-1,FALSE)))","v":"Deepwater"},{"$f":"IF(ISERROR(VLOOKUP($B118,RaceDraw!$C$10:$P$440,COLUMN()-1,FALSE)),\" \",IF(ISBLANK(VLOOKUP($B118,RaceDraw!$C$10:$P$440,COLUMN()-1,FALSE)),\" \",VLOOKUP($B118,RaceDraw!$C$10:$P$440,COLUMN()-1,FALSE)))","v":"Newcastle Dragon Hunters Red"},{"$f":"IF(ISERROR(VLOOKUP($B118,RaceDraw!$C$10:$P$440,COLUMN()-1,FALSE)),\" \",IF(ISBLANK(VLOOKUP($B118,RaceDraw!$C$10:$P$440,COLUMN()-1,FALSE)),\" \",VLOOKUP($B118,RaceDraw!$C$10:$P$440,COLUMN()-1,FALSE)))","v":" "},{"$f":"IF(ISERROR(VLOOKUP($B118,RaceDraw!$C$10:$P$440,COLUMN()-1,FALSE)),\" \",IF(ISBLANK(VLOOKUP($B118,RaceDraw!$C$10:$P$440,COLUMN()-1,FALSE)),\" \",VLOOKUP($B118,RaceDraw!$C$10:$P$440,COLUMN()-1,FALSE)))","v":" "},{"$f":"IF(ISERROR(VLOOKUP($B118,RaceDraw!$C$10:$P$440,COLUMN()-1,FALSE)),\" \",IF(ISBLANK(VLOOKUP($B118,RaceDraw!$C$10:$P$440,COLUMN()-1,FALSE)),\" \",VLOOKUP($B118,RaceDraw!$C$10:$P$440,COLUMN()-1,FALSE)))","v":" "},"Sat"]
[{"$f":"IF(ISERROR(INDEX(RaceDraw!$B$10:$B$440,MATCH(B119,RaceDraw!$C$10:$C$440,0))),\"\",INDEX(RaceDraw!$B$10:$B$440,MATCH(B119,RaceDraw!$C$10:$C$440,0)))","v":"13.36"},114,{"$f":"IF(ISERROR(VLOOKUP($B119,RaceDraw!$C$10:$P$440,COLUMN()-1,FALSE)),\"\",IF(ISBLANK(VLOOKUP($B119,RaceDraw!$C$10:$P$440,COLUMN()-1,FALSE)),\"\",VLOOKUP($B119,RaceDraw!$C$10:$P$440,COLUMN()-1,FALSE)))","v":"BCS 10"},{"$f":"IF(ISERROR(VLOOKUP($B119,RaceDraw!$C$10:$P$440,COLUMN()-1,FALSE)),\"\",IF(ISBLANK(VLOOKUP($B119,RaceDraw!$C$10:$P$440,COLUMN()-1,FALSE)),\"\",VLOOKUP($B119,RaceDraw!$C$10:$P$440,COLUMN()-1,FALSE)))","v":200},{"$f":"IF(ISERROR(VLOOKUP($B119,RaceDraw!$C$10:$P$440,COLUMN()-1,FALSE)),\"\",IF(ISBLANK(VLOOKUP($B119,RaceDraw!$C$10:$P$440,COLUMN()-1,FALSE)),F119,VLOOKUP($B119,RaceDraw!$C$10:$P$440,COLUMN()-1,FALSE)))","v":3},{"$f":"IF(ISERROR(VLOOKUP($B119,RaceDraw!$C$10:$P$440,COLUMN()-1,FALSE)),\"\",IF(ISBLANK(VLOOKUP($B119,RaceDraw!$C$10:$P$440,COLUMN()-1,FALSE)),\"\",VLOOKUP($B119,RaceDraw!$C$10:$P$440,COLUMN()-1,FALSE)))","v":1},{"$f":"IF(ISERROR(VLOOKUP($B119,RaceDraw!$C$10:$P$440,COLUMN()-1,FALSE)),\" \",IF(ISBLANK(VLOOKUP($B119,RaceDraw!$C$10:$P$440,COLUMN()-1,FALSE)),\" \",VLOOKUP($B119,RaceDraw!$C$10:$P$440,COLUMN()-1,FALSE)))","v":"DA Bendigo Pink"},{"$f":"IF(ISERROR(VLOOKUP($B119,RaceDraw!$C$10:$P$440,COLUMN()-1,FALSE)),\" \",IF(ISBLANK(VLOOKUP($B119,RaceDraw!$C$10:$P$440,COLUMN()-1,FALSE)),\" \",VLOOKUP($B119,RaceDraw!$C$10:$P$440,COLUMN()-1,FALSE)))","v":"Dragons Abreast Adelaide"},{"$f":"IF(ISERROR(VLOOKUP($B119,RaceDraw!$C$10:$P$440,COLUMN()-1,FALSE)),\" \",IF(ISBLANK(VLOOKUP($B119,RaceDraw!$C$10:$P$440,COLUMN()-1,FALSE)),\" \",VLOOKUP($B119,RaceDraw!$C$10:$P$440,COLUMN()-1,FALSE)))","v":"ASA"},{"$f":"IF(ISERROR(VLOOKUP($B119,RaceDraw!$C$10:$P$440,COLUMN()-1,FALSE)),\" \",IF(ISBLANK(VLOOKUP($B119,RaceDraw!$C$10:$P$440,COLUMN()-1,FALSE)),\" \",VLOOKUP($B119,RaceDraw!$C$10:$P$440,COLUMN()-1,FALSE)))","v":"SADA Sonix"},{"$f":"IF(ISERROR(VLOOKUP($B119,RaceDraw!$C$10:$P$440,COLUMN()-1,FALSE)),\" \",IF(ISBLANK(VLOOKUP($B119,RaceDraw!$C$10:$P$440,COLUMN()-1,FALSE)),\" \",VLOOKUP($B119,RaceDraw!$C$10:$P$440,COLUMN()-1,FALSE)))","v":" "},{"$f":"IF(ISERROR(VLOOKUP($B119,RaceDraw!$C$10:$P$440,COLUMN()-1,FALSE)),\" \",IF(ISBLANK(VLOOKUP($B119,RaceDraw!$C$10:$P$440,COLUMN()-1,FALSE)),\" \",VLOOKUP($B119,RaceDraw!$C$10:$P$440,COLUMN()-1,FALSE)))","v":" "},{"$f":"IF(ISERROR(VLOOKUP($B119,RaceDraw!$C$10:$P$440,COLUMN()-1,FALSE)),\" \",IF(ISBLANK(VLOOKUP($B119,RaceDraw!$C$10:$P$440,COLUMN()-1,FALSE)),\" \",VLOOKUP($B119,RaceDraw!$C$10:$P$440,COLUMN()-1,FALSE)))","v":" "},{"$f":"IF(ISERROR(VLOOKUP($B119,RaceDraw!$C$10:$P$440,COLUMN()-1,FALSE)),\" \",IF(ISBLANK(VLOOKUP($B119,RaceDraw!$C$10:$P$440,COLUMN()-1,FALSE)),\" \",VLOOKUP($B119,RaceDraw!$C$10:$P$440,COLUMN()-1,FALSE)))","v":" "},{"$f":"IF(ISERROR(VLOOKUP($B119,RaceDraw!$C$10:$P$440,COLUMN()-1,FALSE)),\" \",IF(ISBLANK(VLOOKUP($B119,RaceDraw!$C$10:$P$440,COLUMN()-1,FALSE)),\" \",VLOOKUP($B119,RaceDraw!$C$10:$P$440,COLUMN()-1,FALSE)))","v":" "},"Sat"]
[{"$f":"IF(ISERROR(INDEX(RaceDraw!$B$10:$B$440,MATCH(B120,RaceDraw!$C$10:$C$440,0))),\"\",INDEX(RaceDraw!$B$10:$B$440,MATCH(B120,RaceDraw!$C$10:$C$440,0)))","v":"13.42"},115,{"$f":"IF(ISERROR(VLOOKUP($B120,RaceDraw!$C$10:$P$440,COLUMN()-1,FALSE)),\"\",IF(ISBLANK(VLOOKUP($B120,RaceDraw!$C$10:$P$440,COLUMN()-1,FALSE)),\"\",VLOOKUP($B120,RaceDraw!$C$10:$P$440,COLUMN()-1,FALSE)))","v":"BCS 10"},{"$f":"IF(ISERROR(VLOOKUP($B120,RaceDraw!$C$10:$P$440,COLUMN()-1,FALSE)),\"\",IF(ISBLANK(VLOOKUP($B120,RaceDraw!$C$10:$P$440,COLUMN()-1,FALSE)),\"\",VLOOKUP($B120,RaceDraw!$C$10:$P$440,COLUMN()-1,FALSE)))","v":200},{"$f":"IF(ISERROR(VLOOKUP($B120,RaceDraw!$C$10:$P$440,COLUMN()-1,FALSE)),\"\",IF(ISBLANK(VLOOKUP($B120,RaceDraw!$C$10:$P$440,COLUMN()-1,FALSE)),F120,VLOOKUP($B120,RaceDraw!$C$10:$P$440,COLUMN()-1,FALSE)))","v":3},{"$f":"IF(ISERROR(VLOOKUP($B120,RaceDraw!$C$10:$P$440,COLUMN()-1,FALSE)),\"\",IF(ISBLANK(VLOOKUP($B120,RaceDraw!$C$10:$P$440,COLUMN()-1,FALSE)),\"\",VLOOKUP($B120,RaceDraw!$C$10:$P$440,COLUMN()-1,FALSE)))","v":2},{"$f":"IF(ISERROR(VLOOKUP($B120,RaceDraw!$C$10:$P$440,COLUMN()-1,FALSE)),\" \",IF(ISBLANK(VLOOKUP($B120,RaceDraw!$C$10:$P$440,COLUMN()-1,FALSE)),\" \",VLOOKUP($B120,RaceDraw!$C$10:$P$440,COLUMN()-1,FALSE)))","v":"Pink Dragons"},{"$f":"IF(ISERROR(VLOOKUP($B120,RaceDraw!$C$10:$P$440,COLUMN()-1,FALSE)),\" \",IF(ISBLANK(VLOOKUP($B120,RaceDraw!$C$10:$P$440,COLUMN()-1,FALSE)),\" \",VLOOKUP($B120,RaceDraw!$C$10:$P$440,COLUMN()-1,FALSE)))","v":"Rainbow Dragons"},{"$f":"IF(ISERROR(VLOOKUP($B120,RaceDraw!$C$10:$P$440,COLUMN()-1,FALSE)),\" \",IF(ISBLANK(VLOOKUP($B120,RaceDraw!$C$10:$P$440,COLUMN()-1,FALSE)),\" \",VLOOKUP($B120,RaceDraw!$C$10:$P$440,COLUMN()-1,FALSE)))","v":"DA Bendigo Blue"},{"$f":"IF(ISERROR(VLOOKUP($B120,RaceDraw!$C$10:$P$440,COLUMN()-1,FALSE)),\" \",IF(ISBLANK(VLOOKUP($B120,RaceDraw!$C$10:$P$440,COLUMN()-1,FALSE)),\" \",VLOOKUP($B120,RaceDraw!$C$10:$P$440,COLUMN()-1,FALSE)))","v":"Juggernauts"},{"$f":"IF(ISERROR(VLOOKUP($B120,RaceDraw!$C$10:$P$440,COLUMN()-1,FALSE)),\" \",IF(ISBLANK(VLOOKUP($B120,RaceDraw!$C$10:$P$440,COLUMN()-1,FALSE)),\" \",VLOOKUP($B120,RaceDraw!$C$10:$P$440,COLUMN()-1,FALSE)))","v":"Motley Crew"},{"$f":"IF(ISERROR(VLOOKUP($B120,RaceDraw!$C$10:$P$440,COLUMN()-1,FALSE)),\" \",IF(ISBLANK(VLOOKUP($B120,RaceDraw!$C$10:$P$440,COLUMN()-1,FALSE)),\" \",VLOOKUP($B120,RaceDraw!$C$10:$P$440,COLUMN()-1,FALSE)))","v":" "},{"$f":"IF(ISERROR(VLOOKUP($B120,RaceDraw!$C$10:$P$440,COLUMN()-1,FALSE)),\" \",IF(ISBLANK(VLOOKUP($B120,RaceDraw!$C$10:$P$440,COLUMN()-1,FALSE)),\" \",VLOOKUP($B120,RaceDraw!$C$10:$P$440,COLUMN()-1,FALSE)))","v":" "},{"$f":"IF(ISERROR(VLOOKUP($B120,RaceDraw!$C$10:$P$440,COLUMN()-1,FALSE)),\" \",IF(ISBLANK(VLOOKUP($B120,RaceDraw!$C$10:$P$440,COLUMN()-1,FALSE)),\" \",VLOOKUP($B120,RaceDraw!$C$10:$P$440,COLUMN()-1,FALSE)))","v":" "},{"$f":"IF(ISERROR(VLOOKUP($B120,RaceDraw!$C$10:$P$440,COLUMN()-1,FALSE)),\" \",IF(ISBLANK(VLOOKUP($B120,RaceDraw!$C$10:$P$440,COLUMN()-1,FALSE)),\" \",VLOOKUP($B120,RaceDraw!$C$10:$P$440,COLUMN()-1,FALSE)))","v":" "},"Sat"]
[{"$f":"IF(ISERROR(INDEX(RaceDraw!$B$10:$B$440,MATCH(B121,RaceDraw!$C$10:$C$440,0))),\"\",INDEX(RaceDraw!$B$10:$B$440,MATCH(B121,RaceDraw!$C$10:$C$440,0)))","v":"13.48"},116,{"$f":"IF(ISERROR(VLOOKUP($B121,RaceDraw!$C$10:$P$440,COLUMN()-1,FALSE)),\"\",IF(ISBLANK(VLOOKUP($B121,RaceDraw!$C$10:$P$440,COLUMN()-1,FALSE)),\"\",VLOOKUP($B121,RaceDraw!$C$10:$P$440,COLUMN()-1,FALSE)))","v":"Senior B Women 10"},{"$f":"IF(ISERROR(VLOOKUP($B121,RaceDraw!$C$10:$P$440,COLUMN()-1,FALSE)),\"\",IF(ISBLANK(VLOOKUP($B121,RaceDraw!$C$10:$P$440,COLUMN()-1,FALSE)),\"\",VLOOKUP($B121,RaceDraw!$C$10:$P$440,COLUMN()-1,FALSE)))","v":200},{"$f":"IF(ISERROR(VLOOKUP($B121,RaceDraw!$C$10:$P$440,COLUMN()-1,FALSE)),\"\",IF(ISBLANK(VLOOKUP($B121,RaceDraw!$C$10:$P$440,COLUMN()-1,FALSE)),F121,VLOOKUP($B121,RaceDraw!$C$10:$P$440,COLUMN()-1,FALSE)))","v":3},{"$f":"IF(ISERROR(VLOOKUP($B121,RaceDraw!$C$10:$P$440,COLUMN()-1,FALSE)),\"\",IF(ISBLANK(VLOOKUP($B121,RaceDraw!$C$10:$P$440,COLUMN()-1,FALSE)),\"\",VLOOKUP($B121,RaceDraw!$C$10:$P$440,COLUMN()-1,FALSE)))","v":1},{"$f":"IF(ISERROR(VLOOKUP($B121,RaceDraw!$C$10:$P$440,COLUMN()-1,FALSE)),\" \",IF(ISBLANK(VLOOKUP($B121,RaceDraw!$C$10:$P$440,COLUMN()-1,FALSE)),\" \",VLOOKUP($B121,RaceDraw!$C$10:$P$440,COLUMN()-1,FALSE)))","v":"Dragons Afloat Bendigo"},{"$f":"IF(ISERROR(VLOOKUP($B121,RaceDraw!$C$10:$P$440,COLUMN()-1,FALSE)),\" \",IF(ISBLANK(VLOOKUP($B121,RaceDraw!$C$10:$P$440,COLUMN()-1,FALSE)),\" \",VLOOKUP($B121,RaceDraw!$C$10:$P$440,COLUMN()-1,FALSE)))","v":"Dragons Afloat Port Lincoln"},{"$f":"IF(ISERROR(VLOOKUP($B121,RaceDraw!$C$10:$P$440,COLUMN()-1,FALSE)),\" \",IF(ISBLANK(VLOOKUP($B121,RaceDraw!$C$10:$P$440,COLUMN()-1,FALSE)),\" \",VLOOKUP($B121,RaceDraw!$C$10:$P$440,COLUMN()-1,FALSE)))","v":"SCD Warrnambool"},{"$f":"IF(ISERROR(VLOOKUP($B121,RaceDraw!$C$10:$P$440,COLUMN()-1,FALSE)),\" \",IF(ISBLANK(VLOOKUP($B121,RaceDraw!$C$10:$P$440,COLUMN()-1,FALSE)),\" \",VLOOKUP($B121,RaceDraw!$C$10:$P$440,COLUMN()-1,FALSE)))","v":"Outback Dragons"},{"$f":"IF(ISERROR(VLOOKUP($B121,RaceDraw!$C$10:$P$440,COLUMN()-1,FALSE)),\" \",IF(ISBLANK(VLOOKUP($B121,RaceDraw!$C$10:$P$440,COLUMN()-1,FALSE)),\" \",VLOOKUP($B121,RaceDraw!$C$10:$P$440,COLUMN()-1,FALSE)))","v":"Sada Sonix Yellow"},{"$f":"IF(ISERROR(VLOOKUP($B121,RaceDraw!$C$10:$P$440,COLUMN()-1,FALSE)),\" \",IF(ISBLANK(VLOOKUP($B121,RaceDraw!$C$10:$P$440,COLUMN()-1,FALSE)),\" \",VLOOKUP($B121,RaceDraw!$C$10:$P$440,COLUMN()-1,FALSE)))","v":"Powerblades"},{"$f":"IF(ISERROR(VLOOKUP($B121,RaceDraw!$C$10:$P$440,COLUMN()-1,FALSE)),\" \",IF(ISBLANK(VLOOKUP($B121,RaceDraw!$C$10:$P$440,COLUMN()-1,FALSE)),\" \",VLOOKUP($B121,RaceDraw!$C$10:$P$440,COLUMN()-1,FALSE)))","v":" "},{"$f":"IF(ISERROR(VLOOKUP($B121,RaceDraw!$C$10:$P$440,COLUMN()-1,FALSE)),\" \",IF(ISBLANK(VLOOKUP($B121,RaceDraw!$C$10:$P$440,COLUMN()-1,FALSE)),\" \",VLOOKUP($B121,RaceDraw!$C$10:$P$440,COLUMN()-1,FALSE)))","v":" "},{"$f":"IF(ISERROR(VLOOKUP($B121,RaceDraw!$C$10:$P$440,COLUMN()-1,FALSE)),\" \",IF(ISBLANK(VLOOKUP($B121,RaceDraw!$C$10:$P$440,COLUMN()-1,FALSE)),\" \",VLOOKUP($B121,RaceDraw!$C$10:$P$440,COLUMN()-1,FALSE)))","v":" "},"Sat"]
[{"$f":"IF(ISERROR(INDEX(RaceDraw!$B$10:$B$440,MATCH(B122,RaceDraw!$C$10:$C$440,0))),\"\",INDEX(RaceDraw!$B$10:$B$440,MATCH(B122,RaceDraw!$C$10:$C$440,0)))","v":"13.54"},117,{"$f":"IF(ISERROR(VLOOKUP($B122,RaceDraw!$C$10:$P$440,COLUMN()-1,FALSE)),\"\",IF(ISBLANK(VLOOKUP($B122,RaceDraw!$C$10:$P$440,COLUMN()-1,FALSE)),\"\",VLOOKUP($B122,RaceDraw!$C$10:$P$440,COLUMN()-1,FALSE)))","v":"Senior B Women 10"},{"$f":"IF(ISERROR(VLOOKUP($B122,RaceDraw!$C$10:$P$440,COLUMN()-1,FALSE)),\"\",IF(ISBLANK(VLOOKUP($B122,RaceDraw!$C$10:$P$440,COLUMN()-1,FALSE)),\"\",VLOOKUP($B122,RaceDraw!$C$10:$P$440,COLUMN()-1,FALSE)))","v":200},{"$f":"IF(ISERROR(VLOOKUP($B122,RaceDraw!$C$10:$P$440,COLUMN()-1,FALSE)),\"\",IF(ISBLANK(VLOOKUP($B122,RaceDraw!$C$10:$P$440,COLUMN()-1,FALSE)),F122,VLOOKUP($B122,RaceDraw!$C$10:$P$440,COLUMN()-1,FALSE)))","v":3},{"$f":"IF(ISERROR(VLOOKUP($B122,RaceDraw!$C$10:$P$440,COLUMN()-1,FALSE)),\"\",IF(ISBLANK(VLOOKUP($B122,RaceDraw!$C$10:$P$440,COLUMN()-1,FALSE)),\"\",VLOOKUP($B122,RaceDraw!$C$10:$P$440,COLUMN()-1,FALSE)))","v":2},{"$f":"IF(ISERROR(VLOOKUP($B122,RaceDraw!$C$10:$P$440,COLUMN()-1,FALSE)),\" \",IF(ISBLANK(VLOOKUP($B122,RaceDraw!$C$10:$P$440,COLUMN()-1,FALSE)),\" \",VLOOKUP($B122,RaceDraw!$C$10:$P$440,COLUMN()-1,FALSE)))","v":"Newcastle Dragon Hunters Red"},{"$f":"IF(ISERROR(VLOOKUP($B122,RaceDraw!$C$10:$P$440,COLUMN()-1,FALSE)),\" \",IF(ISBLANK(VLOOKUP($B122,RaceDraw!$C$10:$P$440,COLUMN()-1,FALSE)),\" \",VLOOKUP($B122,RaceDraw!$C$10:$P$440,COLUMN()-1,FALSE)))","v":"Kombo Dragons Purple"},{"$f":"IF(ISERROR(VLOOKUP($B122,RaceDraw!$C$10:$P$440,COLUMN()-1,FALSE)),\" \",IF(ISBLANK(VLOOKUP($B122,RaceDraw!$C$10:$P$440,COLUMN()-1,FALSE)),\" \",VLOOKUP($B122,RaceDraw!$C$10:$P$440,COLUMN()-1,FALSE)))","v":"Broadwater Dragons"},{"$f":"IF(ISERROR(VLOOKUP($B122,RaceDraw!$C$10:$P$440,COLUMN()-1,FALSE)),\" \",IF(ISBLANK(VLOOKUP($B122,RaceDraw!$C$10:$P$440,COLUMN()-1,FALSE)),\" \",VLOOKUP($B122,RaceDraw!$C$10:$P$440,COLUMN()-1,FALSE)))","v":"Mildura"},{"$f":"IF(ISERROR(VLOOKUP($B122,RaceDraw!$C$10:$P$440,COLUMN()-1,FALSE)),\" \",IF(ISBLANK(VLOOKUP($B122,RaceDraw!$C$10:$P$440,COLUMN()-1,FALSE)),\" \",VLOOKUP($B122,RaceDraw!$C$10:$P$440,COLUMN()-1,FALSE)))","v":"Gypsy Dragons"},{"$f":"IF(ISERROR(VLOOKUP($B122,RaceDraw!$C$10:$P$440,COLUMN()-1,FALSE)),\" \",IF(ISBLANK(VLOOKUP($B122,RaceDraw!$C$10:$P$440,COLUMN()-1,FALSE)),\" \",VLOOKUP($B122,RaceDraw!$C$10:$P$440,COLUMN()-1,FALSE)))","v":"Deepwater"},{"$f":"IF(ISERROR(VLOOKUP($B122,RaceDraw!$C$10:$P$440,COLUMN()-1,FALSE)),\" \",IF(ISBLANK(VLOOKUP($B122,RaceDraw!$C$10:$P$440,COLUMN()-1,FALSE)),\" \",VLOOKUP($B122,RaceDraw!$C$10:$P$440,COLUMN()-1,FALSE)))","v":"Gippsland United"},{"$f":"IF(ISERROR(VLOOKUP($B122,RaceDraw!$C$10:$P$440,COLUMN()-1,FALSE)),\" \",IF(ISBLANK(VLOOKUP($B122,RaceDraw!$C$10:$P$440,COLUMN()-1,FALSE)),\" \",VLOOKUP($B122,RaceDraw!$C$10:$P$440,COLUMN()-1,FALSE)))","v":" "},{"$f":"IF(ISERROR(VLOOKUP($B122,RaceDraw!$C$10:$P$440,COLUMN()-1,FALSE)),\" \",IF(ISBLANK(VLOOKUP($B122,RaceDraw!$C$10:$P$440,COLUMN()-1,FALSE)),\" \",VLOOKUP($B122,RaceDraw!$C$10:$P$440,COLUMN()-1,FALSE)))","v":" "},"Sat"]
[{"$f":"IF(ISERROR(INDEX(RaceDraw!$B$10:$B$440,MATCH(B123,RaceDraw!$C$10:$C$440,0))),\"\",INDEX(RaceDraw!$B$10:$B$440,MATCH(B123,RaceDraw!$C$10:$C$440,0)))","v":"14.00"},118,{"$f":"IF(ISERROR(VLOOKUP($B123,RaceDraw!$C$10:$P$440,COLUMN()-1,FALSE)),\"\",IF(ISBLANK(VLOOKUP($B123,RaceDraw!$C$10:$P$440,COLUMN()-1,FALSE)),\"\",VLOOKUP($B123,RaceDraw!$C$10:$P$440,COLUMN()-1,FALSE)))","v":"Senior B Women 10"},{"$f":"IF(ISERROR(VLOOKUP($B123,RaceDraw!$C$10:$P$440,COLUMN()-1,FALSE)),\"\",IF(ISBLANK(VLOOKUP($B123,RaceDraw!$C$10:$P$440,COLUMN()-1,FALSE)),\"\",VLOOKUP($B123,RaceDraw!$C$10:$P$440,COLUMN()-1,FALSE)))","v":200},{"$f":"IF(ISERROR(VLOOKUP($B123,RaceDraw!$C$10:$P$440,COLUMN()-1,FALSE)),\"\",IF(ISBLANK(VLOOKUP($B123,RaceDraw!$C$10:$P$440,COLUMN()-1,FALSE)),F123,VLOOKUP($B123,RaceDraw!$C$10:$P$440,COLUMN()-1,FALSE)))","v":3},{"$f":"IF(ISERROR(VLOOKUP($B123,RaceDraw!$C$10:$P$440,COLUMN()-1,FALSE)),\"\",IF(ISBLANK(VLOOKUP($B123,RaceDraw!$C$10:$P$440,COLUMN()-1,FALSE)),\"\",VLOOKUP($B123,RaceDraw!$C$10:$P$440,COLUMN()-1,FALSE)))","v":3},{"$f":"IF(ISERROR(VLOOKUP($B123,RaceDraw!$C$10:$P$440,COLUMN()-1,FALSE)),\" \",IF(ISBLANK(VLOOKUP($B123,RaceDraw!$C$10:$P$440,COLUMN()-1,FALSE)),\" \",VLOOKUP($B123,RaceDraw!$C$10:$P$440,COLUMN()-1,FALSE)))","v":"Juggernauts"},{"$f":"IF(ISERROR(VLOOKUP($B123,RaceDraw!$C$10:$P$440,COLUMN()-1,FALSE)),\" \",IF(ISBLANK(VLOOKUP($B123,RaceDraw!$C$10:$P$440,COLUMN()-1,FALSE)),\" \",VLOOKUP($B123,RaceDraw!$C$10:$P$440,COLUMN()-1,FALSE)))","v":"Hunter River Dragons"},{"$f":"IF(ISERROR(VLOOKUP($B123,RaceDraw!$C$10:$P$440,COLUMN()-1,FALSE)),\" \",IF(ISBLANK(VLOOKUP($B123,RaceDraw!$C$10:$P$440,COLUMN()-1,FALSE)),\" \",VLOOKUP($B123,RaceDraw!$C$10:$P$440,COLUMN()-1,FALSE)))","v":"Goolwa River Dragons"},{"$f":"IF(ISERROR(VLOOKUP($B123,RaceDraw!$C$10:$P$440,COLUMN()-1,FALSE)),\" \",IF(ISBLANK(VLOOKUP($B123,RaceDraw!$C$10:$P$440,COLUMN()-1,FALSE)),\" \",VLOOKUP($B123,RaceDraw!$C$10:$P$440,COLUMN()-1,FALSE)))","v":"FNC"},{"$f":"IF(ISERROR(VLOOKUP($B123,RaceDraw!$C$10:$P$440,COLUMN()-1,FALSE)),\" \",IF(ISBLANK(VLOOKUP($B123,RaceDraw!$C$10:$P$440,COLUMN()-1,FALSE)),\" \",VLOOKUP($B123,RaceDraw!$C$10:$P$440,COLUMN()-1,FALSE)))","v":"Kombo Dragons Black"},{"$f":"IF(ISERROR(VLOOKUP($B123,RaceDraw!$C$10:$P$440,COLUMN()-1,FALSE)),\" \",IF(ISBLANK(VLOOKUP($B123,RaceDraw!$C$10:$P$440,COLUMN()-1,FALSE)),\" \",VLOOKUP($B123,RaceDraw!$C$10:$P$440,COLUMN()-1,FALSE)))","v":"Newcastle Dragon Hunters Purple"},{"$f":"IF(ISERROR(VLOOKUP($B123,RaceDraw!$C$10:$P$440,COLUMN()-1,FALSE)),\" \",IF(ISBLANK(VLOOKUP($B123,RaceDraw!$C$10:$P$440,COLUMN()-1,FALSE)),\" \",VLOOKUP($B123,RaceDraw!$C$10:$P$440,COLUMN()-1,FALSE)))","v":" "},{"$f":"IF(ISERROR(VLOOKUP($B123,RaceDraw!$C$10:$P$440,COLUMN()-1,FALSE)),\" \",IF(ISBLANK(VLOOKUP($B123,RaceDraw!$C$10:$P$440,COLUMN()-1,FALSE)),\" \",VLOOKUP($B123,RaceDraw!$C$10:$P$440,COLUMN()-1,FALSE)))","v":" "},{"$f":"IF(ISERROR(VLOOKUP($B123,RaceDraw!$C$10:$P$440,COLUMN()-1,FALSE)),\" \",IF(ISBLANK(VLOOKUP($B123,RaceDraw!$C$10:$P$440,COLUMN()-1,FALSE)),\" \",VLOOKUP($B123,RaceDraw!$C$10:$P$440,COLUMN()-1,FALSE)))","v":" "},"Sat"]
[{"$f":"IF(ISERROR(INDEX(RaceDraw!$B$10:$B$440,MATCH(B124,RaceDraw!$C$10:$C$440,0))),\"\",INDEX(RaceDraw!$B$10:$B$440,MATCH(B124,RaceDraw!$C$10:$C$440,0)))","v":"14.06"},119,{"$f":"IF(ISERROR(VLOOKUP($B124,RaceDraw!$C$10:$P$440,COLUMN()-1,FALSE)),\"\",IF(ISBLANK(VLOOKUP($B124,RaceDraw!$C$10:$P$440,COLUMN()-1,FALSE)),\"\",VLOOKUP($B124,RaceDraw!$C$10:$P$440,COLUMN()-1,FALSE)))","v":"Senior B Women 10"},{"$f":"IF(ISERROR(VLOOKUP($B124,RaceDraw!$C$10:$P$440,COLUMN()-1,FALSE)),\"\",IF(ISBLANK(VLOOKUP($B124,RaceDraw!$C$10:$P$440,COLUMN()-1,FALSE)),\"\",VLOOKUP($B124,RaceDraw!$C$10:$P$440,COLUMN()-1,FALSE)))","v":200},{"$f":"IF(ISERROR(VLOOKUP($B124,RaceDraw!$C$10:$P$440,COLUMN()-1,FALSE)),\"\",IF(ISBLANK(VLOOKUP($B124,RaceDraw!$C$10:$P$440,COLUMN()-1,FALSE)),F124,VLOOKUP($B124,RaceDraw!$C$10:$P$440,COLUMN()-1,FALSE)))","v":3},{"$f":"IF(ISERROR(VLOOKUP($B124,RaceDraw!$C$10:$P$440,COLUMN()-1,FALSE)),\"\",IF(ISBLANK(VLOOKUP($B124,RaceDraw!$C$10:$P$440,COLUMN()-1,FALSE)),\"\",VLOOKUP($B124,RaceDraw!$C$10:$P$440,COLUMN()-1,FALSE)))","v":4},{"$f":"IF(ISERROR(VLOOKUP($B124,RaceDraw!$C$10:$P$440,COLUMN()-1,FALSE)),\" \",IF(ISBLANK(VLOOKUP($B124,RaceDraw!$C$10:$P$440,COLUMN()-1,FALSE)),\" \",VLOOKUP($B124,RaceDraw!$C$10:$P$440,COLUMN()-1,FALSE)))","v":"Black Sea Dragons"},{"$f":"IF(ISERROR(VLOOKUP($B124,RaceDraw!$C$10:$P$440,COLUMN()-1,FALSE)),\" \",IF(ISBLANK(VLOOKUP($B124,RaceDraw!$C$10:$P$440,COLUMN()-1,FALSE)),\" \",VLOOKUP($B124,RaceDraw!$C$10:$P$440,COLUMN()-1,FALSE)))","v":"Southern Warriors"},{"$f":"IF(ISERROR(VLOOKUP($B124,RaceDraw!$C$10:$P$440,COLUMN()-1,FALSE)),\" \",IF(ISBLANK(VLOOKUP($B124,RaceDraw!$C$10:$P$440,COLUMN()-1,FALSE)),\" \",VLOOKUP($B124,RaceDraw!$C$10:$P$440,COLUMN()-1,FALSE)))","v":"DA Bendigo"},{"$f":"IF(ISERROR(VLOOKUP($B124,RaceDraw!$C$10:$P$440,COLUMN()-1,FALSE)),\" \",IF(ISBLANK(VLOOKUP($B124,RaceDraw!$C$10:$P$440,COLUMN()-1,FALSE)),\" \",VLOOKUP($B124,RaceDraw!$C$10:$P$440,COLUMN()-1,FALSE)))","v":"SADA Sonix Blue"},{"$f":"IF(ISERROR(VLOOKUP($B124,RaceDraw!$C$10:$P$440,COLUMN()-1,FALSE)),\" \",IF(ISBLANK(VLOOKUP($B124,RaceDraw!$C$10:$P$440,COLUMN()-1,FALSE)),\" \",VLOOKUP($B124,RaceDraw!$C$10:$P$440,COLUMN()-1,FALSE)))","v":"Golden Dragons"},{"$f":"IF(ISERROR(VLOOKUP($B124,RaceDraw!$C$10:$P$440,COLUMN()-1,FALSE)),\" \",IF(ISBLANK(VLOOKUP($B124,RaceDraw!$C$10:$P$440,COLUMN()-1,FALSE)),\" \",VLOOKUP($B124,RaceDraw!$C$10:$P$440,COLUMN()-1,FALSE)))","v":"Dragonfire"},{"$f":"IF(ISERROR(VLOOKUP($B124,RaceDraw!$C$10:$P$440,COLUMN()-1,FALSE)),\" \",IF(ISBLANK(VLOOKUP($B124,RaceDraw!$C$10:$P$440,COLUMN()-1,FALSE)),\" \",VLOOKUP($B124,RaceDraw!$C$10:$P$440,COLUMN()-1,FALSE)))","v":" "},{"$f":"IF(ISERROR(VLOOKUP($B124,RaceDraw!$C$10:$P$440,COLUMN()-1,FALSE)),\" \",IF(ISBLANK(VLOOKUP($B124,RaceDraw!$C$10:$P$440,COLUMN()-1,FALSE)),\" \",VLOOKUP($B124,RaceDraw!$C$10:$P$440,COLUMN()-1,FALSE)))","v":" "},{"$f":"IF(ISERROR(VLOOKUP($B124,RaceDraw!$C$10:$P$440,COLUMN()-1,FALSE)),\" \",IF(ISBLANK(VLOOKUP($B124,RaceDraw!$C$10:$P$440,COLUMN()-1,FALSE)),\" \",VLOOKUP($B124,RaceDraw!$C$10:$P$440,COLUMN()-1,FALSE)))","v":" "},"Sat"]
[{"$f":"IF(ISERROR(INDEX(RaceDraw!$B$10:$B$440,MATCH(B125,RaceDraw!$C$10:$C$440,0))),\"\",INDEX(RaceDraw!$B$10:$B$440,MATCH(B125,RaceDraw!$C$10:$C$440,0)))","v":"14.12"},120,{"$f":"IF(ISERROR(VLOOKUP($B125,RaceDraw!$C$10:$P$440,COLUMN()-1,FALSE)),\"\",IF(ISBLANK(VLOOKUP($B125,RaceDraw!$C$10:$P$440,COLUMN()-1,FALSE)),\"\",VLOOKUP($B125,RaceDraw!$C$10:$P$440,COLUMN()-1,FALSE)))","v":"Senior B Open 10"},{"$f":"IF(ISERROR(VLOOKUP($B125,RaceDraw!$C$10:$P$440,COLUMN()-1,FALSE)),\"\",IF(ISBLANK(VLOOKUP($B125,RaceDraw!$C$10:$P$440,COLUMN()-1,FALSE)),\"\",VLOOKUP($B125,RaceDraw!$C$10:$P$440,COLUMN()-1,FALSE)))","v":200},{"$f":"IF(ISERROR(VLOOKUP($B125,RaceDraw!$C$10:$P$440,COLUMN()-1,FALSE)),\"\",IF(ISBLANK(VLOOKUP($B125,RaceDraw!$C$10:$P$440,COLUMN()-1,FALSE)),F125,VLOOKUP($B125,RaceDraw!$C$10:$P$440,COLUMN()-1,FALSE)))","v":3},{"$f":"IF(ISERROR(VLOOKUP($B125,RaceDraw!$C$10:$P$440,COLUMN()-1,FALSE)),\"\",IF(ISBLANK(VLOOKUP($B125,RaceDraw!$C$10:$P$440,COLUMN()-1,FALSE)),\"\",VLOOKUP($B125,RaceDraw!$C$10:$P$440,COLUMN()-1,FALSE)))","v":1},{"$f":"IF(ISERROR(VLOOKUP($B125,RaceDraw!$C$10:$P$440,COLUMN()-1,FALSE)),\" \",IF(ISBLANK(VLOOKUP($B125,RaceDraw!$C$10:$P$440,COLUMN()-1,FALSE)),\" \",VLOOKUP($B125,RaceDraw!$C$10:$P$440,COLUMN()-1,FALSE)))","v":"Hunter River Dragons"},{"$f":"IF(ISERROR(VLOOKUP($B125,RaceDraw!$C$10:$P$440,COLUMN()-1,FALSE)),\" \",IF(ISBLANK(VLOOKUP($B125,RaceDraw!$C$10:$P$440,COLUMN()-1,FALSE)),\" \",VLOOKUP($B125,RaceDraw!$C$10:$P$440,COLUMN()-1,FALSE)))","v":"Deepwater"},{"$f":"IF(ISERROR(VLOOKUP($B125,RaceDraw!$C$10:$P$440,COLUMN()-1,FALSE)),\" \",IF(ISBLANK(VLOOKUP($B125,RaceDraw!$C$10:$P$440,COLUMN()-1,FALSE)),\" \",VLOOKUP($B125,RaceDraw!$C$10:$P$440,COLUMN()-1,FALSE)))","v":"Kombo Dragons Black"},{"$f":"IF(ISERROR(VLOOKUP($B125,RaceDraw!$C$10:$P$440,COLUMN()-1,FALSE)),\" \",IF(ISBLANK(VLOOKUP($B125,RaceDraw!$C$10:$P$440,COLUMN()-1,FALSE)),\" \",VLOOKUP($B125,RaceDraw!$C$10:$P$440,COLUMN()-1,FALSE)))","v":"Southern Warriors"},{"$f":"IF(ISERROR(VLOOKUP($B125,RaceDraw!$C$10:$P$440,COLUMN()-1,FALSE)),\" \",IF(ISBLANK(VLOOKUP($B125,RaceDraw!$C$10:$P$440,COLUMN()-1,FALSE)),\" \",VLOOKUP($B125,RaceDraw!$C$10:$P$440,COLUMN()-1,FALSE)))","v":"Goolwa River Dragons"},{"$f":"IF(ISERROR(VLOOKUP($B125,RaceDraw!$C$10:$P$440,COLUMN()-1,FALSE)),\" \",IF(ISBLANK(VLOOKUP($B125,RaceDraw!$C$10:$P$440,COLUMN()-1,FALSE)),\" \",VLOOKUP($B125,RaceDraw!$C$10:$P$440,COLUMN()-1,FALSE)))","v":"Newcastle Dragon Hunters Red"},{"$f":"IF(ISERROR(VLOOKUP($B125,RaceDraw!$C$10:$P$440,COLUMN()-1,FALSE)),\" \",IF(ISBLANK(VLOOKUP($B125,RaceDraw!$C$10:$P$440,COLUMN()-1,FALSE)),\" \",VLOOKUP($B125,RaceDraw!$C$10:$P$440,COLUMN()-1,FALSE)))","v":" "},{"$f":"IF(ISERROR(VLOOKUP($B125,RaceDraw!$C$10:$P$440,COLUMN()-1,FALSE)),\" \",IF(ISBLANK(VLOOKUP($B125,RaceDraw!$C$10:$P$440,COLUMN()-1,FALSE)),\" \",VLOOKUP($B125,RaceDraw!$C$10:$P$440,COLUMN()-1,FALSE)))","v":" "},{"$f":"IF(ISERROR(VLOOKUP($B125,RaceDraw!$C$10:$P$440,COLUMN()-1,FALSE)),\" \",IF(ISBLANK(VLOOKUP($B125,RaceDraw!$C$10:$P$440,COLUMN()-1,FALSE)),\" \",VLOOKUP($B125,RaceDraw!$C$10:$P$440,COLUMN()-1,FALSE)))","v":" "},"Sat"]
[{"$f":"IF(ISERROR(INDEX(RaceDraw!$B$10:$B$440,MATCH(B126,RaceDraw!$C$10:$C$440,0))),\"\",INDEX(RaceDraw!$B$10:$B$440,MATCH(B126,RaceDraw!$C$10:$C$440,0)))","v":"14.18"},121,{"$f":"IF(ISERROR(VLOOKUP($B126,RaceDraw!$C$10:$P$440,COLUMN()-1,FALSE)),\"\",IF(ISBLANK(VLOOKUP($B126,RaceDraw!$C$10:$P$440,COLUMN()-1,FALSE)),\"\",VLOOKUP($B126,RaceDraw!$C$10:$P$440,COLUMN()-1,FALSE)))","v":"Senior B Open 10"},{"$f":"IF(ISERROR(VLOOKUP($B126,RaceDraw!$C$10:$P$440,COLUMN()-1,FALSE)),\"\",IF(ISBLANK(VLOOKUP($B126,RaceDraw!$C$10:$P$440,COLUMN()-1,FALSE)),\"\",VLOOKUP($B126,RaceDraw!$C$10:$P$440,COLUMN()-1,FALSE)))","v":200},{"$f":"IF(ISERROR(VLOOKUP($B126,RaceDraw!$C$10:$P$440,COLUMN()-1,FALSE)),\"\",IF(ISBLANK(VLOOKUP($B126,RaceDraw!$C$10:$P$440,COLUMN()-1,FALSE)),F126,VLOOKUP($B126,RaceDraw!$C$10:$P$440,COLUMN()-1,FALSE)))","v":3},{"$f":"IF(ISERROR(VLOOKUP($B126,RaceDraw!$C$10:$P$440,COLUMN()-1,FALSE)),\"\",IF(ISBLANK(VLOOKUP($B126,RaceDraw!$C$10:$P$440,COLUMN()-1,FALSE)),\"\",VLOOKUP($B126,RaceDraw!$C$10:$P$440,COLUMN()-1,FALSE)))","v":2},{"$f":"IF(ISERROR(VLOOKUP($B126,RaceDraw!$C$10:$P$440,COLUMN()-1,FALSE)),\" \",IF(ISBLANK(VLOOKUP($B126,RaceDraw!$C$10:$P$440,COLUMN()-1,FALSE)),\" \",VLOOKUP($B126,RaceDraw!$C$10:$P$440,COLUMN()-1,FALSE)))","v":"SADA Sonix"},{"$f":"IF(ISERROR(VLOOKUP($B126,RaceDraw!$C$10:$P$440,COLUMN()-1,FALSE)),\" \",IF(ISBLANK(VLOOKUP($B126,RaceDraw!$C$10:$P$440,COLUMN()-1,FALSE)),\" \",VLOOKUP($B126,RaceDraw!$C$10:$P$440,COLUMN()-1,FALSE)))","v":"Outback Dragons"},{"$f":"IF(ISERROR(VLOOKUP($B126,RaceDraw!$C$10:$P$440,COLUMN()-1,FALSE)),\" \",IF(ISBLANK(VLOOKUP($B126,RaceDraw!$C$10:$P$440,COLUMN()-1,FALSE)),\" \",VLOOKUP($B126,RaceDraw!$C$10:$P$440,COLUMN()-1,FALSE)))","v":"ASA"},{"$f":"IF(ISERROR(VLOOKUP($B126,RaceDraw!$C$10:$P$440,COLUMN()-1,FALSE)),\" \",IF(ISBLANK(VLOOKUP($B126,RaceDraw!$C$10:$P$440,COLUMN()-1,FALSE)),\" \",VLOOKUP($B126,RaceDraw!$C$10:$P$440,COLUMN()-1,FALSE)))","v":"Gippsland United"},{"$f":"IF(ISERROR(VLOOKUP($B126,RaceDraw!$C$10:$P$440,COLUMN()-1,FALSE)),\" \",IF(ISBLANK(VLOOKUP($B126,RaceDraw!$C$10:$P$440,COLUMN()-1,FALSE)),\" \",VLOOKUP($B126,RaceDraw!$C$10:$P$440,COLUMN()-1,FALSE)))","v":"Dragonfire"},{"$f":"IF(ISERROR(VLOOKUP($B126,RaceDraw!$C$10:$P$440,COLUMN()-1,FALSE)),\" \",IF(ISBLANK(VLOOKUP($B126,RaceDraw!$C$10:$P$440,COLUMN()-1,FALSE)),\" \",VLOOKUP($B126,RaceDraw!$C$10:$P$440,COLUMN()-1,FALSE)))","v":"Kombo Dragons Green"},{"$f":"IF(ISERROR(VLOOKUP($B126,RaceDraw!$C$10:$P$440,COLUMN()-1,FALSE)),\" \",IF(ISBLANK(VLOOKUP($B126,RaceDraw!$C$10:$P$440,COLUMN()-1,FALSE)),\" \",VLOOKUP($B126,RaceDraw!$C$10:$P$440,COLUMN()-1,FALSE)))","v":" "},{"$f":"IF(ISERROR(VLOOKUP($B126,RaceDraw!$C$10:$P$440,COLUMN()-1,FALSE)),\" \",IF(ISBLANK(VLOOKUP($B126,RaceDraw!$C$10:$P$440,COLUMN()-1,FALSE)),\" \",VLOOKUP($B126,RaceDraw!$C$10:$P$440,COLUMN()-1,FALSE)))","v":" "},{"$f":"IF(ISERROR(VLOOKUP($B126,RaceDraw!$C$10:$P$440,COLUMN()-1,FALSE)),\" \",IF(ISBLANK(VLOOKUP($B126,RaceDraw!$C$10:$P$440,COLUMN()-1,FALSE)),\" \",VLOOKUP($B126,RaceDraw!$C$10:$P$440,COLUMN()-1,FALSE)))","v":" "},"Sat"]
[{"$f":"IF(ISERROR(INDEX(RaceDraw!$B$10:$B$440,MATCH(B127,RaceDraw!$C$10:$C$440,0))),\"\",INDEX(RaceDraw!$B$10:$B$440,MATCH(B127,RaceDraw!$C$10:$C$440,0)))","v":"14.24"},122,{"$f":"IF(ISERROR(VLOOKUP($B127,RaceDraw!$C$10:$P$440,COLUMN()-1,FALSE)),\"\",IF(ISBLANK(VLOOKUP($B127,RaceDraw!$C$10:$P$440,COLUMN()-1,FALSE)),\"\",VLOOKUP($B127,RaceDraw!$C$10:$P$440,COLUMN()-1,FALSE)))","v":"Senior B Open 10"},{"$f":"IF(ISERROR(VLOOKUP($B127,RaceDraw!$C$10:$P$440,COLUMN()-1,FALSE)),\"\",IF(ISBLANK(VLOOKUP($B127,RaceDraw!$C$10:$P$440,COLUMN()-1,FALSE)),\"\",VLOOKUP($B127,RaceDraw!$C$10:$P$440,COLUMN()-1,FALSE)))","v":200},{"$f":"IF(ISERROR(VLOOKUP($B127,RaceDraw!$C$10:$P$440,COLUMN()-1,FALSE)),\"\",IF(ISBLANK(VLOOKUP($B127,RaceDraw!$C$10:$P$440,COLUMN()-1,FALSE)),F127,VLOOKUP($B127,RaceDraw!$C$10:$P$440,COLUMN()-1,FALSE)))","v":3},{"$f":"IF(ISERROR(VLOOKUP($B127,RaceDraw!$C$10:$P$440,COLUMN()-1,FALSE)),\"\",IF(ISBLANK(VLOOKUP($B127,RaceDraw!$C$10:$P$440,COLUMN()-1,FALSE)),\"\",VLOOKUP($B127,RaceDraw!$C$10:$P$440,COLUMN()-1,FALSE)))","v":3},{"$f":"IF(ISERROR(VLOOKUP($B127,RaceDraw!$C$10:$P$440,COLUMN()-1,FALSE)),\" \",IF(ISBLANK(VLOOKUP($B127,RaceDraw!$C$10:$P$440,COLUMN()-1,FALSE)),\" \",VLOOKUP($B127,RaceDraw!$C$10:$P$440,COLUMN()-1,FALSE)))","v":"Black Sea Dragons"},{"$f":"IF(ISERROR(VLOOKUP($B127,RaceDraw!$C$10:$P$440,COLUMN()-1,FALSE)),\" \",IF(ISBLANK(VLOOKUP($B127,RaceDraw!$C$10:$P$440,COLUMN()-1,FALSE)),\" \",VLOOKUP($B127,RaceDraw!$C$10:$P$440,COLUMN()-1,FALSE)))","v":"Gypsy Dragons"},{"$f":"IF(ISERROR(VLOOKUP($B127,RaceDraw!$C$10:$P$440,COLUMN()-1,FALSE)),\" \",IF(ISBLANK(VLOOKUP($B127,RaceDraw!$C$10:$P$440,COLUMN()-1,FALSE)),\" \",VLOOKUP($B127,RaceDraw!$C$10:$P$440,COLUMN()-1,FALSE)))","v":"Mildura"},{"$f":"IF(ISERROR(VLOOKUP($B127,RaceDraw!$C$10:$P$440,COLUMN()-1,FALSE)),\" \",IF(ISBLANK(VLOOKUP($B127,RaceDraw!$C$10:$P$440,COLUMN()-1,FALSE)),\" \",VLOOKUP($B127,RaceDraw!$C$10:$P$440,COLUMN()-1,FALSE)))","v":"Kombo Dragons Purple"},{"$f":"IF(ISERROR(VLOOKUP($B127,RaceDraw!$C$10:$P$440,COLUMN()-1,FALSE)),\" \",IF(ISBLANK(VLOOKUP($B127,RaceDraw!$C$10:$P$440,COLUMN()-1,FALSE)),\" \",VLOOKUP($B127,RaceDraw!$C$10:$P$440,COLUMN()-1,FALSE)))","v":"Mannum"},{"$f":"IF(ISERROR(VLOOKUP($B127,RaceDraw!$C$10:$P$440,COLUMN()-1,FALSE)),\" \",IF(ISBLANK(VLOOKUP($B127,RaceDraw!$C$10:$P$440,COLUMN()-1,FALSE)),\" \",VLOOKUP($B127,RaceDraw!$C$10:$P$440,COLUMN()-1,FALSE)))","v":" "},{"$f":"IF(ISERROR(VLOOKUP($B127,RaceDraw!$C$10:$P$440,COLUMN()-1,FALSE)),\" \",IF(ISBLANK(VLOOKUP($B127,RaceDraw!$C$10:$P$440,COLUMN()-1,FALSE)),\" \",VLOOKUP($B127,RaceDraw!$C$10:$P$440,COLUMN()-1,FALSE)))","v":" "},{"$f":"IF(ISERROR(VLOOKUP($B127,RaceDraw!$C$10:$P$440,COLUMN()-1,FALSE)),\" \",IF(ISBLANK(VLOOKUP($B127,RaceDraw!$C$10:$P$440,COLUMN()-1,FALSE)),\" \",VLOOKUP($B127,RaceDraw!$C$10:$P$440,COLUMN()-1,FALSE)))","v":" "},{"$f":"IF(ISERROR(VLOOKUP($B127,RaceDraw!$C$10:$P$440,COLUMN()-1,FALSE)),\" \",IF(ISBLANK(VLOOKUP($B127,RaceDraw!$C$10:$P$440,COLUMN()-1,FALSE)),\" \",VLOOKUP($B127,RaceDraw!$C$10:$P$440,COLUMN()-1,FALSE)))","v":" "},"Sat"]
[{"$f":"IF(ISERROR(INDEX(RaceDraw!$B$10:$B$440,MATCH(B128,RaceDraw!$C$10:$C$440,0))),\"\",INDEX(RaceDraw!$B$10:$B$440,MATCH(B128,RaceDraw!$C$10:$C$440,0)))","v":"14.30"},123,{"$f":"IF(ISERROR(VLOOKUP($B128,RaceDraw!$C$10:$P$440,COLUMN()-1,FALSE)),\"\",IF(ISBLANK(VLOOKUP($B128,RaceDraw!$C$10:$P$440,COLUMN()-1,FALSE)),\"\",VLOOKUP($B128,RaceDraw!$C$10:$P$440,COLUMN()-1,FALSE)))","v":"BCS 20"},{"$f":"IF(ISERROR(VLOOKUP($B128,RaceDraw!$C$10:$P$440,COLUMN()-1,FALSE)),\"\",IF(ISBLANK(VLOOKUP($B128,RaceDraw!$C$10:$P$440,COLUMN()-1,FALSE)),\"\",VLOOKUP($B128,RaceDraw!$C$10:$P$440,COLUMN()-1,FALSE)))","v":200},{"$f":"IF(ISERROR(VLOOKUP($B128,RaceDraw!$C$10:$P$440,COLUMN()-1,FALSE)),\"\",IF(ISBLANK(VLOOKUP($B128,RaceDraw!$C$10:$P$440,COLUMN()-1,FALSE)),F128,VLOOKUP($B128,RaceDraw!$C$10:$P$440,COLUMN()-1,FALSE)))","v":3},{"$f":"IF(ISERROR(VLOOKUP($B128,RaceDraw!$C$10:$P$440,COLUMN()-1,FALSE)),\"\",IF(ISBLANK(VLOOKUP($B128,RaceDraw!$C$10:$P$440,COLUMN()-1,FALSE)),\"\",VLOOKUP($B128,RaceDraw!$C$10:$P$440,COLUMN()-1,FALSE)))","v":1},{"$f":"IF(ISERROR(VLOOKUP($B128,RaceDraw!$C$10:$P$440,COLUMN()-1,FALSE)),\" \",IF(ISBLANK(VLOOKUP($B128,RaceDraw!$C$10:$P$440,COLUMN()-1,FALSE)),\" \",VLOOKUP($B128,RaceDraw!$C$10:$P$440,COLUMN()-1,FALSE)))","v":" "},{"$f":"IF(ISERROR(VLOOKUP($B128,RaceDraw!$C$10:$P$440,COLUMN()-1,FALSE)),\" \",IF(ISBLANK(VLOOKUP($B128,RaceDraw!$C$10:$P$440,COLUMN()-1,FALSE)),\" \",VLOOKUP($B128,RaceDraw!$C$10:$P$440,COLUMN()-1,FALSE)))","v":"Juggernauts"},{"$f":"IF(ISERROR(VLOOKUP($B128,RaceDraw!$C$10:$P$440,COLUMN()-1,FALSE)),\" \",IF(ISBLANK(VLOOKUP($B128,RaceDraw!$C$10:$P$440,COLUMN()-1,FALSE)),\" \",VLOOKUP($B128,RaceDraw!$C$10:$P$440,COLUMN()-1,FALSE)))","v":"DA Bendigo"},{"$f":"IF(ISERROR(VLOOKUP($B128,RaceDraw!$C$10:$P$440,COLUMN()-1,FALSE)),\" \",IF(ISBLANK(VLOOKUP($B128,RaceDraw!$C$10:$P$440,COLUMN()-1,FALSE)),\" \",VLOOKUP($B128,RaceDraw!$C$10:$P$440,COLUMN()-1,FALSE)))","v":"Dragons Afloat Port Lincoln"},{"$f":"IF(ISERROR(VLOOKUP($B128,RaceDraw!$C$10:$P$440,COLUMN()-1,FALSE)),\" \",IF(ISBLANK(VLOOKUP($B128,RaceDraw!$C$10:$P$440,COLUMN()-1,FALSE)),\" \",VLOOKUP($B128,RaceDraw!$C$10:$P$440,COLUMN()-1,FALSE)))","v":" "},{"$f":"IF(ISERROR(VLOOKUP($B128,RaceDraw!$C$10:$P$440,COLUMN()-1,FALSE)),\" \",IF(ISBLANK(VLOOKUP($B128,RaceDraw!$C$10:$P$440,COLUMN()-1,FALSE)),\" \",VLOOKUP($B128,RaceDraw!$C$10:$P$440,COLUMN()-1,FALSE)))","v":" "},{"$f":"IF(ISERROR(VLOOKUP($B128,RaceDraw!$C$10:$P$440,COLUMN()-1,FALSE)),\" \",IF(ISBLANK(VLOOKUP($B128,RaceDraw!$C$10:$P$440,COLUMN()-1,FALSE)),\" \",VLOOKUP($B128,RaceDraw!$C$10:$P$440,COLUMN()-1,FALSE)))","v":" "},{"$f":"IF(ISERROR(VLOOKUP($B128,RaceDraw!$C$10:$P$440,COLUMN()-1,FALSE)),\" \",IF(ISBLANK(VLOOKUP($B128,RaceDraw!$C$10:$P$440,COLUMN()-1,FALSE)),\" \",VLOOKUP($B128,RaceDraw!$C$10:$P$440,COLUMN()-1,FALSE)))","v":" "},{"$f":"IF(ISERROR(VLOOKUP($B128,RaceDraw!$C$10:$P$440,COLUMN()-1,FALSE)),\" \",IF(ISBLANK(VLOOKUP($B128,RaceDraw!$C$10:$P$440,COLUMN()-1,FALSE)),\" \",VLOOKUP($B128,RaceDraw!$C$10:$P$440,COLUMN()-1,FALSE)))","v":" "},"Sat"]
[{"$f":"IF(ISERROR(INDEX(RaceDraw!$B$10:$B$440,MATCH(B129,RaceDraw!$C$10:$C$440,0))),\"\",INDEX(RaceDraw!$B$10:$B$440,MATCH(B129,RaceDraw!$C$10:$C$440,0)))","v":"14.36"},124,{"$f":"IF(ISERROR(VLOOKUP($B129,RaceDraw!$C$10:$P$440,COLUMN()-1,FALSE)),\"\",IF(ISBLANK(VLOOKUP($B129,RaceDraw!$C$10:$P$440,COLUMN()-1,FALSE)),\"\",VLOOKUP($B129,RaceDraw!$C$10:$P$440,COLUMN()-1,FALSE)))","v":"Senior B Women 20"},{"$f":"IF(ISERROR(VLOOKUP($B129,RaceDraw!$C$10:$P$440,COLUMN()-1,FALSE)),\"\",IF(ISBLANK(VLOOKUP($B129,RaceDraw!$C$10:$P$440,COLUMN()-1,FALSE)),\"\",VLOOKUP($B129,RaceDraw!$C$10:$P$440,COLUMN()-1,FALSE)))","v":200},{"$f":"IF(ISERROR(VLOOKUP($B129,RaceDraw!$C$10:$P$440,COLUMN()-1,FALSE)),\"\",IF(ISBLANK(VLOOKUP($B129,RaceDraw!$C$10:$P$440,COLUMN()-1,FALSE)),F129,VLOOKUP($B129,RaceDraw!$C$10:$P$440,COLUMN()-1,FALSE)))","v":3},{"$f":"IF(ISERROR(VLOOKUP($B129,RaceDraw!$C$10:$P$440,COLUMN()-1,FALSE)),\"\",IF(ISBLANK(VLOOKUP($B129,RaceDraw!$C$10:$P$440,COLUMN()-1,FALSE)),\"\",VLOOKUP($B129,RaceDraw!$C$10:$P$440,COLUMN()-1,FALSE)))","v":1},{"$f":"IF(ISERROR(VLOOKUP($B129,RaceDraw!$C$10:$P$440,COLUMN()-1,FALSE)),\" \",IF(ISBLANK(VLOOKUP($B129,RaceDraw!$C$10:$P$440,COLUMN()-1,FALSE)),\" \",VLOOKUP($B129,RaceDraw!$C$10:$P$440,COLUMN()-1,FALSE)))","v":"Newcastle Dragon Hunters Red"},{"$f":"IF(ISERROR(VLOOKUP($B129,RaceDraw!$C$10:$P$440,COLUMN()-1,FALSE)),\" \",IF(ISBLANK(VLOOKUP($B129,RaceDraw!$C$10:$P$440,COLUMN()-1,FALSE)),\" \",VLOOKUP($B129,RaceDraw!$C$10:$P$440,COLUMN()-1,FALSE)))","v":"Deepwater Green"},{"$f":"IF(ISERROR(VLOOKUP($B129,RaceDraw!$C$10:$P$440,COLUMN()-1,FALSE)),\" \",IF(ISBLANK(VLOOKUP($B129,RaceDraw!$C$10:$P$440,COLUMN()-1,FALSE)),\" \",VLOOKUP($B129,RaceDraw!$C$10:$P$440,COLUMN()-1,FALSE)))","v":"Gippsland United"},{"$f":"IF(ISERROR(VLOOKUP($B129,RaceDraw!$C$10:$P$440,COLUMN()-1,FALSE)),\" \",IF(ISBLANK(VLOOKUP($B129,RaceDraw!$C$10:$P$440,COLUMN()-1,FALSE)),\" \",VLOOKUP($B129,RaceDraw!$C$10:$P$440,COLUMN()-1,FALSE)))","v":"SADA Sonix"},{"$f":"IF(ISERROR(VLOOKUP($B129,RaceDraw!$C$10:$P$440,COLUMN()-1,FALSE)),\" \",IF(ISBLANK(VLOOKUP($B129,RaceDraw!$C$10:$P$440,COLUMN()-1,FALSE)),\" \",VLOOKUP($B129,RaceDraw!$C$10:$P$440,COLUMN()-1,FALSE)))","v":"Hunter River Dragons"},{"$f":"IF(ISERROR(VLOOKUP($B129,RaceDraw!$C$10:$P$440,COLUMN()-1,FALSE)),\" \",IF(ISBLANK(VLOOKUP($B129,RaceDraw!$C$10:$P$440,COLUMN()-1,FALSE)),\" \",VLOOKUP($B129,RaceDraw!$C$10:$P$440,COLUMN()-1,FALSE)))","v":"Motley Crew"},{"$f":"IF(ISERROR(VLOOKUP($B129,RaceDraw!$C$10:$P$440,COLUMN()-1,FALSE)),\" \",IF(ISBLANK(VLOOKUP($B129,RaceDraw!$C$10:$P$440,COLUMN()-1,FALSE)),\" \",VLOOKUP($B129,RaceDraw!$C$10:$P$440,COLUMN()-1,FALSE)))","v":"Southern Warriors"},{"$f":"IF(ISERROR(VLOOKUP($B129,RaceDraw!$C$10:$P$440,COLUMN()-1,FALSE)),\" \",IF(ISBLANK(VLOOKUP($B129,RaceDraw!$C$10:$P$440,COLUMN()-1,FALSE)),\" \",VLOOKUP($B129,RaceDraw!$C$10:$P$440,COLUMN()-1,FALSE)))","v":" "},{"$f":"IF(ISERROR(VLOOKUP($B129,RaceDraw!$C$10:$P$440,COLUMN()-1,FALSE)),\" \",IF(ISBLANK(VLOOKUP($B129,RaceDraw!$C$10:$P$440,COLUMN()-1,FALSE)),\" \",VLOOKUP($B129,RaceDraw!$C$10:$P$440,COLUMN()-1,FALSE)))","v":" "},"Sat"]
[{"$f":"IF(ISERROR(INDEX(RaceDraw!$B$10:$B$440,MATCH(B130,RaceDraw!$C$10:$C$440,0))),\"\",INDEX(RaceDraw!$B$10:$B$440,MATCH(B130,RaceDraw!$C$10:$C$440,0)))","v":"14.42"},125,{"$f":"IF(ISERROR(VLOOKUP($B130,RaceDraw!$C$10:$P$440,COLUMN()-1,FALSE)),\"\",IF(ISBLANK(VLOOKUP($B130,RaceDraw!$C$10:$P$440,COLUMN()-1,FALSE)),\"\",VLOOKUP($B130,RaceDraw!$C$10:$P$440,COLUMN()-1,FALSE)))","v":"Senior B Women 20"},{"$f":"IF(ISERROR(VLOOKUP($B130,RaceDraw!$C$10:$P$440,COLUMN()-1,FALSE)),\"\",IF(ISBLANK(VLOOKUP($B130,RaceDraw!$C$10:$P$440,COLUMN()-1,FALSE)),\"\",VLOOKUP($B130,RaceDraw!$C$10:$P$440,COLUMN()-1,FALSE)))","v":200},{"$f":"IF(ISERROR(VLOOKUP($B130,RaceDraw!$C$10:$P$440,COLUMN()-1,FALSE)),\"\",IF(ISBLANK(VLOOKUP($B130,RaceDraw!$C$10:$P$440,COLUMN()-1,FALSE)),F130,VLOOKUP($B130,RaceDraw!$C$10:$P$440,COLUMN()-1,FALSE)))","v":3},{"$f":"IF(ISERROR(VLOOKUP($B130,RaceDraw!$C$10:$P$440,COLUMN()-1,FALSE)),\"\",IF(ISBLANK(VLOOKUP($B130,RaceDraw!$C$10:$P$440,COLUMN()-1,FALSE)),\"\",VLOOKUP($B130,RaceDraw!$C$10:$P$440,COLUMN()-1,FALSE)))","v":2},{"$f":"IF(ISERROR(VLOOKUP($B130,RaceDraw!$C$10:$P$440,COLUMN()-1,FALSE)),\" \",IF(ISBLANK(VLOOKUP($B130,RaceDraw!$C$10:$P$440,COLUMN()-1,FALSE)),\" \",VLOOKUP($B130,RaceDraw!$C$10:$P$440,COLUMN()-1,FALSE)))","v":"Rainbow Dragons"},{"$f":"IF(ISERROR(VLOOKUP($B130,RaceDraw!$C$10:$P$440,COLUMN()-1,FALSE)),\" \",IF(ISBLANK(VLOOKUP($B130,RaceDraw!$C$10:$P$440,COLUMN()-1,FALSE)),\" \",VLOOKUP($B130,RaceDraw!$C$10:$P$440,COLUMN()-1,FALSE)))","v":"FNC"},{"$f":"IF(ISERROR(VLOOKUP($B130,RaceDraw!$C$10:$P$440,COLUMN()-1,FALSE)),\" \",IF(ISBLANK(VLOOKUP($B130,RaceDraw!$C$10:$P$440,COLUMN()-1,FALSE)),\" \",VLOOKUP($B130,RaceDraw!$C$10:$P$440,COLUMN()-1,FALSE)))","v":"Dragons Afloat Bendigo"},{"$f":"IF(ISERROR(VLOOKUP($B130,RaceDraw!$C$10:$P$440,COLUMN()-1,FALSE)),\" \",IF(ISBLANK(VLOOKUP($B130,RaceDraw!$C$10:$P$440,COLUMN()-1,FALSE)),\" \",VLOOKUP($B130,RaceDraw!$C$10:$P$440,COLUMN()-1,FALSE)))","v":"Kombo Dragons Black"},{"$f":"IF(ISERROR(VLOOKUP($B130,RaceDraw!$C$10:$P$440,COLUMN()-1,FALSE)),\" \",IF(ISBLANK(VLOOKUP($B130,RaceDraw!$C$10:$P$440,COLUMN()-1,FALSE)),\" \",VLOOKUP($B130,RaceDraw!$C$10:$P$440,COLUMN()-1,FALSE)))","v":"Mildura"},{"$f":"IF(ISERROR(VLOOKUP($B130,RaceDraw!$C$10:$P$440,COLUMN()-1,FALSE)),\" \",IF(ISBLANK(VLOOKUP($B130,RaceDraw!$C$10:$P$440,COLUMN()-1,FALSE)),\" \",VLOOKUP($B130,RaceDraw!$C$10:$P$440,COLUMN()-1,FALSE)))","v":"Deepwater Purple"},{"$f":"IF(ISERROR(VLOOKUP($B130,RaceDraw!$C$10:$P$440,COLUMN()-1,FALSE)),\" \",IF(ISBLANK(VLOOKUP($B130,RaceDraw!$C$10:$P$440,COLUMN()-1,FALSE)),\" \",VLOOKUP($B130,RaceDraw!$C$10:$P$440,COLUMN()-1,FALSE)))","v":"Newcastle Dragon Hunters Purple"},{"$f":"IF(ISERROR(VLOOKUP($B130,RaceDraw!$C$10:$P$440,COLUMN()-1,FALSE)),\" \",IF(ISBLANK(VLOOKUP($B130,RaceDraw!$C$10:$P$440,COLUMN()-1,FALSE)),\" \",VLOOKUP($B130,RaceDraw!$C$10:$P$440,COLUMN()-1,FALSE)))","v":" "},{"$f":"IF(ISERROR(VLOOKUP($B130,RaceDraw!$C$10:$P$440,COLUMN()-1,FALSE)),\" \",IF(ISBLANK(VLOOKUP($B130,RaceDraw!$C$10:$P$440,COLUMN()-1,FALSE)),\" \",VLOOKUP($B130,RaceDraw!$C$10:$P$440,COLUMN()-1,FALSE)))","v":" "},"Sat"]
[{"$f":"IF(ISERROR(INDEX(RaceDraw!$B$10:$B$440,MATCH(B131,RaceDraw!$C$10:$C$440,0))),\"\",INDEX(RaceDraw!$B$10:$B$440,MATCH(B131,RaceDraw!$C$10:$C$440,0)))","v":"14.48"},126,{"$f":"IF(ISERROR(VLOOKUP($B131,RaceDraw!$C$10:$P$440,COLUMN()-1,FALSE)),\"\",IF(ISBLANK(VLOOKUP($B131,RaceDraw!$C$10:$P$440,COLUMN()-1,FALSE)),\"\",VLOOKUP($B131,RaceDraw!$C$10:$P$440,COLUMN()-1,FALSE)))","v":"Senior B Open 20"},{"$f":"IF(ISERROR(VLOOKUP($B131,RaceDraw!$C$10:$P$440,COLUMN()-1,FALSE)),\"\",IF(ISBLANK(VLOOKUP($B131,RaceDraw!$C$10:$P$440,COLUMN()-1,FALSE)),\"\",VLOOKUP($B131,RaceDraw!$C$10:$P$440,COLUMN()-1,FALSE)))","v":200},{"$f":"IF(ISERROR(VLOOKUP($B131,RaceDraw!$C$10:$P$440,COLUMN()-1,FALSE)),\"\",IF(ISBLANK(VLOOKUP($B131,RaceDraw!$C$10:$P$440,COLUMN()-1,FALSE)),F131,VLOOKUP($B131,RaceDraw!$C$10:$P$440,COLUMN()-1,FALSE)))","v":3},{"$f":"IF(ISERROR(VLOOKUP($B131,RaceDraw!$C$10:$P$440,COLUMN()-1,FALSE)),\"\",IF(ISBLANK(VLOOKUP($B131,RaceDraw!$C$10:$P$440,COLUMN()-1,FALSE)),\"\",VLOOKUP($B131,RaceDraw!$C$10:$P$440,COLUMN()-1,FALSE)))","v":1},{"$f":"IF(ISERROR(VLOOKUP($B131,RaceDraw!$C$10:$P$440,COLUMN()-1,FALSE)),\" \",IF(ISBLANK(VLOOKUP($B131,RaceDraw!$C$10:$P$440,COLUMN()-1,FALSE)),\" \",VLOOKUP($B131,RaceDraw!$C$10:$P$440,COLUMN()-1,FALSE)))","v":"Hunter River Dragons"},{"$f":"IF(ISERROR(VLOOKUP($B131,RaceDraw!$C$10:$P$440,COLUMN()-1,FALSE)),\" \",IF(ISBLANK(VLOOKUP($B131,RaceDraw!$C$10:$P$440,COLUMN()-1,FALSE)),\" \",VLOOKUP($B131,RaceDraw!$C$10:$P$440,COLUMN()-1,FALSE)))","v":"Gypsy Dragons"},{"$f":"IF(ISERROR(VLOOKUP($B131,RaceDraw!$C$10:$P$440,COLUMN()-1,FALSE)),\" \",IF(ISBLANK(VLOOKUP($B131,RaceDraw!$C$10:$P$440,COLUMN()-1,FALSE)),\" \",VLOOKUP($B131,RaceDraw!$C$10:$P$440,COLUMN()-1,FALSE)))","v":"Newcastle Dragon Hunters Red"},{"$f":"IF(ISERROR(VLOOKUP($B131,RaceDraw!$C$10:$P$440,COLUMN()-1,FALSE)),\" \",IF(ISBLANK(VLOOKUP($B131,RaceDraw!$C$10:$P$440,COLUMN()-1,FALSE)),\" \",VLOOKUP($B131,RaceDraw!$C$10:$P$440,COLUMN()-1,FALSE)))","v":"Southern Warriors"},{"$f":"IF(ISERROR(VLOOKUP($B131,RaceDraw!$C$10:$P$440,COLUMN()-1,FALSE)),\" \",IF(ISBLANK(VLOOKUP($B131,RaceDraw!$C$10:$P$440,COLUMN()-1,FALSE)),\" \",VLOOKUP($B131,RaceDraw!$C$10:$P$440,COLUMN()-1,FALSE)))","v":"Gippsland United"},{"$f":"IF(ISERROR(VLOOKUP($B131,RaceDraw!$C$10:$P$440,COLUMN()-1,FALSE)),\" \",IF(ISBLANK(VLOOKUP($B131,RaceDraw!$C$10:$P$440,COLUMN()-1,FALSE)),\" \",VLOOKUP($B131,RaceDraw!$C$10:$P$440,COLUMN()-1,FALSE)))","v":" "},{"$f":"IF(ISERROR(VLOOKUP($B131,RaceDraw!$C$10:$P$440,COLUMN()-1,FALSE)),\" \",IF(ISBLANK(VLOOKUP($B131,RaceDraw!$C$10:$P$440,COLUMN()-1,FALSE)),\" \",VLOOKUP($B131,RaceDraw!$C$10:$P$440,COLUMN()-1,FALSE)))","v":" "},{"$f":"IF(ISERROR(VLOOKUP($B131,RaceDraw!$C$10:$P$440,COLUMN()-1,FALSE)),\" \",IF(ISBLANK(VLOOKUP($B131,RaceDraw!$C$10:$P$440,COLUMN()-1,FALSE)),\" \",VLOOKUP($B131,RaceDraw!$C$10:$P$440,COLUMN()-1,FALSE)))","v":" "},{"$f":"IF(ISERROR(VLOOKUP($B131,RaceDraw!$C$10:$P$440,COLUMN()-1,FALSE)),\" \",IF(ISBLANK(VLOOKUP($B131,RaceDraw!$C$10:$P$440,COLUMN()-1,FALSE)),\" \",VLOOKUP($B131,RaceDraw!$C$10:$P$440,COLUMN()-1,FALSE)))","v":" "},"Sat"]
[{"$f":"IF(ISERROR(INDEX(RaceDraw!$B$10:$B$440,MATCH(B132,RaceDraw!$C$10:$C$440,0))),\"\",INDEX(RaceDraw!$B$10:$B$440,MATCH(B132,RaceDraw!$C$10:$C$440,0)))","v":"14.54"},127,{"$f":"IF(ISERROR(VLOOKUP($B132,RaceDraw!$C$10:$P$440,COLUMN()-1,FALSE)),\"\",IF(ISBLANK(VLOOKUP($B132,RaceDraw!$C$10:$P$440,COLUMN()-1,FALSE)),\"\",VLOOKUP($B132,RaceDraw!$C$10:$P$440,COLUMN()-1,FALSE)))","v":"Senior B Open 20"},{"$f":"IF(ISERROR(VLOOKUP($B132,RaceDraw!$C$10:$P$440,COLUMN()-1,FALSE)),\"\",IF(ISBLANK(VLOOKUP($B132,RaceDraw!$C$10:$P$440,COLUMN()-1,FALSE)),\"\",VLOOKUP($B132,RaceDraw!$C$10:$P$440,COLUMN()-1,FALSE)))","v":200},{"$f":"IF(ISERROR(VLOOKUP($B132,RaceDraw!$C$10:$P$440,COLUMN()-1,FALSE)),\"\",IF(ISBLANK(VLOOKUP($B132,RaceDraw!$C$10:$P$440,COLUMN()-1,FALSE)),F132,VLOOKUP($B132,RaceDraw!$C$10:$P$440,COLUMN()-1,FALSE)))","v":3},{"$f":"IF(ISERROR(VLOOKUP($B132,RaceDraw!$C$10:$P$440,COLUMN()-1,FALSE)),\"\",IF(ISBLANK(VLOOKUP($B132,RaceDraw!$C$10:$P$440,COLUMN()-1,FALSE)),\"\",VLOOKUP($B132,RaceDraw!$C$10:$P$440,COLUMN()-1,FALSE)))","v":2},{"$f":"IF(ISERROR(VLOOKUP($B132,RaceDraw!$C$10:$P$440,COLUMN()-1,FALSE)),\" \",IF(ISBLANK(VLOOKUP($B132,RaceDraw!$C$10:$P$440,COLUMN()-1,FALSE)),\" \",VLOOKUP($B132,RaceDraw!$C$10:$P$440,COLUMN()-1,FALSE)))","v":"Outback Dragons"},{"$f":"IF(ISERROR(VLOOKUP($B132,RaceDraw!$C$10:$P$440,COLUMN()-1,FALSE)),\" \",IF(ISBLANK(VLOOKUP($B132,RaceDraw!$C$10:$P$440,COLUMN()-1,FALSE)),\" \",VLOOKUP($B132,RaceDraw!$C$10:$P$440,COLUMN()-1,FALSE)))","v":"Newcastle Dragon Hunters Purple"},{"$f":"IF(ISERROR(VLOOKUP($B132,RaceDraw!$C$10:$P$440,COLUMN()-1,FALSE)),\" \",IF(ISBLANK(VLOOKUP($B132,RaceDraw!$C$10:$P$440,COLUMN()-1,FALSE)),\" \",VLOOKUP($B132,RaceDraw!$C$10:$P$440,COLUMN()-1,FALSE)))","v":"Motley Crew"},{"$f":"IF(ISERROR(VLOOKUP($B132,RaceDraw!$C$10:$P$440,COLUMN()-1,FALSE)),\" \",IF(ISBLANK(VLOOKUP($B132,RaceDraw!$C$10:$P$440,COLUMN()-1,FALSE)),\" \",VLOOKUP($B132,RaceDraw!$C$10:$P$440,COLUMN()-1,FALSE)))","v":"Kombo Dragons"},{"$f":"IF(ISERROR(VLOOKUP($B132,RaceDraw!$C$10:$P$440,COLUMN()-1,FALSE)),\" \",IF(ISBLANK(VLOOKUP($B132,RaceDraw!$C$10:$P$440,COLUMN()-1,FALSE)),\" \",VLOOKUP($B132,RaceDraw!$C$10:$P$440,COLUMN()-1,FALSE)))","v":"Deepwater"},{"$f":"IF(ISERROR(VLOOKUP($B132,RaceDraw!$C$10:$P$440,COLUMN()-1,FALSE)),\" \",IF(ISBLANK(VLOOKUP($B132,RaceDraw!$C$10:$P$440,COLUMN()-1,FALSE)),\" \",VLOOKUP($B132,RaceDraw!$C$10:$P$440,COLUMN()-1,FALSE)))","v":" "},{"$f":"IF(ISERROR(VLOOKUP($B132,RaceDraw!$C$10:$P$440,COLUMN()-1,FALSE)),\" \",IF(ISBLANK(VLOOKUP($B132,RaceDraw!$C$10:$P$440,COLUMN()-1,FALSE)),\" \",VLOOKUP($B132,RaceDraw!$C$10:$P$440,COLUMN()-1,FALSE)))","v":" "},{"$f":"IF(ISERROR(VLOOKUP($B132,RaceDraw!$C$10:$P$440,COLUMN()-1,FALSE)),\" \",IF(ISBLANK(VLOOKUP($B132,RaceDraw!$C$10:$P$440,COLUMN()-1,FALSE)),\" \",VLOOKUP($B132,RaceDraw!$C$10:$P$440,COLUMN()-1,FALSE)))","v":" "},{"$f":"IF(ISERROR(VLOOKUP($B132,RaceDraw!$C$10:$P$440,COLUMN()-1,FALSE)),\" \",IF(ISBLANK(VLOOKUP($B132,RaceDraw!$C$10:$P$440,COLUMN()-1,FALSE)),\" \",VLOOKUP($B132,RaceDraw!$C$10:$P$440,COLUMN()-1,FALSE)))","v":" "},"Sat"]
[{"$f":"IF(ISERROR(INDEX(RaceDraw!$B$10:$B$440,MATCH(B133,RaceDraw!$C$10:$C$440,0))),\"\",INDEX(RaceDraw!$B$10:$B$440,MATCH(B133,RaceDraw!$C$10:$C$440,0)))","v":"15.00"},128,{"$f":"IF(ISERROR(VLOOKUP($B133,RaceDraw!$C$10:$P$440,COLUMN()-1,FALSE)),\"\",IF(ISBLANK(VLOOKUP($B133,RaceDraw!$C$10:$P$440,COLUMN()-1,FALSE)),\"\",VLOOKUP($B133,RaceDraw!$C$10:$P$440,COLUMN()-1,FALSE)))","v":"Senior A Women 10"},{"$f":"IF(ISERROR(VLOOKUP($B133,RaceDraw!$C$10:$P$440,COLUMN()-1,FALSE)),\"\",IF(ISBLANK(VLOOKUP($B133,RaceDraw!$C$10:$P$440,COLUMN()-1,FALSE)),\"\",VLOOKUP($B133,RaceDraw!$C$10:$P$440,COLUMN()-1,FALSE)))","v":200},{"$f":"IF(ISERROR(VLOOKUP($B133,RaceDraw!$C$10:$P$440,COLUMN()-1,FALSE)),\"\",IF(ISBLANK(VLOOKUP($B133,RaceDraw!$C$10:$P$440,COLUMN()-1,FALSE)),F133,VLOOKUP($B133,RaceDraw!$C$10:$P$440,COLUMN()-1,FALSE)))","v":3},{"$f":"IF(ISERROR(VLOOKUP($B133,RaceDraw!$C$10:$P$440,COLUMN()-1,FALSE)),\"\",IF(ISBLANK(VLOOKUP($B133,RaceDraw!$C$10:$P$440,COLUMN()-1,FALSE)),\"\",VLOOKUP($B133,RaceDraw!$C$10:$P$440,COLUMN()-1,FALSE)))","v":1},{"$f":"IF(ISERROR(VLOOKUP($B133,RaceDraw!$C$10:$P$440,COLUMN()-1,FALSE)),\" \",IF(ISBLANK(VLOOKUP($B133,RaceDraw!$C$10:$P$440,COLUMN()-1,FALSE)),\" \",VLOOKUP($B133,RaceDraw!$C$10:$P$440,COLUMN()-1,FALSE)))","v":"Gippsland United"},{"$f":"IF(ISERROR(VLOOKUP($B133,RaceDraw!$C$10:$P$440,COLUMN()-1,FALSE)),\" \",IF(ISBLANK(VLOOKUP($B133,RaceDraw!$C$10:$P$440,COLUMN()-1,FALSE)),\" \",VLOOKUP($B133,RaceDraw!$C$10:$P$440,COLUMN()-1,FALSE)))","v":"Rainbow Dragons"},{"$f":"IF(ISERROR(VLOOKUP($B133,RaceDraw!$C$10:$P$440,COLUMN()-1,FALSE)),\" \",IF(ISBLANK(VLOOKUP($B133,RaceDraw!$C$10:$P$440,COLUMN()-1,FALSE)),\" \",VLOOKUP($B133,RaceDraw!$C$10:$P$440,COLUMN()-1,FALSE)))","v":"Mildura"},{"$f":"IF(ISERROR(VLOOKUP($B133,RaceDraw!$C$10:$P$440,COLUMN()-1,FALSE)),\" \",IF(ISBLANK(VLOOKUP($B133,RaceDraw!$C$10:$P$440,COLUMN()-1,FALSE)),\" \",VLOOKUP($B133,RaceDraw!$C$10:$P$440,COLUMN()-1,FALSE)))","v":"Goolwa River Dragons"},{"$f":"IF(ISERROR(VLOOKUP($B133,RaceDraw!$C$10:$P$440,COLUMN()-1,FALSE)),\" \",IF(ISBLANK(VLOOKUP($B133,RaceDraw!$C$10:$P$440,COLUMN()-1,FALSE)),\" \",VLOOKUP($B133,RaceDraw!$C$10:$P$440,COLUMN()-1,FALSE)))","v":"Golden Dragons"},{"$f":"IF(ISERROR(VLOOKUP($B133,RaceDraw!$C$10:$P$440,COLUMN()-1,FALSE)),\" \",IF(ISBLANK(VLOOKUP($B133,RaceDraw!$C$10:$P$440,COLUMN()-1,FALSE)),\" \",VLOOKUP($B133,RaceDraw!$C$10:$P$440,COLUMN()-1,FALSE)))","v":"Diamond Phoenix"},{"$f":"IF(ISERROR(VLOOKUP($B133,RaceDraw!$C$10:$P$440,COLUMN()-1,FALSE)),\" \",IF(ISBLANK(VLOOKUP($B133,RaceDraw!$C$10:$P$440,COLUMN()-1,FALSE)),\" \",VLOOKUP($B133,RaceDraw!$C$10:$P$440,COLUMN()-1,FALSE)))","v":" "},{"$f":"IF(ISERROR(VLOOKUP($B133,RaceDraw!$C$10:$P$440,COLUMN()-1,FALSE)),\" \",IF(ISBLANK(VLOOKUP($B133,RaceDraw!$C$10:$P$440,COLUMN()-1,FALSE)),\" \",VLOOKUP($B133,RaceDraw!$C$10:$P$440,COLUMN()-1,FALSE)))","v":" "},{"$f":"IF(ISERROR(VLOOKUP($B133,RaceDraw!$C$10:$P$440,COLUMN()-1,FALSE)),\" \",IF(ISBLANK(VLOOKUP($B133,RaceDraw!$C$10:$P$440,COLUMN()-1,FALSE)),\" \",VLOOKUP($B133,RaceDraw!$C$10:$P$440,COLUMN()-1,FALSE)))","v":" "},"Sat"]
[{"$f":"IF(ISERROR(INDEX(RaceDraw!$B$10:$B$440,MATCH(B134,RaceDraw!$C$10:$C$440,0))),\"\",INDEX(RaceDraw!$B$10:$B$440,MATCH(B134,RaceDraw!$C$10:$C$440,0)))","v":"15.06"},129,{"$f":"IF(ISERROR(VLOOKUP($B134,RaceDraw!$C$10:$P$440,COLUMN()-1,FALSE)),\"\",IF(ISBLANK(VLOOKUP($B134,RaceDraw!$C$10:$P$440,COLUMN()-1,FALSE)),\"\",VLOOKUP($B134,RaceDraw!$C$10:$P$440,COLUMN()-1,FALSE)))","v":"Senior A Women 10"},{"$f":"IF(ISERROR(VLOOKUP($B134,RaceDraw!$C$10:$P$440,COLUMN()-1,FALSE)),\"\",IF(ISBLANK(VLOOKUP($B134,RaceDraw!$C$10:$P$440,COLUMN()-1,FALSE)),\"\",VLOOKUP($B134,RaceDraw!$C$10:$P$440,COLUMN()-1,FALSE)))","v":200},{"$f":"IF(ISERROR(VLOOKUP($B134,RaceDraw!$C$10:$P$440,COLUMN()-1,FALSE)),\"\",IF(ISBLANK(VLOOKUP($B134,RaceDraw!$C$10:$P$440,COLUMN()-1,FALSE)),F134,VLOOKUP($B134,RaceDraw!$C$10:$P$440,COLUMN()-1,FALSE)))","v":3},{"$f":"IF(ISERROR(VLOOKUP($B134,RaceDraw!$C$10:$P$440,COLUMN()-1,FALSE)),\"\",IF(ISBLANK(VLOOKUP($B134,RaceDraw!$C$10:$P$440,COLUMN()-1,FALSE)),\"\",VLOOKUP($B134,RaceDraw!$C$10:$P$440,COLUMN()-1,FALSE)))","v":2},{"$f":"IF(ISERROR(VLOOKUP($B134,RaceDraw!$C$10:$P$440,COLUMN()-1,FALSE)),\" \",IF(ISBLANK(VLOOKUP($B134,RaceDraw!$C$10:$P$440,COLUMN()-1,FALSE)),\" \",VLOOKUP($B134,RaceDraw!$C$10:$P$440,COLUMN()-1,FALSE)))","v":"FNC"},{"$f":"IF(ISERROR(VLOOKUP($B134,RaceDraw!$C$10:$P$440,COLUMN()-1,FALSE)),\" \",IF(ISBLANK(VLOOKUP($B134,RaceDraw!$C$10:$P$440,COLUMN()-1,FALSE)),\" \",VLOOKUP($B134,RaceDraw!$C$10:$P$440,COLUMN()-1,FALSE)))","v":"Hunter River Dragons"},{"$f":"IF(ISERROR(VLOOKUP($B134,RaceDraw!$C$10:$P$440,COLUMN()-1,FALSE)),\" \",IF(ISBLANK(VLOOKUP($B134,RaceDraw!$C$10:$P$440,COLUMN()-1,FALSE)),\" \",VLOOKUP($B134,RaceDraw!$C$10:$P$440,COLUMN()-1,FALSE)))","v":"Dragons Abreast Adelaide"},{"$f":"IF(ISERROR(VLOOKUP($B134,RaceDraw!$C$10:$P$440,COLUMN()-1,FALSE)),\" \",IF(ISBLANK(VLOOKUP($B134,RaceDraw!$C$10:$P$440,COLUMN()-1,FALSE)),\" \",VLOOKUP($B134,RaceDraw!$C$10:$P$440,COLUMN()-1,FALSE)))","v":"Kombo Dragons Purple"},{"$f":"IF(ISERROR(VLOOKUP($B134,RaceDraw!$C$10:$P$440,COLUMN()-1,FALSE)),\" \",IF(ISBLANK(VLOOKUP($B134,RaceDraw!$C$10:$P$440,COLUMN()-1,FALSE)),\" \",VLOOKUP($B134,RaceDraw!$C$10:$P$440,COLUMN()-1,FALSE)))","v":"Black Sea Dragons"},{"$f":"IF(ISERROR(VLOOKUP($B134,RaceDraw!$C$10:$P$440,COLUMN()-1,FALSE)),\" \",IF(ISBLANK(VLOOKUP($B134,RaceDraw!$C$10:$P$440,COLUMN()-1,FALSE)),\" \",VLOOKUP($B134,RaceDraw!$C$10:$P$440,COLUMN()-1,FALSE)))","v":"Peninsula Dragonflys"},{"$f":"IF(ISERROR(VLOOKUP($B134,RaceDraw!$C$10:$P$440,COLUMN()-1,FALSE)),\" \",IF(ISBLANK(VLOOKUP($B134,RaceDraw!$C$10:$P$440,COLUMN()-1,FALSE)),\" \",VLOOKUP($B134,RaceDraw!$C$10:$P$440,COLUMN()-1,FALSE)))","v":"Deepwater"},{"$f":"IF(ISERROR(VLOOKUP($B134,RaceDraw!$C$10:$P$440,COLUMN()-1,FALSE)),\" \",IF(ISBLANK(VLOOKUP($B134,RaceDraw!$C$10:$P$440,COLUMN()-1,FALSE)),\" \",VLOOKUP($B134,RaceDraw!$C$10:$P$440,COLUMN()-1,FALSE)))","v":" "},{"$f":"IF(ISERROR(VLOOKUP($B134,RaceDraw!$C$10:$P$440,COLUMN()-1,FALSE)),\" \",IF(ISBLANK(VLOOKUP($B134,RaceDraw!$C$10:$P$440,COLUMN()-1,FALSE)),\" \",VLOOKUP($B134,RaceDraw!$C$10:$P$440,COLUMN()-1,FALSE)))","v":" "},"Sat"]
[{"$f":"IF(ISERROR(INDEX(RaceDraw!$B$10:$B$440,MATCH(B135,RaceDraw!$C$10:$C$440,0))),\"\",INDEX(RaceDraw!$B$10:$B$440,MATCH(B135,RaceDraw!$C$10:$C$440,0)))","v":"15.12"},130,{"$f":"IF(ISERROR(VLOOKUP($B135,RaceDraw!$C$10:$P$440,COLUMN()-1,FALSE)),\"\",IF(ISBLANK(VLOOKUP($B135,RaceDraw!$C$10:$P$440,COLUMN()-1,FALSE)),\"\",VLOOKUP($B135,RaceDraw!$C$10:$P$440,COLUMN()-1,FALSE)))","v":"Senior A Women 10"},{"$f":"IF(ISERROR(VLOOKUP($B135,RaceDraw!$C$10:$P$440,COLUMN()-1,FALSE)),\"\",IF(ISBLANK(VLOOKUP($B135,RaceDraw!$C$10:$P$440,COLUMN()-1,FALSE)),\"\",VLOOKUP($B135,RaceDraw!$C$10:$P$440,COLUMN()-1,FALSE)))","v":200},{"$f":"IF(ISERROR(VLOOKUP($B135,RaceDraw!$C$10:$P$440,COLUMN()-1,FALSE)),\"\",IF(ISBLANK(VLOOKUP($B135,RaceDraw!$C$10:$P$440,COLUMN()-1,FALSE)),F135,VLOOKUP($B135,RaceDraw!$C$10:$P$440,COLUMN()-1,FALSE)))","v":3},{"$f":"IF(ISERROR(VLOOKUP($B135,RaceDraw!$C$10:$P$440,COLUMN()-1,FALSE)),\"\",IF(ISBLANK(VLOOKUP($B135,RaceDraw!$C$10:$P$440,COLUMN()-1,FALSE)),\"\",VLOOKUP($B135,RaceDraw!$C$10:$P$440,COLUMN()-1,FALSE)))","v":3},{"$f":"IF(ISERROR(VLOOKUP($B135,RaceDraw!$C$10:$P$440,COLUMN()-1,FALSE)),\" \",IF(ISBLANK(VLOOKUP($B135,RaceDraw!$C$10:$P$440,COLUMN()-1,FALSE)),\" \",VLOOKUP($B135,RaceDraw!$C$10:$P$440,COLUMN()-1,FALSE)))","v":"Powerblades"},{"$f":"IF(ISERROR(VLOOKUP($B135,RaceDraw!$C$10:$P$440,COLUMN()-1,FALSE)),\" \",IF(ISBLANK(VLOOKUP($B135,RaceDraw!$C$10:$P$440,COLUMN()-1,FALSE)),\" \",VLOOKUP($B135,RaceDraw!$C$10:$P$440,COLUMN()-1,FALSE)))","v":"Pink Dragons"},{"$f":"IF(ISERROR(VLOOKUP($B135,RaceDraw!$C$10:$P$440,COLUMN()-1,FALSE)),\" \",IF(ISBLANK(VLOOKUP($B135,RaceDraw!$C$10:$P$440,COLUMN()-1,FALSE)),\" \",VLOOKUP($B135,RaceDraw!$C$10:$P$440,COLUMN()-1,FALSE)))","v":"Kombo Dragons Black"},{"$f":"IF(ISERROR(VLOOKUP($B135,RaceDraw!$C$10:$P$440,COLUMN()-1,FALSE)),\" \",IF(ISBLANK(VLOOKUP($B135,RaceDraw!$C$10:$P$440,COLUMN()-1,FALSE)),\" \",VLOOKUP($B135,RaceDraw!$C$10:$P$440,COLUMN()-1,FALSE)))","v":"SADA Sonix"},{"$f":"IF(ISERROR(VLOOKUP($B135,RaceDraw!$C$10:$P$440,COLUMN()-1,FALSE)),\" \",IF(ISBLANK(VLOOKUP($B135,RaceDraw!$C$10:$P$440,COLUMN()-1,FALSE)),\" \",VLOOKUP($B135,RaceDraw!$C$10:$P$440,COLUMN()-1,FALSE)))","v":"Southern Warriors"},{"$f":"IF(ISERROR(VLOOKUP($B135,RaceDraw!$C$10:$P$440,COLUMN()-1,FALSE)),\" \",IF(ISBLANK(VLOOKUP($B135,RaceDraw!$C$10:$P$440,COLUMN()-1,FALSE)),\" \",VLOOKUP($B135,RaceDraw!$C$10:$P$440,COLUMN()-1,FALSE)))","v":"Dragonfire"},{"$f":"IF(ISERROR(VLOOKUP($B135,RaceDraw!$C$10:$P$440,COLUMN()-1,FALSE)),\" \",IF(ISBLANK(VLOOKUP($B135,RaceDraw!$C$10:$P$440,COLUMN()-1,FALSE)),\" \",VLOOKUP($B135,RaceDraw!$C$10:$P$440,COLUMN()-1,FALSE)))","v":"Newcastle Dragon Hunters"},{"$f":"IF(ISERROR(VLOOKUP($B135,RaceDraw!$C$10:$P$440,COLUMN()-1,FALSE)),\" \",IF(ISBLANK(VLOOKUP($B135,RaceDraw!$C$10:$P$440,COLUMN()-1,FALSE)),\" \",VLOOKUP($B135,RaceDraw!$C$10:$P$440,COLUMN()-1,FALSE)))","v":" "},{"$f":"IF(ISERROR(VLOOKUP($B135,RaceDraw!$C$10:$P$440,COLUMN()-1,FALSE)),\" \",IF(ISBLANK(VLOOKUP($B135,RaceDraw!$C$10:$P$440,COLUMN()-1,FALSE)),\" \",VLOOKUP($B135,RaceDraw!$C$10:$P$440,COLUMN()-1,FALSE)))","v":" "},"Sat"]
[{"$f":"IF(ISERROR(INDEX(RaceDraw!$B$10:$B$440,MATCH(B136,RaceDraw!$C$10:$C$440,0))),\"\",INDEX(RaceDraw!$B$10:$B$440,MATCH(B136,RaceDraw!$C$10:$C$440,0)))","v":"15.18"},131,{"$f":"IF(ISERROR(VLOOKUP($B136,RaceDraw!$C$10:$P$440,COLUMN()-1,FALSE)),\"\",IF(ISBLANK(VLOOKUP($B136,RaceDraw!$C$10:$P$440,COLUMN()-1,FALSE)),\"\",VLOOKUP($B136,RaceDraw!$C$10:$P$440,COLUMN()-1,FALSE)))","v":"Senior A Open 10"},{"$f":"IF(ISERROR(VLOOKUP($B136,RaceDraw!$C$10:$P$440,COLUMN()-1,FALSE)),\"\",IF(ISBLANK(VLOOKUP($B136,RaceDraw!$C$10:$P$440,COLUMN()-1,FALSE)),\"\",VLOOKUP($B136,RaceDraw!$C$10:$P$440,COLUMN()-1,FALSE)))","v":200},{"$f":"IF(ISERROR(VLOOKUP($B136,RaceDraw!$C$10:$P$440,COLUMN()-1,FALSE)),\"\",IF(ISBLANK(VLOOKUP($B136,RaceDraw!$C$10:$P$440,COLUMN()-1,FALSE)),F136,VLOOKUP($B136,RaceDraw!$C$10:$P$440,COLUMN()-1,FALSE)))","v":3},{"$f":"IF(ISERROR(VLOOKUP($B136,RaceDraw!$C$10:$P$440,COLUMN()-1,FALSE)),\"\",IF(ISBLANK(VLOOKUP($B136,RaceDraw!$C$10:$P$440,COLUMN()-1,FALSE)),\"\",VLOOKUP($B136,RaceDraw!$C$10:$P$440,COLUMN()-1,FALSE)))","v":1},{"$f":"IF(ISERROR(VLOOKUP($B136,RaceDraw!$C$10:$P$440,COLUMN()-1,FALSE)),\" \",IF(ISBLANK(VLOOKUP($B136,RaceDraw!$C$10:$P$440,COLUMN()-1,FALSE)),\" \",VLOOKUP($B136,RaceDraw!$C$10:$P$440,COLUMN()-1,FALSE)))","v":"Diamond Phoenix"},{"$f":"IF(ISERROR(VLOOKUP($B136,RaceDraw!$C$10:$P$440,COLUMN()-1,FALSE)),\" \",IF(ISBLANK(VLOOKUP($B136,RaceDraw!$C$10:$P$440,COLUMN()-1,FALSE)),\" \",VLOOKUP($B136,RaceDraw!$C$10:$P$440,COLUMN()-1,FALSE)))","v":"FNC"},{"$f":"IF(ISERROR(VLOOKUP($B136,RaceDraw!$C$10:$P$440,COLUMN()-1,FALSE)),\" \",IF(ISBLANK(VLOOKUP($B136,RaceDraw!$C$10:$P$440,COLUMN()-1,FALSE)),\" \",VLOOKUP($B136,RaceDraw!$C$10:$P$440,COLUMN()-1,FALSE)))","v":"Hunter River Dragons"},{"$f":"IF(ISERROR(VLOOKUP($B136,RaceDraw!$C$10:$P$440,COLUMN()-1,FALSE)),\" \",IF(ISBLANK(VLOOKUP($B136,RaceDraw!$C$10:$P$440,COLUMN()-1,FALSE)),\" \",VLOOKUP($B136,RaceDraw!$C$10:$P$440,COLUMN()-1,FALSE)))","v":"Kombo Dragons Green"},{"$f":"IF(ISERROR(VLOOKUP($B136,RaceDraw!$C$10:$P$440,COLUMN()-1,FALSE)),\" \",IF(ISBLANK(VLOOKUP($B136,RaceDraw!$C$10:$P$440,COLUMN()-1,FALSE)),\" \",VLOOKUP($B136,RaceDraw!$C$10:$P$440,COLUMN()-1,FALSE)))","v":"Deepwater"},{"$f":"IF(ISERROR(VLOOKUP($B136,RaceDraw!$C$10:$P$440,COLUMN()-1,FALSE)),\" \",IF(ISBLANK(VLOOKUP($B136,RaceDraw!$C$10:$P$440,COLUMN()-1,FALSE)),\" \",VLOOKUP($B136,RaceDraw!$C$10:$P$440,COLUMN()-1,FALSE)))","v":" "},{"$f":"IF(ISERROR(VLOOKUP($B136,RaceDraw!$C$10:$P$440,COLUMN()-1,FALSE)),\" \",IF(ISBLANK(VLOOKUP($B136,RaceDraw!$C$10:$P$440,COLUMN()-1,FALSE)),\" \",VLOOKUP($B136,RaceDraw!$C$10:$P$440,COLUMN()-1,FALSE)))","v":" "},{"$f":"IF(ISERROR(VLOOKUP($B136,RaceDraw!$C$10:$P$440,COLUMN()-1,FALSE)),\" \",IF(ISBLANK(VLOOKUP($B136,RaceDraw!$C$10:$P$440,COLUMN()-1,FALSE)),\" \",VLOOKUP($B136,RaceDraw!$C$10:$P$440,COLUMN()-1,FALSE)))","v":" "},{"$f":"IF(ISERROR(VLOOKUP($B136,RaceDraw!$C$10:$P$440,COLUMN()-1,FALSE)),\" \",IF(ISBLANK(VLOOKUP($B136,RaceDraw!$C$10:$P$440,COLUMN()-1,FALSE)),\" \",VLOOKUP($B136,RaceDraw!$C$10:$P$440,COLUMN()-1,FALSE)))","v":" "},"Sat"]
[{"$f":"IF(ISERROR(INDEX(RaceDraw!$B$10:$B$440,MATCH(B137,RaceDraw!$C$10:$C$440,0))),\"\",INDEX(RaceDraw!$B$10:$B$440,MATCH(B137,RaceDraw!$C$10:$C$440,0)))","v":"15.24"},132,{"$f":"IF(ISERROR(VLOOKUP($B137,RaceDraw!$C$10:$P$440,COLUMN()-1,FALSE)),\"\",IF(ISBLANK(VLOOKUP($B137,RaceDraw!$C$10:$P$440,COLUMN()-1,FALSE)),\"\",VLOOKUP($B137,RaceDraw!$C$10:$P$440,COLUMN()-1,FALSE)))","v":"Senior A Open 10"},{"$f":"IF(ISERROR(VLOOKUP($B137,RaceDraw!$C$10:$P$440,COLUMN()-1,FALSE)),\"\",IF(ISBLANK(VLOOKUP($B137,RaceDraw!$C$10:$P$440,COLUMN()-1,FALSE)),\"\",VLOOKUP($B137,RaceDraw!$C$10:$P$440,COLUMN()-1,FALSE)))","v":200},{"$f":"IF(ISERROR(VLOOKUP($B137,RaceDraw!$C$10:$P$440,COLUMN()-1,FALSE)),\"\",IF(ISBLANK(VLOOKUP($B137,RaceDraw!$C$10:$P$440,COLUMN()-1,FALSE)),F137,VLOOKUP($B137,RaceDraw!$C$10:$P$440,COLUMN()-1,FALSE)))","v":3},{"$f":"IF(ISERROR(VLOOKUP($B137,RaceDraw!$C$10:$P$440,COLUMN()-1,FALSE)),\"\",IF(ISBLANK(VLOOKUP($B137,RaceDraw!$C$10:$P$440,COLUMN()-1,FALSE)),\"\",VLOOKUP($B137,RaceDraw!$C$10:$P$440,COLUMN()-1,FALSE)))","v":2},{"$f":"IF(ISERROR(VLOOKUP($B137,RaceDraw!$C$10:$P$440,COLUMN()-1,FALSE)),\" \",IF(ISBLANK(VLOOKUP($B137,RaceDraw!$C$10:$P$440,COLUMN()-1,FALSE)),\" \",VLOOKUP($B137,RaceDraw!$C$10:$P$440,COLUMN()-1,FALSE)))","v":"Broadwater Dragons"},{"$f":"IF(ISERROR(VLOOKUP($B137,RaceDraw!$C$10:$P$440,COLUMN()-1,FALSE)),\" \",IF(ISBLANK(VLOOKUP($B137,RaceDraw!$C$10:$P$440,COLUMN()-1,FALSE)),\" \",VLOOKUP($B137,RaceDraw!$C$10:$P$440,COLUMN()-1,FALSE)))","v":"Dragonfire"},{"$f":"IF(ISERROR(VLOOKUP($B137,RaceDraw!$C$10:$P$440,COLUMN()-1,FALSE)),\" \",IF(ISBLANK(VLOOKUP($B137,RaceDraw!$C$10:$P$440,COLUMN()-1,FALSE)),\" \",VLOOKUP($B137,RaceDraw!$C$10:$P$440,COLUMN()-1,FALSE)))","v":"Kombo Dragons Black"},{"$f":"IF(ISERROR(VLOOKUP($B137,RaceDraw!$C$10:$P$440,COLUMN()-1,FALSE)),\" \",IF(ISBLANK(VLOOKUP($B137,RaceDraw!$C$10:$P$440,COLUMN()-1,FALSE)),\" \",VLOOKUP($B137,RaceDraw!$C$10:$P$440,COLUMN()-1,FALSE)))","v":"Southern Warriors"},{"$f":"IF(ISERROR(VLOOKUP($B137,RaceDraw!$C$10:$P$440,COLUMN()-1,FALSE)),\" \",IF(ISBLANK(VLOOKUP($B137,RaceDraw!$C$10:$P$440,COLUMN()-1,FALSE)),\" \",VLOOKUP($B137,RaceDraw!$C$10:$P$440,COLUMN()-1,FALSE)))","v":"Mildura"},{"$f":"IF(ISERROR(VLOOKUP($B137,RaceDraw!$C$10:$P$440,COLUMN()-1,FALSE)),\" \",IF(ISBLANK(VLOOKUP($B137,RaceDraw!$C$10:$P$440,COLUMN()-1,FALSE)),\" \",VLOOKUP($B137,RaceDraw!$C$10:$P$440,COLUMN()-1,FALSE)))","v":" "},{"$f":"IF(ISERROR(VLOOKUP($B137,RaceDraw!$C$10:$P$440,COLUMN()-1,FALSE)),\" \",IF(ISBLANK(VLOOKUP($B137,RaceDraw!$C$10:$P$440,COLUMN()-1,FALSE)),\" \",VLOOKUP($B137,RaceDraw!$C$10:$P$440,COLUMN()-1,FALSE)))","v":" "},{"$f":"IF(ISERROR(VLOOKUP($B137,RaceDraw!$C$10:$P$440,COLUMN()-1,FALSE)),\" \",IF(ISBLANK(VLOOKUP($B137,RaceDraw!$C$10:$P$440,COLUMN()-1,FALSE)),\" \",VLOOKUP($B137,RaceDraw!$C$10:$P$440,COLUMN()-1,FALSE)))","v":" "},{"$f":"IF(ISERROR(VLOOKUP($B137,RaceDraw!$C$10:$P$440,COLUMN()-1,FALSE)),\" \",IF(ISBLANK(VLOOKUP($B137,RaceDraw!$C$10:$P$440,COLUMN()-1,FALSE)),\" \",VLOOKUP($B137,RaceDraw!$C$10:$P$440,COLUMN()-1,FALSE)))","v":" "},"Sat"]
[{"$f":"IF(ISERROR(INDEX(RaceDraw!$B$10:$B$440,MATCH(B138,RaceDraw!$C$10:$C$440,0))),\"\",INDEX(RaceDraw!$B$10:$B$440,MATCH(B138,RaceDraw!$C$10:$C$440,0)))","v":"15.30"},133,{"$f":"IF(ISERROR(VLOOKUP($B138,RaceDraw!$C$10:$P$440,COLUMN()-1,FALSE)),\"\",IF(ISBLANK(VLOOKUP($B138,RaceDraw!$C$10:$P$440,COLUMN()-1,FALSE)),\"\",VLOOKUP($B138,RaceDraw!$C$10:$P$440,COLUMN()-1,FALSE)))","v":"Senior A Open 10"},{"$f":"IF(ISERROR(VLOOKUP($B138,RaceDraw!$C$10:$P$440,COLUMN()-1,FALSE)),\"\",IF(ISBLANK(VLOOKUP($B138,RaceDraw!$C$10:$P$440,COLUMN()-1,FALSE)),\"\",VLOOKUP($B138,RaceDraw!$C$10:$P$440,COLUMN()-1,FALSE)))","v":200},{"$f":"IF(ISERROR(VLOOKUP($B138,RaceDraw!$C$10:$P$440,COLUMN()-1,FALSE)),\"\",IF(ISBLANK(VLOOKUP($B138,RaceDraw!$C$10:$P$440,COLUMN()-1,FALSE)),F138,VLOOKUP($B138,RaceDraw!$C$10:$P$440,COLUMN()-1,FALSE)))","v":3},{"$f":"IF(ISERROR(VLOOKUP($B138,RaceDraw!$C$10:$P$440,COLUMN()-1,FALSE)),\"\",IF(ISBLANK(VLOOKUP($B138,RaceDraw!$C$10:$P$440,COLUMN()-1,FALSE)),\"\",VLOOKUP($B138,RaceDraw!$C$10:$P$440,COLUMN()-1,FALSE)))","v":3},{"$f":"IF(ISERROR(VLOOKUP($B138,RaceDraw!$C$10:$P$440,COLUMN()-1,FALSE)),\" \",IF(ISBLANK(VLOOKUP($B138,RaceDraw!$C$10:$P$440,COLUMN()-1,FALSE)),\" \",VLOOKUP($B138,RaceDraw!$C$10:$P$440,COLUMN()-1,FALSE)))","v":"Gippsland United"},{"$f":"IF(ISERROR(VLOOKUP($B138,RaceDraw!$C$10:$P$440,COLUMN()-1,FALSE)),\" \",IF(ISBLANK(VLOOKUP($B138,RaceDraw!$C$10:$P$440,COLUMN()-1,FALSE)),\" \",VLOOKUP($B138,RaceDraw!$C$10:$P$440,COLUMN()-1,FALSE)))","v":"Black Sea Dragons"},{"$f":"IF(ISERROR(VLOOKUP($B138,RaceDraw!$C$10:$P$440,COLUMN()-1,FALSE)),\" \",IF(ISBLANK(VLOOKUP($B138,RaceDraw!$C$10:$P$440,COLUMN()-1,FALSE)),\" \",VLOOKUP($B138,RaceDraw!$C$10:$P$440,COLUMN()-1,FALSE)))","v":"Goolwa River Dragons"},{"$f":"IF(ISERROR(VLOOKUP($B138,RaceDraw!$C$10:$P$440,COLUMN()-1,FALSE)),\" \",IF(ISBLANK(VLOOKUP($B138,RaceDraw!$C$10:$P$440,COLUMN()-1,FALSE)),\" \",VLOOKUP($B138,RaceDraw!$C$10:$P$440,COLUMN()-1,FALSE)))","v":"Pink Dragons"},{"$f":"IF(ISERROR(VLOOKUP($B138,RaceDraw!$C$10:$P$440,COLUMN()-1,FALSE)),\" \",IF(ISBLANK(VLOOKUP($B138,RaceDraw!$C$10:$P$440,COLUMN()-1,FALSE)),\" \",VLOOKUP($B138,RaceDraw!$C$10:$P$440,COLUMN()-1,FALSE)))","v":"Kombo Dragons Purple"},{"$f":"IF(ISERROR(VLOOKUP($B138,RaceDraw!$C$10:$P$440,COLUMN()-1,FALSE)),\" \",IF(ISBLANK(VLOOKUP($B138,RaceDraw!$C$10:$P$440,COLUMN()-1,FALSE)),\" \",VLOOKUP($B138,RaceDraw!$C$10:$P$440,COLUMN()-1,FALSE)))","v":" "},{"$f":"IF(ISERROR(VLOOKUP($B138,RaceDraw!$C$10:$P$440,COLUMN()-1,FALSE)),\" \",IF(ISBLANK(VLOOKUP($B138,RaceDraw!$C$10:$P$440,COLUMN()-1,FALSE)),\" \",VLOOKUP($B138,RaceDraw!$C$10:$P$440,COLUMN()-1,FALSE)))","v":" "},{"$f":"IF(ISERROR(VLOOKUP($B138,RaceDraw!$C$10:$P$440,COLUMN()-1,FALSE)),\" \",IF(ISBLANK(VLOOKUP($B138,RaceDraw!$C$10:$P$440,COLUMN()-1,FALSE)),\" \",VLOOKUP($B138,RaceDraw!$C$10:$P$440,COLUMN()-1,FALSE)))","v":" "},{"$f":"IF(ISERROR(VLOOKUP($B138,RaceDraw!$C$10:$P$440,COLUMN()-1,FALSE)),\" \",IF(ISBLANK(VLOOKUP($B138,RaceDraw!$C$10:$P$440,COLUMN()-1,FALSE)),\" \",VLOOKUP($B138,RaceDraw!$C$10:$P$440,COLUMN()-1,FALSE)))","v":" "},"Sat"]
[{"$f":"IF(ISERROR(INDEX(RaceDraw!$B$10:$B$440,MATCH(B139,RaceDraw!$C$10:$C$440,0))),\"\",INDEX(RaceDraw!$B$10:$B$440,MATCH(B139,RaceDraw!$C$10:$C$440,0)))","v":"15.36"},134,{"$f":"IF(ISERROR(VLOOKUP($B139,RaceDraw!$C$10:$P$440,COLUMN()-1,FALSE)),\"\",IF(ISBLANK(VLOOKUP($B139,RaceDraw!$C$10:$P$440,COLUMN()-1,FALSE)),\"\",VLOOKUP($B139,RaceDraw!$C$10:$P$440,COLUMN()-1,FALSE)))","v":"Senior A Women 20"},{"$f":"IF(ISERROR(VLOOKUP($B139,RaceDraw!$C$10:$P$440,COLUMN()-1,FALSE)),\"\",IF(ISBLANK(VLOOKUP($B139,RaceDraw!$C$10:$P$440,COLUMN()-1,FALSE)),\"\",VLOOKUP($B139,RaceDraw!$C$10:$P$440,COLUMN()-1,FALSE)))","v":200},{"$f":"IF(ISERROR(VLOOKUP($B139,RaceDraw!$C$10:$P$440,COLUMN()-1,FALSE)),\"\",IF(ISBLANK(VLOOKUP($B139,RaceDraw!$C$10:$P$440,COLUMN()-1,FALSE)),F139,VLOOKUP($B139,RaceDraw!$C$10:$P$440,COLUMN()-1,FALSE)))","v":3},{"$f":"IF(ISERROR(VLOOKUP($B139,RaceDraw!$C$10:$P$440,COLUMN()-1,FALSE)),\"\",IF(ISBLANK(VLOOKUP($B139,RaceDraw!$C$10:$P$440,COLUMN()-1,FALSE)),\"\",VLOOKUP($B139,RaceDraw!$C$10:$P$440,COLUMN()-1,FALSE)))","v":1},{"$f":"IF(ISERROR(VLOOKUP($B139,RaceDraw!$C$10:$P$440,COLUMN()-1,FALSE)),\" \",IF(ISBLANK(VLOOKUP($B139,RaceDraw!$C$10:$P$440,COLUMN()-1,FALSE)),\" \",VLOOKUP($B139,RaceDraw!$C$10:$P$440,COLUMN()-1,FALSE)))","v":"Deepwater Dragons"},{"$f":"IF(ISERROR(VLOOKUP($B139,RaceDraw!$C$10:$P$440,COLUMN()-1,FALSE)),\" \",IF(ISBLANK(VLOOKUP($B139,RaceDraw!$C$10:$P$440,COLUMN()-1,FALSE)),\" \",VLOOKUP($B139,RaceDraw!$C$10:$P$440,COLUMN()-1,FALSE)))","v":"Dragons Abreast Adelaide"},{"$f":"IF(ISERROR(VLOOKUP($B139,RaceDraw!$C$10:$P$440,COLUMN()-1,FALSE)),\" \",IF(ISBLANK(VLOOKUP($B139,RaceDraw!$C$10:$P$440,COLUMN()-1,FALSE)),\" \",VLOOKUP($B139,RaceDraw!$C$10:$P$440,COLUMN()-1,FALSE)))","v":"Newcastle Dragon Hunters"},{"$f":"IF(ISERROR(VLOOKUP($B139,RaceDraw!$C$10:$P$440,COLUMN()-1,FALSE)),\" \",IF(ISBLANK(VLOOKUP($B139,RaceDraw!$C$10:$P$440,COLUMN()-1,FALSE)),\" \",VLOOKUP($B139,RaceDraw!$C$10:$P$440,COLUMN()-1,FALSE)))","v":"Hunter River dragons"},{"$f":"IF(ISERROR(VLOOKUP($B139,RaceDraw!$C$10:$P$440,COLUMN()-1,FALSE)),\" \",IF(ISBLANK(VLOOKUP($B139,RaceDraw!$C$10:$P$440,COLUMN()-1,FALSE)),\" \",VLOOKUP($B139,RaceDraw!$C$10:$P$440,COLUMN()-1,FALSE)))","v":"Broadwater Dragons"},{"$f":"IF(ISERROR(VLOOKUP($B139,RaceDraw!$C$10:$P$440,COLUMN()-1,FALSE)),\" \",IF(ISBLANK(VLOOKUP($B139,RaceDraw!$C$10:$P$440,COLUMN()-1,FALSE)),\" \",VLOOKUP($B139,RaceDraw!$C$10:$P$440,COLUMN()-1,FALSE)))","v":" "},{"$f":"IF(ISERROR(VLOOKUP($B139,RaceDraw!$C$10:$P$440,COLUMN()-1,FALSE)),\" \",IF(ISBLANK(VLOOKUP($B139,RaceDraw!$C$10:$P$440,COLUMN()-1,FALSE)),\" \",VLOOKUP($B139,RaceDraw!$C$10:$P$440,COLUMN()-1,FALSE)))","v":" "},{"$f":"IF(ISERROR(VLOOKUP($B139,RaceDraw!$C$10:$P$440,COLUMN()-1,FALSE)),\" \",IF(ISBLANK(VLOOKUP($B139,RaceDraw!$C$10:$P$440,COLUMN()-1,FALSE)),\" \",VLOOKUP($B139,RaceDraw!$C$10:$P$440,COLUMN()-1,FALSE)))","v":" "},{"$f":"IF(ISERROR(VLOOKUP($B139,RaceDraw!$C$10:$P$440,COLUMN()-1,FALSE)),\" \",IF(ISBLANK(VLOOKUP($B139,RaceDraw!$C$10:$P$440,COLUMN()-1,FALSE)),\" \",VLOOKUP($B139,RaceDraw!$C$10:$P$440,COLUMN()-1,FALSE)))","v":" "},"Sat"]
[{"$f":"IF(ISERROR(INDEX(RaceDraw!$B$10:$B$440,MATCH(B140,RaceDraw!$C$10:$C$440,0))),\"\",INDEX(RaceDraw!$B$10:$B$440,MATCH(B140,RaceDraw!$C$10:$C$440,0)))","v":"15.42"},135,{"$f":"IF(ISERROR(VLOOKUP($B140,RaceDraw!$C$10:$P$440,COLUMN()-1,FALSE)),\"\",IF(ISBLANK(VLOOKUP($B140,RaceDraw!$C$10:$P$440,COLUMN()-1,FALSE)),\"\",VLOOKUP($B140,RaceDraw!$C$10:$P$440,COLUMN()-1,FALSE)))","v":"Senior A Women 20"},{"$f":"IF(ISERROR(VLOOKUP($B140,RaceDraw!$C$10:$P$440,COLUMN()-1,FALSE)),\"\",IF(ISBLANK(VLOOKUP($B140,RaceDraw!$C$10:$P$440,COLUMN()-1,FALSE)),\"\",VLOOKUP($B140,RaceDraw!$C$10:$P$440,COLUMN()-1,FALSE)))","v":200},{"$f":"IF(ISERROR(VLOOKUP($B140,RaceDraw!$C$10:$P$440,COLUMN()-1,FALSE)),\"\",IF(ISBLANK(VLOOKUP($B140,RaceDraw!$C$10:$P$440,COLUMN()-1,FALSE)),F140,VLOOKUP($B140,RaceDraw!$C$10:$P$440,COLUMN()-1,FALSE)))","v":3},{"$f":"IF(ISERROR(VLOOKUP($B140,RaceDraw!$C$10:$P$440,COLUMN()-1,FALSE)),\"\",IF(ISBLANK(VLOOKUP($B140,RaceDraw!$C$10:$P$440,COLUMN()-1,FALSE)),\"\",VLOOKUP($B140,RaceDraw!$C$10:$P$440,COLUMN()-1,FALSE)))","v":2},{"$f":"IF(ISERROR(VLOOKUP($B140,RaceDraw!$C$10:$P$440,COLUMN()-1,FALSE)),\" \",IF(ISBLANK(VLOOKUP($B140,RaceDraw!$C$10:$P$440,COLUMN()-1,FALSE)),\" \",VLOOKUP($B140,RaceDraw!$C$10:$P$440,COLUMN()-1,FALSE)))","v":"Peninsula Dragonflys"},{"$f":"IF(ISERROR(VLOOKUP($B140,RaceDraw!$C$10:$P$440,COLUMN()-1,FALSE)),\" \",IF(ISBLANK(VLOOKUP($B140,RaceDraw!$C$10:$P$440,COLUMN()-1,FALSE)),\" \",VLOOKUP($B140,RaceDraw!$C$10:$P$440,COLUMN()-1,FALSE)))","v":"Kombo Dragons Black"},{"$f":"IF(ISERROR(VLOOKUP($B140,RaceDraw!$C$10:$P$440,COLUMN()-1,FALSE)),\" \",IF(ISBLANK(VLOOKUP($B140,RaceDraw!$C$10:$P$440,COLUMN()-1,FALSE)),\" \",VLOOKUP($B140,RaceDraw!$C$10:$P$440,COLUMN()-1,FALSE)))","v":"Powerblades"},{"$f":"IF(ISERROR(VLOOKUP($B140,RaceDraw!$C$10:$P$440,COLUMN()-1,FALSE)),\" \",IF(ISBLANK(VLOOKUP($B140,RaceDraw!$C$10:$P$440,COLUMN()-1,FALSE)),\" \",VLOOKUP($B140,RaceDraw!$C$10:$P$440,COLUMN()-1,FALSE)))","v":"Golden Dragons"},{"$f":"IF(ISERROR(VLOOKUP($B140,RaceDraw!$C$10:$P$440,COLUMN()-1,FALSE)),\" \",IF(ISBLANK(VLOOKUP($B140,RaceDraw!$C$10:$P$440,COLUMN()-1,FALSE)),\" \",VLOOKUP($B140,RaceDraw!$C$10:$P$440,COLUMN()-1,FALSE)))","v":"Pink Dragons"},{"$f":"IF(ISERROR(VLOOKUP($B140,RaceDraw!$C$10:$P$440,COLUMN()-1,FALSE)),\" \",IF(ISBLANK(VLOOKUP($B140,RaceDraw!$C$10:$P$440,COLUMN()-1,FALSE)),\" \",VLOOKUP($B140,RaceDraw!$C$10:$P$440,COLUMN()-1,FALSE)))","v":" "},{"$f":"IF(ISERROR(VLOOKUP($B140,RaceDraw!$C$10:$P$440,COLUMN()-1,FALSE)),\" \",IF(ISBLANK(VLOOKUP($B140,RaceDraw!$C$10:$P$440,COLUMN()-1,FALSE)),\" \",VLOOKUP($B140,RaceDraw!$C$10:$P$440,COLUMN()-1,FALSE)))","v":" "},{"$f":"IF(ISERROR(VLOOKUP($B140,RaceDraw!$C$10:$P$440,COLUMN()-1,FALSE)),\" \",IF(ISBLANK(VLOOKUP($B140,RaceDraw!$C$10:$P$440,COLUMN()-1,FALSE)),\" \",VLOOKUP($B140,RaceDraw!$C$10:$P$440,COLUMN()-1,FALSE)))","v":" "},{"$f":"IF(ISERROR(VLOOKUP($B140,RaceDraw!$C$10:$P$440,COLUMN()-1,FALSE)),\" \",IF(ISBLANK(VLOOKUP($B140,RaceDraw!$C$10:$P$440,COLUMN()-1,FALSE)),\" \",VLOOKUP($B140,RaceDraw!$C$10:$P$440,COLUMN()-1,FALSE)))","v":" "},"Sat"]
[{"$f":"IF(ISERROR(INDEX(RaceDraw!$B$10:$B$440,MATCH(B141,RaceDraw!$C$10:$C$440,0))),\"\",INDEX(RaceDraw!$B$10:$B$440,MATCH(B141,RaceDraw!$C$10:$C$440,0)))","v":"15.48"},136,{"$f":"IF(ISERROR(VLOOKUP($B141,RaceDraw!$C$10:$P$440,COLUMN()-1,FALSE)),\"\",IF(ISBLANK(VLOOKUP($B141,RaceDraw!$C$10:$P$440,COLUMN()-1,FALSE)),\"\",VLOOKUP($B141,RaceDraw!$C$10:$P$440,COLUMN()-1,FALSE)))","v":"Senior A Women 20"},{"$f":"IF(ISERROR(VLOOKUP($B141,RaceDraw!$C$10:$P$440,COLUMN()-1,FALSE)),\"\",IF(ISBLANK(VLOOKUP($B141,RaceDraw!$C$10:$P$440,COLUMN()-1,FALSE)),\"\",VLOOKUP($B141,RaceDraw!$C$10:$P$440,COLUMN()-1,FALSE)))","v":200},{"$f":"IF(ISERROR(VLOOKUP($B141,RaceDraw!$C$10:$P$440,COLUMN()-1,FALSE)),\"\",IF(ISBLANK(VLOOKUP($B141,RaceDraw!$C$10:$P$440,COLUMN()-1,FALSE)),F141,VLOOKUP($B141,RaceDraw!$C$10:$P$440,COLUMN()-1,FALSE)))","v":3},{"$f":"IF(ISERROR(VLOOKUP($B141,RaceDraw!$C$10:$P$440,COLUMN()-1,FALSE)),\"\",IF(ISBLANK(VLOOKUP($B141,RaceDraw!$C$10:$P$440,COLUMN()-1,FALSE)),\"\",VLOOKUP($B141,RaceDraw!$C$10:$P$440,COLUMN()-1,FALSE)))","v":3},{"$f":"IF(ISERROR(VLOOKUP($B141,RaceDraw!$C$10:$P$440,COLUMN()-1,FALSE)),\" \",IF(ISBLANK(VLOOKUP($B141,RaceDraw!$C$10:$P$440,COLUMN()-1,FALSE)),\" \",VLOOKUP($B141,RaceDraw!$C$10:$P$440,COLUMN()-1,FALSE)))","v":"Gippsland United"},{"$f":"IF(ISERROR(VLOOKUP($B141,RaceDraw!$C$10:$P$440,COLUMN()-1,FALSE)),\" \",IF(ISBLANK(VLOOKUP($B141,RaceDraw!$C$10:$P$440,COLUMN()-1,FALSE)),\" \",VLOOKUP($B141,RaceDraw!$C$10:$P$440,COLUMN()-1,FALSE)))","v":"SADA Sonix"},{"$f":"IF(ISERROR(VLOOKUP($B141,RaceDraw!$C$10:$P$440,COLUMN()-1,FALSE)),\" \",IF(ISBLANK(VLOOKUP($B141,RaceDraw!$C$10:$P$440,COLUMN()-1,FALSE)),\" \",VLOOKUP($B141,RaceDraw!$C$10:$P$440,COLUMN()-1,FALSE)))","v":"Motley Crew"},{"$f":"IF(ISERROR(VLOOKUP($B141,RaceDraw!$C$10:$P$440,COLUMN()-1,FALSE)),\" \",IF(ISBLANK(VLOOKUP($B141,RaceDraw!$C$10:$P$440,COLUMN()-1,FALSE)),\" \",VLOOKUP($B141,RaceDraw!$C$10:$P$440,COLUMN()-1,FALSE)))","v":"Southern Warriors"},{"$f":"IF(ISERROR(VLOOKUP($B141,RaceDraw!$C$10:$P$440,COLUMN()-1,FALSE)),\" \",IF(ISBLANK(VLOOKUP($B141,RaceDraw!$C$10:$P$440,COLUMN()-1,FALSE)),\" \",VLOOKUP($B141,RaceDraw!$C$10:$P$440,COLUMN()-1,FALSE)))","v":"Black Sea Dragons"},{"$f":"IF(ISERROR(VLOOKUP($B141,RaceDraw!$C$10:$P$440,COLUMN()-1,FALSE)),\" \",IF(ISBLANK(VLOOKUP($B141,RaceDraw!$C$10:$P$440,COLUMN()-1,FALSE)),\" \",VLOOKUP($B141,RaceDraw!$C$10:$P$440,COLUMN()-1,FALSE)))","v":" "},{"$f":"IF(ISERROR(VLOOKUP($B141,RaceDraw!$C$10:$P$440,COLUMN()-1,FALSE)),\" \",IF(ISBLANK(VLOOKUP($B141,RaceDraw!$C$10:$P$440,COLUMN()-1,FALSE)),\" \",VLOOKUP($B141,RaceDraw!$C$10:$P$440,COLUMN()-1,FALSE)))","v":" "},{"$f":"IF(ISERROR(VLOOKUP($B141,RaceDraw!$C$10:$P$440,COLUMN()-1,FALSE)),\" \",IF(ISBLANK(VLOOKUP($B141,RaceDraw!$C$10:$P$440,COLUMN()-1,FALSE)),\" \",VLOOKUP($B141,RaceDraw!$C$10:$P$440,COLUMN()-1,FALSE)))","v":" "},{"$f":"IF(ISERROR(VLOOKUP($B141,RaceDraw!$C$10:$P$440,COLUMN()-1,FALSE)),\" \",IF(ISBLANK(VLOOKUP($B141,RaceDraw!$C$10:$P$440,COLUMN()-1,FALSE)),\" \",VLOOKUP($B141,RaceDraw!$C$10:$P$440,COLUMN()-1,FALSE)))","v":" "},"Sat"]
[{"$f":"IF(ISERROR(INDEX(RaceDraw!$B$10:$B$440,MATCH(B142,RaceDraw!$C$10:$C$440,0))),\"\",INDEX(RaceDraw!$B$10:$B$440,MATCH(B142,RaceDraw!$C$10:$C$440,0)))","v":"15.54"},137,{"$f":"IF(ISERROR(VLOOKUP($B142,RaceDraw!$C$10:$P$440,COLUMN()-1,FALSE)),\"\",IF(ISBLANK(VLOOKUP($B142,RaceDraw!$C$10:$P$440,COLUMN()-1,FALSE)),\"\",VLOOKUP($B142,RaceDraw!$C$10:$P$440,COLUMN()-1,FALSE)))","v":"Senior A Open 20"},{"$f":"IF(ISERROR(VLOOKUP($B142,RaceDraw!$C$10:$P$440,COLUMN()-1,FALSE)),\"\",IF(ISBLANK(VLOOKUP($B142,RaceDraw!$C$10:$P$440,COLUMN()-1,FALSE)),\"\",VLOOKUP($B142,RaceDraw!$C$10:$P$440,COLUMN()-1,FALSE)))","v":200},{"$f":"IF(ISERROR(VLOOKUP($B142,RaceDraw!$C$10:$P$440,COLUMN()-1,FALSE)),\"\",IF(ISBLANK(VLOOKUP($B142,RaceDraw!$C$10:$P$440,COLUMN()-1,FALSE)),F142,VLOOKUP($B142,RaceDraw!$C$10:$P$440,COLUMN()-1,FALSE)))","v":3},{"$f":"IF(ISERROR(VLOOKUP($B142,RaceDraw!$C$10:$P$440,COLUMN()-1,FALSE)),\"\",IF(ISBLANK(VLOOKUP($B142,RaceDraw!$C$10:$P$440,COLUMN()-1,FALSE)),\"\",VLOOKUP($B142,RaceDraw!$C$10:$P$440,COLUMN()-1,FALSE)))","v":1},{"$f":"IF(ISERROR(VLOOKUP($B142,RaceDraw!$C$10:$P$440,COLUMN()-1,FALSE)),\" \",IF(ISBLANK(VLOOKUP($B142,RaceDraw!$C$10:$P$440,COLUMN()-1,FALSE)),\" \",VLOOKUP($B142,RaceDraw!$C$10:$P$440,COLUMN()-1,FALSE)))","v":"Southern Warriors"},{"$f":"IF(ISERROR(VLOOKUP($B142,RaceDraw!$C$10:$P$440,COLUMN()-1,FALSE)),\" \",IF(ISBLANK(VLOOKUP($B142,RaceDraw!$C$10:$P$440,COLUMN()-1,FALSE)),\" \",VLOOKUP($B142,RaceDraw!$C$10:$P$440,COLUMN()-1,FALSE)))","v":"Goolwa River Dragons"},{"$f":"IF(ISERROR(VLOOKUP($B142,RaceDraw!$C$10:$P$440,COLUMN()-1,FALSE)),\" \",IF(ISBLANK(VLOOKUP($B142,RaceDraw!$C$10:$P$440,COLUMN()-1,FALSE)),\" \",VLOOKUP($B142,RaceDraw!$C$10:$P$440,COLUMN()-1,FALSE)))","v":"Kombo Dragons Purple"},{"$f":"IF(ISERROR(VLOOKUP($B142,RaceDraw!$C$10:$P$440,COLUMN()-1,FALSE)),\" \",IF(ISBLANK(VLOOKUP($B142,RaceDraw!$C$10:$P$440,COLUMN()-1,FALSE)),\" \",VLOOKUP($B142,RaceDraw!$C$10:$P$440,COLUMN()-1,FALSE)))","v":"Dragonfire"},{"$f":"IF(ISERROR(VLOOKUP($B142,RaceDraw!$C$10:$P$440,COLUMN()-1,FALSE)),\" \",IF(ISBLANK(VLOOKUP($B142,RaceDraw!$C$10:$P$440,COLUMN()-1,FALSE)),\" \",VLOOKUP($B142,RaceDraw!$C$10:$P$440,COLUMN()-1,FALSE)))","v":"Deepwater Hunter"},{"$f":"IF(ISERROR(VLOOKUP($B142,RaceDraw!$C$10:$P$440,COLUMN()-1,FALSE)),\" \",IF(ISBLANK(VLOOKUP($B142,RaceDraw!$C$10:$P$440,COLUMN()-1,FALSE)),\" \",VLOOKUP($B142,RaceDraw!$C$10:$P$440,COLUMN()-1,FALSE)))","v":" "},{"$f":"IF(ISERROR(VLOOKUP($B142,RaceDraw!$C$10:$P$440,COLUMN()-1,FALSE)),\" \",IF(ISBLANK(VLOOKUP($B142,RaceDraw!$C$10:$P$440,COLUMN()-1,FALSE)),\" \",VLOOKUP($B142,RaceDraw!$C$10:$P$440,COLUMN()-1,FALSE)))","v":" "},{"$f":"IF(ISERROR(VLOOKUP($B142,RaceDraw!$C$10:$P$440,COLUMN()-1,FALSE)),\" \",IF(ISBLANK(VLOOKUP($B142,RaceDraw!$C$10:$P$440,COLUMN()-1,FALSE)),\" \",VLOOKUP($B142,RaceDraw!$C$10:$P$440,COLUMN()-1,FALSE)))","v":" "},{"$f":"IF(ISERROR(VLOOKUP($B142,RaceDraw!$C$10:$P$440,COLUMN()-1,FALSE)),\" \",IF(ISBLANK(VLOOKUP($B142,RaceDraw!$C$10:$P$440,COLUMN()-1,FALSE)),\" \",VLOOKUP($B142,RaceDraw!$C$10:$P$440,COLUMN()-1,FALSE)))","v":" "},"Sat"]
[{"$f":"IF(ISERROR(INDEX(RaceDraw!$B$10:$B$440,MATCH(B143,RaceDraw!$C$10:$C$440,0))),\"\",INDEX(RaceDraw!$B$10:$B$440,MATCH(B143,RaceDraw!$C$10:$C$440,0)))","v":"16.00"},138,{"$f":"IF(ISERROR(VLOOKUP($B143,RaceDraw!$C$10:$P$440,COLUMN()-1,FALSE)),\"\",IF(ISBLANK(VLOOKUP($B143,RaceDraw!$C$10:$P$440,COLUMN()-1,FALSE)),\"\",VLOOKUP($B143,RaceDraw!$C$10:$P$440,COLUMN()-1,FALSE)))","v":"Senior A Open 20"},{"$f":"IF(ISERROR(VLOOKUP($B143,RaceDraw!$C$10:$P$440,COLUMN()-1,FALSE)),\"\",IF(ISBLANK(VLOOKUP($B143,RaceDraw!$C$10:$P$440,COLUMN()-1,FALSE)),\"\",VLOOKUP($B143,RaceDraw!$C$10:$P$440,COLUMN()-1,FALSE)))","v":200},{"$f":"IF(ISERROR(VLOOKUP($B143,RaceDraw!$C$10:$P$440,COLUMN()-1,FALSE)),\"\",IF(ISBLANK(VLOOKUP($B143,RaceDraw!$C$10:$P$440,COLUMN()-1,FALSE)),F143,VLOOKUP($B143,RaceDraw!$C$10:$P$440,COLUMN()-1,FALSE)))","v":3},{"$f":"IF(ISERROR(VLOOKUP($B143,RaceDraw!$C$10:$P$440,COLUMN()-1,FALSE)),\"\",IF(ISBLANK(VLOOKUP($B143,RaceDraw!$C$10:$P$440,COLUMN()-1,FALSE)),\"\",VLOOKUP($B143,RaceDraw!$C$10:$P$440,COLUMN()-1,FALSE)))","v":2},{"$f":"IF(ISERROR(VLOOKUP($B143,RaceDraw!$C$10:$P$440,COLUMN()-1,FALSE)),\" \",IF(ISBLANK(VLOOKUP($B143,RaceDraw!$C$10:$P$440,COLUMN()-1,FALSE)),\" \",VLOOKUP($B143,RaceDraw!$C$10:$P$440,COLUMN()-1,FALSE)))","v":"Gippsland United"},{"$f":"IF(ISERROR(VLOOKUP($B143,RaceDraw!$C$10:$P$440,COLUMN()-1,FALSE)),\" \",IF(ISBLANK(VLOOKUP($B143,RaceDraw!$C$10:$P$440,COLUMN()-1,FALSE)),\" \",VLOOKUP($B143,RaceDraw!$C$10:$P$440,COLUMN()-1,FALSE)))","v":"Kombo Dragons Black"},{"$f":"IF(ISERROR(VLOOKUP($B143,RaceDraw!$C$10:$P$440,COLUMN()-1,FALSE)),\" \",IF(ISBLANK(VLOOKUP($B143,RaceDraw!$C$10:$P$440,COLUMN()-1,FALSE)),\" \",VLOOKUP($B143,RaceDraw!$C$10:$P$440,COLUMN()-1,FALSE)))","v":"Motley Crew"},{"$f":"IF(ISERROR(VLOOKUP($B143,RaceDraw!$C$10:$P$440,COLUMN()-1,FALSE)),\" \",IF(ISBLANK(VLOOKUP($B143,RaceDraw!$C$10:$P$440,COLUMN()-1,FALSE)),\" \",VLOOKUP($B143,RaceDraw!$C$10:$P$440,COLUMN()-1,FALSE)))","v":"FNC"},{"$f":"IF(ISERROR(VLOOKUP($B143,RaceDraw!$C$10:$P$440,COLUMN()-1,FALSE)),\" \",IF(ISBLANK(VLOOKUP($B143,RaceDraw!$C$10:$P$440,COLUMN()-1,FALSE)),\" \",VLOOKUP($B143,RaceDraw!$C$10:$P$440,COLUMN()-1,FALSE)))","v":"Peninsula Dragonflys"},{"$f":"IF(ISERROR(VLOOKUP($B143,RaceDraw!$C$10:$P$440,COLUMN()-1,FALSE)),\" \",IF(ISBLANK(VLOOKUP($B143,RaceDraw!$C$10:$P$440,COLUMN()-1,FALSE)),\" \",VLOOKUP($B143,RaceDraw!$C$10:$P$440,COLUMN()-1,FALSE)))","v":" "},{"$f":"IF(ISERROR(VLOOKUP($B143,RaceDraw!$C$10:$P$440,COLUMN()-1,FALSE)),\" \",IF(ISBLANK(VLOOKUP($B143,RaceDraw!$C$10:$P$440,COLUMN()-1,FALSE)),\" \",VLOOKUP($B143,RaceDraw!$C$10:$P$440,COLUMN()-1,FALSE)))","v":" "},{"$f":"IF(ISERROR(VLOOKUP($B143,RaceDraw!$C$10:$P$440,COLUMN()-1,FALSE)),\" \",IF(ISBLANK(VLOOKUP($B143,RaceDraw!$C$10:$P$440,COLUMN()-1,FALSE)),\" \",VLOOKUP($B143,RaceDraw!$C$10:$P$440,COLUMN()-1,FALSE)))","v":" "},{"$f":"IF(ISERROR(VLOOKUP($B143,RaceDraw!$C$10:$P$440,COLUMN()-1,FALSE)),\" \",IF(ISBLANK(VLOOKUP($B143,RaceDraw!$C$10:$P$440,COLUMN()-1,FALSE)),\" \",VLOOKUP($B143,RaceDraw!$C$10:$P$440,COLUMN()-1,FALSE)))","v":" "},"Sat"]

{"sheet":"DBSA RACE SHEET","index":2,"n_rows":142,"n_cols":12,"rows_kept":142,"cut":false,"hidden":false,"merged":[]}
["MASTERS GAMES, ADELAIDE",null,null,null,null,null,null,null,null,null,null,{"$f":"SCHEDULE!$C$1","v":45212}]
[]
["RACE","EVENT","ROUND / HEAT","1st","2nd","3rd","4th","5th","6th","7th","8th","9th"]
[1,{"$f":"VLOOKUP($A4,SCHEDULE!$B$5:$C$143,2,FALSE)","v":"Senior C Mixed 10"},{"$f":"VLOOKUP($A4,SCHEDULE!$B$5:$Z$143,4,FALSE)&\" / \"&VLOOKUP($A4,SCHEDULE!$B$5:$Z$143,5,FALSE)","v":"1 / 1"}]
[{"$f":"A4+1","v":2},{"$f":"VLOOKUP($A5,SCHEDULE!$B$5:$C$143,2,FALSE)","v":"Senior C Mixed 10"},{"$f":"VLOOKUP($A5,SCHEDULE!$B$5:$Z$143,4,FALSE)&\" / \"&VLOOKUP($A5,SCHEDULE!$B$5:$Z$143,5,FALSE)","v":"1 / 2"}]
[{"$f":"A5+1","v":3},{"$f":"VLOOKUP($A6,SCHEDULE!$B$5:$C$143,2,FALSE)","v":"Senior C Mixed 10"},{"$f":"VLOOKUP($A6,SCHEDULE!$B$5:$Z$143,4,FALSE)&\" / \"&VLOOKUP($A6,SCHEDULE!$B$5:$Z$143,5,FALSE)","v":"1 / 3"}]
[4,{"$f":"VLOOKUP($A7,SCHEDULE!$B$5:$C$143,2,FALSE)","v":"Senior C Mixed 10"},{"$f":"VLOOKUP($A7,SCHEDULE!$B$5:$Z$143,4,FALSE)&\" / \"&VLOOKUP($A7,SCHEDULE!$B$5:$Z$143,5,FALSE)","v":"1 / 4"}]
[5,{"$f":"VLOOKUP($A8,SCHEDULE!$B$5:$C$143,2,FALSE)","v":"Senior B Mixed 10's"},{"$f":"VLOOKUP($A8,SCHEDULE!$B$5:$Z$143,4,FALSE)&\" / \"&VLOOKUP($A8,SCHEDULE!$B$5:$Z$143,5,FALSE)","v":"1 / 1"}]
[6,{"$f":"VLOOKUP($A9,SCHEDULE!$B$5:$C$143,2,FALSE)","v":"Senior B Mixed 10's"},{"$f":"VLOOKUP($A9,SCHEDULE!$B$5:$Z$143,4,FALSE)&\" / \"&VLOOKUP($A9,SCHEDULE!$B$5:$Z$143,5,FALSE)","v":"1 / 2"}]
[7,{"$f":"VLOOKUP($A10,SCHEDULE!$B$5:$C$143,2,FALSE)","v":"Senior B Mixed 10's"},{"$f":"VLOOKUP($A10,SCHEDULE!$B$5:$Z$143,4,FALSE)&\" / \"&VLOOKUP($A10,SCHEDULE!$B$5:$Z$143,5,FALSE)","v":"1 / 3"}]
[8,{"$f":"VLOOKUP($A11,SCHEDULE!$B$5:$C$143,2,FALSE)","v":"Senior B Mixed 20's"},{"$f":"VLOOKUP($A11,SCHEDULE!$B$5:$Z$143,4,FALSE)&\" / \"&VLOOKUP($A11,SCHEDULE!$B$5:$Z$143,5,FALSE)","v":"1 / 1"}]
[9,{"$f":"VLOOKUP($A12,SCHEDULE!$B$5:$C$143,2,FALSE)","v":"Senior B Mixed 20's"},{"$f":"VLOOKUP($A12,SCHEDULE!$B$5:$Z$143,4,FALSE)&\" / \"&VLOOKUP($A12,SCHEDULE!$B$5:$Z$143,5,FALSE)","v":"1 / 2"}]
[10,{"$f":"VLOOKUP($A13,SCHEDULE!$B$5:$C$143,2,FALSE)","v":"Senior A Mixed 10's"},{"$f":"VLOOKUP($A13,SCHEDULE!$B$5:$Z$143,4,FALSE)&\" / \"&VLOOKUP($A13,SCHEDULE!$B$5:$Z$143,5,FALSE)","v":"1 / 1"}]
[11,{"$f":"VLOOKUP($A14,SCHEDULE!$B$5:$C$143,2,FALSE)","v":"Senior A Mixed 10's"},{"$f":"VLOOKUP($A14,SCHEDULE!$B$5:$Z$143,4,FALSE)&\" / \"&VLOOKUP($A14,SCHEDULE!$B$5:$Z$143,5,FALSE)","v":"1 / 2"}]
[12,{"$f":"VLOOKUP($A15,SCHEDULE!$B$5:$C$143,2,FALSE)","v":"Senior A Mixed 10's"},{"$f":"VLOOKUP($A15,SCHEDULE!$B$5:$Z$143,4,FALSE)&\" / \"&VLOOKUP($A15,SCHEDULE!$B$5:$Z$143,5,FALSE)","v":"1 / 3"}]
[13,{"$f":"VLOOKUP($A16,SCHEDULE!$B$5:$C$143,2,FALSE)","v":"Senior A Mixed 20"},{"$f":"VLOOKUP($A16,SCHEDULE!$B$5:$Z$143,4,FALSE)&\" / \"&VLOOKUP($A16,SCHEDULE!$B$5:$Z$143,5,FALSE)","v":"1 / 1"}]
[14,{"$f":"VLOOKUP($A17,SCHEDULE!$B$5:$C$143,2,FALSE)","v":"Senior C Women 10"},{"$f":"VLOOKUP($A17,SCHEDULE!$B$5:$Z$143,4,FALSE)&\" / \"&VLOOKUP($A17,SCHEDULE!$B$5:$Z$143,5,FALSE)","v":"1 / 1"}]
[15,{"$f":"VLOOKUP($A18,SCHEDULE!$B$5:$C$143,2,FALSE)","v":"Senior C Women 10"},{"$f":"VLOOKUP($A18,SCHEDULE!$B$5:$Z$143,4,FALSE)&\" / \"&VLOOKUP($A18,SCHEDULE!$B$5:$Z$143,5,FALSE)","v":"1 / 2"}]
[16,{"$f":"VLOOKUP($A19,SCHEDULE!$B$5:$C$143,2,FALSE)","v":"Senior C Women 10"},{"$f":"VLOOKUP($A19,SCHEDULE!$B$5:$Z$143,4,FALSE)&\" / \"&VLOOKUP($A19,SCHEDULE!$B$5:$Z$143,5,FALSE)","v":"1 / 3"}]
[17,{"$f":"VLOOKUP($A20,SCHEDULE!$B$5:$C$143,2,FALSE)","v":"Senior C Women 10"},{"$f":"VLOOKUP($A20,SCHEDULE!$B$5:$Z$143,4,FALSE)&\" / \"&VLOOKUP($A20,SCHEDULE!$B$5:$Z$143,5,FALSE)","v":"1 / 4"}]
[18,{"$f":"VLOOKUP($A21,SCHEDULE!$B$5:$C$143,2,FALSE)","v":"Senior C Women 10"},{"$f":"VLOOKUP($A21,SCHEDULE!$B$5:$Z$143,4,FALSE)&\" / \"&VLOOKUP($A21,SCHEDULE!$B$5:$Z$143,5,FALSE)","v":"1 / 5"}]
[19,{"$f":"VLOOKUP($A22,SCHEDULE!$B$5:$C$143,2,FALSE)","v":"Senior C Open 10's"},{"$f":"VLOOKUP($A22,SCHEDULE!$B$5:$Z$143,4,FALSE)&\" / \"&VLOOKUP($A22,SCHEDULE!$B$5:$Z$143,5,FALSE)","v":"1 / 1"}]
[20,{"$f":"VLOOKUP($A23,SCHEDULE!$B$5:$C$143,2,FALSE)","v":"Senior C Open 10's"},{"$f":"VLOOKUP($A23,SCHEDULE!$B$5:$Z$143,4,FALSE)&\" / \"&VLOOKUP($A23,SCHEDULE!$B$5:$Z$143,5,FALSE)","v":"1 / 2"}]
[21,{"$f":"VLOOKUP($A24,SCHEDULE!$B$5:$C$143,2,FALSE)","v":"Senior C Open 10's"},{"$f":"VLOOKUP($A24,SCHEDULE!$B$5:$Z$143,4,FALSE)&\" / \"&VLOOKUP($A24,SCHEDULE!$B$5:$Z$143,5,FALSE)","v":"1 / 3"}]
[22,{"$f":"VLOOKUP($A25,SCHEDULE!$B$5:$C$143,2,FALSE)","v":"BCS 10"},{"$f":"VLOOKUP($A25,SCHEDULE!$B$5:$Z$143,4,FALSE)&\" / \"&VLOOKUP($A25,SCHEDULE!$B$5:$Z$143,5,FALSE)","v":"1 / 1"}]
[23,{"$f":"VLOOKUP($A26,SCHEDULE!$B$5:$C$143,2,FALSE)","v":"BCS 10"},{"$f":"VLOOKUP($A26,SCHEDULE!$B$5:$Z$143,4,FALSE)&\" / \"&VLOOKUP($A26,SCHEDULE!$B$5:$Z$143,5,FALSE)","v":"1 / 2"}]
[24,{"$f":"VLOOKUP($A27,SCHEDULE!$B$5:$C$143,2,FALSE)","v":"Senior B Women 10"},{"$f":"VLOOKUP($A27,SCHEDULE!$B$5:$Z$143,4,FALSE)&\" / \"&VLOOKUP($A27,SCHEDULE!$B$5:$Z$143,5,FALSE)","v":"1 / 1"}]
[25,{"$f":"VLOOKUP($A28,SCHEDULE!$B$5:$C$143,2,FALSE)","v":"Senior B Women 10"},{"$f":"VLOOKUP($A28,SCHEDULE!$B$5:$Z$143,4,FALSE)&\" / \"&VLOOKUP($A28,SCHEDULE!$B$5:$Z$143,5,FALSE)","v":"1 / 2"}]
[26,{"$f":"VLOOKUP($A29,SCHEDULE!$B$5:$C$143,2,FALSE)","v":"Senior B Women 10"},{"$f":"VLOOKUP($A29,SCHEDULE!$B$5:$Z$143,4,FALSE)&\" / \"&VLOOKUP($A29,SCHEDULE!$B$5:$Z$143,5,FALSE)","v":"1 / 3"}]
[27,{"$f":"VLOOKUP($A30,SCHEDULE!$B$5:$C$143,2,FALSE)","v":"Senior B Women 10"},{"$f":"VLOOKUP($A30,SCHEDULE!$B$5:$Z$143,4,FALSE)&\" / \"&VLOOKUP($A30,SCHEDULE!$B$5:$Z$143,5,FALSE)","v":"1 / 4"}]
[28,{"$f":"VLOOKUP($A31,SCHEDULE!$B$5:$C$143,2,FALSE)","v":"Senior B Open 10"},{"$f":"VLOOKUP($A31,SCHEDULE!$B$5:$Z$143,4,FALSE)&\" / \"&VLOOKUP($A31,SCHEDULE!$B$5:$Z$143,5,FALSE)","v":"1 / 1"}]
[29,{"$f":"VLOOKUP($A32,SCHEDULE!$B$5:$C$143,2,FALSE)","v":"Senior B Open 10"},{"$f":"VLOOKUP($A32,SCHEDULE!$B$5:$Z$143,4,FALSE)&\" / \"&VLOOKUP($A32,SCHEDULE!$B$5:$Z$143,5,FALSE)","v":"1 / 2"}]
[30,{"$f":"VLOOKUP($A33,SCHEDULE!$B$5:$C$143,2,FALSE)","v":"Senior B Open 10"},{"$f":"VLOOKUP($A33,SCHEDULE!$B$5:$Z$143,4,FALSE)&\" / \"&VLOOKUP($A33,SCHEDULE!$B$5:$Z$143,5,FALSE)","v":"1 / 3"}]
[31,{"$f":"VLOOKUP($A34,SCHEDULE!$B$5:$C$143,2,FALSE)","v":"BCS 20"},{"$f":"VLOOKUP($A34,SCHEDULE!$B$5:$Z$143,4,FALSE)&\" / \"&VLOOKUP($A34,SCHEDULE!$B$5:$Z$143,5,FALSE)","v":"1 / 1"}]
[32,{"$f":"VLOOKUP($A35,SCHEDULE!$B$5:$C$143,2,FALSE)","v":"Senior B Women 20"},{"$f":"VLOOKUP($A35,SCHEDULE!$B$5:$Z$143,4,FALSE)&\" / \"&VLOOKUP($A35,SCHEDULE!$B$5:$Z$143,5,FALSE)","v":"1 / 1"}]
[33,{"$f":"VLOOKUP($A36,SCHEDULE!$B$5:$C$143,2,FALSE)","v":"Senior B Women 20"},{"$f":"VLOOKUP($A36,SCHEDULE!$B$5:$Z$143,4,FALSE)&\" / \"&VLOOKUP($A36,SCHEDULE!$B$5:$Z$143,5,FALSE)","v":"1 / 2"}]
[34,{"$f":"VLOOKUP($A37,SCHEDULE!$B$5:$C$143,2,FALSE)","v":"Senior B Open 20"},{"$f":"VLOOKUP($A37,SCHEDULE!$B$5:$Z$143,4,FALSE)&\" / \"&VLOOKUP($A37,SCHEDULE!$B$5:$Z$143,5,FALSE)","v":"1 / 1"}]
[35,{"$f":"VLOOKUP($A38,SCHEDULE!$B$5:$C$143,2,FALSE)","v":"Senior B Open 20"},{"$f":"VLOOKUP($A38,SCHEDULE!$B$5:$Z$143,4,FALSE)&\" / \"&VLOOKUP($A38,SCHEDULE!$B$5:$Z$143,5,FALSE)","v":"1 / 2"}]
[36,{"$f":"VLOOKUP($A39,SCHEDULE!$B$5:$C$143,2,FALSE)","v":"Senior A Women 10"},{"$f":"VLOOKUP($A39,SCHEDULE!$B$5:$Z$143,4,FALSE)&\" / \"&VLOOKUP($A39,SCHEDULE!$B$5:$Z$143,5,FALSE)","v":"1 / 1"}]
[37,{"$f":"VLOOKUP($A40,SCHEDULE!$B$5:$C$143,2,FALSE)","v":"Senior A Women 10"},{"$f":"VLOOKUP($A40,SCHEDULE!$B$5:$Z$143,4,FALSE)&\" / \"&VLOOKUP($A40,SCHEDULE!$B$5:$Z$143,5,FALSE)","v":"1 / 2"}]
[38,{"$f":"VLOOKUP($A41,SCHEDULE!$B$5:$C$143,2,FALSE)","v":"Senior A Women 10"},{"$f":"VLOOKUP($A41,SCHEDULE!$B$5:$Z$143,4,FALSE)&\" / \"&VLOOKUP($A41,SCHEDULE!$B$5:$Z$143,5,FALSE)","v":"1 / 3"}]
[39,{"$f":"VLOOKUP($A42,SCHEDULE!$B$5:$C$143,2,FALSE)","v":"Senior A Open 10"},{"$f":"VLOOKUP($A42,SCHEDULE!$B$5:$Z$143,4,FALSE)&\" / \"&VLOOKUP($A42,SCHEDULE!$B$5:$Z$143,5,FALSE)","v":"1 / 1"}]
[40,{"$f":"VLOOKUP($A43,SCHEDULE!$B$5:$C$143,2,FALSE)","v":"Senior A Open 10"},{"$f":"VLOOKUP($A43,SCHEDULE!$B$5:$Z$143,4,FALSE)&\" / \"&VLOOKUP($A43,SCHEDULE!$B$5:$Z$143,5,FALSE)","v":"1 / 2"}]
[41,{"$f":"VLOOKUP($A44,SCHEDULE!$B$5:$C$143,2,FALSE)","v":"Senior A Open 10"},{"$f":"VLOOKUP($A44,SCHEDULE!$B$5:$Z$143,4,FALSE)&\" / \"&VLOOKUP($A44,SCHEDULE!$B$5:$Z$143,5,FALSE)","v":"1 / 3"}]
[42,{"$f":"VLOOKUP($A45,SCHEDULE!$B$5:$C$143,2,FALSE)","v":"Senior A Women 20"},{"$f":"VLOOKUP($A45,SCHEDULE!$B$5:$Z$143,4,FALSE)&\" / \"&VLOOKUP($A45,SCHEDULE!$B$5:$Z$143,5,FALSE)","v":"1 / 1"}]
[43,{"$f":"VLOOKUP($A46,SCHEDULE!$B$5:$C$143,2,FALSE)","v":"Senior A Women 20"},{"$f":"VLOOKUP($A46,SCHEDULE!$B$5:$Z$143,4,FALSE)&\" / \"&VLOOKUP($A46,SCHEDULE!$B$5:$Z$143,5,FALSE)","v":"1 / 2"}]
[44,{"$f":"VLOOKUP($A47,SCHEDULE!$B$5:$C$143,2,FALSE)","v":"Senior A Women 20"},{"$f":"VLOOKUP($A47,SCHEDULE!$B$5:$Z$143,4,FALSE)&\" / \"&VLOOKUP($A47,SCHEDULE!$B$5:$Z$143,5,FALSE)","v":"1 / 3"}]
[45,{"$f":"VLOOKUP($A48,SCHEDULE!$B$5:$C$143,2,FALSE)","v":"Senior A Open 20"},{"$f":"VLOOKUP($A48,SCHEDULE!$B$5:$Z$143,4,FALSE)&\" / \"&VLOOKUP($A48,SCHEDULE!$B$5:$Z$143,5,FALSE)","v":"1 / 1"}]
[46,{"$f":"VLOOKUP($A49,SCHEDULE!$B$5:$C$143,2,FALSE)","v":"Senior A Open 20"},{"$f":"VLOOKUP($A49,SCHEDULE!$B$5:$Z$143,4,FALSE)&\" / \"&VLOOKUP($A49,SCHEDULE!$B$5:$Z$143,5,FALSE)","v":"1 / 2"}]
[47,{"$f":"VLOOKUP($A50,SCHEDULE!$B$5:$C$143,2,FALSE)","v":"Senior C Mixed 10"},{"$f":"VLOOKUP($A50,SCHEDULE!$B$5:$Z$143,4,FALSE)&\" / \"&VLOOKUP($A50,SCHEDULE!$B$5:$Z$143,5,FALSE)","v":"2 / 1"}]
[48,{"$f":"VLOOKUP($A51,SCHEDULE!$B$5:$C$143,2,FALSE)","v":"Senior C Mixed 10"},{"$f":"VLOOKUP($A51,SCHEDULE!$B$5:$Z$143,4,FALSE)&\" / \"&VLOOKUP($A51,SCHEDULE!$B$5:$Z$143,5,FALSE)","v":"2 / 2"}]
[49,{"$f":"VLOOKUP($A52,SCHEDULE!$B$5:$C$143,2,FALSE)","v":"Senior C Mixed 10"},{"$f":"VLOOKUP($A52,SCHEDULE!$B$5:$Z$143,4,FALSE)&\" / \"&VLOOKUP($A52,SCHEDULE!$B$5:$Z$143,5,FALSE)","v":"2 / 3"}]
[50,{"$f":"VLOOKUP($A53,SCHEDULE!$B$5:$C$143,2,FALSE)","v":"Senior C Mixed 10"},{"$f":"VLOOKUP($A53,SCHEDULE!$B$5:$Z$143,4,FALSE)&\" / \"&VLOOKUP($A53,SCHEDULE!$B$5:$Z$143,5,FALSE)","v":"2 / 4"}]
[51,{"$f":"VLOOKUP($A54,SCHEDULE!$B$5:$C$143,2,FALSE)","v":"Senior B Mixed 10's"},{"$f":"VLOOKUP($A54,SCHEDULE!$B$5:$Z$143,4,FALSE)&\" / \"&VLOOKUP($A54,SCHEDULE!$B$5:$Z$143,5,FALSE)","v":"2 / 1"}]
[52,{"$f":"VLOOKUP($A55,SCHEDULE!$B$5:$C$143,2,FALSE)","v":"Senior B Mixed 10's"},{"$f":"VLOOKUP($A55,SCHEDULE!$B$5:$Z$143,4,FALSE)&\" / \"&VLOOKUP($A55,SCHEDULE!$B$5:$Z$143,5,FALSE)","v":"2 / 2"}]
[53,{"$f":"VLOOKUP($A56,SCHEDULE!$B$5:$C$143,2,FALSE)","v":"Senior B Mixed 10's"},{"$f":"VLOOKUP($A56,SCHEDULE!$B$5:$Z$143,4,FALSE)&\" / \"&VLOOKUP($A56,SCHEDULE!$B$5:$Z$143,5,FALSE)","v":"2 / 3"}]
[54,{"$f":"VLOOKUP($A57,SCHEDULE!$B$5:$C$143,2,FALSE)","v":"Senior B Mixed 20's"},{"$f":"VLOOKUP($A57,SCHEDULE!$B$5:$Z$143,4,FALSE)&\" / \"&VLOOKUP($A57,SCHEDULE!$B$5:$Z$143,5,FALSE)","v":"2 / 1"}]
[55,{"$f":"VLOOKUP($A58,SCHEDULE!$B$5:$C$143,2,FALSE)","v":"Senior B Mixed 20's"},{"$f":"VLOOKUP($A58,SCHEDULE!$B$5:$Z$143,4,FALSE)&\" / \"&VLOOKUP($A58,SCHEDULE!$B$5:$Z$143,5,FALSE)","v":"2 / 2"}]
[56,{"$f":"VLOOKUP($A59,SCHEDULE!$B$5:$C$143,2,FALSE)","v":"Senior A Mixed 10's"},{"$f":"VLOOKUP($A59,SCHEDULE!$B$5:$Z$143,4,FALSE)&\" / \"&VLOOKUP($A59,SCHEDULE!$B$5:$Z$143,5,FALSE)","v":"2 / 1"}]
[57,{"$f":"VLOOKUP($A60,SCHEDULE!$B$5:$C$143,2,FALSE)","v":"Senior A Mixed 10's"},{"$f":"VLOOKUP($A60,SCHEDULE!$B$5:$Z$143,4,FALSE)&\" / \"&VLOOKUP($A60,SCHEDULE!$B$5:$Z$143,5,FALSE)","v":"2 / 2"}]
[58,{"$f":"VLOOKUP($A61,SCHEDULE!$B$5:$C$143,2,FALSE)","v":"Senior A Mixed 10's"},{"$f":"VLOOKUP($A61,SCHEDULE!$B$5:$Z$143,4,FALSE)&\" / \"&VLOOKUP($A61,SCHEDULE!$B$5:$Z$143,5,FALSE)","v":"2 / 3"}]
[59,{"$f":"VLOOKUP($A62,SCHEDULE!$B$5:$C$143,2,FALSE)","v":"Senior A Mixed 20"},{"$f":"VLOOKUP($A62,SCHEDULE!$B$5:$Z$143,4,FALSE)&\" / \"&VLOOKUP($A62,SCHEDULE!$B$5:$Z$143,5,FALSE)","v":"2 / 1"}]
[60,{"$f":"VLOOKUP($A63,SCHEDULE!$B$5:$C$143,2,FALSE)","v":"Senior C Women 10"},{"$f":"VLOOKUP($A63,SCHEDULE!$B$5:$Z$143,4,FALSE)&\" / \"&VLOOKUP($A63,SCHEDULE!$B$5:$Z$143,5,FALSE)","v":"2 / 1"}]
[61,{"$f":"VLOOKUP($A64,SCHEDULE!$B$5:$C$143,2,FALSE)","v":"Senior C Women 10"},{"$f":"VLOOKUP($A64,SCHEDULE!$B$5:$Z$143,4,FALSE)&\" / \"&VLOOKUP($A64,SCHEDULE!$B$5:$Z$143,5,FALSE)","v":"2 / 2"}]
[62,{"$f":"VLOOKUP($A65,SCHEDULE!$B$5:$C$143,2,FALSE)","v":"Senior C Women 10"},{"$f":"VLOOKUP($A65,SCHEDULE!$B$5:$Z$143,4,FALSE)&\" / \"&VLOOKUP($A65,SCHEDULE!$B$5:$Z$143,5,FALSE)","v":"2 / 3"}]
[63,{"$f":"VLOOKUP($A66,SCHEDULE!$B$5:$C$143,2,FALSE)","v":"Senior C Women 10"},{"$f":"VLOOKUP($A66,SCHEDULE!$B$5:$Z$143,4,FALSE)&\" / \"&VLOOKUP($A66,SCHEDULE!$B$5:$Z$143,5,FALSE)","v":"2 / 4"}]
[64,{"$f":"VLOOKUP($A67,SCHEDULE!$B$5:$C$143,2,FALSE)","v":"Senior C Women 10"},{"$f":"VLOOKUP($A67,SCHEDULE!$B$5:$Z$143,4,FALSE)&\" / \"&VLOOKUP($A67,SCHEDULE!$B$5:$Z$143,5,FALSE)","v":"2 / 5"}]
[65,{"$f":"VLOOKUP($A68,SCHEDULE!$B$5:$C$143,2,FALSE)","v":"Senior C Open 10's"},{"$f":"VLOOKUP($A68,SCHEDULE!$B$5:$Z$143,4,FALSE)&\" / \"&VLOOKUP($A68,SCHEDULE!$B$5:$Z$143,5,FALSE)","v":"2 / 1"}]
[66,{"$f":"VLOOKUP($A69,SCHEDULE!$B$5:$C$143,2,FALSE)","v":"Senior C Open 10's"},{"$f":"VLOOKUP($A69,SCHEDULE!$B$5:$Z$143,4,FALSE)&\" / \"&VLOOKUP($A69,SCHEDULE!$B$5:$Z$143,5,FALSE)","v":"2 / 2"}]
[67,{"$f":"VLOOKUP($A70,SCHEDULE!$B$5:$C$143,2,FALSE)","v":"Senior C Open 10's"},{"$f":"VLOOKUP($A70,SCHEDULE!$B$5:$Z$143,4,FALSE)&\" / \"&VLOOKUP($A70,SCHEDULE!$B$5:$Z$143,5,FALSE)","v":"2 / 3"}]
[68,{"$f":"VLOOKUP($A71,SCHEDULE!$B$5:$C$143,2,FALSE)","v":"BCS 10"},{"$f":"VLOOKUP($A71,SCHEDULE!$B$5:$Z$143,4,FALSE)&\" / \"&VLOOKUP($A71,SCHEDULE!$B$5:$Z$143,5,FALSE)","v":"2 / 1"}]
[69,{"$f":"VLOOKUP($A72,SCHEDULE!$B$5:$C$143,2,FALSE)","v":"BCS 10"},{"$f":"VLOOKUP($A72,SCHEDULE!$B$5:$Z$143,4,FALSE)&\" / \"&VLOOKUP($A72,SCHEDULE!$B$5:$Z$143,5,FALSE)","v":"2 / 2"}]
[70,{"$f":"VLOOKUP($A73,SCHEDULE!$B$5:$C$143,2,FALSE)","v":"Senior B Women 10"},{"$f":"VLOOKUP($A73,SCHEDULE!$B$5:$Z$143,4,FALSE)&\" / \"&VLOOKUP($A73,SCHEDULE!$B$5:$Z$143,5,FALSE)","v":"2 / 1"}]
[71,{"$f":"VLOOKUP($A74,SCHEDULE!$B$5:$C$143,2,FALSE)","v":"Senior B Women 10"},{"$f":"VLOOKUP($A74,SCHEDULE!$B$5:$Z$143,4,FALSE)&\" / \"&VLOOKUP($A74,SCHEDULE!$B$5:$Z$143,5,FALSE)","v":"2 / 2"}]
[72,{"$f":"VLOOKUP($A75,SCHEDULE!$B$5:$C$143,2,FALSE)","v":"Senior B Women 10"},{"$f":"VLOOKUP($A75,SCHEDULE!$B$5:$Z$143,4,FALSE)&\" / \"&VLOOKUP($A75,SCHEDULE!$B$5:$Z$143,5,FALSE)","v":"2 / 3"}]
[73,{"$f":"VLOOKUP($A76,SCHEDULE!$B$5:$C$143,2,FALSE)","v":"Senior B Women 10"},{"$f":"VLOOKUP($A76,SCHEDULE!$B$5:$Z$143,4,FALSE)&\" / \"&VLOOKUP($A76,SCHEDULE!$B$5:$Z$143,5,FALSE)","v":"2 / 4"}]
[74,{"$f":"VLOOKUP($A77,SCHEDULE!$B$5:$C$143,2,FALSE)","v":"Senior B Open 10"},{"$f":"VLOOKUP($A77,SCHEDULE!$B$5:$Z$143,4,FALSE)&\" / \"&VLOOKUP($A77,SCHEDULE!$B$5:$Z$143,5,FALSE)","v":"2 / 1"}]
[75,{"$f":"VLOOKUP($A78,SCHEDULE!$B$5:$C$143,2,FALSE)","v":"Senior B Open 10"},{"$f":"VLOOKUP($A78,SCHEDULE!$B$5:$Z$143,4,FALSE)&\" / \"&VLOOKUP($A78,SCHEDULE!$B$5:$Z$143,5,FALSE)","v":"2 / 2"}]
[76,{"$f":"VLOOKUP($A79,SCHEDULE!$B$5:$C$143,2,FALSE)","v":"Senior B Open 10"},{"$f":"VLOOKUP($A79,SCHEDULE!$B$5:$Z$143,4,FALSE)&\" / \"&VLOOKUP($A79,SCHEDULE!$B$5:$Z$143,5,FALSE)","v":"2 / 3"}]
[77,{"$f":"VLOOKUP($A80,SCHEDULE!$B$5:$C$143,2,FALSE)","v":"BCS 20"},{"$f":"VLOOKUP($A80,SCHEDULE!$B$5:$Z$143,4,FALSE)&\" / \"&VLOOKUP($A80,SCHEDULE!$B$5:$Z$143,5,FALSE)","v":"2 / 1"}]
[]
[{"$f":"A80+1","v":78},{"$f":"VLOOKUP($A82,SCHEDULE!$B$5:$C$143,2,FALSE)","v":"Senior B Women 20"},{"$f":"VLOOKUP($A82,SCHEDULE!$B$5:$Z$143,4,FALSE)&\" / \"&VLOOKUP($A82,SCHEDULE!$B$5:$Z$143,5,FALSE)","v":"2 / 1"}]
[79,{"$f":"VLOOKUP($A83,SCHEDULE!$B$5:$C$143,2,FALSE)","v":"Senior B Women 20"},{"$f":"VLOOKUP($A83,SCHEDULE!$B$5:$Z$143,4,FALSE)&\" / \"&VLOOKUP($A83,SCHEDULE!$B$5:$Z$143,5,FALSE)","v":"2 / 2"}]
[80,{"$f":"VLOOKUP($A84,SCHEDULE!$B$5:$C$143,2,FALSE)","v":"Senior B Open 20"},{"$f":"VLOOKUP($A84,SCHEDULE!$B$5:$Z$143,4,FALSE)&\" / \"&VLOOKUP($A84,SCHEDULE!$B$5:$Z$143,5,FALSE)","v":"2 / 1"}]
[81,{"$f":"VLOOKUP($A85,SCHEDULE!$B$5:$C$143,2,FALSE)","v":"Senior B Open 20"},{"$f":"VLOOKUP($A85,SCHEDULE!$B$5:$Z$143,4,FALSE)&\" / \"&VLOOKUP($A85,SCHEDULE!$B$5:$Z$143,5,FALSE)","v":"2 / 2"}]
[82,{"$f":"VLOOKUP($A86,SCHEDULE!$B$5:$C$143,2,FALSE)","v":"Senior A Women 10"},{"$f":"VLOOKUP($A86,SCHEDULE!$B$5:$Z$143,4,FALSE)&\" / \"&VLOOKUP($A86,SCHEDULE!$B$5:$Z$143,5,FALSE)","v":"2 / 1"}]
[83,{"$f":"VLOOKUP($A87,SCHEDULE!$B$5:$C$143,2,FALSE)","v":"Senior A Women 10"},{"$f":"VLOOKUP($A87,SCHEDULE!$B$5:$Z$143,4,FALSE)&\" / \"&VLOOKUP($A87,SCHEDULE!$B$5:$Z$143,5,FALSE)","v":"2 / 2"}]
[84,{"$f":"VLOOKUP($A88,SCHEDULE!$B$5:$C$143,2,FALSE)","v":"Senior A Women 10"},{"$f":"VLOOKUP($A88,SCHEDULE!$B$5:$Z$143,4,FALSE)&\" / \"&VLOOKUP($A88,SCHEDULE!$B$5:$Z$143,5,FALSE)","v":"2 / 3"}]
[85,{"$f":"VLOOKUP($A89,SCHEDULE!$B$5:$C$143,2,FALSE)","v":"Senior A Open 10"},{"$f":"VLOOKUP($A89,SCHEDULE!$B$5:$Z$143,4,FALSE)&\" / \"&VLOOKUP($A89,SCHEDULE!$B$5:$Z$143,5,FALSE)","v":"2 / 1"}]
[86,{"$f":"VLOOKUP($A90,SCHEDULE!$B$5:$C$143,2,FALSE)","v":"Senior A Open 10"},{"$f":"VLOOKUP($A90,SCHEDULE!$B$5:$Z$143,4,FALSE)&\" / \"&VLOOKUP($A90,SCHEDULE!$B$5:$Z$143,5,FALSE)","v":"2 / 2"}]
[87,{"$f":"VLOOKUP($A91,SCHEDULE!$B$5:$C$143,2,FALSE)","v":"Senior A Open 10"},{"$f":"VLOOKUP($A91,SCHEDULE!$B$5:$Z$143,4,FALSE)&\" / \"&VLOOKUP($A91,SCHEDULE!$B$5:$Z$143,5,FALSE)","v":"2 / 3"}]
[88,{"$f":"VLOOKUP($A92,SCHEDULE!$B$5:$C$143,2,FALSE)","v":"Senior A Women 20"},{"$f":"VLOOKUP($A92,SCHEDULE!$B$5:$Z$143,4,FALSE)&\" / \"&VLOOKUP($A92,SCHEDULE!$B$5:$Z$143,5,FALSE)","v":"2 / 1"}]
[89,{"$f":"VLOOKUP($A93,SCHEDULE!$B$5:$C$143,2,FALSE)","v":"Senior A Women 20"},{"$f":"VLOOKUP($A93,SCHEDULE!$B$5:$Z$143,4,FALSE)&\" / \"&VLOOKUP($A93,SCHEDULE!$B$5:$Z$143,5,FALSE)","v":"2 / 2"}]
[90,{"$f":"VLOOKUP($A94,SCHEDULE!$B$5:$C$143,2,FALSE)","v":"Senior A Women 20"},{"$f":"VLOOKUP($A94,SCHEDULE!$B$5:$Z$143,4,FALSE)&\" / \"&VLOOKUP($A94,SCHEDULE!$B$5:$Z$143,5,FALSE)","v":"2 / 3"}]
[91,{"$f":"VLOOKUP($A95,SCHEDULE!$B$5:$C$143,2,FALSE)","v":"Senior A Open 20"},{"$f":"VLOOKUP($A95,SCHEDULE!$B$5:$Z$143,4,FALSE)&\" / \"&VLOOKUP($A95,SCHEDULE!$B$5:$Z$143,5,FALSE)","v":"2 / 1"}]
[92,{"$f":"VLOOKUP($A96,SCHEDULE!$B$5:$C$143,2,FALSE)","v":"Senior A Open 20"},{"$f":"VLOOKUP($A96,SCHEDULE!$B$5:$Z$143,4,FALSE)&\" / \"&VLOOKUP($A96,SCHEDULE!$B$5:$Z$143,5,FALSE)","v":"2 / 2"}]
[93,{"$f":"VLOOKUP($A97,SCHEDULE!$B$5:$C$143,2,FALSE)","v":"Senior C Mixed 10"},{"$f":"VLOOKUP($A97,SCHEDULE!$B$5:$Z$143,4,FALSE)&\" / \"&VLOOKUP($A97,SCHEDULE!$B$5:$Z$143,5,FALSE)","v":"3 / 1"}]
[94,{"$f":"VLOOKUP($A98,SCHEDULE!$B$5:$C$143,2,FALSE)","v":"Senior C Mixed 10"},{"$f":"VLOOKUP($A98,SCHEDULE!$B$5:$Z$143,4,FALSE)&\" / \"&VLOOKUP($A98,SCHEDULE!$B$5:$Z$143,5,FALSE)","v":"3 / 2"}]
[95,{"$f":"VLOOKUP($A99,SCHEDULE!$B$5:$C$143,2,FALSE)","v":"Senior C Mixed 10"},{"$f":"VLOOKUP($A99,SCHEDULE!$B$5:$Z$143,4,FALSE)&\" / \"&VLOOKUP($A99,SCHEDULE!$B$5:$Z$143,5,FALSE)","v":"3 / 3"}]
[96,{"$f":"VLOOKUP($A100,SCHEDULE!$B$5:$C$143,2,FALSE)","v":"Senior C Mixed 10"},{"$f":"VLOOKUP($A100,SCHEDULE!$B$5:$Z$143,4,FALSE)&\" / \"&VLOOKUP($A100,SCHEDULE!$B$5:$Z$143,5,FALSE)","v":"3 / 4"}]
[97,{"$f":"VLOOKUP($A101,SCHEDULE!$B$5:$C$143,2,FALSE)","v":"Senior B Mixed 10's"},{"$f":"VLOOKUP($A101,SCHEDULE!$B$5:$Z$143,4,FALSE)&\" / \"&VLOOKUP($A101,SCHEDULE!$B$5:$Z$143,5,FALSE)","v":"3 / 1"}]
[98,{"$f":"VLOOKUP($A102,SCHEDULE!$B$5:$C$143,2,FALSE)","v":"Senior B Mixed 10's"},{"$f":"VLOOKUP($A102,SCHEDULE!$B$5:$Z$143,4,FALSE)&\" / \"&VLOOKUP($A102,SCHEDULE!$B$5:$Z$143,5,FALSE)","v":"3 / 2"}]
[99,{"$f":"VLOOKUP($A103,SCHEDULE!$B$5:$C$143,2,FALSE)","v":"Senior B Mixed 10's"},{"$f":"VLOOKUP($A103,SCHEDULE!$B$5:$Z$143,4,FALSE)&\" / \"&VLOOKUP($A103,SCHEDULE!$B$5:$Z$143,5,FALSE)","v":"3 / 3"}]
[100,{"$f":"VLOOKUP($A104,SCHEDULE!$B$5:$C$143,2,FALSE)","v":"Senior B Mixed 20's"},{"$f":"VLOOKUP($A104,SCHEDULE!$B$5:$Z$143,4,FALSE)&\" / \"&VLOOKUP($A104,SCHEDULE!$B$5:$Z$143,5,FALSE)","v":"3 / 1"}]
[101,{"$f":"VLOOKUP($A105,SCHEDULE!$B$5:$C$143,2,FALSE)","v":"Senior B Mixed 20's"},{"$f":"VLOOKUP($A105,SCHEDULE!$B$5:$Z$143,4,FALSE)&\" / \"&VLOOKUP($A105,SCHEDULE!$B$5:$Z$143,5,FALSE)","v":"3 / 2"}]
[102,{"$f":"VLOOKUP($A106,SCHEDULE!$B$5:$C$143,2,FALSE)","v":"Senior A Mixed 10's"},{"$f":"VLOOKUP($A106,SCHEDULE!$B$5:$Z$143,4,FALSE)&\" / \"&VLOOKUP($A106,SCHEDULE!$B$5:$Z$143,5,FALSE)","v":"3 / 1"}]
[103,{"$f":"VLOOKUP($A107,SCHEDULE!$B$5:$C$143,2,FALSE)","v":"Senior A Mixed 10's"},{"$f":"VLOOKUP($A107,SCHEDULE!$B$5:$Z$143,4,FALSE)&\" / \"&VLOOKUP($A107,SCHEDULE!$B$5:$Z$143,5,FALSE)","v":"3 / 2"}]
[104,{"$f":"VLOOKUP($A108,SCHEDULE!$B$5:$C$143,2,FALSE)","v":"Senior A Mixed 10's"},{"$f":"VLOOKUP($A108,SCHEDULE!$B$5:$Z$143,4,FALSE)&\" / \"&VLOOKUP($A108,SCHEDULE!$B$5:$Z$143,5,FALSE)","v":"3 / 3"}]
[105,{"$f":"VLOOKUP($A109,SCHEDULE!$B$5:$C$143,2,FALSE)","v":"Senior A Mixed 20"},{"$f":"VLOOKUP($A109,SCHEDULE!$B$5:$Z$143,4,FALSE)&\" / \"&VLOOKUP($A109,SCHEDULE!$B$5:$Z$143,5,FALSE)","v":"3 / 1"}]
[106,{"$f":"VLOOKUP($A110,SCHEDULE!$B$5:$C$143,2,FALSE)","v":"Senior C Women 10"},{"$f":"VLOOKUP($A110,SCHEDULE!$B$5:$Z$143,4,FALSE)&\" / \"&VLOOKUP($A110,SCHEDULE!$B$5:$Z$143,5,FALSE)","v":"3 / 1"}]
[107,{"$f":"VLOOKUP($A111,SCHEDULE!$B$5:$C$143,2,FALSE)","v":"Senior C Women 10"},{"$f":"VLOOKUP($A111,SCHEDULE!$B$5:$Z$143,4,FALSE)&\" / \"&VLOOKUP($A111,SCHEDULE!$B$5:$Z$143,5,FALSE)","v":"3 / 2"}]
[108,{"$f":"VLOOKUP($A112,SCHEDULE!$B$5:$C$143,2,FALSE)","v":"Senior C Women 10"},{"$f":"VLOOKUP($A112,SCHEDULE!$B$5:$Z$143,4,FALSE)&\" / \"&VLOOKUP($A112,SCHEDULE!$B$5:$Z$143,5,FALSE)","v":"3 / 3"}]
[109,{"$f":"VLOOKUP($A113,SCHEDULE!$B$5:$C$143,2,FALSE)","v":"Senior C Women 10"},{"$f":"VLOOKUP($A113,SCHEDULE!$B$5:$Z$143,4,FALSE)&\" / \"&VLOOKUP($A113,SCHEDULE!$B$5:$Z$143,5,FALSE)","v":"3 / 4"}]
[110,{"$f":"VLOOKUP($A114,SCHEDULE!$B$5:$C$143,2,FALSE)","v":"Senior C Women 10"},{"$f":"VLOOKUP($A114,SCHEDULE!$B$5:$Z$143,4,FALSE)&\" / \"&VLOOKUP($A114,SCHEDULE!$B$5:$Z$143,5,FALSE)","v":"3 / 5"}]
[111,{"$f":"VLOOKUP($A115,SCHEDULE!$B$5:$C$143,2,FALSE)","v":"Senior C Open 10's"},{"$f":"VLOOKUP($A115,SCHEDULE!$B$5:$Z$143,4,FALSE)&\" / \"&VLOOKUP($A115,SCHEDULE!$B$5:$Z$143,5,FALSE)","v":"3 / 1"}]
[112,{"$f":"VLOOKUP($A116,SCHEDULE!$B$5:$C$143,2,FALSE)","v":"Senior C Open 10's"},{"$f":"VLOOKUP($A116,SCHEDULE!$B$5:$Z$143,4,FALSE)&\" / \"&VLOOKUP($A116,SCHEDULE!$B$5:$Z$143,5,FALSE)","v":"2 / 2"}]
[113,{"$f":"VLOOKUP($A117,SCHEDULE!$B$5:$C$143,2,FALSE)","v":"Senior C Open 10's"},{"$f":"VLOOKUP($A117,SCHEDULE!$B$5:$Z$143,4,FALSE)&\" / \"&VLOOKUP($A117,SCHEDULE!$B$5:$Z$143,5,FALSE)","v":"3 / 3"}]
[114,{"$f":"VLOOKUP($A118,SCHEDULE!$B$5:$C$143,2,FALSE)","v":"BCS 10"},{"$f":"VLOOKUP($A118,SCHEDULE!$B$5:$Z$143,4,FALSE)&\" / \"&VLOOKUP($A118,SCHEDULE!$B$5:$Z$143,5,FALSE)","v":"3 / 1"}]
[115,{"$f":"VLOOKUP($A119,SCHEDULE!$B$5:$C$143,2,FALSE)","v":"BCS 10"},{"$f":"VLOOKUP($A119,SCHEDULE!$B$5:$Z$143,4,FALSE)&\" / \"&VLOOKUP($A119,SCHEDULE!$B$5:$Z$143,5,FALSE)","v":"3 / 2"}]
[116,{"$f":"VLOOKUP($A120,SCHEDULE!$B$5:$C$143,2,FALSE)","v":"Senior B Women 10"},{"$f":"VLOOKUP($A120,SCHEDULE!$B$5:$Z$143,4,FALSE)&\" / \"&VLOOKUP($A120,SCHEDULE!$B$5:$Z$143,5,FALSE)","v":"3 / 1"}]
[117,{"$f":"VLOOKUP($A121,SCHEDULE!$B$5:$C$143,2,FALSE)","v":"Senior B Women 10"},{"$f":"VLOOKUP($A121,SCHEDULE!$B$5:$Z$143,4,FALSE)&\" / \"&VLOOKUP($A121,SCHEDULE!$B$5:$Z$143,5,FALSE)","v":"3 / 2"}]
[118,{"$f":"VLOOKUP($A122,SCHEDULE!$B$5:$C$143,2,FALSE)","v":"Senior B Women 10"},{"$f":"VLOOKUP($A122,SCHEDULE!$B$5:$Z$143,4,FALSE)&\" / \"&VLOOKUP($A122,SCHEDULE!$B$5:$Z$143,5,FALSE)","v":"3 / 3"}]
[119,{"$f":"VLOOKUP($A123,SCHEDULE!$B$5:$C$143,2,FALSE)","v":"Senior B Women 10"},{"$f":"VLOOKUP($A123,SCHEDULE!$B$5:$Z$143,4,FALSE)&\" / \"&VLOOKUP($A123,SCHEDULE!$B$5:$Z$143,5,FALSE)","v":"3 / 4"}]
[120,{"$f":"VLOOKUP($A124,SCHEDULE!$B$5:$C$143,2,FALSE)","v":"Senior B Open 10"},{"$f":"VLOOKUP($A124,SCHEDULE!$B$5:$Z$143,4,FALSE)&\" / \"&VLOOKUP($A124,SCHEDULE!$B$5:$Z$143,5,FALSE)","v":"3 / 1"}]
[121,{"$f":"VLOOKUP($A125,SCHEDULE!$B$5:$C$143,2,FALSE)","v":"Senior B Open 10"},{"$f":"VLOOKUP($A125,SCHEDULE!$B$5:$Z$143,4,FALSE)&\" / \"&VLOOKUP($A125,SCHEDULE!$B$5:$Z$143,5,FALSE)","v":"3 / 2"}]
[122,{"$f":"VLOOKUP($A126,SCHEDULE!$B$5:$C$143,2,FALSE)","v":"Senior B Open 10"},{"$f":"VLOOKUP($A126,SCHEDULE!$B$5:$Z$143,4,FALSE)&\" / \"&VLOOKUP($A126,SCHEDULE!$B$5:$Z$143,5,FALSE)","v":"3 / 3"}]
[123,{"$f":"VLOOKUP($A127,SCHEDULE!$B$5:$C$143,2,FALSE)","v":"BCS 20"},{"$f":"VLOOKUP($A127,SCHEDULE!$B$5:$Z$143,4,FALSE)&\" / \"&VLOOKUP($A127,SCHEDULE!$B$5:$Z$143,5,FALSE)","v":"3 / 1"}]
[124,{"$f":"VLOOKUP($A128,SCHEDULE!$B$5:$C$143,2,FALSE)","v":"Senior B Women 20"},{"$f":"VLOOKUP($A128,SCHEDULE!$B$5:$Z$143,4,FALSE)&\" / \"&VLOOKUP($A128,SCHEDULE!$B$5:$Z$143,5,FALSE)","v":"3 / 1"}]
[125,{"$f":"VLOOKUP($A129,SCHEDULE!$B$5:$C$143,2,FALSE)","v":"Senior B Women 20"},{"$f":"VLOOKUP($A129,SCHEDULE!$B$5:$Z$143,4,FALSE)&\" / \"&VLOOKUP($A129,SCHEDULE!$B$5:$Z$143,5,FALSE)","v":"3 / 2"}]
[126,{"$f":"VLOOKUP($A130,SCHEDULE!$B$5:$C$143,2,FALSE)","v":"Senior B Open 20"},{"$f":"VLOOKUP($A130,SCHEDULE!$B$5:$Z$143,4,FALSE)&\" / \"&VLOOKUP($A130,SCHEDULE!$B$5:$Z$143,5,FALSE)","v":"3 / 1"}]
[127,{"$f":"VLOOKUP($A131,SCHEDULE!$B$5:$C$143,2,FALSE)","v":"Senior B Open 20"},{"$f":"VLOOKUP($A131,SCHEDULE!$B$5:$Z$143,4,FALSE)&\" / \"&VLOOKUP($A131,SCHEDULE!$B$5:$Z$143,5,FALSE)","v":"3 / 2"}]
[{"$f":"A131+1","v":128},{"$f":"VLOOKUP($A132,SCHEDULE!$B$5:$C$143,2,FALSE)","v":"Senior A Women 10"},{"$f":"VLOOKUP($A132,SCHEDULE!$B$5:$Z$143,4,FALSE)&\" / \"&VLOOKUP($A132,SCHEDULE!$B$5:$Z$143,5,FALSE)","v":"3 / 1"}]
[129,{"$f":"VLOOKUP($A133,SCHEDULE!$B$5:$C$143,2,FALSE)","v":"Senior A Women 10"},{"$f":"VLOOKUP($A133,SCHEDULE!$B$5:$Z$143,4,FALSE)&\" / \"&VLOOKUP($A133,SCHEDULE!$B$5:$Z$143,5,FALSE)","v":"3 / 2"}]
[130,{"$f":"VLOOKUP($A134,SCHEDULE!$B$5:$C$143,2,FALSE)","v":"Senior A Women 10"},{"$f":"VLOOKUP($A134,SCHEDULE!$B$5:$Z$143,4,FALSE)&\" / \"&VLOOKUP($A134,SCHEDULE!$B$5:$Z$143,5,FALSE)","v":"3 / 3"}]
[131,{"$f":"VLOOKUP($A135,SCHEDULE!$B$5:$C$143,2,FALSE)","v":"Senior A Open 10"},{"$f":"VLOOKUP($A135,SCHEDULE!$B$5:$Z$143,4,FALSE)&\" / \"&VLOOKUP($A135,SCHEDULE!$B$5:$Z$143,5,FALSE)","v":"3 / 1"}]
[132,{"$f":"VLOOKUP($A136,SCHEDULE!$B$5:$C$143,2,FALSE)","v":"Senior A Open 10"},{"$f":"VLOOKUP($A136,SCHEDULE!$B$5:$Z$143,4,FALSE)&\" / \"&VLOOKUP($A136,SCHEDULE!$B$5:$Z$143,5,FALSE)","v":"3 / 2"}]
[133,{"$f":"VLOOKUP($A137,SCHEDULE!$B$5:$C$143,2,FALSE)","v":"Senior A Open 10"},{"$f":"VLOOKUP($A137,SCHEDULE!$B$5:$Z$143,4,FALSE)&\" / \"&VLOOKUP($A137,SCHEDULE!$B$5:$Z$143,5,FALSE)","v":"3 / 3"}]
[134,{"$f":"VLOOKUP($A138,SCHEDULE!$B$5:$C$143,2,FALSE)","v":"Senior A Women 20"},{"$f":"VLOOKUP($A138,SCHEDULE!$B$5:$Z$143,4,FALSE)&\" / \"&VLOOKUP($A138,SCHEDULE!$B$5:$Z$143,5,FALSE)","v":"3 / 1"}]
[135,{"$f":"VLOOKUP($A139,SCHEDULE!$B$5:$C$143,2,FALSE)","v":"Senior A Women 20"},{"$f":"VLOOKUP($A139,SCHEDULE!$B$5:$Z$143,4,FALSE)&\" / \"&VLOOKUP($A139,SCHEDULE!$B$5:$Z$143,5,FALSE)","v":"3 / 2"}]
[136,{"$f":"VLOOKUP($A140,SCHEDULE!$B$5:$C$143,2,FALSE)","v":"Senior A Women 20"},{"$f":"VLOOKUP($A140,SCHEDULE!$B$5:$Z$143,4,FALSE)&\" / \"&VLOOKUP($A140,SCHEDULE!$B$5:$Z$143,5,FALSE)","v":"3 / 3"}]
[137,{"$f":"VLOOKUP($A141,SCHEDULE!$B$5:$C$143,2,FALSE)","v":"Senior A Open 20"},{"$f":"VLOOKUP($A141,SCHEDULE!$B$5:$Z$143,4,FALSE)&\" / \"&VLOOKUP($A141,SCHEDULE!$B$5:$Z$143,5,FALSE)","v":"3 / 1"}]
[138,{"$f":"VLOOKUP($A142,SCHEDULE!$B$5:$C$143,2,FALSE)","v":"Senior A Open 20"},{"$f":"VLOOKUP($A142,SCHEDULE!$B$5:$Z$143,4,FALSE)&\" / \"&VLOOKUP($A142,SCHEDULE!$B$5:$Z$143,5,FALSE)","v":"3 / 2"}]

{"sheet":"List_Names","index":3,"n_rows":34,"n_cols":6,"rows_kept":34,"cut":false,"hidden":true,"merged":[]}
[]
[null,"CATEGORY","DISTANCE","ROUND/FINAL","HEAT","CLUB"]
[null,"B Grade  ","200m","SEMI-FINAL","Heat 1","ACDC"]
[null,"B Grade Women","250m","FINAL","Heat 2","ASA"]
[null,"Open Age Mixed","500m","Round 1","Heat 3","ASD"]
[null,"Open Age Open","2000m","Round 2","Heat 4","Black Dragons"]
[null,"Open Age Women",null,"Round 3","Heat 5","Blade Runners"]
[null,"Open Mixed 20",null,"Round 4","Heat 6","Coorong (B Grade)"]
[null,"Premier Mixed 10",null,"Round 5","Heat 7","Coorong Dragons"]
[null,"Premier Mixed 20",null,"Round 6","Heat 8","Copper Coast / ASA"]
[null,"Premier Open 10",null,"Round 7","Heat 9","Dragon Fly"]
[null,"Premier Open 20",null,"Round 8","Heat 10","KI Dragons"]
[null,"Premier Women 10",null,"Round 9",null,"Phoenix"]
[null,"Premier Women 20",null,"Round 10",null,"Powerblades"]
[null,"Senior Mixed",null,"Round 11",null,"SADA"]
[null,"Senior Open",null,"Round 12",null,"Subsonix"]
[null,"Senior Women",null,"Round 13",null,"Victor Dragons"]
[null,"Snr A Mixed 10",null,"Round 14",null,"Waiwilta"]
[null,"Snr A Mixed 20",null,"Round 15",null,"Water Warriors"]
[null,"Snr A Open 10",null,"Round 16"]
[null,"Snr A Open 20",null,"Round 17"]
[null,"Snr A Women 10",null,"Round 18"]
[null,"Snr A Women 20",null,"Round 19"]
[null,"Snr B Mixed 10",null,"Round 20"]
[null,"Snr B Mixed 20",null,"Round 21"]
[null,"Snr B Open 10",null,"Round 22"]
[null,"Snr B Open 20",null,"Round 23"]
[null,"Snr B Women 10",null,"Round 24"]
[null,"Snr B Women 20",null,"Round 25"]
[null,null,null,"Round 26"]
[null,null,null,"Round 27"]
[null,null,null,"Round 28"]
[null,null,null,"Round 29"]
[null,null,null,"Round 30"]

{"sheet":"TEAMS","index":4,"n_rows":59,"n_cols":3,"rows_kept":59,"cut":false,"hidden":true,"merged":[]}
[1,"ACDC",{"$f":"UPPER(B1)","v":"ACDC"}]
[2,"ACDC Power",{"$f":"UPPER(B2)","v":"ACDC POWER"}]
[3,"Adelaide Phoenix","ADELAIDE PHOENIX"]
[4,"Adelaide Sea Dragons","ADELAIDE SEA DRAGONS"]
[5,"Albany Cruisers","ALBANY CRUISERS"]
[6,"Amazon Spirit","AMAZON SPIRIT"]
[7,"Amazon Warriors","AMAZON WARRIORS"]
[8,"Amazons","AMAZONS"]
[9,"Amazons Perth","AMAZONS PERTH"]
[10,"ASA","ASA"]
[11,"Boobialla","BOOBIALLA"]
[12,"Cockburn Blades","COCKBURN BLADES"]
[13,"Copper Coast","COPPER COAST"]
[14,"Copper Coast SCD","COPPER COAST SCD"]
[15,"DA Bendigo","DA BENDIGO"]
[16,"Deepwater Dragons","DEEPWATER DRAGONS"]
[17,"Derwent Storms","DERWENT STORMS"]
[18,"Diamond Phoenix","DIAMOND PHOENIX"]
[19,"Dragon Masters","DRAGON MASTERS"]
[20,"Dragons Abreast SA","DRAGONS ABREAST SA"]
[21,"Dragons Afloat","DRAGONS AFLOAT"]
[22,"FNC","FNC"]
[23,"Gippytahs","GIPPYTAHS"]
[24,"Golden Dragons","GOLDEN DRAGONS"]
[25,"Gypsey Dragons","GYPSEY DRAGONS"]
[26,"HRCC","HRCC"]
[27,"Juggernauts","JUGGERNAUTS"]
[28,"KIDS","KIDS"]
[29,"Kombo Black","KOMBO BLACK"]
[30,"Kombo Dragons","KOMBO DRAGONS"]
[31,"Kombo Dragons Black","KOMBO DRAGONS BLACK"]
[32,"Kombo Dragons Green","KOMBO DRAGONS GREEN"]
[33,"Kombo Dragons Purple","KOMBO DRAGONS PURPLE"]
[34,"Kombo Dragons White","KOMBO DRAGONS WHITE"]
[35,"Kombo Purple","KOMBO PURPLE"]
[36,"Lakers Devils","LAKERS DEVILS"]
[37,"Mannum","MANNUM"]
[38,"Mildura","MILDURA"]
[39,"Motley Crew","MOTLEY CREW"]
[40,"Newcastle Dragon Hunters","NEWCASTLE DRAGON HUNTERS"]
[41,"Newcastle Dragon Hunters Red","NEWCASTLE DRAGON HUNTERS RED"]
[42,"Outback Dragons","OUTBACK DRAGONS"]
[43,"Outback Dragons Dubbo","OUTBACK DRAGONS DUBBO"]
[44,"Peninsula Dragonflys","PENINSULA DRAGONFLYS"]
[45,"Pink Cougars","PINK COUGARS"]
[46,"Pink Dragon Hunters","PINK DRAGON HUNTERS"]
[47,"Powerblades","POWERBLADES"]
[48,"SADA","SADA"]
[]
[49,"Singapore Dragons","SINGAPORE DRAGONS"]
[50,"South Coast Dragons","SOUTH COAST DRAGONS"]
[51,"Southern Warriors","SOUTHERN WARRIORS"]
[52,"STYX","STYX"]
[53,"Titivators Urunga","TITIVATORS URUNGA"]
[54,"TJ Seahawk","TJ SEAHAWK"]
[55,"Urunga Titivators","URUNGA TITIVATORS"]
[56,"Victor Dragons","VICTOR DRAGONS"]
[57,"Victorian Composite","VICTORIAN COMPOSITE"]
[58,"Warrnambool C Dragons","WARRNAMBOOL C DRAGONS"]

{"sheet":"RESULTS","index":5,"n_rows":125,"n_cols":13,"rows_kept":125,"cut":false,"hidden":true,"merged":[[99,1,100,1],[99,3,100,3],[101,0,102,0],[101,1,102,1],[101,3,102,3],[91,1,92,1],[91,3,92,3],[93,0,94,0],[93,1,94,1],[93,3,94,3],[95,0,96,0],[95,1,96,1],[95,3,96,3],[97,0,98,0],[97,1,98,1],[97,3,98,3],[83,1,84,1],[83,3,84,3],[85,0,86,0],[85,1,86,1],[85,3,86,3],[87,0,88,0],[87,1,88,1],[87,3,88,3],[89,0,90,0],[89,1,90,1],[89,3,90,3],[3,2,4,2],[3,3,4,3],[3,1,4,1],[17,0,18,0],[19,0,20,0],[21,0,22,0],[9,0,10,0],[11,0,12,0],[13,0,14,0],[5,1,6,1],[7,1,8,1],[9,1,10,1],[11,1,12,1],[13,1,14,1],[15,1,16,1],[17,1,18,1],[19,1,20,1],[21,1,22,1],[5,0,6,0],[7,0,8,0],[3,0,4,0],[123,0,124,0],[81,0,82,0],[77,0,78,0],[79,0,80,0],[15,0,16,0],[23,0,24,0],[25,0,26,0],[27,0,28,0],[29,0,30,0],[75,0,76,0],[41,0,42,0],[43,0,44,0],[45,0,46,0],[39,0,40,0],[31,0,32,0],[33,0,34,0],[35,0,36,0],[37,0,38,0],[73,0,74,0],[71,0,72,0],[83,0,84,0],[91,0,92,0],[99,0,100,0],[103,0,104,0],[69,1,70,1],[55,1,56,1],[59,0,60,0],[55,0,56,0],[47,0,48,0],[49,0,50,0],[51,0,52,0],[53,0,54,0],[67,0,68,0],[69,0,70,0],[61,0,62,0],[63,0,64,0],[65,0,66,0],[65,1,66,1],[57,0,58,0],[71,1,72,1],[43,3,44,3],[123,1,124,1],[81,3,82,3],[57,3,58,3],[59,3,60,3],[61,3,62,3],[63,3,64,3],[65,3,66,3],[67,3,68,3],[77,1,78,1],[79,1,80,1],[81,1,82,1],[57,1,58,1],[59,1,60,1],[61,1,62,1],[63,1,64,1],[73,1,74,1],[75,1,76,1],[45,3,46,3],[47,3,48,3],[49,3,50,3],[55,3,56,3],[67,1,68,1],[27,3,28,3],[123,3,124,3],[69,3,70,3],[71,3,72,3],[73,3,74,3],[75,3,76,3],[77,3,78,3],[79,3,80,3],[51,3,52,3],[53,3,54,3],[29,3,30,3],[31,3,32,3],[33,3,34,3],[35,3,36,3],[37,3,38,3],[39,3,40,3],[41,3,42,3],[3,12,4,12],[3,9,4,9],[3,10,4,10],[21,3,22,3],[23,3,24,3],[25,3,26,3],[19,3,20,3],[5,3,6,3],[7,3,8,3],[9,3,10,3],[3,11,4,11],[3,7,4,7],[3,8,4,8],[3,4,4,4],[3,5,4,5],[3,6,4,6],[13,3,14,3],[15,3,16,3],[17,3,18,3],[11,3,12,3],[23,1,24,1],[25,1,26,1],[27,1,28,1],[47,1,48,1],[49,1,50,1],[51,1,52,1],[53,1,54,1],[39,1,40,1],[41,1,42,1],[43,1,44,1],[45,1,46,1],[31,1,32,1],[33,1,34,1],[35,1,36,1],[37,1,38,1],[29,1,30,1],[103,1,104,1],[103,3,104,3],[105,0,106,0],[105,1,106,1],[105,3,106,3],[107,0,108,0],[107,1,108,1],[107,3,108,3],[109,0,110,0],[109,1,110,1],[109,3,110,3],[111,0,112,0],[111,1,112,1],[111,3,112,3],[113,0,114,0],[113,1,114,1],[113,3,114,3],[115,0,116,0],[115,1,116,1],[115,3,116,3],[117,0,118,0],[117,1,118,1],[117,3,118,3],[119,0,120,0],[119,1,120,1],[119,3,120,3],[121,0,122,0],[121,1,122,1],[121,3,122,3]]}
[null,null,null,{"$f":"SCHEDULE!$D$2&\" \"&SCHEDULE!$E$2","v":"Location: Scullers Reserve, West Lakes"}]
[null,null,null,{"$f":"SCHEDULE!$C$1","v":45212}]
[]
["Race","CATEGORY","Round/Heat","DISTANCE","1st","2nd","3nd","4th","5th","6th","7th","8th","9th"]
[]
[{"$f":"'1'!A3","v":1},{"$f":"SCHEDULE!C5","v":"Senior C Mixed 10"},{"$f":"SCHEDULE!E5","v":1},{"$f":"'1'!D2","v":200},{"$f":"'1'!B5","v":"Kombo Dragons Black"},{"$f":"'1'!B6","v":"Mildura"},{"$f":"'1'!B7","v":"Black Sea Dragons"},{"$f":"'1'!B8","v":"Dragon Masters - Red"},{"$f":"'1'!B9","v":"Motley Crew "},{"$f":"'1'!B10","v":"Southern Warriors"},{"$f":"'1'!B11","v":" "},{"$f":"'1'!B12","v":" "},{"$f":"'1'!B13","v":" "}]
[null,null,{"$f":"SCHEDULE!F5","v":1},null,{"$f":"'1'!D5","v":""},{"$f":"'1'!D6","v":""},{"$f":"'1'!D7","v":""},{"$f":"'1'!D8","v":""},{"$f":"'1'!D9","v":""},{"$f":"'1'!D10","v":""},{"$f":"'1'!D11","v":""},{"$f":"'1'!D12","v":""},{"$f":"'1'!D13","v":""}]
[{"$f":"'2'!A3","v":2},{"$f":"SCHEDULE!C6","v":"Senior C Mixed 10"},{"$f":"SCHEDULE!E6","v":1},{"$f":"'2'!D2","v":200},{"$f":"'2'!B5","v":"Deepwater Dragons"},{"$f":"'2'!B6","v":"Peninsula Dragonflys"},{"$f":"'2'!B7","v":"SADA Sonix Yellow"},{"$f":"'2'!B8","v":"Gippsland United Orange"},{"$f":"'2'!B9","v":"Newcastle Dragon Hunters - Red"},{"$f":"'2'!B10","v":"Rainbow Dragons Teal"},{"$f":"'2'!B11","v":" "},{"$f":"'2'!B12","v":" "},{"$f":"'2'!B13","v":" "}]
[null,null,{"$f":"SCHEDULE!F6","v":2},null,{"$f":"'2'!D5","v":""},{"$f":"'2'!D6","v":""},{"$f":"'2'!D7","v":""},{"$f":"'2'!D8","v":""},{"$f":"'2'!D9","v":""},{"$f":"'2'!D10","v":""},{"$f":"'2'!D11","v":""},{"$f":"'2'!D12","v":""},{"$f":"'2'!D13","v":""}]
[{"$f":"'3'!A3","v":3},{"$f":"SCHEDULE!C7","v":"Senior C Mixed 10"},{"$f":"SCHEDULE!E7","v":1},{"$f":"'3'!D2","v":200},{"$f":"'3'!B5","v":"Gypsy Dragons"},{"$f":"'3'!B6","v":"Dragon Masters  Yellow"},{"$f":"'3'!B7","v":"Kombo Dragons Purple "},{"$f":"'3'!B8","v":"FNC"},{"$f":"'3'!B9","v":"Kangaroo Island Dragons"},{"$f":"'3'!B10","v":"Outback Dragons"},{"$f":"'3'!B11","v":" "},{"$f":"'3'!B12","v":" "},{"$f":"'3'!B13","v":" "}]
[null,null,{"$f":"SCHEDULE!F7","v":3},null,{"$f":"'3'!D5","v":""},{"$f":"'3'!D6","v":""},{"$f":"'3'!D7","v":""},{"$f":"'3'!D8","v":""},{"$f":"'3'!D9","v":""},{"$f":"'3'!D10","v":""},{"$f":"'3'!D11","v":""},{"$f":"'3'!D12","v":""},{"$f":"'3'!D13","v":""}]
[{"$f":"'4'!A3","v":4},{"$f":"SCHEDULE!C8","v":"Senior C Mixed 10"},{"$f":"SCHEDULE!E8","v":1},{"$f":"'4'!D2","v":200},{"$f":"'4'!B5","v":"Newcastle Dragon Hunters - Purple"},{"$f":"'4'!B6","v":"Gippsland United Blue"},{"$f":"'4'!B7","v":"Rainbow Dragons White"},{"$f":"'4'!B8","v":"Goolwa River Dragons"},{"$f":"'4'!B9","v":"SADA Sonix Blue"},{"$f":"'4'!B10","v":"Powerblades"},{"$f":"'4'!B11","v":" "},{"$f":"'4'!B12","v":" "},{"$f":"'4'!B13","v":" "}]
[null,null,{"$f":"SCHEDULE!F8","v":4},null,{"$f":"'4'!D5","v":""},{"$f":"'4'!D6","v":""},{"$f":"'4'!D7","v":""},{"$f":"'4'!D8","v":""},{"$f":"'4'!D9","v":""},{"$f":"'4'!D10","v":""},{"$f":"'4'!D11","v":""},{"$f":"'4'!D12","v":""},{"$f":"'4'!D13","v":""}]
[{"$f":"'5'!A3","v":5},{"$f":"SCHEDULE!C9","v":"Senior B Mixed 10's"},{"$f":"SCHEDULE!E9","v":1},{"$f":"'5'!D2","v":200},{"$f":"'5'!B5","v":"Kombo Dragons Purple"},{"$f":"'5'!B6","v":"Deepwater Dragons"},{"$f":"'5'!B7","v":"Newcastle Dragon Hunters - Red"},{"$f":"'5'!B8","v":"Hunter River Dragons"},{"$f":"'5'!B9","v":"SADA Sonix Yellow"},{"$f":"'5'!B10","v":"Southern Warriors"},{"$f":"'5'!B11","v":" "},{"$f":"'5'!B12","v":" "},{"$f":"'5'!B13","v":" "}]
[null,null,{"$f":"SCHEDULE!F9","v":1},null,{"$f":"'5'!D5","v":""},{"$f":"'5'!D6","v":""},{"$f":"'5'!D7","v":""},{"$f":"'5'!D8","v":""},{"$f":"'5'!D9","v":""},{"$f":"'5'!D10","v":""},{"$f":"'5'!D11","v":""},{"$f":"'5'!D12","v":""},{"$f":"'5'!D13","v":""}]
[{"$f":"'6'!A3","v":6},{"$f":"SCHEDULE!C10","v":"Senior B Mixed 10's"},{"$f":"SCHEDULE!E10","v":1},{"$f":"'6'!D2","v":200},{"$f":"'6'!B5","v":"Gippsland United "},{"$f":"'6'!B6","v":"SADA Sonix Blue"},{"$f":"'6'!B7","v":"Kombo Dragons Black"},{"$f":"'6'!B8","v":"Newcastle Dragon Hunters - Purple"},{"$f":"'6'!B9","v":"Mildura"},{"$f":"'6'!B10","v":"Powerblades"},{"$f":"'6'!B11","v":" "},{"$f":"'6'!B12","v":" "},{"$f":"'6'!B13","v":" "}]
[null,null,{"$f":"SCHEDULE!F10","v":2},null,{"$f":"'6'!D5","v":""},{"$f":"'6'!D6","v":""},{"$f":"'6'!D7","v":""},{"$f":"'6'!D8","v":""},{"$f":"'6'!D9","v":""},{"$f":"'6'!D10","v":""},{"$f":"'6'!D11","v":""},{"$f":"'6'!D12","v":""},{"$f":"'6'!D13","v":""}]
[{"$f":"'7'!A3","v":7},{"$f":"SCHEDULE!C11","v":"Senior B Mixed 10's"},{"$f":"SCHEDULE!E11","v":1},{"$f":"'7'!D2","v":200},{"$f":"'7'!B5","v":"Outback Dragons"},{"$f":"'7'!B6","v":"Black Sea Dragons"},{"$f":"'7'!B7","v":"FNC"},{"$f":"'7'!B8","v":"Gypsy Dragons"},{"$f":"'7'!B9","v":"Goolwa River Dragons"},{"$f":"'7'!B10","v":"Mannum"},{"$f":"'7'!B11","v":" "},{"$f":"'7'!B12","v":" "},{"$f":"'7'!B13","v":" "}]
[null,null,{"$f":"SCHEDULE!F11","v":3},null,{"$f":"'7'!D5","v":""},{"$f":"'7'!D6","v":""},{"$f":"'7'!D7","v":""},{"$f":"'7'!D8","v":""},{"$f":"'7'!D9","v":""},{"$f":"'7'!D10","v":""},{"$f":"'7'!D11","v":""},{"$f":"'7'!D12","v":""},{"$f":"'7'!D13","v":""}]
[{"$f":"'8'!A3","v":8},{"$f":"SCHEDULE!C12","v":"Senior B Mixed 20's"},{"$f":"SCHEDULE!E12","v":1},{"$f":"'8'!D2","v":200},{"$f":"'8'!B5","v":"Hunter River Dragons"},{"$f":"'8'!B6","v":"Deep Water Dragons"},{"$f":"'8'!B7","v":"Motley Crew"},{"$f":"'8'!B8","v":"Mildura"},{"$f":"'8'!B9","v":"SADA Sonix"},{"$f":"'8'!B10","v":"Newcastle Dragon Hunters - Red"},{"$f":"'8'!B11","v":" "},{"$f":"'8'!B12","v":" "},{"$f":"'8'!B13","v":" "}]
[null,null,{"$f":"SCHEDULE!F12","v":1},null,{"$f":"'8'!D5","v":""},{"$f":"'8'!D6","v":""},{"$f":"'8'!D7","v":""},{"$f":"'8'!D8","v":""},{"$f":"'8'!D9","v":""},{"$f":"'8'!D10","v":""},{"$f":"'8'!D11","v":""},{"$f":"'8'!D12","v":""},{"$f":"'8'!D13","v":""}]
[{"$f":"'9'!A3","v":9},{"$f":"SCHEDULE!C13","v":"Senior B Mixed 20's"},{"$f":"SCHEDULE!E13","v":1},{"$f":"'9'!D2","v":200},{"$f":"'9'!B5","v":"Kombo Dragons Black"},{"$f":"'9'!B6","v":"Rainbow Dragons"},{"$f":"'9'!B7","v":"Dragon Masters"},{"$f":"'9'!B8","v":"Powerblades"},{"$f":"'9'!B9","v":"Newcastle Dragon Hunters - Purple"},{"$f":"'9'!B10","v":"Gippsland United "},{"$f":"'9'!B11","v":" "},{"$f":"'9'!B12","v":" "},{"$f":"'9'!B13","v":" "}]
[null,null,{"$f":"SCHEDULE!F13","v":2},null,{"$f":"'9'!D5","v":""},{"$f":"'9'!D6","v":""},{"$f":"'9'!D7","v":""},{"$f":"'9'!D8","v":""},{"$f":"'9'!D9","v":""},{"$f":"'9'!D10","v":""},{"$f":"'9'!D11","v":""},{"$f":"'9'!D12","v":""},{"$f":"'9'!D13","v":""}]
[{"$f":"'10'!A3","v":10},{"$f":"SCHEDULE!C14","v":"Senior A Mixed 10's"},{"$f":"SCHEDULE!E14","v":1},{"$f":"'10'!D2","v":200},{"$f":"'10'!B5","v":"Hunter River Dragons"},{"$f":"'10'!B6","v":"Goolwa River Dragons"},{"$f":"'10'!B7","v":"Broadwater Dragons"},{"$f":"'10'!B8","v":"Deepwater Dragons"},{"$f":"'10'!B9","v":"Peninsula Dragonfly"},{"$f":"'10'!B10","v":" "},{"$f":"'10'!B11","v":" "},{"$f":"'10'!B12","v":" "},{"$f":"'10'!B13","v":" "}]
[null,null,{"$f":"SCHEDULE!F14","v":1},null,{"$f":"'10'!D5","v":""},{"$f":"'10'!D6","v":""},{"$f":"'10'!D7","v":""},{"$f":"'10'!D8","v":""},{"$f":"'10'!D9","v":""},{"$f":"'10'!D10","v":""},{"$f":"'10'!D11","v":""},{"$f":"'10'!D12","v":""},{"$f":"'10'!D13","v":""}]
[{"$f":"'11'!A3","v":11},{"$f":"SCHEDULE!C83","v":"Senior B Women 20"},{"$f":"SCHEDULE!E83","v":2},{"$f":"'11'!D2","v":200},{"$f":"'11'!B5","v":"Deepwater Purple"},{"$f":"'11'!B6","v":"Kombo Dragons Black"},{"$f":"'11'!B7","v":"Rainbow Dragons"},{"$f":"'11'!B8","v":"Newcastle Dragon Hunters Purple"},{"$f":"'11'!B9","v":"FNC"},{"$f":"'11'!B10","v":"Mildura"},{"$f":"'11'!B11","v":"Motley Crew"},{"$f":"'11'!B12","v":" "},{"$f":"'11'!B13","v":" "}]
[null,null,{"$f":"SCHEDULE!F83","v":1},null,{"$f":"'11'!D5","v":""},{"$f":"'11'!D6","v":""},{"$f":"'11'!D7","v":""},{"$f":"'11'!D8","v":""},{"$f":"'11'!D9","v":""},{"$f":"'11'!D10","v":""},{"$f":"'11'!D11","v":""},{"$f":"'11'!D12","v":""},{"$f":"'11'!D13","v":""}]
[{"$f":"'12'!A3","v":12},{"$f":"SCHEDULE!C84","v":"Senior B Women 20"},{"$f":"SCHEDULE!E84","v":2},{"$f":"'12'!D2","v":200},{"$f":"'12'!B5","v":"Gippsland United"},{"$f":"'12'!B6","v":"SADA Sonix"},{"$f":"'12'!B7","v":"Newcastle Dsragon Hunters Red"},{"$f":"'12'!B8","v":"Southern Warriors"},{"$f":"'12'!B9","v":"Deepwater Green"},{"$f":"'12'!B10","v":"Hunter River Dragons"},{"$f":"'12'!B11","v":"Gragons Afloat Bendigo"},{"$f":"'12'!B12","v":" "},{"$f":"'12'!B13","v":" "}]
[null,null,{"$f":"SCHEDULE!F84","v":2},null,{"$f":"'12'!D5","v":""},{"$f":"'12'!D6","v":""},{"$f":"'12'!D7","v":""},{"$f":"'12'!D8","v":""},{"$f":"'12'!D9","v":""},{"$f":"'12'!D10","v":""},{"$f":"'12'!D11","v":""},{"$f":"'12'!D12","v":""},{"$f":"'12'!D13","v":""}]
[{"$f":"'13'!A3","v":13},{"$f":"SCHEDULE!C85","v":"Senior B Open 20"},{"$f":"SCHEDULE!E85","v":2},{"$f":"'13'!D2","v":200},{"$f":"'13'!B5","v":"Southern Warriors"},{"$f":"'13'!B6","v":"Deepwater"},{"$f":"'13'!B7","v":"Outback Dragons"},{"$f":"'13'!B8","v":"Newcastle Dragon Hunters Purple"},{"$f":"'13'!B9","v":"Motley Crew"},{"$f":"'13'!B10","v":" "},{"$f":"'13'!B11","v":" "},{"$f":"'13'!B12","v":" "},{"$f":"'13'!B13","v":" "}]
[null,null,{"$f":"SCHEDULE!F85","v":1},null,{"$f":"'13'!D5","v":""},{"$f":"'13'!D6","v":""},{"$f":"'13'!D7","v":""},{"$f":"'13'!D8","v":""},{"$f":"'13'!D9","v":""},{"$f":"'13'!D10","v":""},{"$f":"'13'!D11","v":""},{"$f":"'13'!D12","v":""},{"$f":"'13'!D13","v":""}]
[{"$f":"'14'!A3","v":14},{"$f":"SCHEDULE!C86","v":"Senior B Open 20"},{"$f":"SCHEDULE!E86","v":2},{"$f":"'14'!D2","v":200},{"$f":"'14'!B5","v":"Kombo Dragons"},{"$f":"'14'!B6","v":"Gippsland United"},{"$f":"'14'!B7","v":"Hunter River Dragons"},{"$f":"'14'!B8","v":"Gypsy Dragons"},{"$f":"'14'!B9","v":"Newcastle Dsragon Hunters Red"},{"$f":"'14'!B10","v":" "},{"$f":"'14'!B11","v":" "},{"$f":"'14'!B12","v":" "},{"$f":"'14'!B13","v":" "}]
[null,null,{"$f":"SCHEDULE!F86","v":2},null,{"$f":"'14'!D5","v":""},{"$f":"'14'!D6","v":""},{"$f":"'14'!D7","v":""},{"$f":"'14'!D8","v":""},{"$f":"'14'!D9","v":""},{"$f":"'14'!D10","v":""},{"$f":"'14'!D11","v":""},{"$f":"'14'!D12","v":""},{"$f":"'14'!D13","v":""}]
[{"$f":"'15'!A3","v":15},{"$f":"SCHEDULE!C87","v":"Senior A Women 10"},{"$f":"SCHEDULE!E87","v":2},{"$f":"'15'!D2","v":200},{"$f":"'15'!B5","v":"Sada Sonix"},{"$f":"'15'!B6","v":"Dragonfire"},{"$f":"'15'!B7","v":"Southern Warriors"},{"$f":"'15'!B8","v":"Pink Dragons"},{"$f":"'15'!B9","v":"Powerblades"},{"$f":"'15'!B10","v":"Newcastle Dragon Hunters"},{"$f":"'15'!B11","v":"Mildura"},{"$f":"'15'!B12","v":" "},{"$f":"'15'!B13","v":" "}]
[null,null,{"$f":"SCHEDULE!F87","v":1},null,{"$f":"'15'!D5","v":""},{"$f":"'15'!D6","v":""},{"$f":"'15'!D7","v":""},{"$f":"'15'!D8","v":""},{"$f":"'15'!D9","v":""},{"$f":"'15'!D10","v":""},{"$f":"'15'!D11","v":""},{"$f":"'15'!D12","v":""},{"$f":"'15'!D13","v":""}]
[{"$f":"'16'!A3","v":16},{"$f":"SCHEDULE!C88","v":"Senior A Women 10"},{"$f":"SCHEDULE!E88","v":2},{"$f":"'16'!D2","v":200},{"$f":"'16'!B5","v":"Kombo Dragons Purple"},{"$f":"'16'!B6","v":"Peninsula Dragonflys"},{"$f":"'16'!B7","v":"Golden Dragons"},{"$f":"'16'!B8","v":"Hunter River Dragons"},{"$f":"'16'!B9","v":"FNC"},{"$f":"'16'!B10","v":"Dragons Abreast Adelaide"},{"$f":"'16'!B11","v":" "},{"$f":"'16'!B12","v":" "},{"$f":"'16'!B13","v":" "}]
[null,null,{"$f":"SCHEDULE!F88","v":2},null,{"$f":"'16'!D5","v":""},{"$f":"'16'!D6","v":""},{"$f":"'16'!D7","v":""},{"$f":"'16'!D8","v":""},{"$f":"'16'!D9","v":""},{"$f":"'16'!D10","v":""},{"$f":"'16'!D11","v":""},{"$f":"'16'!D12","v":""},{"$f":"'16'!D13","v":""}]
[{"$f":"'17'!A3","v":17},{"$f":"SCHEDULE!C89","v":"Senior A Women 10"},{"$f":"SCHEDULE!E89","v":2},{"$f":"'17'!D2","v":200},{"$f":"'17'!B5","v":"Goolwa River Dragons"},{"$f":"'17'!B6","v":"Diamond Phoenix"},{"$f":"'17'!B7","v":"Black Sea Dragons"},{"$f":"'17'!B8","v":"Rainbow Dragons"},{"$f":"'17'!B9","v":"Gippsland United"},{"$f":"'17'!B10","v":"Deepwater"},{"$f":"'17'!B11","v":"Kombo Dragons Black"},{"$f":"'17'!B12","v":" "},{"$f":"'17'!B13","v":" "}]
[null,null,{"$f":"SCHEDULE!F89","v":3},null,{"$f":"'17'!D5","v":""},{"$f":"'17'!D6","v":""},{"$f":"'17'!D7","v":""},{"$f":"'17'!D8","v":""},{"$f":"'17'!D9","v":""},{"$f":"'17'!D10","v":""},{"$f":"'17'!D11","v":""},{"$f":"'17'!D12","v":""},{"$f":"'17'!D13","v":""}]
[{"$f":"'18'!A3","v":18},{"$f":"SCHEDULE!C90","v":"Senior A Open 10"},{"$f":"SCHEDULE!E90","v":2},{"$f":"'18'!D2","v":200},{"$f":"'18'!B5","v":"Pink Dragons"},{"$f":"'18'!B6","v":"Mildura"},{"$f":"'18'!B7","v":"Goolwa River Dragons"},{"$f":"'18'!B8","v":"Black Sea Dragons"},{"$f":"'18'!B9","v":"Gippsland United"},{"$f":"'18'!B10","v":" "},{"$f":"'18'!B11","v":" "},{"$f":"'18'!B12","v":" "},{"$f":"'18'!B13","v":" "}]
[null,null,{"$f":"SCHEDULE!F90","v":1},null,{"$f":"'18'!D5","v":""},{"$f":"'18'!D6","v":""},{"$f":"'18'!D7","v":""},{"$f":"'18'!D8","v":""},{"$f":"'18'!D9","v":""},{"$f":"'18'!D10","v":""},{"$f":"'18'!D11","v":""},{"$f":"'18'!D12","v":""},{"$f":"'18'!D13","v":""}]
[{"$f":"'19'!A3","v":19},{"$f":"SCHEDULE!C91","v":"Senior A Open 10"},{"$f":"SCHEDULE!E91","v":2},{"$f":"'19'!D2","v":200},{"$f":"'19'!B5","v":"Southern Warriors"},{"$f":"'19'!B6","v":"Kombo Dragons Purple"},{"$f":"'19'!B7","v":"Kombo Dragons Black"},{"$f":"'19'!B8","v":"FNC"},{"$f":"'19'!B9","v":"Diamond Phoenix"},{"$f":"'19'!B10","v":" "},{"$f":"'19'!B11","v":" "},{"$f":"'19'!B12","v":" "},{"$f":"'19'!B13","v":" "}]
[null,null,{"$f":"SCHEDULE!F91","v":2},null,{"$f":"'19'!D5","v":""},{"$f":"'19'!D6","v":""},{"$f":"'19'!D7","v":""},{"$f":"'19'!D8","v":""},{"$f":"'19'!D9","v":""},{"$f":"'19'!D10","v":""},{"$f":"'19'!D11","v":""},{"$f":"'19'!D12","v":""},{"$f":"'19'!D13","v":""}]
[{"$f":"'20'!A3","v":20},{"$f":"SCHEDULE!C92","v":"Senior A Open 10"},{"$f":"SCHEDULE!E92","v":2},{"$f":"'20'!D2","v":200},{"$f":"'20'!B5","v":"Kombo Dragons Green"},{"$f":"'20'!B6","v":"Deepwater Dragons"},{"$f":"'20'!B7","v":"Hunter River Dragons"},{"$f":"'20'!B8","v":"Dragonfire"},{"$f":"'20'!B9","v":"Broadwater Dragons"},{"$f":"'20'!B10","v":" "},{"$f":"'20'!B11","v":" "},{"$f":"'20'!B12","v":" "},{"$f":"'20'!B13","v":" "}]
[null,null,{"$f":"SCHEDULE!F92","v":3},null,{"$f":"'20'!D5","v":""},{"$f":"'20'!D6","v":""},{"$f":"'20'!D7","v":""},{"$f":"'20'!D8","v":""},{"$f":"'20'!D9","v":""},{"$f":"'20'!D10","v":""},{"$f":"'20'!D11","v":""},{"$f":"'20'!D12","v":""},{"$f":"'20'!D13","v":""}]
[{"$f":"'21'!A3","v":21},{"$f":"SCHEDULE!C93","v":"Senior A Women 20"},{"$f":"SCHEDULE!E93","v":2},{"$f":"'21'!D2","v":200},{"$f":"'21'!B5","v":"Pink Dragons"},{"$f":"'21'!B6","v":"Golden Dragons"},{"$f":"'21'!B7","v":"Powerblades"},{"$f":"'21'!B8","v":"Peninsula Dragonflys"},{"$f":"'21'!B9","v":"SADA Sonix"},{"$f":"'21'!B10","v":" "},{"$f":"'21'!B11","v":" "},{"$f":"'21'!B12","v":" "},{"$f":"'21'!B13","v":" "}]
[null,null,{"$f":"SCHEDULE!F93","v":1},null,{"$f":"'21'!D5","v":""},{"$f":"'21'!D6","v":""},{"$f":"'21'!D7","v":""},{"$f":"'21'!D8","v":""},{"$f":"'21'!D9","v":""},{"$f":"'21'!D10","v":""},{"$f":"'21'!D11","v":""},{"$f":"'21'!D12","v":""},{"$f":"'21'!D13","v":""}]
[{"$f":"'22'!A3","v":22},{"$f":"SCHEDULE!C94","v":"Senior A Women 20"},{"$f":"SCHEDULE!E94","v":2},{"$f":"'22'!D2","v":200},{"$f":"'22'!B5","v":"Black Sea Dragons"},{"$f":"'22'!B6","v":"Southern Warriors"},{"$f":"'22'!B7","v":"Motley Crew"},{"$f":"'22'!B8","v":"Gippsland United"},{"$f":"'22'!B9","v":"Kombo Dragons Black"},{"$f":"'22'!B10","v":" "},{"$f":"'22'!B11","v":" "},{"$f":"'22'!B12","v":" "},{"$f":"'22'!B13","v":" "}]
[null,null,{"$f":"SCHEDULE!F94","v":2},null,{"$f":"'22'!D5","v":""},{"$f":"'22'!D6","v":""},{"$f":"'22'!D7","v":""},{"$f":"'22'!D8","v":""},{"$f":"'22'!D9","v":""},{"$f":"'22'!D9","v":""},{"$f":"'22'!D11","v":""},{"$f":"'22'!D12","v":""},{"$f":"'22'!D13","v":""}]
[{"$f":"'23'!A3","v":23},{"$f":"SCHEDULE!C95","v":"Senior A Women 20"},{"$f":"SCHEDULE!E95","v":2},{"$f":"'23'!D2","v":200},{"$f":"'23'!B5","v":"Broadwater Dragons"},{"$f":"'23'!B6","v":"Hunter River Dragons"},{"$f":"'23'!B7","v":"Newcastle Dragon Hunters"},{"$f":"'23'!B8","v":"Deepwater"},{"$f":"'23'!B9","v":"Dragons Abreast Adelaide"},{"$f":"'23'!B10","v":" "},{"$f":"'23'!B11","v":" "},{"$f":"'23'!B12","v":" "},{"$f":"'23'!B13","v":" "}]
[null,null,{"$f":"SCHEDULE!F95","v":3},null,{"$f":"'23'!D5","v":""},{"$f":"'23'!D6","v":""},{"$f":"'23'!D7","v":""},{"$f":"'23'!D8","v":""},{"$f":"'23'!D9","v":""},{"$f":"'23'!D10","v":""},{"$f":"'23'!D11","v":""},{"$f":"'23'!D12","v":""},{"$f":"'23'!D13","v":""}]
[{"$f":"'24'!A3","v":24},{"$f":"SCHEDULE!C96","v":"Senior A Open 20"},{"$f":"SCHEDULE!E96","v":2},{"$f":"'24'!D2","v":200},{"$f":"'24'!B5","v":"FNC"},{"$f":"'24'!B6","v":"Kombo Dragons Purple"},{"$f":"'24'!B7","v":"Peninsula Dragonflys"},{"$f":"'24'!B8","v":"Goolwa River Dragons"},{"$f":"'24'!B9","v":"Southern Warriors"},{"$f":"'24'!B10","v":" "},{"$f":"'24'!B11","v":" "},{"$f":"'24'!B12","v":" "},{"$f":"'24'!B13","v":" "}]
[null,null,{"$f":"SCHEDULE!F96","v":1},null,{"$f":"'24'!D5","v":""},{"$f":"'24'!D6","v":""},{"$f":"'24'!D7","v":""},{"$f":"'24'!D8","v":""},{"$f":"'24'!D9","v":""},{"$f":"'24'!D10","v":""},{"$f":"'24'!D11","v":""},{"$f":"'24'!D12","v":""},{"$f":"'24'!D13","v":""}]
[{"$f":"'25'!A3","v":25},{"$f":"SCHEDULE!C97","v":"Senior A Open 20"},{"$f":"SCHEDULE!E97","v":2},{"$f":"'25'!D2","v":200},{"$f":"'25'!B5","v":"Dragonfire"},{"$f":"'25'!B6","v":"Motley Crew"},{"$f":"'25'!B7","v":"Deepwater Hunter"},{"$f":"'25'!B8","v":"Kombo Dragons Black"},{"$f":"'25'!B9","v":"Gippsland United"},{"$f":"'25'!B10","v":" "},{"$f":"'25'!B11","v":" "},{"$f":"'25'!B12","v":" "},{"$f":"'25'!B13","v":" "}]
[null,null,{"$f":"SCHEDULE!F97","v":2},null,{"$f":"'25'!D5","v":""},{"$f":"'25'!D6","v":""},{"$f":"'25'!D7","v":""},{"$f":"'25'!D8","v":""},{"$f":"'25'!D9","v":""},{"$f":"'25'!D10","v":""},{"$f":"'25'!D11","v":""},{"$f":"'25'!D12","v":""},{"$f":"'25'!D13","v":""}]
[{"$f":"'26'!A3","v":26},{"$f":"SCHEDULE!C98","v":"Senior C Mixed 10"},{"$f":"SCHEDULE!E98","v":3},{"$f":"'26'!D2","v":200},{"$f":"'26'!B5","v":"Rainbow Dragons Teal"},{"$f":"'26'!B6","v":"SADA Sonix Yellow"},{"$f":"'26'!B7","v":"Newcastle Dragon Hunters Red"},{"$f":"'26'!B8","v":"Mildura"},{"$f":"'26'!B9","v":"Dragon Masters Red"},{"$f":"'26'!B10","v":"Powerblades"},{"$f":"'26'!B11","v":" "},{"$f":"'26'!B12","v":" "},{"$f":"'26'!B13","v":" "}]
[null,null,{"$f":"SCHEDULE!F98","v":1},null,{"$f":"'26'!D5","v":""},{"$f":"'26'!D6","v":""},{"$f":"'26'!D7","v":""},{"$f":"'26'!D8","v":""},{"$f":"'26'!D9","v":""},{"$f":"'26'!D10","v":""},{"$f":"'26'!D11","v":""},{"$f":"'26'!D12","v":""},{"$f":"'26'!D13","v":""}]
[{"$f":"'27'!A3","v":27},{"$f":"SCHEDULE!C99","v":"Senior C Mixed 10"},{"$f":"SCHEDULE!E99","v":3},{"$f":"'27'!D2","v":200},{"$f":"'27'!B5","v":"Southern Warriors"},{"$f":"'27'!B6","v":"Black Sea Dragons"},{"$f":"'27'!B7","v":"Motley Crew"},{"$f":"'27'!B8","v":"Peninsula Dragonflys"},{"$f":"'27'!B9","v":"Gippsland United Orange"},{"$f":"'27'!B10","v":"Kombo Dragons Black"},{"$f":"'27'!B11","v":" "},{"$f":"'27'!B12","v":" "},{"$f":"'27'!B13","v":" "}]
[null,null,{"$f":"SCHEDULE!F99","v":2},null,{"$f":"'27'!D5","v":""},{"$f":"'27'!D6","v":""},{"$f":"'27'!D7","v":""},{"$f":"'27'!D8","v":""},{"$f":"'27'!D9","v":""},{"$f":"'27'!D10","v":""},{"$f":"'27'!D11","v":""},{"$f":"'27'!D12","v":""},{"$f":"'27'!D13","v":""}]
[{"$f":"'28'!A3","v":28},{"$f":"SCHEDULE!C100","v":"Senior C Mixed 10"},{"$f":"SCHEDULE!E100","v":3},{"$f":"'28'!D2","v":200},{"$f":"'28'!B5","v":"Deepwater Dragons"},{"$f":"'28'!B6","v":"Kombo Dragons Purple"},{"$f":"'28'!B7","v":"Kangaroo Island Dragons"},{"$f":"'28'!B8","v":"Gippsland United Blue"},{"$f":"'28'!B9","v":"FNC"},{"$f":"'28'!B10","v":"Newcastle Dragon Hunters Purple"},{"$f":"'28'!B11","v":" "},{"$f":"'28'!B12","v":" "},{"$f":"'28'!B13","v":" "}]
[null,null,{"$f":"SCHEDULE!F100","v":3},null,{"$f":"'28'!D5","v":""},{"$f":"'28'!D6","v":""},{"$f":"'28'!D7","v":""},{"$f":"'28'!D8","v":""},{"$f":"'28'!D9","v":""},{"$f":"'28'!D10","v":""},{"$f":"'28'!D11","v":""},{"$f":"'28'!D12","v":""},{"$f":"'28'!D13","v":""}]
[{"$f":"'29'!A3","v":29},{"$f":"SCHEDULE!C101","v":"Senior C Mixed 10"},{"$f":"SCHEDULE!E101","v":3},{"$f":"'29'!D2","v":200},{"$f":"'29'!B5","v":"Outback Dragons"},{"$f":"'29'!B6","v":"Goolwa River Dragons"},{"$f":"'29'!B7","v":"SADA Sonix Blue"},{"$f":"'29'!B8","v":"Dragon Masters Yellow"},{"$f":"'29'!B9","v":"Rainbow Dragons White"},{"$f":"'29'!B10","v":"Gypsy Dragons"},{"$f":"'29'!B11","v":" "},{"$f":"'29'!B12","v":" "},{"$f":"'29'!B13","v":" "}]
[null,null,{"$f":"SCHEDULE!F101","v":4},null,{"$f":"'29'!D5","v":""},{"$f":"'29'!D6","v":""},{"$f":"'29'!D7","v":""},{"$f":"'29'!D8","v":""},{"$f":"'29'!D9","v":""},{"$f":"'29'!D10","v":""},{"$f":"'29'!D11","v":""},{"$f":"'29'!D12","v":""},{"$f":"'29'!D13","v":""}]
[{"$f":"'30'!A3","v":30},{"$f":"SCHEDULE!C102","v":"Senior B Mixed 10's"},{"$f":"SCHEDULE!E102","v":3},{"$f":"'30'!D2","v":200},{"$f":"'30'!B5","v":"Hunter River Dragons"},{"$f":"'30'!B6","v":"Mannum"},{"$f":"'30'!B7","v":"Black Sea Dragons"},{"$f":"'30'!B8","v":"Mildura"},{"$f":"'30'!B9","v":"Kombo Dragons Purple"},{"$f":"'30'!B10","v":"Newcastle Dragon Hunters Purple"},{"$f":"'30'!B11","v":" "},{"$f":"'30'!B12","v":" "},{"$f":"'30'!B13","v":" "}]
[null,null,{"$f":"SCHEDULE!F102","v":1},null,{"$f":"'30'!D5","v":""},{"$f":"'30'!D6","v":""},{"$f":"'30'!D7","v":""},{"$f":"'30'!D8","v":""},{"$f":"'30'!D9","v":""},{"$f":"'30'!D10","v":""},{"$f":"'30'!D11","v":""},{"$f":"'30'!D12","v":""},{"$f":"'30'!D13","v":""}]
[{"$f":"'31'!A3","v":31},{"$f":"SCHEDULE!C103","v":"Senior B Mixed 10's"},{"$f":"SCHEDULE!E103","v":3},{"$f":"'31'!D2","v":200},{"$f":"'31'!B5","v":"FNC"},{"$f":"'31'!B6","v":"Southern Warriors"},{"$f":"'31'!B7","v":"SADA Sonix Blue"},{"$f":"'31'!B8","v":"Deepwater Dragons"},{"$f":"'31'!B9","v":"Powerblades"},{"$f":"'31'!B10","v":"Newcastle Dragon Hunters Red"},{"$f":"'31'!B11","v":" "},{"$f":"'31'!B12","v":" "},{"$f":"'31'!B13","v":" "}]
[null,null,{"$f":"SCHEDULE!F103","v":2},null,{"$f":"'31'!D5","v":""},{"$f":"'31'!D6","v":""},{"$f":"'31'!D7","v":""},{"$f":"'31'!D8","v":""},{"$f":"'31'!D9","v":""},{"$f":"'31'!D10","v":""},{"$f":"'31'!D11","v":""},{"$f":"'31'!D12","v":""},{"$f":"'31'!D13","v":""}]
[{"$f":"'32'!A3","v":32},{"$f":"SCHEDULE!C104","v":"Senior B Mixed 10's"},{"$f":"SCHEDULE!E104","v":3},{"$f":"'32'!D2","v":200},{"$f":"'32'!B5","v":"Kombo Dragons Black"},{"$f":"'32'!B6","v":"Outback Dragons"},{"$f":"'32'!B7","v":"Goolwa River Dragons"},{"$f":"'32'!B8","v":"SADA Sonix Yellow"},{"$f":"'32'!B9","v":"Gippsland United"},{"$f":"'32'!B10","v":"Gypsy Dragons"},{"$f":"'32'!B11","v":" "},{"$f":"'32'!B12","v":" "},{"$f":"'32'!B13","v":" "}]
[null,null,{"$f":"SCHEDULE!F104","v":3},null,{"$f":"'32'!D5","v":""},{"$f":"'32'!D6","v":""},{"$f":"'32'!D7","v":""},{"$f":"'32'!D8","v":""},{"$f":"'32'!D9","v":""},{"$f":"'32'!D10","v":""},{"$f":"'32'!D11","v":""},{"$f":"'32'!D12","v":""},{"$f":"'32'!D13","v":""}]
[{"$f":"'33'!A3","v":33},{"$f":"SCHEDULE!C105","v":"Senior B Mixed 20's"},{"$f":"SCHEDULE!E105","v":3},{"$f":"'33'!D2","v":200},{"$f":"'33'!B5","v":"Newcastle Dragon Hunters Red"},{"$f":"'33'!B6","v":"Mildura"},{"$f":"'33'!B7","v":"Deepwater Dragons"},{"$f":"'33'!B8","v":"Powerblades"},{"$f":"'33'!B9","v":"Dragon Masters"},{"$f":"'33'!B10","v":"Hunter River Dragons"},{"$f":"'33'!B11","v":" "},{"$f":"'33'!B12","v":" "},{"$f":"'33'!B13","v":" "}]
[null,null,{"$f":"SCHEDULE!F105","v":1},null,{"$f":"'33'!D5","v":""},{"$f":"'33'!D6","v":""},{"$f":"'33'!D7","v":""},{"$f":"'33'!D8","v":""},{"$f":"'33'!D9","v":""},{"$f":"'33'!D10","v":""},{"$f":"'33'!D11","v":""},{"$f":"'33'!D12","v":""},{"$f":"'33'!D13","v":""}]
[{"$f":"'34'!A3","v":34},{"$f":"SCHEDULE!C106","v":"Senior B Mixed 20's"},{"$f":"SCHEDULE!E106","v":3},{"$f":"'34'!D2","v":200},{"$f":"'34'!B5","v":"Gippsland United"},{"$f":"'34'!B6","v":"Rainbow Dragons"},{"$f":"'34'!B7","v":"Newcastle Dragon Hunters Purple"},{"$f":"'34'!B8","v":"SADA Sonix"},{"$f":"'34'!B9","v":"Motley Crew"},{"$f":"'34'!B10","v":"Kombo Dragons Black"},{"$f":"'34'!B11","v":" "},{"$f":"'34'!B12","v":" "},{"$f":"'34'!B13","v":" "}]
[null,null,{"$f":"SCHEDULE!F106","v":2},null,{"$f":"'34'!D5","v":""},{"$f":"'34'!D6","v":""},{"$f":"'34'!D7","v":""},{"$f":"'34'!D8","v":""},{"$f":"'34'!D9","v":""},{"$f":"'34'!D10","v":""},{"$f":"'34'!D11","v":""},{"$f":"'34'!D12","v":""},{"$f":"'34'!D13","v":""}]
[{"$f":"'35'!A3","v":35},{"$f":"SCHEDULE!C107","v":"Senior A Mixed 10's"},{"$f":"SCHEDULE!E107","v":3},{"$f":"'35'!D2","v":200},{"$f":"'35'!B5","v":"Goolwa River Dragons"},{"$f":"'35'!B6","v":"Southern Warriors"},{"$f":"'35'!B7","v":"Deepwater Dragons"},{"$f":"'35'!B8","v":"Peninsula Dragonfly"},{"$f":"'35'!B9","v":"Gippsland United"},{"$f":"'35'!B10","v":" "},{"$f":"'35'!B11","v":" "},{"$f":"'35'!B12","v":" "},{"$f":"'35'!B13","v":" "}]
[null,null,{"$f":"SCHEDULE!F107","v":1},null,{"$f":"'35'!D5","v":""},{"$f":"'35'!D6","v":""},{"$f":"'35'!D7","v":""},{"$f":"'35'!D8","v":""},{"$f":"'35'!D9","v":""},{"$f":"'35'!D10","v":""},{"$f":"'35'!D11","v":""},{"$f":"'35'!D12","v":""},{"$f":"'35'!D13","v":""}]
[{"$f":"'36'!A3","v":36},{"$f":"SCHEDULE!C108","v":"Senior A Mixed 10's"},{"$f":"SCHEDULE!E108","v":3},{"$f":"'36'!D2","v":200},{"$f":"'36'!B5","v":"Powerblades"},{"$f":"'36'!B6","v":"Kombo Dragons Black"},{"$f":"'36'!B7","v":"Mildura"},{"$f":"'36'!B8","v":"Kombo Dragons Purple"},{"$f":"'36'!B9","v":"Black Sea Dragons"},{"$f":"'36'!B10","v":" "},{"$f":"'36'!B11","v":" "},{"$f":"'36'!B12","v":" "},{"$f":"'36'!B13","v":" "}]
[null,null,{"$f":"SCHEDULE!F108","v":2},null,{"$f":"'36'!D5","v":""},{"$f":"'36'!D6","v":""},{"$f":"'36'!D7","v":""},{"$f":"'36'!D8","v":""},{"$f":"'36'!D9","v":""},{"$f":"'36'!D10","v":""},{"$f":"'36'!D11","v":""},{"$f":"'36'!D12","v":""},{"$f":"'36'!D13","v":""}]
[{"$f":"'37'!A3","v":37},{"$f":"SCHEDULE!C109","v":"Senior A Mixed 10's"},{"$f":"SCHEDULE!E109","v":3},{"$f":"'37'!D2","v":200},{"$f":"'37'!B5","v":"Rainbow Dragons"},{"$f":"'37'!B6","v":"Dragonfire"},{"$f":"'37'!B7","v":"Hunter River Dragons"},{"$f":"'37'!B8","v":"Newcastle Dragon Hunters"},{"$f":"'37'!B9","v":"Broadwater Dragons"},{"$f":"'37'!B10","v":" "},{"$f":"'37'!B11","v":" "},{"$f":"'37'!B12","v":" "},{"$f":"'37'!B13","v":" "}]
[null,null,{"$f":"SCHEDULE!F109","v":3},null,{"$f":"'37'!D5","v":""},{"$f":"'37'!D6","v":""},{"$f":"'37'!D7","v":""},{"$f":"'37'!D8","v":""},{"$f":"'37'!D9","v":""},{"$f":"'37'!D10","v":""},{"$f":"'37'!D11","v":""},{"$f":"'37'!D12","v":""},{"$f":"'37'!D13","v":""}]
[{"$f":"'38'!A3","v":38},{"$f":"SCHEDULE!C110","v":"Senior A Mixed 20"},{"$f":"SCHEDULE!E110","v":3},{"$f":"'38'!D2","v":200},{"$f":"'38'!B5","v":"Mildura"},{"$f":"'38'!B6","v":"Deepwater Dragons"},{"$f":"'38'!B7","v":"Hunter River Dragons"},{"$f":"'38'!B8","v":"Gippsland United"},{"$f":"'38'!B9","v":"Motley Crew"},{"$f":"'38'!B10","v":"Kombo Dragons Black"},{"$f":"'38'!B11","v":" "},{"$f":"'38'!B12","v":" "},{"$f":"'38'!B13","v":" "}]
[null,null,{"$f":"SCHEDULE!F110","v":1},null,{"$f":"'38'!D5","v":""},{"$f":"'38'!D6","v":""},{"$f":"'38'!D7","v":""},{"$f":"'38'!D8","v":""},{"$f":"'38'!D9","v":""},{"$f":"'38'!D10","v":""},{"$f":"'38'!D11","v":""},{"$f":"'38'!D12","v":""},{"$f":"'38'!D13","v":""}]
[{"$f":"'39'!A3","v":39},{"$f":"SCHEDULE!C111","v":"Senior C Women 10"},{"$f":"SCHEDULE!E111","v":3},{"$f":"'39'!D2","v":200},{"$f":"'39'!$B$5","v":"SADA Sonix Yellow"},{"$f":"'39'!$B$6","v":"FNC"},{"$f":"'39'!$B$7","v":"Dragons Afloat Bendigo"},{"$f":"'39'!$B$8","v":"Dragons Afloat Port Lincoln"},{"$f":"'39'!$B$9","v":"Motley Crew"},{"$f":"'39'!$B$10","v":"Mildura"},{"$f":"'39'!$B$11","v":" "},{"$f":"'39'!$B$12","v":" "},{"$f":"'39'!$B$13","v":" "}]
[null,null,{"$f":"SCHEDULE!F111","v":1},null,{"$f":"'39'!$D$5","v":""},{"$f":"'39'!$D$6","v":""},{"$f":"'39'!$D$7","v":""},{"$f":"'39'!$D$8","v":""},{"$f":"'39'!$D$9","v":""},{"$f":"'39'!$D$10","v":""},{"$f":"'39'!$D$11","v":""},{"$f":"'39'!$D$12","v":""},{"$f":"'39'!$D$13","v":""}]
[{"$f":"'40'!A3","v":40},{"$f":"SCHEDULE!C112","v":"Senior C Women 10"},{"$f":"SCHEDULE!E112","v":3},{"$f":"'40'!D2","v":200},{"$f":"'40'!$B$5","v":"DA Bendigo Blue"},{"$f":"'40'!$B$6","v":"Southern Warriors Blue"},{"$f":"'40'!$B$7","v":"Gippsland Orange"},{"$f":"'40'!$B$8","v":"Newcastle Dragon Hunters Red"},{"$f":"'40'!$B$9","v":"Juggernauts"},{"$f":"'40'!$B$10","v":"Kangaroo Island Dragons"},{"$f":"'40'!$B$11","v":" "},{"$f":"'40'!$B$12","v":" "},{"$f":"'40'!$B$13","v":" "}]
[null,null,{"$f":"SCHEDULE!F112","v":2},null,{"$f":"'40'!$D$5","v":""},{"$f":"'40'!$D$6","v":""},{"$f":"'40'!$D$7","v":""},{"$f":"'40'!$D$8","v":""},{"$f":"'40'!$D$9","v":""},{"$f":"'40'!$D$10","v":""},{"$f":"'40'!$D$11","v":""},{"$f":"'40'!$D$12","v":""},{"$f":"'40'!$D$13","v":""}]
[{"$f":"'41'!A3","v":41},{"$f":"SCHEDULE!C113","v":"Senior C Women 10"},{"$f":"SCHEDULE!E113","v":3},{"$f":"'41'!D2","v":200},{"$f":"'41'!$B$5","v":"Scd Warrnambool"},{"$f":"'41'!$B$6","v":"Rainbow Dragons Blue"},{"$f":"'41'!$B$7","v":"Deepwater Purple"},{"$f":"'41'!$B$8","v":"Hunter River Dragons"},{"$f":"'41'!$B$9","v":"Outback Dragons"},{"$f":"'41'!$B$10","v":"Powerblades"},{"$f":"'41'!$B$11","v":" "},{"$f":"'41'!$B$12","v":" "},{"$f":"'41'!$B$13","v":" "}]
[null,null,{"$f":"SCHEDULE!F113","v":3},null,{"$f":"'41'!$D$5","v":""},{"$f":"'41'!$D$6","v":""},{"$f":"'41'!$D$7","v":""},{"$f":"'41'!$D$8","v":""},{"$f":"'41'!$D$9","v":""},{"$f":"'41'!$D$10","v":""},{"$f":"'41'!$D$11","v":""},{"$f":"'41'!$D$12","v":""},{"$f":"'41'!$D$13","v":""}]
[{"$f":"'42'!A3","v":42},{"$f":"SCHEDULE!C114","v":"Senior C Women 10"},{"$f":"SCHEDULE!E114","v":3},{"$f":"'42'!D2","v":200},{"$f":"'42'!$B$5","v":"Peninsula Dragonfly"},{"$f":"'42'!$B$6","v":"DA Bendigo Pink"},{"$f":"'42'!$B$7","v":"SADA Sonix Blue"},{"$f":"'42'!$B$8","v":"Gypsy Dragons"},{"$f":"'42'!$B$9","v":"Deepwater Green"},{"$f":"'42'!$B$10","v":"Rainbow Dragons Red"},{"$f":"'42'!$B$11","v":" "},{"$f":"'42'!$B$12","v":" "},{"$f":"'42'!$B$13","v":" "}]
[null,null,{"$f":"SCHEDULE!F114","v":4},null,{"$f":"'42'!$D$5","v":""},{"$f":"'42'!$D$6","v":""},{"$f":"'42'!$D$7","v":""},{"$f":"'42'!$D$8","v":""},{"$f":"'42'!$D$9","v":""},{"$f":"'42'!$D$10","v":""},{"$f":"'42'!$D$11","v":""},{"$f":"'42'!$D$12","v":""},{"$f":"'42'!$D$13","v":""}]
[{"$f":"'43'!A3","v":43},{"$f":"SCHEDULE!C115","v":"Senior C Women 10"},{"$f":"SCHEDULE!E115","v":3},{"$f":"'43'!D2","v":200},{"$f":"'43'!$B$5","v":"Gippsland Blue"},{"$f":"'43'!$B$6","v":"Black Sea Dragons"},{"$f":"'43'!$B$7","v":"Kombo Dragons Black"},{"$f":"'43'!$B$8","v":"Golden Dragons"},{"$f":"'43'!$B$9","v":"Southern Warriors White"},{"$f":"'43'!$B$10","v":"Newcastle Dragon Hunters Purple"},{"$f":"'43'!$B$11","v":"Dragon Masters"},{"$f":"'43'!$B$12","v":" "},{"$f":"'43'!$B$13","v":" "}]
[null,null,{"$f":"SCHEDULE!F115","v":5},null,{"$f":"'43'!$D$5","v":""},{"$f":"'43'!$D$6","v":""},{"$f":"'43'!$D$7","v":""},{"$f":"'43'!$D$8","v":""},{"$f":"'43'!$D$9","v":""},{"$f":"'43'!$D$10","v":""},{"$f":"'43'!$D$11","v":""},{"$f":"'43'!$D$12","v":""},{"$f":"'43'!$D$13","v":""}]
[{"$f":"'44'!A3","v":44},{"$f":"SCHEDULE!C116","v":"Senior C Open 10's"},{"$f":"SCHEDULE!E116","v":3},{"$f":"'44'!D2","v":200},{"$f":"'44'!$B$5","v":"Rainbow Dragons"},{"$f":"'44'!$B$6","v":"Gippsland United"},{"$f":"'44'!$B$7","v":"Hunter River Dragons"},{"$f":"'44'!$B$8","v":"Motley Crew"},{"$f":"'44'!$B$9","v":"FNC"},{"$f":"'44'!$B$10","v":"Southern Warriors Blue"},{"$f":"'44'!$B$11","v":" "},{"$f":"'44'!$B$12","v":" "},{"$f":"'44'!$B$13","v":" "}]
[null,null,{"$f":"SCHEDULE!F116","v":1},null,{"$f":"'44'!$D$5","v":""},{"$f":"'44'!$D$6","v":""},{"$f":"'44'!$D$7","v":""},{"$f":"'44'!$D$8","v":""},{"$f":"'44'!$D$9","v":""},{"$f":"'44'!$D$10","v":""},{"$f":"'44'!$D$11","v":""},{"$f":"'44'!$D$12","v":""},{"$f":"'44'!$D$13","v":""}]
[{"$f":"'45'!A3","v":45},{"$f":"SCHEDULE!C117","v":"Senior C Open 10's"},{"$f":"SCHEDULE!E117","v":2},{"$f":"'45'!D2","v":200},{"$f":"'45'!$B$5","v":"Kombo Dragons Purple"},{"$f":"'45'!$B$6","v":"Dragon Masters"},{"$f":"'45'!$B$7","v":"Outback Dragons"},{"$f":"'45'!$B$8","v":"Kangaroo Island Dragons"},{"$f":"'45'!$B$9","v":"Gypsy Dragons"},{"$f":"'45'!$B$10","v":"Southern Warriors White"},{"$f":"'45'!$B$11","v":"Powerblades"},{"$f":"'45'!$B$12","v":" "},{"$f":"'45'!$B$13","v":" "}]
[null,null,{"$f":"SCHEDULE!F117","v":2},null,{"$f":"'45'!$D$5","v":""},{"$f":"'45'!$D$6","v":""},{"$f":"'45'!$D$7","v":""},{"$f":"'45'!$D$8","v":""},{"$f":"'45'!$D$9","v":""},{"$f":"'45'!$D$10","v":""},{"$f":"'45'!$D$11","v":""},{"$f":"'45'!$D$12","v":""},{"$f":"'45'!$D$13","v":""}]
[{"$f":"'46'!A3","v":46},{"$f":"SCHEDULE!C118","v":"Senior C Open 10's"},{"$f":"SCHEDULE!E118","v":3},{"$f":"'46'!D2","v":200},{"$f":"'46'!$B$5","v":"SADA Sonix"},{"$f":"'46'!$B$6","v":"Kombo Dragons Black"},{"$f":"'46'!$B$7","v":"Mildura"},{"$f":"'46'!$B$8","v":"ASA"},{"$f":"'46'!$B$9","v":"Deepwater"},{"$f":"'46'!$B$10","v":"Newcastle Dragon Hunters Red"},{"$f":"'46'!$B$11","v":" "},{"$f":"'46'!$B$12","v":" "},{"$f":"'46'!$B$13","v":" "}]
[null,null,{"$f":"SCHEDULE!F118","v":3},null,{"$f":"'46'!$D$5","v":""},{"$f":"'46'!$D$6","v":""},{"$f":"'46'!$D$7","v":""},{"$f":"'46'!$D$8","v":""},{"$f":"'46'!$D$9","v":""},{"$f":"'46'!$D$10","v":""},{"$f":"'46'!$D$11","v":""},{"$f":"'46'!$D$12","v":""},{"$f":"'46'!$D$13","v":""}]
[{"$f":"'47'!A3","v":47},{"$f":"SCHEDULE!C119","v":"BCS 10"},{"$f":"SCHEDULE!E119","v":3},{"$f":"'47'!D2","v":200},{"$f":"'47'!$B$5","v":"DA Bendigo Pink"},{"$f":"'47'!$B$6","v":"Dragons Abreast Adelaide"},{"$f":"'47'!$B$7","v":"ASA"},{"$f":"'47'!$B$8","v":"SADA Sonix"},{"$f":"'47'!$B$9","v":" "},{"$f":"'47'!$B$10","v":" "},{"$f":"'47'!$B$11","v":" "},{"$f":"'47'!$B$12","v":" "},{"$f":"'47'!$B$13","v":" "}]
[null,null,{"$f":"SCHEDULE!F119","v":1},null,{"$f":"'47'!$D$5","v":""},{"$f":"'47'!$D$6","v":""},{"$f":"'47'!$D$7","v":""},{"$f":"'47'!$D$8","v":""},{"$f":"'47'!$D$9","v":""},{"$f":"'47'!$D$10","v":""},{"$f":"'47'!$D$11","v":""},{"$f":"'47'!$D$12","v":""},{"$f":"'47'!$D$13","v":""}]
[{"$f":"'48'!A3","v":48},{"$f":"SCHEDULE!C120","v":"BCS 10"},{"$f":"SCHEDULE!E120","v":3},{"$f":"'48'!D2","v":200},{"$f":"'48'!$B$5","v":"Pink Dragons"},{"$f":"'48'!$B$6","v":"Rainbow Dragons"},{"$f":"'48'!$B$7","v":"DA Bendigo Blue"},{"$f":"'48'!$B$8","v":"Juggernauts"},{"$f":"'48'!$B$9","v":"Motley Crew"},{"$f":"'48'!$B$10","v":" "},{"$f":"'48'!$B$11","v":" "},{"$f":"'48'!$B$12","v":" "},{"$f":"'48'!$B$13","v":" "}]
[null,null,{"$f":"SCHEDULE!F120","v":2},null,{"$f":"'48'!$D$5","v":""},{"$f":"'48'!$D$6","v":""},{"$f":"'48'!$D$7","v":""},{"$f":"'48'!$D$8","v":""},{"$f":"'48'!$D$9","v":""},{"$f":"'48'!$D$10","v":""},{"$f":"'48'!$D$11","v":""},{"$f":"'48'!$D$12","v":""},{"$f":"'48'!$D$13","v":""}]
[{"$f":"'49'!A3","v":49},{"$f":"SCHEDULE!C121","v":"Senior B Women 10"},{"$f":"SCHEDULE!E121","v":3},{"$f":"'49'!D2","v":200},{"$f":"'49'!$B$5","v":"Dragons Afloat Bendigo"},{"$f":"'49'!$B$6","v":"Dragons Afloat Port Lincoln"},{"$f":"'49'!$B$7","v":"SCD Warrnambool"},{"$f":"'49'!$B$8","v":"Outback Dragons"},{"$f":"'49'!$B$9","v":"Sada Sonix Yellow"},{"$f":"'49'!$B$10","v":"Powerblades"},{"$f":"'49'!$B$11","v":" "},{"$f":"'49'!$B$12","v":" "},{"$f":"'49'!$B$13","v":" "}]
[null,null,{"$f":"SCHEDULE!F121","v":1},null,{"$f":"'49'!$D$5","v":""},{"$f":"'49'!$D$6","v":""},{"$f":"'49'!$D$7","v":""},{"$f":"'49'!$D$8","v":""},{"$f":"'49'!$D$9","v":""},{"$f":"'49'!$D$10","v":""},{"$f":"'49'!$D$11","v":""},{"$f":"'49'!$D$12","v":""},{"$f":"'49'!$D$13","v":""}]
[{"$f":"'50'!A3","v":50},{"$f":"SCHEDULE!C122","v":"Senior B Women 10"},{"$f":"SCHEDULE!E122","v":3},{"$f":"'50'!D2","v":200},{"$f":"'50'!$B$5","v":"Newcastle Dragon Hunters Red"},{"$f":"'50'!$B$6","v":"Kombo Dragons Purple"},{"$f":"'50'!$B$7","v":"Broadwater Dragons"},{"$f":"'50'!$B$8","v":"Mildura"},{"$f":"'50'!$B$9","v":"Gypsy Dragons"},{"$f":"'50'!$B$10","v":"Deepwater"},{"$f":"'50'!$B$11","v":"Gippsland United"},{"$f":"'50'!$B$12","v":" "},{"$f":"'50'!$B$13","v":" "}]
[null,null,{"$f":"SCHEDULE!F122","v":2},null,{"$f":"'50'!$D$5","v":""},{"$f":"'50'!$D$6","v":""},{"$f":"'50'!$D$7","v":""},{"$f":"'50'!$D$8","v":""},{"$f":"'50'!$D$9","v":""},{"$f":"'50'!$D$10","v":""},{"$f":"'50'!$D$11","v":""},{"$f":"'50'!$D$12","v":""},{"$f":"'50'!$D$13","v":""}]
[{"$f":"'51'!A3","v":51},{"$f":"SCHEDULE!C123","v":"Senior B Women 10"},{"$f":"SCHEDULE!E123","v":3},{"$f":"'51'!D2","v":200},{"$f":"'51'!$B$5","v":"Juggernauts"},{"$f":"'51'!$B$6","v":"Hunter River Dragons"},{"$f":"'51'!$B$7","v":"Goolwa River Dragons"},{"$f":"'51'!$B$8","v":"FNC"},{"$f":"'51'!$B$9","v":"Kombo Dragons Black"},{"$f":"'51'!$B$10","v":"Newcastle Dragon Hunters Purple"},{"$f":"'51'!$B$11","v":" "},{"$f":"'51'!$B$12","v":" "},{"$f":"'51'!$B$13","v":" "}]
[null,null,{"$f":"SCHEDULE!F123","v":3},null,{"$f":"'51'!$D$5","v":""},{"$f":"'51'!$D$6","v":""},{"$f":"'51'!$D$7","v":""},{"$f":"'51'!$D$8","v":""},{"$f":"'51'!$D$9","v":""},{"$f":"'51'!$D$10","v":""},{"$f":"'51'!$D$11","v":""},{"$f":"'51'!$D$12","v":""},{"$f":"'51'!$D$13","v":""}]
[{"$f":"'52'!A3","v":52},{"$f":"SCHEDULE!C124","v":"Senior B Women 10"},{"$f":"SCHEDULE!E124","v":3},{"$f":"'52'!D2","v":200},{"$f":"'52'!$B$5","v":"Black Sea Dragons"},{"$f":"'52'!$B$6","v":"SADA Sonix Blue"},{"$f":"'52'!$B$7","v":"DA Bendigo"},{"$f":"'52'!$B$8","v":"Southern Warriors"},{"$f":"'52'!$B$9","v":"Golden Dragons"},{"$f":"'52'!$B$10","v":"Dragonfire"},{"$f":"'52'!$B$11","v":" "},{"$f":"'52'!$B$12","v":" "},{"$f":"'52'!$B$13","v":" "}]
[null,null,{"$f":"SCHEDULE!F124","v":4},null,{"$f":"'52'!$D$5","v":""},{"$f":"'52'!$D$6","v":""},{"$f":"'52'!$D$7","v":""},{"$f":"'52'!$D$8","v":""},{"$f":"'52'!$D$9","v":""},{"$f":"'52'!$D$10","v":""},{"$f":"'52'!$D$11","v":""},{"$f":"'52'!$D$12","v":""},{"$f":"'52'!$D$13","v":""}]
[{"$f":"'53'!A3","v":53},{"$f":"SCHEDULE!C125","v":"Senior B Open 10"},{"$f":"SCHEDULE!E125","v":3},{"$f":"'53'!D2","v":200},{"$f":"'53'!$B$5","v":"Hunter River Dragons"},{"$f":"'53'!$B$6","v":"Deepwater"},{"$f":"'53'!$B$7","v":"Kombo Dragons Black"},{"$f":"'53'!$B$8","v":"Southern Warriors"},{"$f":"'53'!$B$9","v":"Goolwa River Dragons"},{"$f":"'53'!$B$10","v":"Newcastle Dragon Hunters Red"},{"$f":"'53'!$B$11","v":" "},{"$f":"'53'!$B$12","v":" "},{"$f":"'53'!$B$13","v":" "}]
[null,null,{"$f":"SCHEDULE!F125","v":1},null,{"$f":"'53'!$D$5","v":""},{"$f":"'53'!$D$6","v":""},{"$f":"'53'!$D$7","v":""},{"$f":"'53'!$D$8","v":""},{"$f":"'53'!$D$9","v":""},{"$f":"'53'!$D$10","v":""},{"$f":"'53'!$D$11","v":""},{"$f":"'53'!$D$12","v":""},{"$f":"'53'!$D$13","v":""}]
[{"$f":"'54'!A3","v":54},{"$f":"SCHEDULE!C126","v":"Senior B Open 10"},{"$f":"SCHEDULE!E126","v":3},{"$f":"'54'!D2","v":200},{"$f":"'54'!$B$5","v":"SADA Sonix"},{"$f":"'54'!$B$6","v":"ASA"},{"$f":"'54'!$B$7","v":"Outback Dragons"},{"$f":"'54'!$B$8","v":"Gippsland United"},{"$f":"'54'!$B$9","v":"Dragonfire"},{"$f":"'54'!$B$10","v":"Kombo Dragons Green"},{"$f":"'54'!$B$11","v":" "},{"$f":"'54'!$B$12","v":" "},{"$f":"'54'!$B$13","v":" "}]
[null,null,{"$f":"SCHEDULE!F126","v":2},null,{"$f":"'54'!$D$5","v":""},{"$f":"'54'!$D$6","v":""},{"$f":"'54'!$D$7","v":""},{"$f":"'54'!$D$8","v":""},{"$f":"'54'!$D$9","v":""},{"$f":"'54'!$D$10","v":""},{"$f":"'54'!$D$11","v":""},{"$f":"'54'!$D$12","v":""},{"$f":"'54'!$D$13","v":""}]
[{"$f":"'55'!A3","v":55},{"$f":"SCHEDULE!C127","v":"Senior B Open 10"},{"$f":"SCHEDULE!E127","v":3},{"$f":"'55'!D2","v":200},{"$f":"'55'!$B$5","v":"Black Sea Dragons"},{"$f":"'55'!$B$6","v":"Gypsy Dragons"},{"$f":"'55'!$B$7","v":"Mildura"},{"$f":"'55'!$B$8","v":"Kombo Dragons Purple"},{"$f":"'55'!$B$9","v":"Mannum"},{"$f":"'55'!$B$10","v":" "},{"$f":"'55'!$B$11","v":" "},{"$f":"'55'!$B$12","v":" "},{"$f":"'55'!$B$13","v":" "}]
[null,null,{"$f":"SCHEDULE!F127","v":3},null,{"$f":"'55'!$D$5","v":""},{"$f":"'55'!$D$6","v":""},{"$f":"'55'!$D$7","v":""},{"$f":"'55'!$D$8","v":""},{"$f":"'55'!$D$9","v":""},{"$f":"'55'!$D$10","v":""},{"$f":"'55'!$D$11","v":""},{"$f":"'55'!$D$12","v":""},{"$f":"'55'!$D$13","v":""}]
[{"$f":"'56'!A3","v":56},{"$f":"SCHEDULE!C128","v":"BCS 20"},{"$f":"SCHEDULE!E128","v":3},{"$f":"'56'!D2","v":200},{"$f":"'56'!$B$5","v":" "},{"$f":"'56'!$B$6","v":"Juggernauts"},{"$f":"'56'!$B$7","v":"DA Bendigo"},{"$f":"'56'!$B$8","v":"Dragons Afloat Port Lincoln"},{"$f":"'56'!$B$9","v":" "},{"$f":"'56'!$B$10","v":" "},{"$f":"'56'!$B$11","v":" "},{"$f":"'56'!$B$12","v":" "},{"$f":"'56'!$B$13","v":" "}]
[null,null,{"$f":"SCHEDULE!F128","v":1},null,{"$f":"'56'!$D$5","v":""},{"$f":"'56'!$D$6","v":""},{"$f":"'56'!$D$7","v":""},{"$f":"'56'!$D$8","v":""},{"$f":"'56'!$D$9","v":""},{"$f":"'56'!$D$10","v":""},{"$f":"'56'!$D$11","v":""},{"$f":"'56'!$D$12","v":""},{"$f":"'56'!$D$13","v":""}]
[{"$f":"'57'!A3","v":57},{"$f":"SCHEDULE!C129","v":"Senior B Women 20"},{"$f":"SCHEDULE!E129","v":3},{"$f":"'57'!D2","v":200},{"$f":"'57'!$B$5","v":"Newcastle Dragon Hunters Red"},{"$f":"'57'!$B$6","v":"Deepwater Green"},{"$f":"'57'!$B$7","v":"Gippsland United"},{"$f":"'57'!$B$8","v":"SADA Sonix"},{"$f":"'57'!$B$9","v":"Hunter River Dragons"},{"$f":"'57'!$B$10","v":"Motley Crew"},{"$f":"'57'!$B$11","v":"Southern Warriors"},{"$f":"'57'!$B$12","v":" "},{"$f":"'57'!$B$13","v":" "}]
[null,null,{"$f":"SCHEDULE!F129","v":1},null,{"$f":"'57'!$D$5","v":""},{"$f":"'57'!$D$6","v":""},{"$f":"'57'!$D$7","v":""},{"$f":"'57'!$D$8","v":""},{"$f":"'57'!$D$9","v":""},{"$f":"'57'!$D$10","v":""},{"$f":"'57'!$D$11","v":""},{"$f":"'57'!$D$12","v":""},{"$f":"'57'!$D$13","v":""}]
[{"$f":"'58'!A3","v":58},{"$f":"SCHEDULE!C131","v":"Senior B Open 20"},{"$f":"SCHEDULE!E131","v":3},{"$f":"'58'!D2","v":200},{"$f":"'58'!$B$5","v":"Hunter River Dragons"},{"$f":"'58'!$B$6","v":"Gypsy Dragons"},{"$f":"'58'!$B$7","v":"Newcastle Dragon Hunters Red"},{"$f":"'58'!$B$8","v":"Southern Warriors"},{"$f":"'58'!$B$9","v":"Gippsland United"},{"$f":"'58'!$B$10","v":" "},{"$f":"'58'!$B$11","v":" "},{"$f":"'58'!$B$12","v":" "},{"$f":"'58'!$B$13","v":" "}]
[null,null,{"$f":"SCHEDULE!F131","v":1},null,{"$f":"'58'!$D$5","v":""},{"$f":"'58'!$D$6","v":""},{"$f":"'58'!$D$7","v":""},{"$f":"'58'!$D$8","v":""},{"$f":"'58'!$D$9","v":""},{"$f":"'58'!$D$10","v":""},{"$f":"'58'!$D$11","v":""},{"$f":"'58'!$D$12","v":""},{"$f":"'58'!$D$13","v":""}]
[{"$f":"'59'!A3","v":59},{"$f":"SCHEDULE!C132","v":"Senior B Open 20"},{"$f":"SCHEDULE!E132","v":3},{"$f":"'59'!D2","v":200},{"$f":"'59'!$B$5","v":"Outback Dragons"},{"$f":"'59'!$B$6","v":"Newcastle Dragon Hunters Purple"},{"$f":"'59'!$B$7","v":"Motley Crew"},{"$f":"'59'!$B$8","v":"Kombo Dragons"},{"$f":"'59'!$B$9","v":"Deepwater"},{"$f":"'59'!$B$10","v":" "},{"$f":"'59'!$B$11","v":" "},{"$f":"'59'!$B$12","v":" "},{"$f":"'59'!$B$13","v":" "}]
[null,null,{"$f":"SCHEDULE!F132","v":2},null,{"$f":"'59'!$D$5","v":""},{"$f":"'59'!$D$6","v":""},{"$f":"'59'!$D$7","v":""},{"$f":"'59'!$D$8","v":""},{"$f":"'59'!$D$9","v":""},{"$f":"'59'!$D$10","v":""},{"$f":"'59'!$D$11","v":""},{"$f":"'59'!$D$12","v":""},{"$f":"'59'!$D$13","v":""}]
[{"$f":"'60'!A3","v":60},{"$f":"SCHEDULE!#REF!","v":{"$error":"#REF!"}},{"$f":"SCHEDULE!#REF!","v":{"$error":"#REF!"}},{"$f":"'60'!D2","v":{"$error":"#REF!"}},{"$f":"'60'!$B$5","v":{"$error":"#REF!"}},{"$f":"'60'!$B$6","v":{"$error":"#REF!"}},{"$f":"'60'!$B$7","v":{"$error":"#REF!"}},{"$f":"'60'!$B$8","v":{"$error":"#REF!"}},{"$f":"'60'!$B$9","v":{"$error":"#REF!"}},{"$f":"'60'!$B$10","v":{"$error":"#REF!"}},{"$f":"'60'!$B$11","v":{"$error":"#REF!"}},{"$f":"'60'!$B$12","v":{"$error":"#REF!"}},{"$f":"'60'!$B$13","v":{"$error":"#REF!"}}]
[null,null,{"$f":"SCHEDULE!#REF!","v":{"$error":"#REF!"}},null,{"$f":"'60'!$D$5","v":""},{"$f":"'60'!$D$6","v":""},{"$f":"'60'!$D$7","v":""},{"$f":"'60'!$D$8","v":""},{"$f":"'60'!$D$9","v":""},{"$f":"'60'!$D$10","v":""},{"$f":"'60'!$D$11","v":""},{"$f":"'60'!$D$12","v":""},{"$f":"'60'!$D$13","v":""}]

{"sheet":"sorted schedule","index":6,"n_rows":155,"n_cols":14,"rows_kept":155,"cut":false,"hidden":false,"merged":[]}
["Day","Time","Race","Rnd/Ht","CATEGORY","1  RED","2  BLUE","3  YELLOW","4  PINK","5  GREEN","6 ORANGE","7 BLACK","8 WHITE","9 PURPLE"]
["Fri","10.36",22,"1/1","BCS 10","Motley Crew","DA Bendigo Blue","ASA","Juggernauts"," "," "," "," "," "]
["Fri","10.42",23,"1/2","BCS 10","SADA Sonix","Dragons Abreast Adelaide","Rainbow Dragons","DA Bendigo Pink","Pink Dragons"," "," "," "," "]
["Fri","15.36",68,"2/1","BCS 10","Rainbow Dragons","SADA Sonix","Pink Dragons","DA Bendigo Blue","Juggernauts"," "," "," "," "]
["Fri","15.42",69,"2/2","BCS 10","DA Bendigo Pink","Motley Crew","Dragons Abreast Adelaide","ASA"," "," "," "," "," "]
["Sat","13.36",114,"3/1","BCS 10","DA Bendigo Pink","Dragons Abreast Adelaide","ASA","SADA Sonix"," "," "," "," "," "]
["Sat","13.42",115,"3/2","BCS 10","Pink Dragons","Rainbow Dragons","DA Bendigo Blue","Juggernauts","Motley Crew"," "," "," "," "]
[]
["Fri","11.30",31,"1/1","BCS 20"," ","DA Bendigo","Dragons Afloat Port Lincoln","Juggernauts"," "," "," "," "," "]
["Fri","16.30",77,"2/1","BCS 20"," ","Dragons Afloat Port Lincoln","DA Bendigo","Juggernauts"," "," "," "," "," "]
["Sat","14.30",123,"3/1","BCS 20"," ","Juggernauts","DA Bendigo","Dragons Afloat Port Lincoln"," "," "," "," "," "]
[]
["Fri","9.24",10,"1/1","Senior A Mixed 10's","Hunter River Dragons","Goolwa River Dragons","Broadwater Dragons","Deepwater Dragons","Peninsula Dragonfly"," "," "," "," "]
["Fri","9.30",11,"1/2","Senior A Mixed 10's","Mildura","Rainbow Dragons","Gippsland United","Kombo Dragons Black","Kombo Dragons Purple"," "," "," "," "]
["Fri","9.36",12,"1/3","Senior A Mixed 10's","Southern Warriors","Powerblades","Black Sea Dragons","Dragonfire","Newcastle Dragon Hunters"," "," "," "," "]
["Fri","14.24",56,"2/1","Senior A Mixed 10's","Black Sea Dragons","Newcastle Dragon Hunters","Mildura","Powerblades","Kombo Dragons Black"," "," "," "," "]
["Fri","14.30",57,"2/2","Senior A Mixed 10's","Rainbow Dragons","Kombo Dragons Black","Hunter River Dragons","Broadwater Dragons","Deepwater Dragons"," "," "," "," "]
["Fri","14.36",58,"2/3","Senior A Mixed 10's","Gippsland United","Peninsula Dragonfly","Southern Warriors","Goolwa River Dragons","Dragonfire"," "," "," "," "]
["Sat","12.00",102,"3/1","Senior A Mixed 10's","Goolwa River Dragons","Deepwater Dragons","Southern Warriors","Peninsula Dragonfly","Gippsland United"," "," "," "," "]
["Sat","12.06",103,"3/2","Senior A Mixed 10's","Powerblades","Kombo Dragons Black","Mildura","Kombo Dragons Purple","Black Sea Dragons"," "," "," "," "]
["Sat","12.12",104,"3/3","Senior A Mixed 10's","Rainbow Dragons","Dragonfire","Hunter River Dragons","Newcastle Dragon Hunters","Broadwater Dragons"," "," "," "," "]
[]
["Fri","9.42",13,"1/1","Senior A Mixed 20","Gippsland United","Motley Crew","Kombo Dragons Black","Mildura","Deepwater Dragons","Hunter River Dragons"," "," "," "]
["Fri","14.42",59,"2/1","Senior A Mixed 20","Kombo Dragons Black","Hunter River Dragons","Deepwater Dragons","Motley Crew","Gippsland United","Mildura"," "," "," "]
["Sat","12.42",105,"3/1","Senior A Mixed 20","Mildura","Deepwater Dragons","Hunter River Dragons","Gippsland United","Motley Crew","Kombo Dragons Black"," "," "," "]
[]
["Fri","12.18",39,"1/1","Senior A Open 10","Hunter River Dragons","Pink Dragons","Broadwater Dragons","Kombo Dragons Purple","Black Sea Dragons"," "," "," "," "]
["Fri","12.24",40,"1/2","Senior A Open 10","Kombo Dragons Black","Southern Warriors","Gippsland United","Deepwater Dragons","Dragonfire"," "," "," "," "]
["Fri","12.30",41,"1/3","Senior A Open 10","Goolwa River Dragons","Kombo Dragons Green","Diamond Phoenix","Mildura","FNC"," "," "," "," "]
["Sat","10.12",85,"2/1","Senior A Open 10","Pink Dragons","Mildura","Goolwa River Dragons","Black Sea Dragons","Gippsland United"," "," "," "," "]
["Sat","10.18",86,"2/2","Senior A Open 10","Southern Warriors","Kombo Dragons Purple","Kombo Dragons Black","FNC","Diamond Phoenix"," "," "," "," "]
["Sat","10.24",87,"2/3","Senior A Open 10","Kombo Dragons Green","Deepwater Dragons","Hunter River Dragons","Dragonfire","Broadwater Dragons"," "," "," "," "]
["Sat","15.18",131,"3/1","Senior A Open 10","Diamond Phoenix","FNC","Hunter River Dragons","Kombo Dragons Green","Deepwater"," "," "," "," "]
["Sat","15.24",132,"3/2","Senior A Open 10","Broadwater Dragons","Dragonfire","Kombo Dragons Black","Southern Warriors","Mildura"," "," "," "," "]
["Sat","15.30",133,"3/3","Senior A Open 10","Gippsland United","Black Sea Dragons","Goolwa River Dragons","Pink Dragons","Kombo Dragons Purple"," "," "," "," "]
[]
["Fri","12.54",45,"1/1","Senior A Open 20","Deepwater Hunter","Kombo Dragons Black","Dragonfire","Southern Warriors","Motley Crew"," "," "," "," "]
["Fri","13.00",46,"1/2","Senior A Open 20","Peninsula Dragonflys","Goolwa River Dragons","FNC","Gippsland United","Kombo Dragons Purple"," "," "," "," "]
["Sat","10.48",91,"2/1","Senior A Open 20","FNC","Kombo Dragons Purple","Peninsula Dragonflys","Goolwa River Dragons","Southern Warriors"," "," "," "," "]
["Sat","10.54",92,"2/2","Senior A Open 20","Dragonfire","Motley Crew","Deepwater Hunter","Kombo Dragons Black","Gippsland United"," "," "," "," "]
["Sat","15.54",137,"3/1","Senior A Open 20","Southern Warriors","Goolwa River Dragons","Kombo Dragons Purple","Dragonfire","Deepwater Hunter"," "," "," "," "]
["Sat","16.00",138,"3/2","Senior A Open 20","Gippsland United","Kombo Dragons Black","Motley Crew","FNC","Peninsula Dragonflys"," "," "," "," "]
[]
["Fri","12.00",36,"1/1","Senior A Women 10","Hunter River Dragons","Mildura","FNC","Kombo Dragons Purple","Dragonfire","Gippsland United","Black Sea Dragons"," "," "]
["Fri","12.06",37,"1/2","Senior A Women 10","Pink Dragons","Kombo Dragons Black","Deepwater Dragons","Goolwa River Dragons","Diamond Phoenix","Southern Warriors"," "," "," "]
["Fri","12.12",38,"1/3","Senior A Women 10","Rainbow Dragons","Dragons Abreast Adelaide","Newcastle Dragon Hunters","SADA Sonix","Peninsula Dragonflys","Powerblades","Golden Dragons"," "," "]
["Sat","9.54",82,"2/1","Senior A Women 10","Sada Sonix","Dragonfire","Southern Warriors","Pink Dragons","Powerblades","Newcastle Dragon Hunters","Mildura"," "," "]
["Sat","10.00",83,"2/2","Senior A Women 10","Kombo Dragons Purple","Peninsula Dragonflys","Golden Dragons","Hunter River Dragons","FNC","Dragons Abreast Adelaide"," "," "," "]
["Sat","10.06",84,"2/3","Senior A Women 10","Goolwa River Dragons","Diamond Phoenix","Black Sea Dragons","Rainbow Dragons","Gippsland United","Deepwater","Kombo Dragons Black"," "," "]
["Sat","15.00",128,"3/1","Senior A Women 10","Gippsland United","Rainbow Dragons","Mildura","Goolwa River Dragons","Golden Dragons","Diamond Phoenix"," "," "," "]
["Sat","15.06",129,"3/2","Senior A Women 10","FNC","Hunter River Dragons","Dragons Abreast Adelaide","Kombo Dragons Purple","Black Sea Dragons","Peninsula Dragonflys","Deepwater"," "," "]
["Sat","15.12",130,"3/3","Senior A Women 10","Powerblades","Pink Dragons","Kombo Dragons Black","SADA Sonix","Southern Warriors","Dragonfire","Newcastle Dragon Hunters"," "," "]
[]
["Fri","12.36",42,"1/1","Senior A Women 20","Motley Crew","Deepwater Dragons","Black Sea Dragons","Kombo Dragons Black","Hunter River Dragons"," "," "," "," "]
["Fri","12.42",43,"1/2","Senior A Women 20","Powerblades","Peninsula Dragonflys","Broadwater Dragons","SADA Sonix","Southern Warriors"," "," "," "," "]
["Fri","12.48",44,"1/3","Senior A Women 20","Newcastle Dragon Hunters","Gippsland United","Pink Dragons","Dragons Abreast Adelaide","Golden Dragons"," "," "," "," "]
["Sat","10.30",88,"2/1","Senior A Women 20","Pink Dragons","Golden Dragons","Powerblades","Peninsula Dragonflys","SADA Sonix"," "," "," "," "]
["Sat","10.36",89,"2/2","Senior A Women 20","Black Sea Dragons","Southern Warriors","Motley Crew","Gippsland United","Kombo Dragons Black"," "," "," "," "]
["Sat","10.42",90,"2/3","Senior A Women 20","Broadwater Dragons","Hunter River Dragons","Newcastle Dragon Hunters","Deepwater","Dragons Abreast Adelaide"," "," "," "," "]
["Sat","15.36",134,"3/1","Senior A Women 20","Deepwater Dragons","Dragons Abreast Adelaide","Newcastle Dragon Hunters","Hunter River dragons","Broadwater Dragons"," "," "," "," "]
["Sat","15.42",135,"3/2","Senior A Women 20","Peninsula Dragonflys","Kombo Dragons Black","Powerblades","Golden Dragons","Pink Dragons"," "," "," "," "]
["Sat","15.48",136,"3/3","Senior A Women 20","Gippsland United","SADA Sonix","Motley Crew","Southern Warriors","Black Sea Dragons"," "," "," "," "]
[]
["Fri","8.54",5,"1/1","Senior B Mixed 10's","Kombo Dragons Purple","Deepwater Dragons","Newcastle Dragon Hunters - Red","Hunter River Dragons","SADA Sonix Yellow","Southern Warriors"," "," "," "]
["Fri","9.00",6,"1/2","Senior B Mixed 10's","Gippsland United ","SADA Sonix Blue","Kombo Dragons Black","Newcastle Dragon Hunters - Purple","Mildura","Powerblades"," "," "," "]
["Fri","9.06",7,"1/3","Senior B Mixed 10's","Outback Dragons","Black Sea Dragons","FNC","Gypsy Dragons","Goolwa River Dragons","Mannum"," "," "," "]
["Fri","13.54",51,"2/1","Senior B Mixed 10's","Newcastle Dragon Hunters Red","Black Sea Dragons","Gippsland United","Powerblades","Deepwater Dragons","Kombo Dragons Black"," "," "," "]
["Fri","14.00",52,"2/2","Senior B Mixed 10's","Gypsy Dragons","Goolwa River Dragons","Kombo Dragons Purple","Outback Dragons","SADA Sonix Yellow","FNC"," "," "," "]
["Fri","14.06",53,"2/3","Senior B Mixed 10's","Newcastle Dragon Hunters Purple","SADA Sonix Blue","Mannum","Southern Warriors","Mildura","Hunter River Dragons"," "," "," "]
["Sat","11.30",97,"3/1","Senior B Mixed 10's","Hunter River Dragons","Mannum","Black Sea Dragons","Mildura","Kombo Dragons Purple","Newcastle Dragon Hunters Purple"," "," "," "]
["Sat","11.36",98,"3/2","Senior B Mixed 10's","FNC","Southern Warriors","SADA Sonix Blue","Deepwater Dragons","Powerblades","Newcastle Dragon Hunters Red"," "," "," "]
["Sat","11.42",99,"3/3","Senior B Mixed 10's","Kombo Dragons Black","Outback Dragons","Goolwa River Dragons","SADA Sonix Yellow","Gippsland United","Gypsy Dragons"," "," "," "]
[]
["Fri","9.12",8,"1/1","Senior B Mixed 20's","Hunter River Dragons","Deep Water Dragons","Motley Crew","Mildura","SADA Sonix","Newcastle Dragon Hunters - Red"," "," "," "]
["Fri","9.18",9,"1/2","Senior B Mixed 20's","Kombo Dragons Black","Rainbow Dragons","Dragon Masters","Powerblades","Newcastle Dragon Hunters - Purple","Gippsland United "," "," "," "]
["Fri","14.12",54,"2/1","Senior B Mixed 20's","Dragon Masters","Rainbow Dragons","Kombo Dragons Black","Newcastle Dragon Hunters Red","Deepwater Dragons","Powerblades"," "," "," "]
["Fri","14.18",55,"2/2","Senior B Mixed 20's","Motley Crew","Newcastle Dragon Hunters Purple","Hunter River Dragons","Gippsland United","Mildura","SADA Sonix"," "," "," "]
["Sat","11.48",100,"3/1","Senior B Mixed 20's","Newcastle Dragon Hunters Red","Powerblades","Deepwater Dragons","Mildura","Dragon Masters","Hunter River Dragons"," "," "," "]
["Sat","11.54",101,"3/2","Senior B Mixed 20's","Gippsland United","Rainbow Dragons","Newcastle Dragon Hunters Purple","SADA Sonix","Motley Crew","Kombo Dragons Black"," "," "," "]
[]
["Fri","11.12",28,"1/1","Senior B Open 10","SADA Sonix","Gippsland United","Outback Dragons","Dragonfire","Kombo Dragons Black","Mildura"," "," "," "]
["Fri","11.18",29,"1/2","Senior B Open 10","Gypsy Dragons","Southern Warriors","Deepwater","Kombo Dragons Purple","ASA","Newcastle Dragon Hunters Red"," "," "," "]
["Fri","11.24",30,"1/3","Senior B Open 10","Kombo Dragons Green","Hunter River Dragons","Black Sea Dragons","Goolwa River Dragons","Mannum"," "," "," "," "]
["Fri","16.12",74,"2/1","Senior B Open 10","Kombo Dragons Purple","ASA","Mannum","Gypsy Dragons","Southern Warriors","Black Sea Dragons"," "," "," "]
["Fri","16.18",75,"2/2","Senior B Open 10","Goolwa River Dragons","Kombo Dragons Black","Newcastle Dragon Hunters Red","SADA Sonix","Gippsland United","Outback Dragons"," "," "," "]
["Fri","16.24",76,"2/3","Senior B Open 10","Dragonfire","Mildura","Kombo Dragons Green","Hunter River Dragons","Deepwater"," "," "," "," "]
["Sat","14.12",120,"3/1","Senior B Open 10","Hunter River Dragons","Deepwater","Kombo Dragons Black","Southern Warriors","Goolwa River Dragons","Newcastle Dragon Hunters Red"," "," "," "]
["Sat","14.18",121,"3/2","Senior B Open 10","SADA Sonix","Outback Dragons","ASA","Gippsland United","Dragonfire","Kombo Dragons Green"," "," "," "]
["Sat","14.24",122,"3/3","Senior B Open 10","Black Sea Dragons","Gypsy Dragons","Mildura","Kombo Dragons Purple","Mannum"," "," "," "," "]
[]
["Fri","11.48",34,"1/1","Senior B Open 20","Gypsy Dragons","Newcastle Dragon Hunters Red","Kombo Dragons","Gippsland United","Hunter River Dragons"," "," "," "," "]
["Fri","11.54",35,"1/2","Senior B Open 20","Newcastle Dragon Hunters Purple","Motley Crew","Southern Warriors","Deepwater","Outback Dragons"," "," "," "," "]
["Sat","9.40",80,"2/1","Senior B Open 20","Southern Warriors","Deepwater","Outback Dragons","Newcastle Dragon Hunters Purple","Motley Crew"," "," "," "," "]
["Sat","9.48",81,"2/2","Senior B Open 20","Kombo Dragons","Gippsland United","Hunter River Dragons","Gypsy Dragons","Newcastle Dsragon Hunters Red"," "," "," "," "]
["Sat","14.48",126,"3/1","Senior B Open 20","Hunter River Dragons","Gypsy Dragons","Newcastle Dragon Hunters Red","Southern Warriors","Gippsland United"," "," "," "," "]
["Sat","14.54",127,"3/2","Senior B Open 20","Outback Dragons","Newcastle Dragon Hunters Purple","Motley Crew","Kombo Dragons","Deepwater"," "," "," "," "]
[]
["Fri","10.48",24,"1/1","Senior B Women 10","Goolwa River Dragons","Deepwater Dragons","Dragonfire","Newcastle Dragon Hunters Red","Hunter River Dragons","Mildura"," "," "," "]
["Fri","10.54",25,"1/2","Senior B Women 10","DA Bendigo","SADA Sonix Yellow","Powerblades","Black Sea Dragons","Kombo Dragons Purple","Gypsy Dragons","Outback Dragons"," "," "]
["Fri","11.00",26,"1/3","Senior B Women 10","SCD Warrnambool","Kombo Dragons Black","Gippsland United","Dragons Afloat Bendigo","Southern Warriors","SADA Sonix Blue"," "," "," "]
["Fri","11.06",27,"1/4","Senior B Women 10","Broadwater Dragons","Golden Dragons","Newcastle Dragon Hunters Purple","Juggernauts","Dragons Afloat Port Lincoln","FNC"," "," "," "]
["Fri","15.48",70,"2/1","Senior B Women 10","Newcastle Dragon Hunters Purple","Outback Dragons","Golden Dragons","Kombo Dragons Purple","Goolwa River Dragons","Black Sea Dragons"," "," "," "]
["Fri","15.54",71,"2/2","Senior B Women 10","Dragonfire","Mildura","Kombo Dragons Black","Dragons Afloat Port Lincoln","Broadwater Dragons","Newcastle Dragon Hunters Red","SCD Warrnambool"," "," "]
["Fri","16.00",72,"2/3","Senior B Women 10","Deepwater","SADA Sonix Blue","Gypsy Dragons","Southern Warriors","Gippsland United","Juggernauts"," "," "," "]
["Fri","16.06",73,"2/4","Senior B Women 10","Powerblades","FNC","SADA Sonix Yellow","Hunter River Dragons","DA Bendigo","Dragons Afloat Bendigo"," "," "," "]
["Sat","13.48",116,"3/1","Senior B Women 10","Dragons Afloat Bendigo","Dragons Afloat Port Lincoln","SCD Warrnambool","Outback Dragons","Sada Sonix Yellow","Powerblades"," "," "," "]
["Sat","13.54",117,"3/2","Senior B Women 10","Newcastle Dragon Hunters Red","Kombo Dragons Purple","Broadwater Dragons","Mildura","Gypsy Dragons","Deepwater","Gippsland United"," "," "]
["Sat","14.00",118,"3/3","Senior B Women 10","Juggernauts","Hunter River Dragons","Goolwa River Dragons","FNC","Kombo Dragons Black","Newcastle Dragon Hunters Purple"," "," "," "]
["Sat","14.06",119,"3/4","Senior B Women 10","Black Sea Dragons","Southern Warriors","DA Bendigo","SADA Sonix Blue","Golden Dragons","Dragonfire"," "," "," "]
[]
["Fri","11.36",32,"1/1","Senior B Women 20","Gippsland United","Hunter River Dragons","Deepwater Purple","Newcastle Dragon Hunters Red","Southern Warriors","FNC","Kombo Dragons Black"," "," "]
["Fri","11.42",33,"1/2","Senior B Women 20","Dragons Afloat Bendigo","Mildura","Motley Crew","Rainbow Dragons","Newcastle Dragon Hunters Purple","Deepwater Green","SADA Sonix"," "," "]
["Sat","9.00",78,"2/1","Senior B Women 20","Deepwater Purple","Kombo Dragons Black","Rainbow Dragons","Newcastle Dragon Hunters Purple","FNC","Mildura","Motley Crew"," "," "]
["Sat","9.32",79,"2/2","Senior B Women 20","Gippsland United","SADA Sonix","Newcastle Dsragon Hunters Red","Southern Warriors","Deepwater Green","Hunter River Dragons","Gragons Afloat Bendigo"," "," "]
["Sat","14.36",124,"3/1","Senior B Women 20","Newcastle Dragon Hunters Red","Deepwater Green","Gippsland United","SADA Sonix","Hunter River Dragons","Motley Crew","Southern Warriors"," "," "]
["Sat","14.42",125,"3/2","Senior B Women 20","Rainbow Dragons","FNC","Dragons Afloat Bendigo","Kombo Dragons Black","Mildura","Deepwater Purple","Newcastle Dragon Hunters Purple"," "," "]
[]
["Fri","8.30",1,"1/1","Senior C Mixed 10","Kombo Dragons Black","Mildura","Black Sea Dragons","Dragon Masters - Red","Motley Crew ","Southern Warriors"," "," "," "]
["Fri","8.36",2,"1/2","Senior C Mixed 10","Deepwater Dragons","Peninsula Dragonflys","SADA Sonix Yellow","Gippsland United Orange","Newcastle Dragon Hunters - Red","Rainbow Dragons Teal"," "," "," "]
["Fri","8.42",3,"1/3","Senior C Mixed 10","Gypsy Dragons","Dragon Masters  Yellow","Kombo Dragons Purple ","FNC","Kangaroo Island Dragons","Outback Dragons"," "," "," "]
["Fri","8.48",4,"1/4","Senior C Mixed 10","Newcastle Dragon Hunters - Purple","Gippsland United Blue","Rainbow Dragons White","Goolwa River Dragons","SADA Sonix Blue","Powerblades"," "," "," "]
["Fri","13.30",47,"2/1","Senior C Mixed 10","SADA Sonix Yellow","Motley Crew","Rainbow Dragons Teal","Deepwater Dragons","Peninsula Dragonflys","Dragon Masters Red"," "," "," "]
["Fri","13.36",48,"2/2","Senior C Mixed 10","Black Sea Dragons","Newcastle Dragon Hunters Red","Kombo Dragons Black","Southern Warriors","Mildura","Gippsland United Orange"," "," "," "]
["Fri","13.42",49,"2/3","Senior C Mixed 10","Goolwa River Dragons","Kangaroo Island Dragons","Outback Dragons","Powerblades","SADA Sonix Blue","Kombo Dragons Purple"," "," "," "]
["Fri","13.48",50,"2/4","Senior C Mixed 10","FNC","Dragon Masters Yellow","Newcastle Dragon Hunters Purple","Gypsy Dragons","Gippsland United Blue","Rainbow Dragons White"," "," "," "]
["Sat","11.06",93,"3/1","Senior C Mixed 10","Rainbow Dragons Teal","SADA Sonix Yellow","Newcastle Dragon Hunters Red","Mildura","Dragon Masters Red","Powerblades"," "," "," "]
["Sat","11.12",94,"3/2","Senior C Mixed 10","Southern Warriors","Black Sea Dragons","Motley Crew","Peninsula Dragonflys","Gippsland United Orange","Kombo Dragons Black"," "," "," "]
["Sat","11.18",95,"3/3","Senior C Mixed 10","Deepwater Dragons","Kombo Dragons Purple","Kangaroo Island Dragons","Gippsland United Blue","FNC","Newcastle Dragon Hunters Purple"," "," "," "]
["Sat","11.24",96,"3/4","Senior C Mixed 10","Outback Dragons","Goolwa River Dragons","SADA Sonix Blue","Dragon Masters Yellow","Rainbow Dragons White","Gypsy Dragons"," "," "," "]
[]
["Fri","10.18",19,"1/1","Senior C Open 10's","Southern Warriors Blue","ASA","Kombo Dragons Black","FNC","Outback Dragons","Gypsy Dragons","Rainbow Dragons"," "," "]
["Fri","10.24",20,"1/2","Senior C Open 10's","Powerblades","Motley Crew","Dragon Masters","Deepwater","Gippsland United","Kombo Dragons Purple"," "," "," "]
["Fri","10.30",21,"1/3","Senior C Open 10's","Newcastle Dragon Hunters Red","Kangaroo Island Dragons","Hunter River Dragons","Southern Warriors White","Mildura","SADA Sonix"," "," "," "]
["Fri","15.18",65,"2/1","Senior C Open 10's","Rainbow Dragons","Mildura","PowerBlades","SADA Sonix","Kangaroo Island Dragons","Hunter River Dragons"," "," "," "]
["Fri","15.24",66,"2/2","Senior C Open 10's","Deepwater","Gippsland United","Southern Warriors Blue","FNC","Gypsy Dragons","Kombo Dragons Black","ASA"," "," "]
["Fri","15.30",67,"2/3","Senior C Open 10's","Southern Warriors White","Outback Dragons","Newcastle Dragon Hunters Red","Kombo Dragons Purple","Motley Crew","Dragon Masters"," "," "," "]
["Sat","13.18",111,"3/1","Senior C Open 10's","Rainbow Dragons","Hunter River Dragons","Gippsland United","Motley Crew","FNC","Southern Warriors Blue"," "," "," "]
["Sat","13.24",112,"2/2","Senior C Open 10's","Kombo Dragons Purple","Dragon Masters","Outback Dragons","Kangaroo Island Dragons","Gypsy Dragons","Southern Warriors White","Powerblades"," "," "]
["Sat","13.30",113,"3/3","Senior C Open 10's","SADA Sonix","Kombo Dragons Black","Mildura","ASA","Deepwater","Newcastle Dragon Hunters Red"," "," "," "]
[]
["Fri","9.48",14,"1/1","Senior C Women 10","FNC","Southern Warriors Blue","Black Sea Dragons","Gypsy Dragons","SADA Sonix Yellow","Rainbow Dragons Blue"," "," "," "]
["Fri","9.54",15,"1/2","Senior C Women 10","Gippsland Orange","Deepwater Purple","SADA Sonix Blue","Dragons Afloat Bendigo","Kombo Dragons Black","Newcastle Dragon Hunters Red","Hunter River Dragons"," "," "]
["Fri","10.00",16,"1/3","Senior C Women 10","DA Bendigo Pink","Dragons Afloat Port Lincoln","Dragon Masters","Juggernauts","Deepwater Green","Outback Dragons"," "," "," "]
["Fri","10.06",17,"1/4","Senior C Women 10","Motley Crew","Southern Warriors White","Kangaroo Island Dragons","Powerblades","Rainbow Dragons Red","Mildura"," "," "," "]
["Fri","10.12",18,"1/5","Senior C Women 10","Newcastle Dragon Hunters Purple","SCD Warrnambool","Peninsuls Dragonflys","Gippsland Blue","DA Bendigo Blue","Golden Dragons"," "," "," "]
["Fri","14.48",60,"2/1","Senior C Women 10","Black Sea Dragons","Rainbow Dragons Blue","SADA Sonix Blue","Newcastle Dragon Hunters Red","Dragons Afloat Port Lincoln","Deepwater Green"," "," "," "]
["Fri","14.54",61,"2/2","Senior C Women 10","Southern Warriors White","Rainbow Dragons Red","SCD Warrnambool","DA Bendigo Blue","FNC","Gypsy Dragons"," "," "," "]
["Fri","15.00",62,"2/3","Senior C Women 10","Gippsland Blue","Dragons Afloat Bendigo","Hunter River Dragons","Dragon Masters","Outback Dragons","Kangaroo Island Dragons"," "," "," "]
["Fri","15.06",63,"2/4","Senior C Women 10","Mildura","Peninsula Dragonfly","Golden Dragons","Southern Warriors Blue","SADA Sonix Yellow","Deepwater Purple"," "," "," "]
["Fri","15.12",64,"2/5","Senior C Women 10","Kombo Dragons Black","DA Bendigo Pink","Juggernauts","Motley Crew","Powerblades","Newcastle Dragon Hunters Purple","Gippsland Orange"," "," "]
["Sat","12.48",106,"3/1","Senior C Women 10","SADA Sonix Yellow","FNC","Dragons Afloat Bendigo","Dragons Afloat Port Lincoln","Motley Crew","Mildura"," "," "," "]
["Sat","12.54",107,"3/2","Senior C Women 10","DA Bendigo Blue","Southern Warriors Blue","Gippsland Orange","Newcastle Dragon Hunters Red","Juggernauts","Kangaroo Island Dragons"," "," "," "]
["Sat","13.00",108,"3/3","Senior C Women 10","Scd Warrnambool","Rainbow Dragons Blue","Deepwater Purple","Hunter River Dragons","Outback Dragons","Powerblades"," "," "," "]
["Sat","13.06",109,"3/4","Senior C Women 10","Peninsula Dragonfly","Gypsy Dragons","SADA Sonix Blue","DA Bendigo Pink","Deepwater Green","Rainbow Dragons Red"," "," "," "]
["Sat","13.12",110,"3/5","Senior C Women 10","Gippsland Blue","Black Sea Dragons","Kombo Dragons Black","Golden Dragons","Southern Warriors White","Newcastle Dragon Hunters Purple","Dragon Masters"," "," "]

{"sheet":"Race Printout","index":7,"n_rows":12,"n_cols":6,"rows_kept":12,"cut":false,"hidden":false,"merged":[[1,1,2,1],[1,3,2,3]]}
[]
["Race",{"$f":"VLOOKUP($A$3,SCHEDULE!$B$5:$M$143,2,FALSE)","v":"Senior C Mixed 10"},{"$f":"VLOOKUP($A$3,SCHEDULE!$B$5:$F$143,4,FALSE)","v":1},200,"Sched Time","Start time"]
[1,null,{"$f":"VLOOKUP($A$3,SCHEDULE!$B$5:$F$143,5,FALSE)","v":1},null,{"$f":"VLOOKUP($A$3,SCHEDULE!$B$5:$Q$143,15,FALSE)&\" \"&INDEX(SCHEDULE!$A$5:$A$143,MATCH($A$3,SCHEDULE!$B$5:$B$143))","v":"Fri 8.30"}]
["Position","Teams",null,"Race time","Lane","Finish time"]
[1,{"$f":"VLOOKUP($A$3,SCHEDULE!$B$5:$M$143,6,FALSE)","v":"Kombo Dragons Black"},null,{"$f":"IF(F5=0,\"\",F5-$F$3)","v":""},1]
[2,{"$f":"VLOOKUP($A$3,SCHEDULE!$B$5:$M$143,7,FALSE)","v":"Mildura"},null,"",2]
[3,{"$f":"VLOOKUP($A$3,SCHEDULE!$B$5:$M$143,8,FALSE)","v":"Black Sea Dragons"},null,"",3]
[4,{"$f":"VLOOKUP($A$3,SCHEDULE!$B$5:$M$143,9,FALSE)","v":"Dragon Masters - Red"},null,"",4]
[5,{"$f":"VLOOKUP($A$3,SCHEDULE!$B$5:$M$143,10,FALSE)","v":"Motley Crew "},null,"",5]
[6,{"$f":"VLOOKUP($A$3,SCHEDULE!$B$5:$M$143,11,FALSE)","v":"Southern Warriors"},null,"",6]
[7,{"$f":"VLOOKUP($A$3,SCHEDULE!$B$5:$M$143,12,FALSE)","v":" "},null,"",7]
[8,null,null,"",8]

{"sheet":"BCS 10","index":8,"n_rows":10,"n_cols":9,"rows_kept":10,"cut":false,"hidden":false,"merged":[[1,0,8,0]]}
["EVENT","TEAM",22,23,68,69,114,115,"BEST 2 TIMES"]
["BCS 10","Motley Crew","00:01:06.860",null,null,"DNS",null,"00:01:05.910",{"$f":"C2+ H2","v":"00:02:12.770"}]
[null,"SADA Sonix",null,"00:01:10.100","00:01:14.640",null,"00:01:13.240",null,{"$f":"SUM(C3:H3)-MAX(C3:H3)","v":"00:02:23.340"}]
[null,"Rainbow Dragons",null,"00:01:12.240","00:01:15.060",null,null,"00:01:11.420","00:02:23.660"]
[null,"Pink Dragons",null,"00:01:12.360","00:01:20.600",null,null,"00:01:15.490","00:02:27.850"]
[null,"ASA","00:01:14.460",null,null,"00:01:16.430","00:01:13.490",null,"00:02:27.950"]
[null,"DA Bendigo Blue","00:01:15.390",null,"00:01:18.020",null,null,"00:01:13.380","00:02:28.770"]
[null,"DA Bendigo Pink",null,"00:01:14.600",null,"00:01:21.710","00:01:17.520",null,"00:02:32.120"]
[null,"Juggernauts","00:01:17.760",null,"00:01:24.580",null,null,"00:01:18.750","00:02:36.510"]
[null,"Dragons Abreast Adelaide",null,"00:01:17.480",null,"00:01:21.660","00:01:22.490",null,"00:02:39.140"]

{"sheet":"BCS 20","index":9,"n_rows":4,"n_cols":6,"rows_kept":4,"cut":false,"hidden":false,"merged":[[1,0,3,0]]}
["EVENT","TEAM",31,77,123,"BEST 2 TIMES"]
["BCS 20","DA Bendigo","00:01:06.230","00:01:11.640","00:01:07.610",{"$f":"SUM(C2:E2)-MAX(C2:E2)","v":"00:02:13.840"}]
[null,"Juggernauts","00:01:10.770","00:01:10.260","00:01:08.840",{"$f":"SUM(C3:E3)-MAX(C3:E3)","v":"00:02:19.100"}]
[null,"Dragons Afloat Port Lincoln","00:01:13.980","00:01:14.420","00:01:15.260",{"$f":"SUM(C4:E4)-MAX(C4:E4)","v":"00:02:28.400"}]

{"sheet":"SENIOR A MIXED 10s","index":10,"n_rows":16,"n_cols":12,"rows_kept":16,"cut":false,"hidden":false,"merged":[[1,0,15,0]]}
["EVENT","TEAM",10,11,12,56,57,58,102,103,104,"BEST 2 TIMES"]
["Senior A Mixed 10's","Dragonfire",null,null,"00:00:56.480",null,null,"00:00:56.070",null,null,"00:00:58.110",{"$f":"SUM(C2:K2)-MAX(C2:K2)","v":"00:01:52.550"}]
[null,"Hunter River Dragons","00:00:56.710",null,null,null,"00:00:56.820",null,null,null,"00:00:57.700","00:01:53.530"]
[null,"Powerblades",null,null,"00:00:58.500","00:00:59.160",null,null,null,"00:00:59.840",null,"00:01:57.660"]
[null,"Black Sea Dragons",null,null,"00:00:59.720","00:00:59.580",null,null,null,"00:01:02.110",null,"00:01:59.300"]
[null,"Rainbow Dragons",null,"00:00:59.690",null,null,"00:01:00.280",null,null,null,"00:01:01.040","00:01:59.970"]
[null,"Goolwa River Dragons","00:00:59.210",null,null,null,null,"00:01:02.750","00:01:02.330",null,null,"00:02:01.540"]
[null,"Peninsula Dragonfly","00:01:01.830",null,null,null,null,"00:01:01.800","00:01:02.820",null,null,"00:02:03.630"]
[null,"Kombo Dragons Black",null,"00:01:00.280",null,null,"00:01:12.460",null,null,"00:01:03.740",null,"00:02:04.020"]
[null,"Newcastle Dragon Hunters",null,null,"00:01:02.630","00:01:01.730",null,null,null,null,"00:01:04.830","00:02:04.360"]
[null,"Deepwater Dragons","00:01:02.720",null,null,null,"00:01:02.340",null,"00:01:06.410",null,null,"00:02:05.060"]
[null,"Broadwater Dragons","00:01:03.080",null,null,null,"00:01:03.780",null,null,null,"00:01:05.630","00:02:06.860"]
[null,"Mildura",null,"00:01:01.440",null,"00:01:05.650",null,null,null,"00:01:07.330",null,"00:02:07.090"]
[null,"Southern Warriors",null,null,"00:01:03.630",null,null,"00:01:05.980","00:01:05.860",null,null,"00:02:09.490"]
[null,"Gippsland United",null,"00:01:03.790",null,null,null,"DNS","00:01:06.480",null,null,{"$f":"D15+I15","v":"00:02:10.270"}]
[null,"Kombo Dragons Purple",null,"00:01:09.330",null,"00:01:04.570",null,null,null,"00:01:14.960",null,{"$f":"SUM(C16:K16)-MAX(C16:K16)","v":"00:02:13.900"}]

{"sheet":"SENIOR A MIXED 20","index":11,"n_rows":7,"n_cols":6,"rows_kept":7,"cut":false,"hidden":false,"merged":[[1,0,5,0]]}
["EVENT","TEAM",13,59,105,"BEST 2 TIMES"]
[null,"Hunter River Dragons","00:00:54.940","00:00:54.900","00:00:55.260",{"$f":"SUM(C2:E2)-MAX(C2:E2)","v":"00:01:49.840"}]
[null,"Motley Crew","00:00:56.520","00:00:57.220","00:00:56.270",{"$f":"SUM(C3:E3)-MAX(C3:E3)","v":"00:01:52.790"}]
[null,"Deepwater Dragons","00:00:58.800","00:00:58.640","00:00:57.090",{"$f":"SUM(C4:E4)-MAX(C4:E4)","v":"00:01:55.730"}]
[null,"Kombo Dragons Black","00:00:59.440","00:01:02.050","00:01:03.140",{"$f":"SUM(C5:E5)-MAX(C5:E5)","v":"00:02:01.490"}]
[null,"Mildura","00:00:59.820","00:01:02.290","00:01:02.130",{"$f":"SUM(C6:E6)-MAX(C6:E6)","v":"00:02:01.950"}]
[null,"Gippsland United",null,"00:01:02.170","00:01:04.690",{"$f":"D7+E7","v":"00:02:06.860"}]

{"sheet":"SENIOR A OPEN 10","index":12,"n_rows":16,"n_cols":12,"rows_kept":16,"cut":false,"hidden":false,"merged":[[1,0,12,0]]}
["EVENT","TEAM",39,40,41,85,86,87,131,132,133,"BEST 2 TIMES"]
[null,"Hunter River Dragons","00:00:55.890",null,null,null,null,"00:00:57.700","00:00:55.720",null,null,{"$f":"SUM(C2:K2)-MAX(C2:K2)","v":"00:01:51.610"}]
[null,"Dragonfire",null,"00:00:56.410",null,null,null,"00:00:58.100",null,"00:00:58",null,"00:01:54.410"]
[null,"Deepwater Dragons",null,"00:00:57.190",null,null,null,"00:01:01.080","00:00:57.640",null,null,"00:01:54.830"]
[null,"Black Sea Dragons","00:00:57.830",null,null,"00:01:00.740",null,null,null,null,"00:00:58.700","00:01:56.530"]
[null,"Kombo Dragons Black",null,"00:00:58.380",null,null,"00:01:04.480",null,null,"00:00:59.960",null,"00:01:58.340"]
[null,"Gippsland United",null,"00:01:01.590",null,"00:01:04.980",null,null,null,null,"00:01:00.480","00:02:02.070"]
[null,"Goolwa River Dragons",null,null,"00:01:03.350","DNS",null,null,null,null,"00:01:01.350",{"$f":"E8+K8","v":"00:02:04.700"}]
[null,"Mildura",null,null,"00:01:01.540","00:01:06",null,null,null,"00:01:06.330",null,{"$f":"SUM(C9:K9)-MAX(C9:K9)","v":"00:02:07.540"}]
[null,"FNC",null,null,"00:01:03.230",null,"00:01:09.520",null,"00:01:04.970",null,null,"00:02:08.200"]
[null,"Southern Warriors",null,"00:01:05.710",null,null,"00:01:11.600",null,null,"00:01:08.630",null,"00:02:14.340"]
[null,"Diamond Phoenix",null,null,"00:01:07.700",null,"00:01:12.500",null,"00:01:07.310",null,null,"00:02:15.010"]
[null,"Pink Dragons","00:01:10.190",null,null,"00:01:15.850",null,null,null,null,"00:01:10.670","00:02:20.860"]
[null,"Kombo Dragons Purple","00:01:12.340",null,null,null,"00:01:17.030",null,null,null,"00:01:11.750","00:02:24.090"]
[null,"Kombo Dragons Green",null,null,"DNS",null,null,"00:01:21.740","00:01:16.940",null,null,{"$f":"I15+H15","v":"00:02:38.680"}]
[null,"Broadwater Dragons","00:01:02.550",null,null,null,null,"DNS",null,"DNS",null,{"$f":"SUM(C16:K16)-MAX(C16:K16)","v":"00:00:00"}]

{"sheet":"SENIOR A OPEN 20","index":13,"n_rows":11,"n_cols":9,"rows_kept":11,"cut":false,"hidden":false,"merged":[[1,0,10,0]]}
["EVENT","TEAM",45,46,91,92,137,138,"BEST 2 TIMES"]
["Senior A Open 20","Deepwater Hunter","00:00:53.040",null,null,"00:00:53.580","00:00:53.770",null,{"$f":"SUM(C2:H2)-MAX(C2:H2)","v":"00:01:46.620"}]
[null,"Motley Crew","00:00:55.540",null,null,"00:00:55.590",null,"00:00:55.760","00:01:51.130"]
[null,"Dragonfire","00:00:58.080",null,null,"00:00:57.770","00:00:57.250",null,"00:01:55.020"]
[null,"Peninsula Dragonflys",null,"00:00:58.880","00:00:59.380",null,null,"00:00:59.900","00:01:58.260"]
[null,"Goolwa River Dragons",null,"00:00:58.700","00:00:59.840",null,"00:01:00.050",null,"00:01:58.540"]
[null,"Kombo Dragons Black","00:00:59.230",null,null,"00:00:59.900",null,"00:01:00.150","00:01:59.130"]
[null,"FNC",null,"00:00:59.850","00:01:01.590",null,null,"00:00:59.700","00:01:59.550"]
[null,"Southern Warriors","00:01:00.250",null,"00:01:01.420",null,"00:00:59.820",null,"00:02:00.070"]
[null,"Gippsland United",null,"00:01:04.860",null,"00:01:02.280",null,"00:01:04.650","00:02:06.930"]
[null,"Kombo Dragons Purple",null,"00:01:08.020","00:01:12.910",null,"00:01:13.610",null,"00:02:20.930"]

{"sheet":"SENIOR A WOMEN 10","index":14,"n_rows":21,"n_cols":14,"rows_kept":21,"cut":false,"hidden":false,"merged":[[1,0,20,0]]}
["EVENT","TEAM",36,37,38,82,83,84,128,129,130,"BEST 2 TIMES"]
["Senior A Women 10","Hunter River Dragons","00:01:00.990",null,null,null,"00:01:02.190",null,null,"00:01:00.510",null,{"$f":"SUM(C2:K2)-MAX(C2:K2)","v":"00:02:01.500"}]
[null,"Dragonfire","00:01:02.670",null,null,"00:01:05.430",null,null,null,null,"00:01:02.580","00:02:05.250",null,1]
[null,"Rainbow Dragons",null,null,"00:01:04.150",null,null,"00:01:05.880","00:01:02.680",null,null,"00:02:06.830"]
[null,"Peninsula Dragonflys",null,null,"00:01:04.340",null,"00:01:04.870",null,null,"00:01:03.280",null,"00:02:07.620"]
[null,"Newcastle Dragon Hunters",null,null,"00:01:04.550","00:01:07.070",null,null,null,null,"00:01:04.310","00:02:08.860"]
[null,"Powerblades",null,null,"00:01:04.150","00:01:07.890",null,null,null,null,"00:01:05.710","00:02:09.860"]
[null,"Goolwa River Dragons",null,"00:01:05.080",null,null,null,"00:01:08.140","00:01:05.160",null,null,"00:02:10.240"]
[null,"Diamond Phoenix",null,"00:01:05.920",null,null,null,"00:01:08.140","00:01:04.520",null,null,"00:02:10.440"]
[null,"Black Sea Dragons","00:01:05.870",null,null,null,null,"00:01:10.700",null,"00:01:05.500",null,"00:02:11.370"]
[null,"Deepwater Dragons",null,"00:01:07.480",null,null,null,"00:01:12.040",null,"00:01:07.060",null,"00:02:14.540"]
[null,"Kombo Dragons Black",null,"00:01:06.380",null,null,null,"00:01:12.330",null,null,"00:01:09.690","00:02:16.070"]
[null,"FNC","00:01:08.220",null,null,null,"00:01:11.730",null,null,"00:01:09.220",null,"00:02:17.440"]
[null,"Golden Dragons",null,null,"00:01:09.460",null,"00:01:13.330",null,"00:01:08.190",null,null,"00:02:17.650"]
[null,"SADA Sonix",null,null,"00:01:09.210","00:01:13.870",null,null,null,null,"00:01:10.060","00:02:19.270"]
[null,"Southern Warriors",null,"00:01:09.740",null,"00:01:14.340",null,null,null,null,"00:01:09.720","00:02:19.460"]
[null,"Gippsland United","00:01:12.590",null,null,null,null,"00:01:17.100","00:01:10.580",null,null,"00:02:23.170"]
[null,"Mildura","00:01:11.510",null,null,"00:01:14.490",null,null,"00:01:12.820",null,null,"00:02:24.330"]
[null,"Pink Dragons",null,"00:01:12.040",null,"00:01:16.940",null,null,null,null,"00:01:12.930","00:02:24.970"]
[null,"Kombo Dragons Purple","00:01:15.880",null,null,null,"00:01:18.810",null,null,"00:01:18.150",null,"00:02:34.030"]
[null,"Dragons Abreast Adelaide",null,null,"00:01:18.590",null,"00:01:23.400",null,null,"00:01:18.610",null,"00:02:37.200"]

{"sheet":"SENIOR A WOMEN 20","index":15,"n_rows":16,"n_cols":12,"rows_kept":16,"cut":false,"hidden":false,"merged":[[1,0,15,0]]}
["EVENT","TEAM",42,43,44,88,89,90,134,135,136,"BEST 2 TIMES"]
["Senior A Women 20","Hunter River Dragons","00:00:58.220",null,null,null,null,"00:00:58.810","00:00:57.960",null,null,{"$f":"SUM(C2:K2)-MAX(C2:K2)","v":"00:01:56.180"}]
[null,"Powerblades",null,"00:00:58.280",null,"00:00:59.420",null,null,null,"00:00:58.590",null,"00:01:56.870"]
[null,"Newcastle Dragon Hunters",null,null,"00:00:58.670",null,null,"00:00:59.060","00:00:59.380",null,null,"00:01:57.730"]
[null,"Motley Crew","00:00:59.060",null,null,null,"00:01:01.170",null,null,null,"00:01:00.310","00:01:59.370"]
[null,"Broadwater Dragons",null,"00:00:59.920",null,null,null,"00:01:00.940","00:00:59.560",null,null,"00:01:59.480"]
[null,"Peninsula Dragonflys",null,"00:01:42.240",null,"00:01:00.260",null,null,null,"00:00:59.580",null,"00:01:59.840"]
[null,"Deepwater Dragons","00:01:01.440",null,null,null,null,"00:01:02.640","00:01:00.950",null,null,"00:02:02.390"]
[null,"Black Sea Dragons","00:01:01.780",null,null,null,"00:01:02.880",null,null,null,"00:01:04.460","00:02:04.660"]
[null,"Pink Dragons",null,null,"00:01:03.950","00:01:04.230",null,null,null,"00:01:04.660",null,"00:02:08.180"]
[null,"Southern Warriors",null,"00:01:03.490",null,null,"00:01:05.500",null,null,null,"00:01:05.080","00:02:08.570"]
[null,"Golden Dragons",null,null,"00:01:06.600","00:01:06.800",null,null,null,"00:01:06.100",null,"00:02:12.700"]
[null,"Gippsland United",null,null,"00:01:06.540",null,"00:01:08.280",null,null,null,"00:01:08.480","00:02:14.820"]
[null,"Kombo Dragons Black","00:01:06.600",null,null,null,"00:01:09.320",null,null,"00:01:08.830",null,"00:02:15.430"]
[null,"SADA Sonix",null,"00:01:06.830",null,"00:01:10.490",null,null,null,null,"00:01:09.970","00:02:16.800"]
[null,"Dragons Abreast Adelaide",null,null,"00:01:09.500",null,null,"00:01:14.540","00:01:13.520",null,null,"00:02:23.020"]

{"sheet":"SENIOR B MIXED 10s","index":16,"n_rows":19,"n_cols":12,"rows_kept":19,"cut":false,"hidden":false,"merged":[[1,0,17,0]]}
["EVENT","TEAM",5,6,7,51,52,53,97,98,99,"BEST 2 TIMES"]
["SENIOR B Mixed 10s","Goolwa River Dragons",null,null,"00:00:58.180",null,"00:01:00.850",null,null,null,"00:01:02.430",{"$f":"SUM(C2:K2)-MAX(C2:K2)","v":"00:01:59.030"}]
[null,"Powerblades",null,"00:00:59.800",null,"00:01:00.870",null,null,null,"00:00:59.620",null,"00:01:59.420"]
[null,"Gypsy Dragons",null,null,"00:00:58.760",null,"00:01:00.860",null,null,null,"00:01:00.970","00:01:59.620"]
[null,"Black Sea Dragons",null,null,"00:00:58.840","00:01:00.840",null,null,"00:01:01.460",null,null,"00:01:59.680"]
[null,"Hunter River Dragons","00:00:59.620",null,null,null,null,"00:01:00.250","00:01:03.520",null,null,"00:01:59.870"]
[null,"Newcastle Dragon Hunters Red","00:01:01.200",null,null,"00:00:59.620",null,null,null,"00:01:02.320",null,"00:02:00.820"]
[null,"Outback Dragons",null,null,"00:01:00.710",null,"00:01:01.430",null,null,null,"00:01:04.940","00:02:02.140"]
[null,"Deepwater Dragons","00:01:01.750",null,null,"00:01:01.670",null,null,null,"00:01:01.680",null,"00:02:03.350"]
[null,"Kombo Dragons Black",null,"00:01:00.480",null,"00:01:03.210",null,null,null,null,"00:01:04.230","00:02:03.690"]
[null,"Newcastle Dragon Hunters Purple",null,"00:01:02.410",null,null,null,"00:01:02.290","00:01:02.620",null,null,"00:02:04.700"]
[null,"SADA Sonix Yellow","00:01:03.250",null,null,null,"00:01:03.890",null,null,null,"00:01:05.780","00:02:07.140"]
[null,"Southern Warriors","00:01:02.600",null,null,null,null,"00:01:05.890",null,"00:01:05.280",null,"00:02:07.880"]
[null,"Mildura",null,"00:01:02.910",null,null,null,"00:01:05.800","00:01:10.190",null,null,"00:02:08.710"]
[null,"FNC",null,null,"00:01:04.480",null,"00:01:04.640",null,null,"00:01:05.520",null,"00:02:09.120"]
[null,"Mannum",null,null,"00:01:05.200",null,null,"00:01:04.560","00:01:07.770",null,null,"00:02:09.760"]
[null,"Gippsland United",null,"00:01:02.820",null,"DNR",null,null,null,null,"00:01:07.230",{"$f":"D17+K17","v":"00:02:10.050"}]
[null,"SADA Sonix Blue",null,"00:01:06.020",null,null,null,"00:01:05.160",null,"00:01:06.060",null,{"$f":"SUM(C18:K18)-MAX(C18:K18)","v":"00:02:11.180"}]
[null,"Kombo Dragons Purple","00:01:09.210",null,null,null,"00:01:11.710",null,"00:01:14.020",null,null,{"$f":"SUM(C19:K19)-MAX(C19:K19)","v":"00:02:20.920"}]

{"sheet":"SENIOR B MIXED 20s","index":17,"n_rows":13,"n_cols":9,"rows_kept":13,"cut":false,"hidden":false,"merged":[[1,0,8,0]]}
["EVENT","TEAM",8,9,54,55,100,101,"BEST 2 TIMES"]
["Senior B Mixed 20's","Motley Crew","00:00:54.850",null,null,"00:00:55.810",null,"00:00:56.260",{"$f":"SUM(C2:H2)-MAX(C2:H2)","v":"00:01:50.660"}]
[null,"Powerblades",null,"00:00:56","00:00:55.760",null,"00:00:56.900",null,"00:01:51.760"]
[null,"Newcastle Dragon Hunters - Red","00:00:56.450",null,"00:00:56.120",null,"00:00:57.600",null,"00:01:52.570"]
[null,"Dragon Masters",null,"00:00:56.380","00:00:57.390",null,"00:00:57.260",null,"00:01:53.640"]
[null,"Rainbow Dragons",null,"00:00:56.740","00:00:57.470",null,null,"00:00:58.170","00:01:54.210"]
[null,"SADA Sonix","00:00:58.100",null,null,"00:00:59.130",null,"00:00:58.800","00:01:56.900"]
[null,"Newcastle Dragon Hunters - Purple",null,"00:00:59.160",null,"00:00:58.210",null,"DNS",{"$f":"D8+F8","v":"00:01:57.370"}]
[null,"Mildura","00:00:58.090",null,null,"00:01:00.310","00:01:00.180",null,{"$f":"SUM(C9:H9)-MAX(C9:H9)","v":"00:01:58.270"}]
[null,"Deep Water Dragons","00:00:59.330",null,"00:00:59.440",null,"00:01:02.760",null,{"$f":"SUM(C10:H10)-MAX(C10:H10)","v":"00:01:58.770"}]
[null,"Kombo Dragons Black",null,"00:01:01.130","00:01:03.560",null,null,"00:01:08.390",{"$f":"SUM(C11:H11)-MAX(C11:H11)","v":"00:02:04.690"}]
[null,"Gippsland United ",null,"00:01:05.040",null,"00:01:00.980",null,"DNS",{"$f":"D12+F12","v":"00:02:06.020"}]
[null,"Hunter River Dragons","00:00:59.340",null,null,"DNS","DNS",null,{"$f":"SUM(C13:H13)-MAX(C13:H13)","v":"00:00:00"}]

{"sheet":"SENIOR B OPEN 10","index":18,"n_rows":18,"n_cols":12,"rows_kept":18,"cut":false,"hidden":false,"merged":[[1,0,17,0]]}
["EVENT","TEAM",28,29,30,74,75,76,120,121,122,"BEST 2 TIMES"]
["Senior B Open 10","Newcastle Dragon Hunters Red",null,"00:00:57.040",null,null,"00:00:59.490",null,"00:00:57.200",null,null,{"$f":"SUM(C2:K2)-MAX(C2:K2)","v":"00:01:54.240"}]
[null,"Gypsy Dragons",null,"00:00:57.150",null,"00:00:59.040",null,null,null,null,"00:00:57.440","00:01:54.590"]
[null,"SADA Sonix","00:00:58.940",null,null,null,"00:01:00.600",null,null,"00:00:58.010",null,"00:01:56.950"]
[null,"Black Sea Dragons",null,null,"00:00:58.900","00:01:00.870",null,null,null,null,"00:00:58.800","00:01:57.700"]
[null,"Goolwa River Dragons",null,null,"00:01:00.280",null,"00:01:03.590",null,"00:00:59.670",null,null,"00:01:59.950"]
[null,"Kombo Dragons Black","00:00:59.690",null,null,null,"00:01:01.050",null,"00:01:00.730",null,null,"00:02:00.420"]
[null,"Gippsland United","00:01:02.120",null,null,null,"00:01:04.020",null,null,"00:01:01.990",null,"00:02:04.110"]
[null,"Southern Warriors",null,"00:01:02.340",null,"00:01:05.790",null,null,"00:01:01.920",null,null,"00:02:04.260"]
[null,"Outback Dragons","00:01:01.720",null,null,null,"00:01:06.770",null,null,"00:01:02.610",null,"00:02:04.330"]
[null,"Deepwater",null,"00:01:04.930",null,null,null,"00:01:05.180","00:01:01.960",null,null,"00:02:06.890"]
[null,"Dragonfire","00:01:02.100",null,null,null,null,"00:01:09.470",null,"00:01:06.140",null,"00:02:08.240"]
[null,"Mildura","00:01:02.890",null,null,null,null,"00:01:06.770",null,null,"00:01:06.480","00:02:09.370"]
[null,"Mannum",null,null,"00:01:03.130","00:01:07.900",null,null,null,null,"00:01:07.230","00:02:10.360"]
[null,"Hunter River Dragons",null,null,"00:01:05.740",null,null,"00:01:07.580","00:01:06.030",null,null,"00:02:11.770"]
[null,"ASA",null,"00:01:10.940",null,"00:01:15.860",null,null,null,"00:01:12.210",null,"00:02:23.150"]
[null,"Kombo Dragons Purple",null,"00:01:10.750",null,"00:01:16.380",null,null,null,null,"00:01:13.680","00:02:24.430"]
[null,"Kombo Dragons Green",null,null,"00:01:16.490",null,null,"00:01:22.040",null,"00:01:21.110",null,"00:02:37.600"]

{"sheet":"SENIOR B OPEN 20","index":19,"n_rows":11,"n_cols":9,"rows_kept":11,"cut":false,"hidden":false,"merged":[[1,0,10,0]]}
["EVENT","TEAM",34,35,80,81,126,127,"BEST 2 TIMES"]
["SENIOR B OPEN 20s","Newcastle Dragon Hunters Red","00:00:54.320",null,null,"00:00:55.830","00:00:54.870",null,{"$f":"SUM(C2:H2)-MAX(C2:H2)","v":"00:01:49.190"}]
[null,"Motley Crew",null,"00:00:54.990","00:00:55.930",null,null,"00:00:55.250","00:01:50.240"]
[null,"Gypsy Dragons","00:00:55.180",null,null,"00:00:56.550","00:00:55.620",null,"00:01:50.800"]
[null,"Outback Dragons",null,"00:00:57.550","00:01:01.050",null,null,"00:00:58.880","00:01:56.430"]
[null,"Kombo Dragons","00:00:58.410",null,null,"00:01:00.410",null,"00:00:59.110","00:01:57.520"]
[null,"Southern Warriors",null,"00:01:01.020","00:01:04.680",null,"00:01:01.220",null,"00:02:02.240"]
[null,"Hunter River Dragons","00:01:00.560",null,null,"00:01:02.690","00:01:01.930",null,"00:02:02.490"]
[null,"Deepwater",null,"00:01:03.250","DNS",null,null,"00:01:05.850",{"$f":"D9+H9","v":"00:02:09.100"}]
[null,"Newcastle Dragon Hunters Purple",null,"00:01:04.580","00:01:06.580",null,null,"00:01:04.830",{"$f":"SUM(C10:H10)-MAX(C10:H10)","v":"00:02:09.410"}]
[null,"Gippsland United","00:01:39.040",null,null,"00:01:59.540","00:01:03.850",null,{"$f":"SUM(C11:H11)-MAX(C11:H11)","v":"00:02:42.890"}]

{"sheet":"SENIOR B WOMEN 10","index":20,"n_rows":26,"n_cols":15,"rows_kept":26,"cut":false,"hidden":false,"merged":[[1,0,25,0]]}
["EVENT","TEAM",24,25,26,27,70,71,72,73,116,117,118,119,"BEST 2 TIMES"]
["Senior B Women 10","Newcastle Dragon Hunters Purple",null,null,null,"00:01:03.220","00:01:08.760",null,null,null,null,null,"00:01:06.330",null,{"$f":"SUM(C2:N2)-MAX(C2:N2)","v":"00:02:09.550"}]
[null,"Newcastle Dragon Hunters Red","00:01:06.600",null,null,null,null,"00:01:06.480",null,null,null,"00:01:05.320",null,null,"00:02:11.800"]
[null,"FNC",null,null,null,"00:01:04.830",null,null,null,"00:01:13.720",null,null,"00:01:07.250",null,"00:02:12.080"]
[null,"Black Sea Dragons",null,"00:01:07.030",null,null,"00:01:09.730",null,null,null,null,null,null,"00:01:06.670","00:02:13.700"]
[null,"Gypsy Dragons",null,"00:01:07.150",null,null,null,null,"00:01:09.890",null,null,"00:01:06.800",null,null,"00:02:13.950"]
[null,"Powerblades",null,"00:01:06.970",null,null,null,null,null,"00:01:09.570","00:01:07.230",null,null,null,"00:02:14.200"]
[null,"Broadwater Dragons",null,null,null,"00:01:07.470",null,"00:01:09.390",null,null,null,"00:01:08.030",null,null,"00:02:15.500"]
[null,"Hunter River Dragons","00:01:07.770",null,null,null,null,null,null,"00:01:11.040",null,null,"00:01:07.750",null,"00:02:15.520"]
[null,"Outback Dragons",null,"00:01:07.400",null,null,"00:01:14.480",null,null,null,"00:01:08.580",null,null,null,"00:02:15.980"]
[null,"Goolwa River Dragons","00:01:09.400",null,null,null,"00:01:11.070",null,null,null,null,null,"00:01:08.300",null,"00:02:17.700"]
[null,"Kombo Dragons Black",null,null,"00:01:08.220",null,null,"00:01:09.740",null,null,null,null,"00:01:09.880",null,"00:02:17.960"]
[null,"Golden Dragons",null,null,null,"00:01:07.700","00:01:14.540",null,null,null,null,null,null,"00:01:10.650","00:02:18.350"]
[null,"Gippsland United",null,null,"00:01:08.990",null,null,null,"00:01:12.670",null,null,"00:01:09.410",null,null,"00:02:18.400"]
[null,"Dragonfire","00:01:11.110",null,null,null,null,"00:01:14.140",null,null,null,null,null,"00:01:08.570","00:02:19.680"]
[null,"Deepwater Dragons","00:01:11.330",null,null,null,null,null,"00:01:13.310",null,null,"00:01:09.730",null,null,"00:02:21.060"]
[null,"Southern Warriors",null,null,"00:01:08.760",null,null,null,"00:01:12.360",null,null,null,"DNS",null,{"$f":"I17+E17","v":"00:02:21.120"}]
[null,"Mildura","00:01:14.690",null,null,null,null,"00:01:13.050",null,null,null,"00:01:09.870",null,null,{"$f":"SUM(C18:N18)-MAX(C18:N18)","v":"00:02:22.920"}]
[null,"SADA Sonix Blue",null,null,"00:01:12.410",null,null,null,"00:01:14.740",null,null,null,null,"00:01:12.070","00:02:24.480"]
[null,"SADA Sonix Yellow",null,"00:01:11.900",null,null,null,null,null,"00:01:17.620","00:01:15.090",null,null,null,"00:02:26.990"]
[null,"Kombo Dragons Purple",null,"00:01:13.010",null,null,"00:01:21.030",null,null,null,null,"00:01:18.520",null,null,"00:02:31.530"]
[null,"Dragons Afloat Port Lincoln",null,null,null,"00:01:13.540",null,"00:01:31.310",null,null,"00:01:18.290",null,null,null,"00:02:31.830"]
[null,"Dragons Afloat Bendigo",null,null,"00:01:16.740",null,null,null,null,"00:01:20.870","00:01:17.030",null,null,null,"00:02:33.770"]
[null,"Juggernauts",null,null,null,"00:01:14.360",null,null,"00:01:29.370",null,null,null,"00:01:22.600",null,"00:02:36.960"]
[null,"SCD Warrnambool",null,null,"00:01:25.380",null,null,"00:01:22.580",null,null,"00:01:20.290",null,null,null,"00:02:42.870"]
[null,"DA Bendigo",null,"00:01:10.400",null,null,null,null,null,"00:01:16.330","00:01:17.030",null,null,"00:01:10.680","00:03:37.410"]

{"sheet":"SENIOR B WOMEN 20","index":21,"n_rows":15,"n_cols":9,"rows_kept":15,"cut":false,"hidden":false,"merged":[[1,0,14,0]]}
["EVENT","TEAM",32,33,78,79,124,125,"BEST 2 TIMES"]
["Senior B Women 20","Newcastle Dragon Hunters Red","00:00:58.790",null,null,"00:01:00.420","00:00:59.300",null,{"$f":"SUM(C2:H2)-MAX(C2:H2)","v":"00:01:58.090"}]
[null,"Motley Crew",null,"00:01:02.210","00:01:00.200",null,"00:01:00.220",null,"00:02:00.420"]
[null,"Rainbow Dragons",null,"00:01:01.400","00:01:02.550",null,null,"00:01:01.560","00:02:02.960"]
[null,"FNC","00:01:02.380",null,"00:01:03.790",null,null,"00:01:01.820","00:02:04.200"]
[null,"Hunter River Dragons","00:01:03.100",null,null,"00:01:03.170","00:01:02.430",null,"00:02:05.530"]
[null,"Southern Warriors","00:01:04.030",null,null,"00:01:04.620","00:01:02.980",null,"00:02:07.010"]
[null,"Mildura",null,"00:01:04.580","00:01:02.560",null,null,"00:01:25.380","00:02:07.140"]
[null,"Newcastle Dragon Hunters Purple",null,"00:01:04.420","00:01:03.580",null,null,"00:01:06.780","00:02:08"]
[null,"Kombo Dragons Black","00:01:05.040",null,"00:01:04.860",null,null,"00:01:08.690","00:02:09.900"]
[null,"Deepwater Purple","00:01:06.860",null,"00:01:04.800",null,null,"00:01:06.780","00:02:11.580"]
[null,"Gippsland United","00:01:05.520",null,null,"00:01:56.220","00:01:06.970",null,"00:02:12.490"]
[null,"Dragons Afloat Bendigo",null,"00:01:08.080",null,"00:01:10.920",null,"00:01:08.790","00:02:16.870"]
[null,"Deepwater Green",null,"00:01:08.570",null,"00:01:11.060","00:01:09.060",null,"00:02:17.630"]
[null,"SADA Sonix",null,"00:01:08.200",null,"00:01:41.750","00:01:09.450",null,"00:02:17.650"]

{"sheet":"SENIOR C MIXED 10","index":22,"n_rows":25,"n_cols":15,"rows_kept":25,"cut":false,"hidden":false,"merged":[[1,0,21,0]]}
["EVENT","TEAM",1,2,3,4,47,48,49,50,93,94,95,96,"BEST 2 TIMES"]
[null,"Motley Crew","00:00:59.360",null,null,null,"00:00:59.200",null,null,null,null,"00:01:00.830",null,null,{"$f":"SUM(C2:N2)-MAX(C2:N2)","v":"00:01:58.560"}]
[null,"Gypsy Dragons",null,null,"00:01:00.230",null,null,null,null,"00:01:00.310",null,null,null,"00:01:03.500","00:02:00.540"]
[null,"Powerblades",null,null,null,"00:01:00.510",null,null,"00:01:01.130",null,"00:01:04.410",null,null,null,"00:02:01.640"]
[null,"Outback Dragons",null,null,"00:01:00.780",null,null,null,"00:01:01.130",null,null,null,null,"00:01:03.900","00:02:01.910"]
[null,"Goolwa River Dragons",null,null,null,"00:01:01.100",null,null,"00:01:01.040",null,null,null,null,"00:01:02.290","00:02:02.140"]
[null,"Rainbow Dragons Teal",null,"00:01:07.590",null,null,"00:01:00.120",null,null,null,"00:01:02.980",null,null,null,"00:02:03.100"]
[null,"Mildura","00:01:01.760",null,null,null,null,"00:01:01.490",null,null,"00:01:02.790",null,null,null,"00:02:03.250"]
[null,"Dragon Masters Yellow",null,null,"00:01:01.510",null,null,null,null,"00:01:02.100",null,null,null,"00:01:06.430","00:02:03.610"]
[null,"Dragon Masters Red","00:01:01.810",null,null,null,"00:01:01.990",null,null,null,"00:01:04.300",null,null,null,"00:02:03.800"]
[null,"Rainbow Dragons White",null,null,null,"00:01:03.480",null,null,null,"00:01:02.740",null,null,null,"00:01:05.510","00:02:06.220"]
[null,"Newcastle Dragon Hunters Red",null,"00:01:04.200",null,null,null,"00:01:04.140",null,null,"00:01:03.470",null,null,null,"00:02:07.610"]
[null,"Peninsula Dragonflys",null,"00:01:07.580",null,null,"00:01:03.020",null,null,null,null,"00:01:04.770",null,null,"00:02:07.790"]
[null,"Gippsland United Blue",null,null,null,"00:01:03.260",null,null,null,"00:01:04.590",null,null,"00:01:07.270",null,"00:02:07.850"]
[null,"Kombo Dragons Black","00:01:04.030",null,null,null,null,"00:01:04.090",null,null,null,"00:01:04.650",null,null,"00:02:08.120"]
[null,"Newcastle Dragon Hunters Purple",null,null,null,"00:01:04.460",null,null,null,"00:01:06.350",null,null,"00:01:04.650",null,"00:02:09.110"]
[null,"Kangaroo Island Dragons",null,null,"00:01:05.930",null,null,null,"00:01:04.340",null,null,null,"DNS",null,{"$f":"E17+I17","v":"00:02:10.270"}]
[null,"SADA Sonix Blue",null,null,null,"00:01:04.680",null,null,"00:01:05.880",null,null,null,null,"00:01:08.410",{"$f":"SUM(C18:N18)-MAX(C18:N18)","v":"00:02:10.560"}]
[null,"Black Sea Dragons","00:01:04.920",null,null,null,null,"00:01:05.750",null,null,null,"00:01:06.930",null,null,"00:02:10.670"]
[null,"Southern Warriors","00:01:06.100",null,null,null,null,"00:01:05.360",null,null,null,"00:01:07.010",null,null,"00:02:11.460"]
[null,"SADA Sonix Yellow",null,"00:01:09.350",null,null,"00:01:04.110",null,null,null,"00:01:07.570",null,null,null,"00:02:11.680"]
[null,"FNC",null,null,"00:01:07.810",null,null,null,null,"00:01:06.110",null,null,"00:01:10.620",null,"00:02:13.920"]
[null,"Deepwater Dragons",null,"00:01:13.740",null,null,"00:01:07.980",null,null,null,null,null,"00:01:14.120",null,"00:02:21.720"]
[null,"Kombo Dragons Purple",null,null,"00:01:11.930",null,null,null,"00:01:12.870",null,null,null,"00:01:17.590",null,"00:02:24.800"]
[null,"Gippsland United Orange",null,"DNR",null,null,null,"DNS",null,null,null,"DNS",null,null,"00:00:00"]

{"sheet":"SENIOR C OPEN 10s","index":23,"n_rows":20,"n_cols":12,"rows_kept":20,"cut":false,"hidden":false,"merged":[[1,0,19,0]]}
["EVENT","TEAM",19,20,21,65,66,67,111,112,113,"BEST 2 TIMES"]
["Senior C Open 10's","Dragon Masters",null,"00:00:56.350",null,null,null,"00:00:57.760",null,"00:00:56.870",null,{"$f":"SUM(C2:K2)-MAX(C2:K2)","v":"00:01:53.220"}]
[null,"Gypsy Dragons","00:00:57.380",null,null,null,"00:00:57.340",null,null,"00:00:57.650",null,"00:01:54.720"]
[null,"Motley Crew",null,"00:00:56.940",null,null,null,"00:00:59.960","00:00:58.640",null,null,"00:01:55.580"]
[null,"Rainbow Dragons","00:00:58.160",null,null,"00:00:58.480",null,null,"00:00:57.520",null,null,"00:01:55.680"]
[null,"SADA Sonix",null,null,"00:00:59.230","00:00:59.350",null,null,null,null,"00:00:58.870","00:01:58.100"]
[null,"Powerblades",null,"00:01:00.630",null,"00:00:59.730",null,null,null,"00:00:59.470",null,"00:01:59.200"]
[null,"Outback Dragons","00:00:59.370",null,null,null,null,"00:01:02.180",null,"00:01:00.830",null,"00:02:00.200"]
[null,"Newcastle Dragon Hunters Red",null,null,"00:01:01.300",null,null,"00:01:00.150",null,null,"00:01:00.100","00:02:00.250"]
[null,"Kombo Dragons Black","00:01:00.420",null,null,null,"00:01:05.580",null,null,null,"00:01:01.410","00:02:01.830"]
[null,"Mildura",null,null,"00:01:02.860","00:01:06.180",null,null,null,null,"00:01:03.050","00:02:05.910"]
[null,"Southern Warriors Blue","00:01:01.470",null,null,null,"00:01:06.120",null,"DNS",null,null,{"$f":"G12+C12","v":"00:02:07.590"}]
[null,"Gippsland United",null,"00:01:06.800",null,null,"00:01:06.280",null,"00:01:06.740",null,null,{"$f":"SUM(C13:K13)-MAX(C13:K13)","v":"00:02:13.020"}]
[null,"FNC","00:01:08.450",null,null,null,"00:01:13.960",null,"00:01:07.380",null,null,{"$f":"SUM(C14:K14)-MAX(C14:K14)","v":"00:02:15.830"}]
[null,"Hunter River Dragons",null,null,"00:01:11.080","00:01:11.180",null,null,"00:01:10.200",null,null,{"$f":"SUM(C15:K15)-MAX(C15:K15)","v":"00:02:21.280"}]
[null,"Deepwater",null,"00:01:10.170",null,null,"00:01:15.390",null,null,null,"00:01:12.790",{"$f":"SUM(C16:K16)-MAX(C16:K16)","v":"00:02:22.960"}]
[null,"ASA","00:01:15.010",null,null,null,"00:01:13.680",null,null,null,"00:01:11.300",{"$f":"SUM(C17:K17)-MAX(C17:K17)","v":"00:02:24.980"}]
[null,"Kangaroo Island Dragons",null,null,"00:01:13.100","00:01:13.150",null,null,null,"DNS",null,{"$f":"F18+E18","v":"00:02:26.250"}]
[null,"Southern Warriors White",null,null,"00:01:16.290",null,null,"00:01:12.820",null,"00:01:16.070",null,{"$f":"SUM(C19:K19)-MAX(C19:K19)","v":"00:02:28.890"}]
[null,"Kombo Dragons Purple",null,"00:01:14.770",null,null,null,"00:01:19.800",null,"00:01:20.310",null,{"$f":"SUM(C20:K20)-MAX(C20:K20)","v":"00:02:34.570"}]

{"sheet":"SENIOR C WOMEN 10","index":24,"n_rows":32,"n_cols":18,"rows_kept":32,"cut":false,"hidden":false,"merged":[[2,0,30,0]]}
["EVENT","TEAM",14,15,16,17,18,60,61,62,63,64,106,107,108,109,110,"BEST 2 TIMES"]
[null,"Peninsuls Dragonflys",null,null,null,null,"00:01:07.590",null,null,null,"00:01:04.990",null,null,null,null,"00:01:04.020",null,{"$f":"SUM(C2:Q2)-MAX(C2:Q2)","v":"00:02:09.010"}]
[null,"Powerblades",null,null,null,"00:01:06.140",null,null,null,null,null,"00:01:05.650",null,null,"00:01:04.640",null,null,"00:02:10.290"]
[null,"Gypsy Dragons","00:01:06.540",null,null,null,null,null,"00:01:06.490",null,null,null,null,null,null,"00:01:05.340",null,"00:02:11.830"]
[null,"Southern Warriors White",null,null,null,"00:01:06.520",null,null,"00:01:06.880",null,null,null,null,null,null,null,"00:01:06.050","00:02:12.570"]
[null,"Dragon Masters",null,null,"00:01:08.570",null,null,null,null,"00:01:09.380",null,null,null,null,null,null,"00:01:05.690","00:02:14.260"]
[null,"Newcastle Dragon Hunters Red",null,"00:01:08.920",null,null,null,"00:01:07.220",null,null,null,null,null,"00:01:08.330",null,null,null,"00:02:15.550"]
[null,"Black Sea Dragons","00:01:09.980",null,null,null,null,"00:01:11.350",null,null,null,null,null,null,null,null,"00:01:09.090","00:02:19.070"]
[null,"Outback Dragons",null,null,"00:01:09.050",null,null,null,null,"00:01:10.350",null,null,null,null,"00:01:10.690",null,null,"00:02:19.400"]
[null,"Gippsland Blue",null,null,null,null,"00:01:10.090",null,null,"00:01:10.190",null,null,null,null,null,null,"00:01:09.350",{"$f":"SUM(C10:Q10)-MAX(C10:Q10)","v":"00:02:19.440"}]
[null,"Rainbow Dragons Blue","00:01:13.930",null,null,null,null,"00:01:09.940",null,null,null,null,null,null,"00:01:09.620",null,null,"00:02:19.560"]
[null,"Motley Crew",null,null,null,"00:01:09.640",null,null,null,null,null,"00:01:10.170","00:01:09.970",null,null,null,null,"00:02:19.610"]
[null,"FNC","00:01:09.930",null,null,null,null,null,"00:01:11.140",null,null,null,"00:01:11.980",null,null,null,null,"00:02:21.070"]
[null,"Rainbow Dragons Red",null,null,null,"00:01:11.640",null,null,"00:01:11.870",null,null,null,null,null,null,"00:01:09.670",null,"00:02:21.310"]
[null,"Southern Warriors Blue","00:01:11.160",null,null,null,null,null,null,null,"00:01:12.860",null,null,"00:01:11.250",null,null,null,"00:02:22.410"]
[null,"Golden Dragons",null,null,null,null,"00:01:11.470",null,null,null,"00:01:13.190",null,null,null,null,null,"00:01:12.420","00:02:23.890"]
[null,"Mildura",null,null,null,"00:01:11.460",null,null,null,null,"00:01:12.650",null,"DNS",null,null,null,null,{"$f":"K17+F17","v":"00:02:24.110"}]
[null,"Hunter River Dragons",null,"00:01:12.450",null,null,null,null,null,"00:01:13.410",null,null,null,null,"00:01:11.780",null,null,{"$f":"SUM(C18:Q18)-MAX(C18:Q18)","v":"00:02:24.230"}]
[null,"SADA Sonix Yellow","00:01:10.930",null,null,null,null,null,null,null,"00:01:13.630",null,"00:01:15.080",null,null,null,null,"00:02:24.560"]
[null,"Deepwater Purple",null,"00:01:12.780",null,null,null,null,null,null,"00:01:14.140",null,null,null,"00:01:11.840",null,null,"00:02:24.620"]
[null,"Kombo Dragons Black",null,"00:01:11.470",null,null,null,null,null,null,null,"00:01:13.170",null,null,null,null,"00:01:15.370","00:02:24.640"]
[null,"SADA Sonix Blue",null,"00:01:12.020",null,null,null,"00:01:14.060",null,null,null,null,null,null,null,"00:01:14.480",null,"00:02:26.080"]
[null,"DA Bendigo Pink",null,null,"00:01:15.680",null,null,null,null,null,null,"00:01:13.820",null,null,null,"00:01:12.980",null,"00:02:26.800"]
[null,"Newcastle Dragon Hunters Purple",null,null,null,null,"00:01:14.730",null,null,null,null,"00:01:13.060",null,null,null,null,"00:01:13.940","00:02:27"]
[null,"Gippsland Orange",null,"00:01:14.010",null,null,null,null,null,null,null,"00:01:15.270",null,"00:01:14.240",null,null,null,"00:02:28.250"]
[null,"Dragons Afloat Bendigo",null,"00:01:15.060",null,null,null,null,null,"00:01:14.120",null,null,"00:01:16.160",null,null,null,null,"00:02:29.180"]
[null,"Kangaroo Island Dragons",null,null,null,"00:01:14.540",null,null,null,"00:01:15.210",null,null,null,"DNS",null,null,null,{"$f":"J27+F27","v":"00:02:29.750"}]
[null,"Deepwater Green",null,null,"00:01:15.590",null,null,"00:01:15.100",null,null,null,null,null,null,null,"00:01:16.480",null,"00:02:29.850"]
[null,"Dragons Afloat Port Lincoln",null,null,"00:01:15.710",null,null,"00:01:15.320",null,null,null,null,"00:01:19.050",null,null,null,null,{"$f":"SUM(C29:Q29)-MAX(C29:Q29)","v":"00:02:31.030"}]
[null,"DA Bendigo Blue",null,null,null,null,"00:01:16.920",null,"00:01:15.630",null,null,null,null,"00:01:17.230",null,null,null,{"$f":"SUM(C30:Q30)-MAX(C30:Q30)","v":"00:02:32.550"}]
[null,"SCD Warrnambool",null,null,null,null,"00:01:21.410",null,"00:01:18.890",null,null,null,null,null,"00:01:17",null,null,{"$f":"SUM(C31:Q31)-MAX(C31:Q31)","v":"00:02:35.890"}]
[null,"Juggernauts",null,null,"00:01:18.830",null,null,null,null,null,null,"00:01:21.070",null,"00:01:21.060",null,null,null,{"$f":"SUM(C32:Q32)-MAX(C32:Q32)","v":"00:02:39.890"}]

{"sheet":"Sheet1","index":25,"n_rows":0,"n_cols":0,"rows_kept":0,"cut":false,"hidden":false,"merged":[]}

{"sheet":"Lynx files","index":26,"n_rows":1522,"n_cols":7,"rows_kept":1522,"cut":false,"hidden":true,"merged":[]}
["DATA BELOW IS TO BE COPIED INTO THE EVT FILE ON THE CAMERA COMPUTER'S DESKTOP"]
[2023,"<< Year of regatta"]
[1310,"<< Date of regatta"]
[]
["EVT File Contents","Race","Lane","Team Lookup",null,"SCH File Contents","Race"]
[{"$f":"$A$2&\",\"&$A$3&\",\"&B6&\",Race\"&B6&\" - \"&VLOOKUP(B6,SCHEDULE!$B$5:$C$143,2,FALSE)","v":"2023,1310,1,Race1 - Senior C Mixed 10"},1,null,null,null,{"$f":"$A$2&\",\"&$A$3&\",\"&G6","v":"2023,1310,1"},1]
[{"$f":"\",,\"&C7&\",\"&IF(VLOOKUP(B7,SCHEDULE!$B$5:$O$143,D7,FALSE)=\" \",\",\",VLOOKUP(B7,SCHEDULE!$B$5:$O$143,D7,FALSE))","v":",,1,Kombo Dragons Black"},{"$f":"B6","v":1},1,6,null,{"$f":"$A$2&\",\"&$A$3&\",\"&G7","v":"2023,1310,2"},{"$f":"G6+1","v":2}]
[{"$f":"\",,\"&C8&\",\"&IF(VLOOKUP(B8,SCHEDULE!$B$5:$O$143,D8,FALSE)=\" \",\",\",VLOOKUP(B8,SCHEDULE!$B$5:$O$143,D8,FALSE))","v":",,2,Mildura"},{"$f":"B7","v":1},2,7,null,"2023,1310,3",{"$f":"G7+1","v":3}]
[{"$f":"\",,\"&C9&\",\"&IF(VLOOKUP(B9,SCHEDULE!$B$5:$O$143,D9,FALSE)=\" \",\",\",VLOOKUP(B9,SCHEDULE!$B$5:$O$143,D9,FALSE))","v":",,3,Black Sea Dragons"},1,3,8,null,"2023,1310,4",4]
[{"$f":"\",,\"&C10&\",\"&IF(VLOOKUP(B10,SCHEDULE!$B$5:$O$143,D10,FALSE)=\" \",\",\",VLOOKUP(B10,SCHEDULE!$B$5:$O$143,D10,FALSE))","v":",,4,Dragon Masters - Red"},1,4,9,null,"2023,1310,5",5]
[{"$f":"\",,\"&C11&\",\"&IF(VLOOKUP(B11,SCHEDULE!$B$5:$O$143,D11,FALSE)=\" \",\",\",VLOOKUP(B11,SCHEDULE!$B$5:$O$143,D11,FALSE))","v":",,5,Motley Crew "},{"$f":"B10","v":1},5,10,null,"2023,1310,6",6]
[{"$f":"\",,\"&C12&\",\"&IF(VLOOKUP(B12,SCHEDULE!$B$5:$O$143,D12,FALSE)=\" \",\",\",VLOOKUP(B12,SCHEDULE!$B$5:$O$143,D12,FALSE))","v":",,6,Southern Warriors"},1,6,11,null,"2023,1310,7",7]
[{"$f":"\",,\"&C13&\",\"&IF(VLOOKUP(B13,SCHEDULE!$B$5:$O$143,D13,FALSE)=\" \",\",\",VLOOKUP(B13,SCHEDULE!$B$5:$O$143,D13,FALSE))","v":",,7,,"},1,7,12,null,"2023,1310,8",8]
[{"$f":"\",,\"&C14&\",\"&IF(VLOOKUP(B14,SCHEDULE!$B$5:$O$143,D14,FALSE)=\" \",\",\",VLOOKUP(B14,SCHEDULE!$B$5:$O$143,D14,FALSE))","v":",,8,,"},{"$f":"B13","v":1},8,13,null,"2023,1310,9",9]
[{"$f":"\",,\"&C15&\",\"&IF(VLOOKUP(B15,SCHEDULE!$B$5:$O$143,D15,FALSE)=\" \",\",\",VLOOKUP(B15,SCHEDULE!$B$5:$O$143,D15,FALSE))","v":",,9,,"},1,9,14,null,{"$f":"$A$2&\",\"&$A$3&\",\"&G15","v":"2023,1310,10"},10]
[null,null,null,null,null,"2023,1310,11",11]
[{"$f":"$A$2&\",\"&$A$3&\",\"&B17&\",Race\"&B17&\" - \"&VLOOKUP(B17,SCHEDULE!$B$5:$C$143,2,FALSE)","v":"2023,1310,2,Race2 - Senior C Mixed 10"},{"$f":"B6+1","v":2},null,null,null,"2023,1310,12",12]
[{"$f":"\",,\"&C18&\",\"&IF(VLOOKUP(B18,SCHEDULE!$B$5:$O$143,D18,FALSE)=\" \",\",\",VLOOKUP(B18,SCHEDULE!$B$5:$O$143,D18,FALSE))","v":",,1,Deepwater Dragons"},{"$f":"B17","v":2},1,6,null,"2023,1310,13",13]
[{"$f":"\",,\"&C19&\",\"&IF(VLOOKUP(B19,SCHEDULE!$B$5:$O$143,D19,FALSE)=\" \",\",\",VLOOKUP(B19,SCHEDULE!$B$5:$O$143,D19,FALSE))","v":",,2,Peninsula Dragonflys"},{"$f":"B18","v":2},2,7,null,"2023,1310,14",14]
[{"$f":"\",,\"&C20&\",\"&IF(VLOOKUP(B20,SCHEDULE!$B$5:$O$143,D20,FALSE)=\" \",\",\",VLOOKUP(B20,SCHEDULE!$B$5:$O$143,D20,FALSE))","v":",,3,SADA Sonix Yellow"},2,3,8,null,"2023,1310,15",15]
[{"$f":"\",,\"&C21&\",\"&IF(VLOOKUP(B21,SCHEDULE!$B$5:$O$143,D21,FALSE)=\" \",\",\",VLOOKUP(B21,SCHEDULE!$B$5:$O$143,D21,FALSE))","v":",,4,Gippsland United Orange"},2,4,9,null,"2023,1310,16",16]
[{"$f":"\",,\"&C22&\",\"&IF(VLOOKUP(B22,SCHEDULE!$B$5:$O$143,D22,FALSE)=\" \",\",\",VLOOKUP(B22,SCHEDULE!$B$5:$O$143,D22,FALSE))","v":",,5,Newcastle Dragon Hunters - Red"},2,5,10,null,"2023,1310,17",17]
[{"$f":"\",,\"&C23&\",\"&IF(VLOOKUP(B23,SCHEDULE!$B$5:$O$143,D23,FALSE)=\" \",\",\",VLOOKUP(B23,SCHEDULE!$B$5:$O$143,D23,FALSE))","v":",,6,Rainbow Dragons Teal"},2,6,11,null,"2023,1310,18",18]
[{"$f":"\",,\"&C24&\",\"&IF(VLOOKUP(B24,SCHEDULE!$B$5:$O$143,D24,FALSE)=\" \",\",\",VLOOKUP(B24,SCHEDULE!$B$5:$O$143,D24,FALSE))","v":",,7,,"},2,7,12,null,"2023,1310,19",19]
[{"$f":"\",,\"&C25&\",\"&IF(VLOOKUP(B25,SCHEDULE!$B$5:$O$143,D25,FALSE)=\" \",\",\",VLOOKUP(B25,SCHEDULE!$B$5:$O$143,D25,FALSE))","v":",,8,,"},2,8,13,null,"2023,1310,20",20]
[{"$f":"\",,\"&C26&\",\"&IF(VLOOKUP(B26,SCHEDULE!$B$5:$O$143,D26,FALSE)=\" \",\",\",VLOOKUP(B26,SCHEDULE!$B$5:$O$143,D26,FALSE))","v":",,9,,"},2,9,14,null,"2023,1310,21",21]
[null,null,null,null,null,{"$f":"$A$2&\",\"&$A$3&\",\"&G27","v":"2023,1310,22"},22]
[{"$f":"$A$2&\",\"&$A$3&\",\"&B28&\",Race\"&B28&\" - \"&VLOOKUP(B28,SCHEDULE!$B$5:$C$143,2,FALSE)","v":"2023,1310,3,Race3 - Senior C Mixed 10"},{"$f":"B17+1","v":3},null,null,null,"2023,1310,23",23]
[{"$f":"\",,\"&C29&\",\"&IF(VLOOKUP(B29,SCHEDULE!$B$5:$O$143,D29,FALSE)=\" \",\",\",VLOOKUP(B29,SCHEDULE!$B$5:$O$143,D29,FALSE))","v":",,1,Gypsy Dragons"},{"$f":"B28","v":3},1,6,null,"2023,1310,24",24]
[{"$f":"\",,\"&C30&\",\"&IF(VLOOKUP(B30,SCHEDULE!$B$5:$O$143,D30,FALSE)=\" \",\",\",VLOOKUP(B30,SCHEDULE!$B$5:$O$143,D30,FALSE))","v":",,2,Dragon Masters  Yellow"},{"$f":"B29","v":3},2,7,null,"2023,1310,25",25]
[{"$f":"\",,\"&C31&\",\"&IF(VLOOKUP(B31,SCHEDULE!$B$5:$O$143,D31,FALSE)=\" \",\",\",VLOOKUP(B31,SCHEDULE!$B$5:$O$143,D31,FALSE))","v":",,3,Kombo Dragons Purple "},3,3,8,null,"2023,1310,26",26]
[{"$f":"\",,\"&C32&\",\"&IF(VLOOKUP(B32,SCHEDULE!$B$5:$O$143,D32,FALSE)=\" \",\",\",VLOOKUP(B32,SCHEDULE!$B$5:$O$143,D32,FALSE))","v":",,4,FNC"},3,4,9,null,"2023,1310,27",27]
[{"$f":"\",,\"&C33&\",\"&IF(VLOOKUP(B33,SCHEDULE!$B$5:$O$143,D33,FALSE)=\" \",\",\",VLOOKUP(B33,SCHEDULE!$B$5:$O$143,D33,FALSE))","v":",,5,Kangaroo Island Dragons"},3,5,10,null,"2023,1310,28",28]
[{"$f":"\",,\"&C34&\",\"&IF(VLOOKUP(B34,SCHEDULE!$B$5:$O$143,D34,FALSE)=\" \",\",\",VLOOKUP(B34,SCHEDULE!$B$5:$O$143,D34,FALSE))","v":",,6,Outback Dragons"},3,6,11,null,"2023,1310,29",29]
[{"$f":"\",,\"&C35&\",\"&IF(VLOOKUP(B35,SCHEDULE!$B$5:$O$143,D35,FALSE)=\" \",\",\",VLOOKUP(B35,SCHEDULE!$B$5:$O$143,D35,FALSE))","v":",,7,,"},3,7,12,null,"2023,1310,30",30]
[{"$f":"\",,\"&C36&\",\"&IF(VLOOKUP(B36,SCHEDULE!$B$5:$O$143,D36,FALSE)=\" \",\",\",VLOOKUP(B36,SCHEDULE!$B$5:$O$143,D36,FALSE))","v":",,8,,"},3,8,13,null,"2023,1310,31",31]
[{"$f":"\",,\"&C37&\",\"&IF(VLOOKUP(B37,SCHEDULE!$B$5:$O$143,D37,FALSE)=\" \",\",\",VLOOKUP(B37,SCHEDULE!$B$5:$O$143,D37,FALSE))","v":",,9,,"},3,9,14,null,"2023,1310,32",32]
[null,null,null,null,null,"2023,1310,33",33]
[{"$f":"$A$2&\",\"&$A$3&\",\"&B39&\",Race\"&B39&\" - \"&VLOOKUP(B39,SCHEDULE!$B$5:$C$143,2,FALSE)","v":"2023,1310,4,Race4 - Senior C Mixed 10"},{"$f":"B28+1","v":4},null,null,null,"2023,1310,34",34]
[{"$f":"\",,\"&C40&\",\"&IF(VLOOKUP(B40,SCHEDULE!$B$5:$O$143,D40,FALSE)=\" \",\",\",VLOOKUP(B40,SCHEDULE!$B$5:$O$143,D40,FALSE))","v":",,1,Newcastle Dragon Hunters - Purple"},{"$f":"B39","v":4},1,6,null,"2023,1310,35",35]
[{"$f":"\",,\"&C41&\",\"&IF(VLOOKUP(B41,SCHEDULE!$B$5:$O$143,D41,FALSE)=\" \",\",\",VLOOKUP(B41,SCHEDULE!$B$5:$O$143,D41,FALSE))","v":",,2,Gippsland United Blue"},{"$f":"B40","v":4},2,7,null,"2023,1310,36",36]
[{"$f":"\",,\"&C42&\",\"&IF(VLOOKUP(B42,SCHEDULE!$B$5:$O$143,D42,FALSE)=\" \",\",\",VLOOKUP(B42,SCHEDULE!$B$5:$O$143,D42,FALSE))","v":",,3,Rainbow Dragons White"},4,3,8,null,"2023,1310,37",37]
[{"$f":"\",,\"&C43&\",\"&IF(VLOOKUP(B43,SCHEDULE!$B$5:$O$143,D43,FALSE)=\" \",\",\",VLOOKUP(B43,SCHEDULE!$B$5:$O$143,D43,FALSE))","v":",,4,Goolwa River Dragons"},4,4,9,null,"2023,1310,38",38]
[{"$f":"\",,\"&C44&\",\"&IF(VLOOKUP(B44,SCHEDULE!$B$5:$O$143,D44,FALSE)=\" \",\",\",VLOOKUP(B44,SCHEDULE!$B$5:$O$143,D44,FALSE))","v":",,5,SADA Sonix Blue"},4,5,10,null,"2023,1310,39",39]
[{"$f":"\",,\"&C45&\",\"&IF(VLOOKUP(B45,SCHEDULE!$B$5:$O$143,D45,FALSE)=\" \",\",\",VLOOKUP(B45,SCHEDULE!$B$5:$O$143,D45,FALSE))","v":",,6,Powerblades"},4,6,11,null,"2023,1310,40",40]
[{"$f":"\",,\"&C46&\",\"&IF(VLOOKUP(B46,SCHEDULE!$B$5:$O$143,D46,FALSE)=\" \",\",\",VLOOKUP(B46,SCHEDULE!$B$5:$O$143,D46,FALSE))","v":",,7,,"},4,7,12,null,"2023,1310,41",41]
[{"$f":"\",,\"&C47&\",\"&IF(VLOOKUP(B47,SCHEDULE!$B$5:$O$143,D47,FALSE)=\" \",\",\",VLOOKUP(B47,SCHEDULE!$B$5:$O$143,D47,FALSE))","v":",,8,,"},4,8,13,null,"2023,1310,42",42]
[{"$f":"\",,\"&C48&\",\"&IF(VLOOKUP(B48,SCHEDULE!$B$5:$O$143,D48,FALSE)=\" \",\",\",VLOOKUP(B48,SCHEDULE!$B$5:$O$143,D48,FALSE))","v":",,9,,"},4,9,14,null,{"$f":"$A$2&\",\"&$A$3&\",\"&G48","v":"2023,1310,43"},43]
[null,null,null,null,null,"2023,1310,44",44]
[{"$f":"$A$2&\",\"&$A$3&\",\"&B50&\",Race\"&B50&\" - \"&VLOOKUP(B50,SCHEDULE!$B$5:$C$143,2,FALSE)","v":"2023,1310,5,Race5 - Senior B Mixed 10's"},{"$f":"B39+1","v":5},null,null,null,"2023,1310,45",45]
[{"$f":"\",,\"&C51&\",\"&IF(VLOOKUP(B51,SCHEDULE!$B$5:$O$143,D51,FALSE)=\" \",\",\",VLOOKUP(B51,SCHEDULE!$B$5:$O$143,D51,FALSE))","v":",,1,Kombo Dragons Purple"},{"$f":"B50","v":5},1,6,null,"2023,1310,46",46]
[{"$f":"\",,\"&C52&\",\"&IF(VLOOKUP(B52,SCHEDULE!$B$5:$O$143,D52,FALSE)=\" \",\",\",VLOOKUP(B52,SCHEDULE!$B$5:$O$143,D52,FALSE))","v":",,2,Deepwater Dragons"},{"$f":"B51","v":5},2,7,null,"2023,1310,47",47]
[{"$f":"\",,\"&C53&\",\"&IF(VLOOKUP(B53,SCHEDULE!$B$5:$O$143,D53,FALSE)=\" \",\",\",VLOOKUP(B53,SCHEDULE!$B$5:$O$143,D53,FALSE))","v":",,3,Newcastle Dragon Hunters - Red"},5,3,8,null,"2023,1310,48",48]
[{"$f":"\",,\"&C54&\",\"&IF(VLOOKUP(B54,SCHEDULE!$B$5:$O$143,D54,FALSE)=\" \",\",\",VLOOKUP(B54,SCHEDULE!$B$5:$O$143,D54,FALSE))","v":",,4,Hunter River Dragons"},5,4,9,null,"2023,1310,49",49]
[{"$f":"\",,\"&C55&\",\"&IF(VLOOKUP(B55,SCHEDULE!$B$5:$O$143,D55,FALSE)=\" \",\",\",VLOOKUP(B55,SCHEDULE!$B$5:$O$143,D55,FALSE))","v":",,5,SADA Sonix Yellow"},5,5,10,null,"2023,1310,50",50]
[{"$f":"\",,\"&C56&\",\"&IF(VLOOKUP(B56,SCHEDULE!$B$5:$O$143,D56,FALSE)=\" \",\",\",VLOOKUP(B56,SCHEDULE!$B$5:$O$143,D56,FALSE))","v":",,6,Southern Warriors"},5,6,11,null,"2023,1310,51",51]
[{"$f":"\",,\"&C57&\",\"&IF(VLOOKUP(B57,SCHEDULE!$B$5:$O$143,D57,FALSE)=\" \",\",\",VLOOKUP(B57,SCHEDULE!$B$5:$O$143,D57,FALSE))","v":",,7,,"},5,7,12,null,"2023,1310,52",52]
[{"$f":"\",,\"&C58&\",\"&IF(VLOOKUP(B58,SCHEDULE!$B$5:$O$143,D58,FALSE)=\" \",\",\",VLOOKUP(B58,SCHEDULE!$B$5:$O$143,D58,FALSE))","v":",,8,,"},5,8,13,null,"2023,1310,53",53]
[{"$f":"\",,\"&C59&\",\"&IF(VLOOKUP(B59,SCHEDULE!$B$5:$O$143,D59,FALSE)=\" \",\",\",VLOOKUP(B59,SCHEDULE!$B$5:$O$143,D59,FALSE))","v":",,9,,"},5,9,14,null,"2023,1310,54",54]
[null,null,null,null,null,"2023,1310,55",55]
[{"$f":"$A$2&\",\"&$A$3&\",\"&B61&\",Race\"&B61&\" - \"&VLOOKUP(B61,SCHEDULE!$B$5:$C$143,2,FALSE)","v":"2023,1310,6,Race6 - Senior B Mixed 10's"},{"$f":"B50+1","v":6},null,null,null,"2023,1310,56",56]
[{"$f":"\",,\"&C62&\",\"&IF(VLOOKUP(B62,SCHEDULE!$B$5:$O$143,D62,FALSE)=\" \",\",\",VLOOKUP(B62,SCHEDULE!$B$5:$O$143,D62,FALSE))","v":",,1,Gippsland United "},{"$f":"B61","v":6},1,6,null,"2023,1310,57",57]
[{"$f":"\",,\"&C63&\",\"&IF(VLOOKUP(B63,SCHEDULE!$B$5:$O$143,D63,FALSE)=\" \",\",\",VLOOKUP(B63,SCHEDULE!$B$5:$O$143,D63,FALSE))","v":",,2,SADA Sonix Blue"},{"$f":"B62","v":6},2,7,null,"2023,1310,58",58]
[{"$f":"\",,\"&C64&\",\"&IF(VLOOKUP(B64,SCHEDULE!$B$5:$O$143,D64,FALSE)=\" \",\",\",VLOOKUP(B64,SCHEDULE!$B$5:$O$143,D64,FALSE))","v":",,3,Kombo Dragons Black"},6,3,8,null,"2023,1310,59",59]
[{"$f":"\",,\"&C65&\",\"&IF(VLOOKUP(B65,SCHEDULE!$B$5:$O$143,D65,FALSE)=\" \",\",\",VLOOKUP(B65,SCHEDULE!$B$5:$O$143,D65,FALSE))","v":",,4,Newcastle Dragon Hunters - Purple"},6,4,9,null,"2023,1310,60",60]
[{"$f":"\",,\"&C66&\",\"&IF(VLOOKUP(B66,SCHEDULE!$B$5:$O$143,D66,FALSE)=\" \",\",\",VLOOKUP(B66,SCHEDULE!$B$5:$O$143,D66,FALSE))","v":",,5,Mildura"},6,5,10,null,"2023,1310,61",61]
[{"$f":"\",,\"&C67&\",\"&IF(VLOOKUP(B67,SCHEDULE!$B$5:$O$143,D67,FALSE)=\" \",\",\",VLOOKUP(B67,SCHEDULE!$B$5:$O$143,D67,FALSE))","v":",,6,Powerblades"},6,6,11,null,"2023,1310,62",62]
[{"$f":"\",,\"&C68&\",\"&IF(VLOOKUP(B68,SCHEDULE!$B$5:$O$143,D68,FALSE)=\" \",\",\",VLOOKUP(B68,SCHEDULE!$B$5:$O$143,D68,FALSE))","v":",,7,,"},6,7,12,null,"2023,1310,63",63]
[{"$f":"\",,\"&C69&\",\"&IF(VLOOKUP(B69,SCHEDULE!$B$5:$O$143,D69,FALSE)=\" \",\",\",VLOOKUP(B69,SCHEDULE!$B$5:$O$143,D69,FALSE))","v":",,8,,"},6,8,13,null,"2023,1310,64",64]
[{"$f":"\",,\"&C70&\",\"&IF(VLOOKUP(B70,SCHEDULE!$B$5:$O$143,D70,FALSE)=\" \",\",\",VLOOKUP(B70,SCHEDULE!$B$5:$O$143,D70,FALSE))","v":",,9,,"},6,9,14,null,"2023,1310,65",65]
[null,null,null,null,null,"2023,1310,66",66]
[{"$f":"$A$2&\",\"&$A$3&\",\"&B72&\",Race\"&B72&\" - \"&VLOOKUP(B72,SCHEDULE!$B$5:$C$143,2,FALSE)","v":"2023,1310,7,Race7 - Senior B Mixed 10's"},{"$f":"B61+1","v":7},null,null,null,"2023,1310,67",{"$f":"G71+1","v":67}]
[{"$f":"\",,\"&C73&\",\"&IF(VLOOKUP(B73,SCHEDULE!$B$5:$O$143,D73,FALSE)=\" \",\",\",VLOOKUP(B73,SCHEDULE!$B$5:$O$143,D73,FALSE))","v":",,1,Outback Dragons"},{"$f":"B72","v":7},1,6,null,"2023,1310,68",68]
[{"$f":"\",,\"&C74&\",\"&IF(VLOOKUP(B74,SCHEDULE!$B$5:$O$143,D74,FALSE)=\" \",\",\",VLOOKUP(B74,SCHEDULE!$B$5:$O$143,D74,FALSE))","v":",,2,Black Sea Dragons"},{"$f":"B73","v":7},2,7,null,"2023,1310,69",69]
[{"$f":"\",,\"&C75&\",\"&IF(VLOOKUP(B75,SCHEDULE!$B$5:$O$143,D75,FALSE)=\" \",\",\",VLOOKUP(B75,SCHEDULE!$B$5:$O$143,D75,FALSE))","v":",,3,FNC"},7,3,8,null,"2023,1310,70",70]
[{"$f":"\",,\"&C76&\",\"&IF(VLOOKUP(B76,SCHEDULE!$B$5:$O$143,D76,FALSE)=\" \",\",\",VLOOKUP(B76,SCHEDULE!$B$5:$O$143,D76,FALSE))","v":",,4,Gypsy Dragons"},7,4,9,null,"2023,1310,71",71]
[{"$f":"\",,\"&C77&\",\"&IF(VLOOKUP(B77,SCHEDULE!$B$5:$O$143,D77,FALSE)=\" \",\",\",VLOOKUP(B77,SCHEDULE!$B$5:$O$143,D77,FALSE))","v":",,5,Goolwa River Dragons"},7,5,10,null,"2023,1310,72",72]
[{"$f":"\",,\"&C78&\",\"&IF(VLOOKUP(B78,SCHEDULE!$B$5:$O$143,D78,FALSE)=\" \",\",\",VLOOKUP(B78,SCHEDULE!$B$5:$O$143,D78,FALSE))","v":",,6,Mannum"},7,6,11,null,"2023,1310,73",73]
[{"$f":"\",,\"&C79&\",\"&IF(VLOOKUP(B79,SCHEDULE!$B$5:$O$143,D79,FALSE)=\" \",\",\",VLOOKUP(B79,SCHEDULE!$B$5:$O$143,D79,FALSE))","v":",,7,,"},7,7,12,null,"2023,1310,74",74]
[{"$f":"\",,\"&C80&\",\"&IF(VLOOKUP(B80,SCHEDULE!$B$5:$O$143,D80,FALSE)=\" \",\",\",VLOOKUP(B80,SCHEDULE!$B$5:$O$143,D80,FALSE))","v":",,8,,"},7,8,13,null,"2023,1310,75",75]
[{"$f":"\",,\"&C81&\",\"&IF(VLOOKUP(B81,SCHEDULE!$B$5:$O$143,D81,FALSE)=\" \",\",\",VLOOKUP(B81,SCHEDULE!$B$5:$O$143,D81,FALSE))","v":",,9,,"},7,9,14,null,"2023,1310,76",76]
[null,null,null,null,null,"2023,1310,77",77]
[{"$f":"$A$2&\",\"&$A$3&\",\"&B83&\",Race\"&B83&\" - \"&VLOOKUP(B83,SCHEDULE!$B$5:$C$143,2,FALSE)","v":"2023,1310,8,Race8 - Senior B Mixed 20's"},{"$f":"B72+1","v":8},null,null,null,{"$f":"$A$2&\",\"&$A$3+100&\",\"&G83","v":"2023,1410,78"},78]
[{"$f":"\",,\"&C84&\",\"&IF(VLOOKUP(B84,SCHEDULE!$B$5:$O$143,D84,FALSE)=\" \",\",\",VLOOKUP(B84,SCHEDULE!$B$5:$O$143,D84,FALSE))","v":",,1,Hunter River Dragons"},{"$f":"B83","v":8},1,6,null,"2023,1410,79",79]
[{"$f":"\",,\"&C85&\",\"&IF(VLOOKUP(B85,SCHEDULE!$B$5:$O$143,D85,FALSE)=\" \",\",\",VLOOKUP(B85,SCHEDULE!$B$5:$O$143,D85,FALSE))","v":",,2,Deep Water Dragons"},{"$f":"B84","v":8},2,7,null,"2023,1410,80",80]
[{"$f":"\",,\"&C86&\",\"&IF(VLOOKUP(B86,SCHEDULE!$B$5:$O$143,D86,FALSE)=\" \",\",\",VLOOKUP(B86,SCHEDULE!$B$5:$O$143,D86,FALSE))","v":",,3,Motley Crew"},8,3,8,null,"2023,1410,81",81]
[{"$f":"\",,\"&C87&\",\"&IF(VLOOKUP(B87,SCHEDULE!$B$5:$O$143,D87,FALSE)=\" \",\",\",VLOOKUP(B87,SCHEDULE!$B$5:$O$143,D87,FALSE))","v":",,4,Mildura"},8,4,9,null,"2023,1410,82",82]
[{"$f":"\",,\"&C88&\",\"&IF(VLOOKUP(B88,SCHEDULE!$B$5:$O$143,D88,FALSE)=\" \",\",\",VLOOKUP(B88,SCHEDULE!$B$5:$O$143,D88,FALSE))","v":",,5,SADA Sonix"},8,5,10,null,"2023,1410,83",83]
[{"$f":"\",,\"&C89&\",\"&IF(VLOOKUP(B89,SCHEDULE!$B$5:$O$143,D89,FALSE)=\" \",\",\",VLOOKUP(B89,SCHEDULE!$B$5:$O$143,D89,FALSE))","v":",,6,Newcastle Dragon Hunters - Red"},8,6,11,null,"2023,1410,84",84]
[{"$f":"\",,\"&C90&\",\"&IF(VLOOKUP(B90,SCHEDULE!$B$5:$O$143,D90,FALSE)=\" \",\",\",VLOOKUP(B90,SCHEDULE!$B$5:$O$143,D90,FALSE))","v":",,7,,"},8,7,12,null,"2023,1410,85",85]
[{"$f":"\",,\"&C91&\",\"&IF(VLOOKUP(B91,SCHEDULE!$B$5:$O$143,D91,FALSE)=\" \",\",\",VLOOKUP(B91,SCHEDULE!$B$5:$O$143,D91,FALSE))","v":",,8,,"},8,8,13,null,"2023,1410,86",86]
[{"$f":"\",,\"&C92&\",\"&IF(VLOOKUP(B92,SCHEDULE!$B$5:$O$143,D92,FALSE)=\" \",\",\",VLOOKUP(B92,SCHEDULE!$B$5:$O$143,D92,FALSE))","v":",,9,,"},8,9,14,null,"2023,1410,87",87]
[null,null,null,null,null,"2023,1410,88",88]
[{"$f":"$A$2&\",\"&$A$3&\",\"&B94&\",Race\"&B94&\" - \"&VLOOKUP(B94,SCHEDULE!$B$5:$C$143,2,FALSE)","v":"2023,1310,9,Race9 - Senior B Mixed 20's"},{"$f":"B83+1","v":9},null,null,null,"2023,1410,89",89]
[{"$f":"\",,\"&C95&\",\"&IF(VLOOKUP(B95,SCHEDULE!$B$5:$O$143,D95,FALSE)=\" \",\",\",VLOOKUP(B95,SCHEDULE!$B$5:$O$143,D95,FALSE))","v":",,1,Kombo Dragons Black"},{"$f":"B94","v":9},1,6,null,"2023,1410,90",90]
[{"$f":"\",,\"&C96&\",\"&IF(VLOOKUP(B96,SCHEDULE!$B$5:$O$143,D96,FALSE)=\" \",\",\",VLOOKUP(B96,SCHEDULE!$B$5:$O$143,D96,FALSE))","v":",,2,Rainbow Dragons"},{"$f":"B95","v":9},2,7,null,"2023,1410,91",91]
[{"$f":"\",,\"&C97&\",\"&IF(VLOOKUP(B97,SCHEDULE!$B$5:$O$143,D97,FALSE)=\" \",\",\",VLOOKUP(B97,SCHEDULE!$B$5:$O$143,D97,FALSE))","v":",,3,Dragon Masters"},9,3,8,null,"2023,1410,92",92]
[{"$f":"\",,\"&C98&\",\"&IF(VLOOKUP(B98,SCHEDULE!$B$5:$O$143,D98,FALSE)=\" \",\",\",VLOOKUP(B98,SCHEDULE!$B$5:$O$143,D98,FALSE))","v":",,4,Powerblades"},9,4,9,null,"2023,1410,93",93]
[{"$f":"\",,\"&C99&\",\"&IF(VLOOKUP(B99,SCHEDULE!$B$5:$O$143,D99,FALSE)=\" \",\",\",VLOOKUP(B99,SCHEDULE!$B$5:$O$143,D99,FALSE))","v":",,5,Newcastle Dragon Hunters - Purple"},9,5,10,null,"2023,1410,94",94]
[{"$f":"\",,\"&C100&\",\"&IF(VLOOKUP(B100,SCHEDULE!$B$5:$O$143,D100,FALSE)=\" \",\",\",VLOOKUP(B100,SCHEDULE!$B$5:$O$143,D100,FALSE))","v":",,6,Gippsland United "},9,6,11,null,"2023,1410,95",95]
[{"$f":"\",,\"&C101&\",\"&IF(VLOOKUP(B101,SCHEDULE!$B$5:$O$143,D101,FALSE)=\" \",\",\",VLOOKUP(B101,SCHEDULE!$B$5:$O$143,D101,FALSE))","v":",,7,,"},9,7,12,null,"2023,1410,96",96]
[{"$f":"\",,\"&C102&\",\"&IF(VLOOKUP(B102,SCHEDULE!$B$5:$O$143,D102,FALSE)=\" \",\",\",VLOOKUP(B102,SCHEDULE!$B$5:$O$143,D102,FALSE))","v":",,8,,"},9,8,13,null,"2023,1410,97",97]
[{"$f":"\",,\"&C103&\",\"&IF(VLOOKUP(B103,SCHEDULE!$B$5:$O$143,D103,FALSE)=\" \",\",\",VLOOKUP(B103,SCHEDULE!$B$5:$O$143,D103,FALSE))","v":",,9,,"},9,9,14,null,"2023,1410,98",98]
[null,null,null,null,null,"2023,1410,99",99]
[{"$f":"$A$2&\",\"&$A$3&\",\"&B105&\",Race\"&B105&\" - \"&VLOOKUP(B105,SCHEDULE!$B$5:$C$143,2,FALSE)","v":"2023,1310,10,Race10 - Senior A Mixed 10's"},{"$f":"B94+1","v":10},null,null,null,"2023,1410,100",100]
[{"$f":"\",,\"&C106&\",\"&IF(VLOOKUP(B106,SCHEDULE!$B$5:$O$143,D106,FALSE)=\" \",\",\",VLOOKUP(B106,SCHEDULE!$B$5:$O$143,D106,FALSE))","v":",,1,Hunter River Dragons"},{"$f":"B105","v":10},1,6,null,"2023,1410,101",101]
[{"$f":"\",,\"&C107&\",\"&IF(VLOOKUP(B107,SCHEDULE!$B$5:$O$143,D107,FALSE)=\" \",\",\",VLOOKUP(B107,SCHEDULE!$B$5:$O$143,D107,FALSE))","v":",,2,Goolwa River Dragons"},{"$f":"B106","v":10},2,7,null,"2023,1410,102",102]
[{"$f":"\",,\"&C108&\",\"&IF(VLOOKUP(B108,SCHEDULE!$B$5:$O$143,D108,FALSE)=\" \",\",\",VLOOKUP(B108,SCHEDULE!$B$5:$O$143,D108,FALSE))","v":",,3,Broadwater Dragons"},10,3,8,null,"2023,1410,103",103]
[{"$f":"\",,\"&C109&\",\"&IF(VLOOKUP(B109,SCHEDULE!$B$5:$O$143,D109,FALSE)=\" \",\",\",VLOOKUP(B109,SCHEDULE!$B$5:$O$143,D109,FALSE))","v":",,4,Deepwater Dragons"},10,4,9,null,"2023,1410,104",104]
[{"$f":"\",,\"&C110&\",\"&IF(VLOOKUP(B110,SCHEDULE!$B$5:$O$143,D110,FALSE)=\" \",\",\",VLOOKUP(B110,SCHEDULE!$B$5:$O$143,D110,FALSE))","v":",,5,Peninsula Dragonfly"},10,5,10,null,"2023,1410,105",105]
[{"$f":"\",,\"&C111&\",\"&IF(VLOOKUP(B111,SCHEDULE!$B$5:$O$143,D111,FALSE)=\" \",\",\",VLOOKUP(B111,SCHEDULE!$B$5:$O$143,D111,FALSE))","v":",,6,,"},10,6,11,null,"2023,1410,106",106]
[{"$f":"\",,\"&C112&\",\"&IF(VLOOKUP(B112,SCHEDULE!$B$5:$O$143,D112,FALSE)=\" \",\",\",VLOOKUP(B112,SCHEDULE!$B$5:$O$143,D112,FALSE))","v":",,7,,"},10,7,12,null,"2023,1410,107",107]
[{"$f":"\",,\"&C113&\",\"&IF(VLOOKUP(B113,SCHEDULE!$B$5:$O$143,D113,FALSE)=\" \",\",\",VLOOKUP(B113,SCHEDULE!$B$5:$O$143,D113,FALSE))","v":",,8,,"},10,8,13,null,"2023,1410,108",108]
[{"$f":"\",,\"&C114&\",\"&IF(VLOOKUP(B114,SCHEDULE!$B$5:$O$143,D114,FALSE)=\" \",\",\",VLOOKUP(B114,SCHEDULE!$B$5:$O$143,D114,FALSE))","v":",,9,,"},10,9,14,null,"2023,1410,109",109]
[null,null,null,null,null,"2023,1410,110",110]
[{"$f":"$A$2&\",\"&$A$3&\",\"&B116&\",Race\"&B116&\" - \"&VLOOKUP(B116,SCHEDULE!$B$5:$C$143,2,FALSE)","v":"2023,1310,11,Race11 - Senior A Mixed 10's"},{"$f":"B105+1","v":11},null,null,null,"2023,1410,111",111]
[{"$f":"\",,\"&C117&\",\"&IF(VLOOKUP(B117,SCHEDULE!$B$5:$O$143,D117,FALSE)=\" \",\",\",VLOOKUP(B117,SCHEDULE!$B$5:$O$143,D117,FALSE))","v":",,1,Mildura"},{"$f":"B116","v":11},1,6,null,"2023,1410,112",112]
[{"$f":"\",,\"&C118&\",\"&IF(VLOOKUP(B118,SCHEDULE!$B$5:$O$143,D118,FALSE)=\" \",\",\",VLOOKUP(B118,SCHEDULE!$B$5:$O$143,D118,FALSE))","v":",,2,Rainbow Dragons"},{"$f":"B117","v":11},2,7,null,"2023,1410,113",113]
[{"$f":"\",,\"&C119&\",\"&IF(VLOOKUP(B119,SCHEDULE!$B$5:$O$143,D119,FALSE)=\" \",\",\",VLOOKUP(B119,SCHEDULE!$B$5:$O$143,D119,FALSE))","v":",,3,Gippsland United"},11,3,8,null,"2023,1410,114",114]
[{"$f":"\",,\"&C120&\",\"&IF(VLOOKUP(B120,SCHEDULE!$B$5:$O$143,D120,FALSE)=\" \",\",\",VLOOKUP(B120,SCHEDULE!$B$5:$O$143,D120,FALSE))","v":",,4,Kombo Dragons Black"},11,4,9,null,"2023,1410,115",115]
[{"$f":"\",,\"&C121&\",\"&IF(VLOOKUP(B121,SCHEDULE!$B$5:$O$143,D121,FALSE)=\" \",\",\",VLOOKUP(B121,SCHEDULE!$B$5:$O$143,D121,FALSE))","v":",,5,Kombo Dragons Purple"},11,5,10,null,"2023,1410,116",116]
[{"$f":"\",,\"&C122&\",\"&IF(VLOOKUP(B122,SCHEDULE!$B$5:$O$143,D122,FALSE)=\" \",\",\",VLOOKUP(B122,SCHEDULE!$B$5:$O$143,D122,FALSE))","v":",,6,,"},11,6,11,null,"2023,1410,117",117]
[{"$f":"\",,\"&C123&\",\"&IF(VLOOKUP(B123,SCHEDULE!$B$5:$O$143,D123,FALSE)=\" \",\",\",VLOOKUP(B123,SCHEDULE!$B$5:$O$143,D123,FALSE))","v":",,7,,"},11,7,12,null,"2023,1410,118",118]
[{"$f":"\",,\"&C124&\",\"&IF(VLOOKUP(B124,SCHEDULE!$B$5:$O$143,D124,FALSE)=\" \",\",\",VLOOKUP(B124,SCHEDULE!$B$5:$O$143,D124,FALSE))","v":",,8,,"},11,8,13,null,"2023,1410,119",119]
[{"$f":"\",,\"&C125&\",\"&IF(VLOOKUP(B125,SCHEDULE!$B$5:$O$143,D125,FALSE)=\" \",\",\",VLOOKUP(B125,SCHEDULE!$B$5:$O$143,D125,FALSE))","v":",,9,,"},11,9,14,null,"2023,1410,120",120]
[null,null,null,null,null,"2023,1410,121",121]
[{"$f":"$A$2&\",\"&$A$3&\",\"&B127&\",Race\"&B127&\" - \"&VLOOKUP(B127,SCHEDULE!$B$5:$C$143,2,FALSE)","v":"2023,1310,12,Race12 - Senior A Mixed 10's"},{"$f":"B116+1","v":12},null,null,null,"2023,1410,122",122]
[{"$f":"\",,\"&C128&\",\"&IF(VLOOKUP(B128,SCHEDULE!$B$5:$O$143,D128,FALSE)=\" \",\",\",VLOOKUP(B128,SCHEDULE!$B$5:$O$143,D128,FALSE))","v":",,1,Southern Warriors"},{"$f":"B127","v":12},1,6,null,"2023,1410,123",123]
[{"$f":"\",,\"&C129&\",\"&IF(VLOOKUP(B129,SCHEDULE!$B$5:$O$143,D129,FALSE)=\" \",\",\",VLOOKUP(B129,SCHEDULE!$B$5:$O$143,D129,FALSE))","v":",,2,Powerblades"},{"$f":"B128","v":12},2,7,null,"2023,1410,124",124]
[{"$f":"\",,\"&C130&\",\"&IF(VLOOKUP(B130,SCHEDULE!$B$5:$O$143,D130,FALSE)=\" \",\",\",VLOOKUP(B130,SCHEDULE!$B$5:$O$143,D130,FALSE))","v":",,3,Black Sea Dragons"},12,3,8,null,{"$f":"$A$2&\",\"&$A$3+100&\",\"&G130","v":"2023,1410,125"},125]
[{"$f":"\",,\"&C131&\",\"&IF(VLOOKUP(B131,SCHEDULE!$B$5:$O$143,D131,FALSE)=\" \",\",\",VLOOKUP(B131,SCHEDULE!$B$5:$O$143,D131,FALSE))","v":",,4,Dragonfire"},12,4,9,null,"2023,1410,126",126]
[{"$f":"\",,\"&C132&\",\"&IF(VLOOKUP(B132,SCHEDULE!$B$5:$O$143,D132,FALSE)=\" \",\",\",VLOOKUP(B132,SCHEDULE!$B$5:$O$143,D132,FALSE))","v":",,5,Newcastle Dragon Hunters"},12,5,10,null,"2023,1410,127",127]
[{"$f":"\",,\"&C133&\",\"&IF(VLOOKUP(B133,SCHEDULE!$B$5:$O$143,D133,FALSE)=\" \",\",\",VLOOKUP(B133,SCHEDULE!$B$5:$O$143,D133,FALSE))","v":",,6,,"},12,6,11,null,"2023,1410,128",128]
[{"$f":"\",,\"&C134&\",\"&IF(VLOOKUP(B134,SCHEDULE!$B$5:$O$143,D134,FALSE)=\" \",\",\",VLOOKUP(B134,SCHEDULE!$B$5:$O$143,D134,FALSE))","v":",,7,,"},12,7,12,null,"2023,1410,129",129]
[{"$f":"\",,\"&C135&\",\"&IF(VLOOKUP(B135,SCHEDULE!$B$5:$O$143,D135,FALSE)=\" \",\",\",VLOOKUP(B135,SCHEDULE!$B$5:$O$143,D135,FALSE))","v":",,8,,"},12,8,13,null,"2023,1410,130",130]
[{"$f":"\",,\"&C136&\",\"&IF(VLOOKUP(B136,SCHEDULE!$B$5:$O$143,D136,FALSE)=\" \",\",\",VLOOKUP(B136,SCHEDULE!$B$5:$O$143,D136,FALSE))","v":",,9,,"},12,9,14,null,"2023,1410,131",{"$f":"G135+1","v":131}]
[null,null,null,null,null,"2023,1410,132",132]
[{"$f":"$A$2&\",\"&$A$3&\",\"&B138&\",Race\"&B138&\" - \"&VLOOKUP(B138,SCHEDULE!$B$5:$C$143,2,FALSE)","v":"2023,1310,13,Race13 - Senior A Mixed 20"},{"$f":"B127+1","v":13},null,null,null,"2023,1410,133",133]
[{"$f":"\",,\"&C139&\",\"&IF(VLOOKUP(B139,SCHEDULE!$B$5:$O$143,D139,FALSE)=\" \",\",\",VLOOKUP(B139,SCHEDULE!$B$5:$O$143,D139,FALSE))","v":",,1,Gippsland United"},{"$f":"B138","v":13},1,6,null,"2023,1410,134",134]
[{"$f":"\",,\"&C140&\",\"&IF(VLOOKUP(B140,SCHEDULE!$B$5:$O$143,D140,FALSE)=\" \",\",\",VLOOKUP(B140,SCHEDULE!$B$5:$O$143,D140,FALSE))","v":",,2,Motley Crew"},{"$f":"B139","v":13},2,7,null,"2023,1410,135",135]
[{"$f":"\",,\"&C141&\",\"&IF(VLOOKUP(B141,SCHEDULE!$B$5:$O$143,D141,FALSE)=\" \",\",\",VLOOKUP(B141,SCHEDULE!$B$5:$O$143,D141,FALSE))","v":",,3,Kombo Dragons Black"},13,3,8,null,"2023,1410,136",136]
[{"$f":"\",,\"&C142&\",\"&IF(VLOOKUP(B142,SCHEDULE!$B$5:$O$143,D142,FALSE)=\" \",\",\",VLOOKUP(B142,SCHEDULE!$B$5:$O$143,D142,FALSE))","v":",,4,Mildura"},13,4,9,null,"2023,1410,137",137]
[{"$f":"\",,\"&C143&\",\"&IF(VLOOKUP(B143,SCHEDULE!$B$5:$O$143,D143,FALSE)=\" \",\",\",VLOOKUP(B143,SCHEDULE!$B$5:$O$143,D143,FALSE))","v":",,5,Deepwater Dragons"},13,5,10,null,"2023,1410,138",138]
[{"$f":"\",,\"&C144&\",\"&IF(VLOOKUP(B144,SCHEDULE!$B$5:$O$143,D144,FALSE)=\" \",\",\",VLOOKUP(B144,SCHEDULE!$B$5:$O$143,D144,FALSE))","v":",,6,Hunter River Dragons"},13,6,11]
[{"$f":"\",,\"&C145&\",\"&IF(VLOOKUP(B145,SCHEDULE!$B$5:$O$143,D145,FALSE)=\" \",\",\",VLOOKUP(B145,SCHEDULE!$B$5:$O$143,D145,FALSE))","v":",,7,,"},13,7,12]
[{"$f":"\",,\"&C146&\",\"&IF(VLOOKUP(B146,SCHEDULE!$B$5:$O$143,D146,FALSE)=\" \",\",\",VLOOKUP(B146,SCHEDULE!$B$5:$O$143,D146,FALSE))","v":",,8,,"},13,8,13]
[{"$f":"\",,\"&C147&\",\"&IF(VLOOKUP(B147,SCHEDULE!$B$5:$O$143,D147,FALSE)=\" \",\",\",VLOOKUP(B147,SCHEDULE!$B$5:$O$143,D147,FALSE))","v":",,9,,"},13,9,14]
[]
[{"$f":"$A$2&\",\"&$A$3&\",\"&B149&\",Race\"&B149&\" - \"&VLOOKUP(B149,SCHEDULE!$B$5:$C$143,2,FALSE)","v":"2023,1310,14,Race14 - Senior C Women 10"},{"$f":"B138+1","v":14}]
[{"$f":"\",,\"&C150&\",\"&IF(VLOOKUP(B150,SCHEDULE!$B$5:$O$143,D150,FALSE)=\" \",\",\",VLOOKUP(B150,SCHEDULE!$B$5:$O$143,D150,FALSE))","v":",,1,FNC"},{"$f":"B149","v":14},1,6]
[{"$f":"\",,\"&C151&\",\"&IF(VLOOKUP(B151,SCHEDULE!$B$5:$O$143,D151,FALSE)=\" \",\",\",VLOOKUP(B151,SCHEDULE!$B$5:$O$143,D151,FALSE))","v":",,2,Southern Warriors Blue"},{"$f":"B150","v":14},2,7]
[{"$f":"\",,\"&C152&\",\"&IF(VLOOKUP(B152,SCHEDULE!$B$5:$O$143,D152,FALSE)=\" \",\",\",VLOOKUP(B152,SCHEDULE!$B$5:$O$143,D152,FALSE))","v":",,3,Black Sea Dragons"},14,3,8]
[{"$f":"\",,\"&C153&\",\"&IF(VLOOKUP(B153,SCHEDULE!$B$5:$O$143,D153,FALSE)=\" \",\",\",VLOOKUP(B153,SCHEDULE!$B$5:$O$143,D153,FALSE))","v":",,4,Gypsy Dragons"},14,4,9]
[{"$f":"\",,\"&C154&\",\"&IF(VLOOKUP(B154,SCHEDULE!$B$5:$O$143,D154,FALSE)=\" \",\",\",VLOOKUP(B154,SCHEDULE!$B$5:$O$143,D154,FALSE))","v":",,5,SADA Sonix Yellow"},14,5,10]
[{"$f":"\",,\"&C155&\",\"&IF(VLOOKUP(B155,SCHEDULE!$B$5:$O$143,D155,FALSE)=\" \",\",\",VLOOKUP(B155,SCHEDULE!$B$5:$O$143,D155,FALSE))","v":",,6,Rainbow Dragons Blue"},14,6,11]
[{"$f":"\",,\"&C156&\",\"&IF(VLOOKUP(B156,SCHEDULE!$B$5:$O$143,D156,FALSE)=\" \",\",\",VLOOKUP(B156,SCHEDULE!$B$5:$O$143,D156,FALSE))","v":",,7,,"},14,7,12]
[{"$f":"\",,\"&C157&\",\"&IF(VLOOKUP(B157,SCHEDULE!$B$5:$O$143,D157,FALSE)=\" \",\",\",VLOOKUP(B157,SCHEDULE!$B$5:$O$143,D157,FALSE))","v":",,8,,"},14,8,13]
[{"$f":"\",,\"&C158&\",\"&IF(VLOOKUP(B158,SCHEDULE!$B$5:$O$143,D158,FALSE)=\" \",\",\",VLOOKUP(B158,SCHEDULE!$B$5:$O$143,D158,FALSE))","v":",,9,,"},14,9,14]
[]
[{"$f":"$A$2&\",\"&$A$3&\",\"&B160&\",Race\"&B160&\" - \"&VLOOKUP(B160,SCHEDULE!$B$5:$C$143,2,FALSE)","v":"2023,1310,15,Race15 - Senior C Women 10"},{"$f":"B149+1","v":15}]
[{"$f":"\",,\"&C161&\",\"&IF(VLOOKUP(B161,SCHEDULE!$B$5:$O$143,D161,FALSE)=\" \",\",\",VLOOKUP(B161,SCHEDULE!$B$5:$O$143,D161,FALSE))","v":",,1,Gippsland Orange"},{"$f":"B160","v":15},1,6]
[{"$f":"\",,\"&C162&\",\"&IF(VLOOKUP(B162,SCHEDULE!$B$5:$O$143,D162,FALSE)=\" \",\",\",VLOOKUP(B162,SCHEDULE!$B$5:$O$143,D162,FALSE))","v":",,2,Deepwater Purple"},{"$f":"B161","v":15},2,7]
[{"$f":"\",,\"&C163&\",\"&IF(VLOOKUP(B163,SCHEDULE!$B$5:$O$143,D163,FALSE)=\" \",\",\",VLOOKUP(B163,SCHEDULE!$B$5:$O$143,D163,FALSE))","v":",,3,SADA Sonix Blue"},15,3,8]
[{"$f":"\",,\"&C164&\",\"&IF(VLOOKUP(B164,SCHEDULE!$B$5:$O$143,D164,FALSE)=\" \",\",\",VLOOKUP(B164,SCHEDULE!$B$5:$O$143,D164,FALSE))","v":",,4,Dragons Afloat Bendigo"},15,4,9]
[{"$f":"\",,\"&C165&\",\"&IF(VLOOKUP(B165,SCHEDULE!$B$5:$O$143,D165,FALSE)=\" \",\",\",VLOOKUP(B165,SCHEDULE!$B$5:$O$143,D165,FALSE))","v":",,5,Kombo Dragons Black"},15,5,10]
[{"$f":"\",,\"&C166&\",\"&IF(VLOOKUP(B166,SCHEDULE!$B$5:$O$143,D166,FALSE)=\" \",\",\",VLOOKUP(B166,SCHEDULE!$B$5:$O$143,D166,FALSE))","v":",,6,Newcastle Dragon Hunters Red"},15,6,11]
[{"$f":"\",,\"&C167&\",\"&IF(VLOOKUP(B167,SCHEDULE!$B$5:$O$143,D167,FALSE)=\" \",\",\",VLOOKUP(B167,SCHEDULE!$B$5:$O$143,D167,FALSE))","v":",,7,Hunter River Dragons"},15,7,12]
[{"$f":"\",,\"&C168&\",\"&IF(VLOOKUP(B168,SCHEDULE!$B$5:$O$143,D168,FALSE)=\" \",\",\",VLOOKUP(B168,SCHEDULE!$B$5:$O$143,D168,FALSE))","v":",,8,,"},15,8,13]
[{"$f":"\",,\"&C169&\",\"&IF(VLOOKUP(B169,SCHEDULE!$B$5:$O$143,D169,FALSE)=\" \",\",\",VLOOKUP(B169,SCHEDULE!$B$5:$O$143,D169,FALSE))","v":",,9,,"},15,9,14]
[]
[{"$f":"$A$2&\",\"&$A$3&\",\"&B171&\",Race\"&B171&\" - \"&VLOOKUP(B171,SCHEDULE!$B$5:$C$143,2,FALSE)","v":"2023,1310,16,Race16 - Senior C Women 10"},{"$f":"B160+1","v":16}]
[{"$f":"\",,\"&C172&\",\"&IF(VLOOKUP(B172,SCHEDULE!$B$5:$O$143,D172,FALSE)=\" \",\",\",VLOOKUP(B172,SCHEDULE!$B$5:$O$143,D172,FALSE))","v":",,1,DA Bendigo Pink"},{"$f":"B171","v":16},1,6]
[{"$f":"\",,\"&C173&\",\"&IF(VLOOKUP(B173,SCHEDULE!$B$5:$O$143,D173,FALSE)=\" \",\",\",VLOOKUP(B173,SCHEDULE!$B$5:$O$143,D173,FALSE))","v":",,2,Dragons Afloat Port Lincoln"},{"$f":"B172","v":16},2,7]
[{"$f":"\",,\"&C174&\",\"&IF(VLOOKUP(B174,SCHEDULE!$B$5:$O$143,D174,FALSE)=\" \",\",\",VLOOKUP(B174,SCHEDULE!$B$5:$O$143,D174,FALSE))","v":",,3,Dragon Masters"},16,3,8]
[{"$f":"\",,\"&C175&\",\"&IF(VLOOKUP(B175,SCHEDULE!$B$5:$O$143,D175,FALSE)=\" \",\",\",VLOOKUP(B175,SCHEDULE!$B$5:$O$143,D175,FALSE))","v":",,4,Juggernauts"},16,4,9]
[{"$f":"\",,\"&C176&\",\"&IF(VLOOKUP(B176,SCHEDULE!$B$5:$O$143,D176,FALSE)=\" \",\",\",VLOOKUP(B176,SCHEDULE!$B$5:$O$143,D176,FALSE))","v":",,5,Deepwater Green"},16,5,10]
[{"$f":"\",,\"&C177&\",\"&IF(VLOOKUP(B177,SCHEDULE!$B$5:$O$143,D177,FALSE)=\" \",\",\",VLOOKUP(B177,SCHEDULE!$B$5:$O$143,D177,FALSE))","v":",,6,Outback Dragons"},16,6,11]
[{"$f":"\",,\"&C178&\",\"&IF(VLOOKUP(B178,SCHEDULE!$B$5:$O$143,D178,FALSE)=\" \",\",\",VLOOKUP(B178,SCHEDULE!$B$5:$O$143,D178,FALSE))","v":",,7,,"},16,7,12]
[{"$f":"\",,\"&C179&\",\"&IF(VLOOKUP(B179,SCHEDULE!$B$5:$O$143,D179,FALSE)=\" \",\",\",VLOOKUP(B179,SCHEDULE!$B$5:$O$143,D179,FALSE))","v":",,8,,"},16,8,13]
[{"$f":"\",,\"&C180&\",\"&IF(VLOOKUP(B180,SCHEDULE!$B$5:$O$143,D180,FALSE)=\" \",\",\",VLOOKUP(B180,SCHEDULE!$B$5:$O$143,D180,FALSE))","v":",,9,,"},16,9,14]
[]
[{"$f":"$A$2&\",\"&$A$3&\",\"&B182&\",Race\"&B182&\" - \"&VLOOKUP(B182,SCHEDULE!$B$5:$C$143,2,FALSE)","v":"2023,1310,17,Race17 - Senior C Women 10"},{"$f":"B171+1","v":17}]
[{"$f":"\",,\"&C183&\",\"&IF(VLOOKUP(B183,SCHEDULE!$B$5:$O$143,D183,FALSE)=\" \",\",\",VLOOKUP(B183,SCHEDULE!$B$5:$O$143,D183,FALSE))","v":",,1,Motley Crew"},{"$f":"B182","v":17},1,6]
[{"$f":"\",,\"&C184&\",\"&IF(VLOOKUP(B184,SCHEDULE!$B$5:$O$143,D184,FALSE)=\" \",\",\",VLOOKUP(B184,SCHEDULE!$B$5:$O$143,D184,FALSE))","v":",,2,Southern Warriors White"},{"$f":"B183","v":17},2,7]
[{"$f":"\",,\"&C185&\",\"&IF(VLOOKUP(B185,SCHEDULE!$B$5:$O$143,D185,FALSE)=\" \",\",\",VLOOKUP(B185,SCHEDULE!$B$5:$O$143,D185,FALSE))","v":",,3,Kangaroo Island Dragons"},17,3,8]
[{"$f":"\",,\"&C186&\",\"&IF(VLOOKUP(B186,SCHEDULE!$B$5:$O$143,D186,FALSE)=\" \",\",\",VLOOKUP(B186,SCHEDULE!$B$5:$O$143,D186,FALSE))","v":",,4,Powerblades"},17,4,9]
[{"$f":"\",,\"&C187&\",\"&IF(VLOOKUP(B187,SCHEDULE!$B$5:$O$143,D187,FALSE)=\" \",\",\",VLOOKUP(B187,SCHEDULE!$B$5:$O$143,D187,FALSE))","v":",,5,Rainbow Dragons Red"},17,5,10]
[{"$f":"\",,\"&C188&\",\"&IF(VLOOKUP(B188,SCHEDULE!$B$5:$O$143,D188,FALSE)=\" \",\",\",VLOOKUP(B188,SCHEDULE!$B$5:$O$143,D188,FALSE))","v":",,6,Mildura"},17,6,11]
[{"$f":"\",,\"&C189&\",\"&IF(VLOOKUP(B189,SCHEDULE!$B$5:$O$143,D189,FALSE)=\" \",\",\",VLOOKUP(B189,SCHEDULE!$B$5:$O$143,D189,FALSE))","v":",,7,,"},17,7,12]
[{"$f":"\",,\"&C190&\",\"&IF(VLOOKUP(B190,SCHEDULE!$B$5:$O$143,D190,FALSE)=\" \",\",\",VLOOKUP(B190,SCHEDULE!$B$5:$O$143,D190,FALSE))","v":",,8,,"},17,8,13]
[{"$f":"\",,\"&C191&\",\"&IF(VLOOKUP(B191,SCHEDULE!$B$5:$O$143,D191,FALSE)=\" \",\",\",VLOOKUP(B191,SCHEDULE!$B$5:$O$143,D191,FALSE))","v":",,9,,"},17,9,14]
[]
[{"$f":"$A$2&\",\"&$A$3&\",\"&B193&\",Race\"&B193&\" - \"&VLOOKUP(B193,SCHEDULE!$B$5:$C$143,2,FALSE)","v":"2023,1310,18,Race18 - Senior C Women 10"},{"$f":"B182+1","v":18}]
[{"$f":"\",,\"&C194&\",\"&IF(VLOOKUP(B194,SCHEDULE!$B$5:$O$143,D194,FALSE)=\" \",\",\",VLOOKUP(B194,SCHEDULE!$B$5:$O$143,D194,FALSE))","v":",,1,Newcastle Dragon Hunters Purple"},{"$f":"B193","v":18},1,6]
[{"$f":"\",,\"&C195&\",\"&IF(VLOOKUP(B195,SCHEDULE!$B$5:$O$143,D195,FALSE)=\" \",\",\",VLOOKUP(B195,SCHEDULE!$B$5:$O$143,D195,FALSE))","v":",,2,SCD Warrnambool"},{"$f":"B194","v":18},2,7]
[{"$f":"\",,\"&C196&\",\"&IF(VLOOKUP(B196,SCHEDULE!$B$5:$O$143,D196,FALSE)=\" \",\",\",VLOOKUP(B196,SCHEDULE!$B$5:$O$143,D196,FALSE))","v":",,3,Peninsuls Dragonflys"},18,3,8]
[{"$f":"\",,\"&C197&\",\"&IF(VLOOKUP(B197,SCHEDULE!$B$5:$O$143,D197,FALSE)=\" \",\",\",VLOOKUP(B197,SCHEDULE!$B$5:$O$143,D197,FALSE))","v":",,4,Gippsland Blue"},18,4,9]
[{"$f":"\",,\"&C198&\",\"&IF(VLOOKUP(B198,SCHEDULE!$B$5:$O$143,D198,FALSE)=\" \",\",\",VLOOKUP(B198,SCHEDULE!$B$5:$O$143,D198,FALSE))","v":",,5,DA Bendigo Blue"},18,5,10]
[{"$f":"\",,\"&C199&\",\"&IF(VLOOKUP(B199,SCHEDULE!$B$5:$O$143,D199,FALSE)=\" \",\",\",VLOOKUP(B199,SCHEDULE!$B$5:$O$143,D199,FALSE))","v":",,6,Golden Dragons"},18,6,11]
[{"$f":"\",,\"&C200&\",\"&IF(VLOOKUP(B200,SCHEDULE!$B$5:$O$143,D200,FALSE)=\" \",\",\",VLOOKUP(B200,SCHEDULE!$B$5:$O$143,D200,FALSE))","v":",,7,,"},18,7,12]
[{"$f":"\",,\"&C201&\",\"&IF(VLOOKUP(B201,SCHEDULE!$B$5:$O$143,D201,FALSE)=\" \",\",\",VLOOKUP(B201,SCHEDULE!$B$5:$O$143,D201,FALSE))","v":",,8,,"},18,8,13]
[{"$f":"\",,\"&C202&\",\"&IF(VLOOKUP(B202,SCHEDULE!$B$5:$O$143,D202,FALSE)=\" \",\",\",VLOOKUP(B202,SCHEDULE!$B$5:$O$143,D202,FALSE))","v":",,9,,"},18,9,14]
[]
[{"$f":"$A$2&\",\"&$A$3&\",\"&B204&\",Race\"&B204&\" - \"&VLOOKUP(B204,SCHEDULE!$B$5:$C$143,2,FALSE)","v":"2023,1310,19,Race19 - Senior C Open 10's"},{"$f":"B193+1","v":19}]
[{"$f":"\",,\"&C205&\",\"&IF(VLOOKUP(B205,SCHEDULE!$B$5:$O$143,D205,FALSE)=\" \",\",\",VLOOKUP(B205,SCHEDULE!$B$5:$O$143,D205,FALSE))","v":",,1,Southern Warriors Blue"},{"$f":"B204","v":19},1,6]
[{"$f":"\",,\"&C206&\",\"&IF(VLOOKUP(B206,SCHEDULE!$B$5:$O$143,D206,FALSE)=\" \",\",\",VLOOKUP(B206,SCHEDULE!$B$5:$O$143,D206,FALSE))","v":",,2,ASA"},{"$f":"B205","v":19},2,7]
[{"$f":"\",,\"&C207&\",\"&IF(VLOOKUP(B207,SCHEDULE!$B$5:$O$143,D207,FALSE)=\" \",\",\",VLOOKUP(B207,SCHEDULE!$B$5:$O$143,D207,FALSE))","v":",,3,Kombo Dragons Black"},19,3,8]
[{"$f":"\",,\"&C208&\",\"&IF(VLOOKUP(B208,SCHEDULE!$B$5:$O$143,D208,FALSE)=\" \",\",\",VLOOKUP(B208,SCHEDULE!$B$5:$O$143,D208,FALSE))","v":",,4,FNC"},19,4,9]
[{"$f":"\",,\"&C209&\",\"&IF(VLOOKUP(B209,SCHEDULE!$B$5:$O$143,D209,FALSE)=\" \",\",\",VLOOKUP(B209,SCHEDULE!$B$5:$O$143,D209,FALSE))","v":",,5,Outback Dragons"},19,5,10]
[{"$f":"\",,\"&C210&\",\"&IF(VLOOKUP(B210,SCHEDULE!$B$5:$O$143,D210,FALSE)=\" \",\",\",VLOOKUP(B210,SCHEDULE!$B$5:$O$143,D210,FALSE))","v":",,6,Gypsy Dragons"},19,6,11]
[{"$f":"\",,\"&C211&\",\"&IF(VLOOKUP(B211,SCHEDULE!$B$5:$O$143,D211,FALSE)=\" \",\",\",VLOOKUP(B211,SCHEDULE!$B$5:$O$143,D211,FALSE))","v":",,7,Rainbow Dragons"},19,7,12]
[{"$f":"\",,\"&C212&\",\"&IF(VLOOKUP(B212,SCHEDULE!$B$5:$O$143,D212,FALSE)=\" \",\",\",VLOOKUP(B212,SCHEDULE!$B$5:$O$143,D212,FALSE))","v":",,8,,"},19,8,13]
[{"$f":"\",,\"&C213&\",\"&IF(VLOOKUP(B213,SCHEDULE!$B$5:$O$143,D213,FALSE)=\" \",\",\",VLOOKUP(B213,SCHEDULE!$B$5:$O$143,D213,FALSE))","v":",,9,,"},19,9,14]
[]
[{"$f":"$A$2&\",\"&$A$3&\",\"&B215&\",Race\"&B215&\" - \"&VLOOKUP(B215,SCHEDULE!$B$5:$C$143,2,FALSE)","v":"2023,1310,20,Race20 - Senior C Open 10's"},{"$f":"B204+1","v":20}]
[{"$f":"\",,\"&C216&\",\"&IF(VLOOKUP(B216,SCHEDULE!$B$5:$O$143,D216,FALSE)=\" \",\",\",VLOOKUP(B216,SCHEDULE!$B$5:$O$143,D216,FALSE))","v":",,1,Powerblades"},{"$f":"B215","v":20},1,6]
[{"$f":"\",,\"&C217&\",\"&IF(VLOOKUP(B217,SCHEDULE!$B$5:$O$143,D217,FALSE)=\" \",\",\",VLOOKUP(B217,SCHEDULE!$B$5:$O$143,D217,FALSE))","v":",,2,Motley Crew"},{"$f":"B216","v":20},2,7]
[{"$f":"\",,\"&C218&\",\"&IF(VLOOKUP(B218,SCHEDULE!$B$5:$O$143,D218,FALSE)=\" \",\",\",VLOOKUP(B218,SCHEDULE!$B$5:$O$143,D218,FALSE))","v":",,3,Dragon Masters"},20,3,8]
[{"$f":"\",,\"&C219&\",\"&IF(VLOOKUP(B219,SCHEDULE!$B$5:$O$143,D219,FALSE)=\" \",\",\",VLOOKUP(B219,SCHEDULE!$B$5:$O$143,D219,FALSE))","v":",,4,Deepwater"},20,4,9]
[{"$f":"\",,\"&C220&\",\"&IF(VLOOKUP(B220,SCHEDULE!$B$5:$O$143,D220,FALSE)=\" \",\",\",VLOOKUP(B220,SCHEDULE!$B$5:$O$143,D220,FALSE))","v":",,5,Gippsland United"},20,5,10]
[{"$f":"\",,\"&C221&\",\"&IF(VLOOKUP(B221,SCHEDULE!$B$5:$O$143,D221,FALSE)=\" \",\",\",VLOOKUP(B221,SCHEDULE!$B$5:$O$143,D221,FALSE))","v":",,6,Kombo Dragons Purple"},20,6,11]
[{"$f":"\",,\"&C222&\",\"&IF(VLOOKUP(B222,SCHEDULE!$B$5:$O$143,D222,FALSE)=\" \",\",\",VLOOKUP(B222,SCHEDULE!$B$5:$O$143,D222,FALSE))","v":",,7,,"},20,7,12]
[{"$f":"\",,\"&C223&\",\"&IF(VLOOKUP(B223,SCHEDULE!$B$5:$O$143,D223,FALSE)=\" \",\",\",VLOOKUP(B223,SCHEDULE!$B$5:$O$143,D223,FALSE))","v":",,8,,"},20,8,13]
[{"$f":"\",,\"&C224&\",\"&IF(VLOOKUP(B224,SCHEDULE!$B$5:$O$143,D224,FALSE)=\" \",\",\",VLOOKUP(B224,SCHEDULE!$B$5:$O$143,D224,FALSE))","v":",,9,,"},20,9,14]
[]
[{"$f":"$A$2&\",\"&$A$3&\",\"&B226&\",Race\"&B226&\" - \"&VLOOKUP(B226,SCHEDULE!$B$5:$C$143,2,FALSE)","v":"2023,1310,21,Race21 - Senior C Open 10's"},{"$f":"B215+1","v":21}]
[{"$f":"\",,\"&C227&\",\"&IF(VLOOKUP(B227,SCHEDULE!$B$5:$O$143,D227,FALSE)=\" \",\",\",VLOOKUP(B227,SCHEDULE!$B$5:$O$143,D227,FALSE))","v":",,1,Newcastle Dragon Hunters Red"},{"$f":"B226","v":21},1,6]
[{"$f":"\",,\"&C228&\",\"&IF(VLOOKUP(B228,SCHEDULE!$B$5:$O$143,D228,FALSE)=\" \",\",\",VLOOKUP(B228,SCHEDULE!$B$5:$O$143,D228,FALSE))","v":",,2,Kangaroo Island Dragons"},{"$f":"B227","v":21},2,7]
[{"$f":"\",,\"&C229&\",\"&IF(VLOOKUP(B229,SCHEDULE!$B$5:$O$143,D229,FALSE)=\" \",\",\",VLOOKUP(B229,SCHEDULE!$B$5:$O$143,D229,FALSE))","v":",,3,Hunter River Dragons"},21,3,8]
[{"$f":"\",,\"&C230&\",\"&IF(VLOOKUP(B230,SCHEDULE!$B$5:$O$143,D230,FALSE)=\" \",\",\",VLOOKUP(B230,SCHEDULE!$B$5:$O$143,D230,FALSE))","v":",,4,Southern Warriors White"},21,4,9]
[{"$f":"\",,\"&C231&\",\"&IF(VLOOKUP(B231,SCHEDULE!$B$5:$O$143,D231,FALSE)=\" \",\",\",VLOOKUP(B231,SCHEDULE!$B$5:$O$143,D231,FALSE))","v":",,5,Mildura"},21,5,10]
[{"$f":"\",,\"&C232&\",\"&IF(VLOOKUP(B232,SCHEDULE!$B$5:$O$143,D232,FALSE)=\" \",\",\",VLOOKUP(B232,SCHEDULE!$B$5:$O$143,D232,FALSE))","v":",,6,SADA Sonix"},21,6,11]
[{"$f":"\",,\"&C233&\",\"&IF(VLOOKUP(B233,SCHEDULE!$B$5:$O$143,D233,FALSE)=\" \",\",\",VLOOKUP(B233,SCHEDULE!$B$5:$O$143,D233,FALSE))","v":",,7,,"},21,7,12]
[{"$f":"\",,\"&C234&\",\"&IF(VLOOKUP(B234,SCHEDULE!$B$5:$O$143,D234,FALSE)=\" \",\",\",VLOOKUP(B234,SCHEDULE!$B$5:$O$143,D234,FALSE))","v":",,8,,"},21,8,13]
[{"$f":"\",,\"&C235&\",\"&IF(VLOOKUP(B235,SCHEDULE!$B$5:$O$143,D235,FALSE)=\" \",\",\",VLOOKUP(B235,SCHEDULE!$B$5:$O$143,D235,FALSE))","v":",,9,,"},21,9,14]
[]
[{"$f":"$A$2&\",\"&$A$3&\",\"&B237&\",Race\"&B237&\" - \"&VLOOKUP(B237,SCHEDULE!$B$5:$C$143,2,FALSE)","v":"2023,1310,22,Race22 - BCS 10"},{"$f":"B226+1","v":22}]
[{"$f":"\",,\"&C238&\",\"&IF(VLOOKUP(B238,SCHEDULE!$B$5:$O$143,D238,FALSE)=\" \",\",\",VLOOKUP(B238,SCHEDULE!$B$5:$O$143,D238,FALSE))","v":",,1,Motley Crew"},{"$f":"B237","v":22},1,6]
[{"$f":"\",,\"&C239&\",\"&IF(VLOOKUP(B239,SCHEDULE!$B$5:$O$143,D239,FALSE)=\" \",\",\",VLOOKUP(B239,SCHEDULE!$B$5:$O$143,D239,FALSE))","v":",,2,DA Bendigo Blue"},{"$f":"B238","v":22},2,7]
[{"$f":"\",,\"&C240&\",\"&IF(VLOOKUP(B240,SCHEDULE!$B$5:$O$143,D240,FALSE)=\" \",\",\",VLOOKUP(B240,SCHEDULE!$B$5:$O$143,D240,FALSE))","v":",,3,ASA"},22,3,8]
[{"$f":"\",,\"&C241&\",\"&IF(VLOOKUP(B241,SCHEDULE!$B$5:$O$143,D241,FALSE)=\" \",\",\",VLOOKUP(B241,SCHEDULE!$B$5:$O$143,D241,FALSE))","v":",,4,Juggernauts"},22,4,9]
[{"$f":"\",,\"&C242&\",\"&IF(VLOOKUP(B242,SCHEDULE!$B$5:$O$143,D242,FALSE)=\" \",\",\",VLOOKUP(B242,SCHEDULE!$B$5:$O$143,D242,FALSE))","v":",,5,,"},22,5,10]
[{"$f":"\",,\"&C243&\",\"&IF(VLOOKUP(B243,SCHEDULE!$B$5:$O$143,D243,FALSE)=\" \",\",\",VLOOKUP(B243,SCHEDULE!$B$5:$O$143,D243,FALSE))","v":",,6,,"},22,6,11]
[{"$f":"\",,\"&C244&\",\"&IF(VLOOKUP(B244,SCHEDULE!$B$5:$O$143,D244,FALSE)=\" \",\",\",VLOOKUP(B244,SCHEDULE!$B$5:$O$143,D244,FALSE))","v":",,7,,"},22,7,12]
[{"$f":"\",,\"&C245&\",\"&IF(VLOOKUP(B245,SCHEDULE!$B$5:$O$143,D245,FALSE)=\" \",\",\",VLOOKUP(B245,SCHEDULE!$B$5:$O$143,D245,FALSE))","v":",,8,,"},22,8,13]
[{"$f":"\",,\"&C246&\",\"&IF(VLOOKUP(B246,SCHEDULE!$B$5:$O$143,D246,FALSE)=\" \",\",\",VLOOKUP(B246,SCHEDULE!$B$5:$O$143,D246,FALSE))","v":",,9,,"},22,9,14]
[]
[{"$f":"$A$2&\",\"&$A$3&\",\"&B248&\",Race\"&B248&\" - \"&VLOOKUP(B248,SCHEDULE!$B$5:$C$143,2,FALSE)","v":"2023,1310,23,Race23 - BCS 10"},{"$f":"B237+1","v":23}]
[{"$f":"\",,\"&C249&\",\"&IF(VLOOKUP(B249,SCHEDULE!$B$5:$O$143,D249,FALSE)=\" \",\",\",VLOOKUP(B249,SCHEDULE!$B$5:$O$143,D249,FALSE))","v":",,1,SADA Sonix"},{"$f":"B248","v":23},1,6]
[{"$f":"\",,\"&C250&\",\"&IF(VLOOKUP(B250,SCHEDULE!$B$5:$O$143,D250,FALSE)=\" \",\",\",VLOOKUP(B250,SCHEDULE!$B$5:$O$143,D250,FALSE))","v":",,2,Dragons Abreast Adelaide"},{"$f":"B249","v":23},2,7]
[{"$f":"\",,\"&C251&\",\"&IF(VLOOKUP(B251,SCHEDULE!$B$5:$O$143,D251,FALSE)=\" \",\",\",VLOOKUP(B251,SCHEDULE!$B$5:$O$143,D251,FALSE))","v":",,3,Rainbow Dragons"},23,3,8]
[{"$f":"\",,\"&C252&\",\"&IF(VLOOKUP(B252,SCHEDULE!$B$5:$O$143,D252,FALSE)=\" \",\",\",VLOOKUP(B252,SCHEDULE!$B$5:$O$143,D252,FALSE))","v":",,4,DA Bendigo Pink"},23,4,9]
[{"$f":"\",,\"&C253&\",\"&IF(VLOOKUP(B253,SCHEDULE!$B$5:$O$143,D253,FALSE)=\" \",\",\",VLOOKUP(B253,SCHEDULE!$B$5:$O$143,D253,FALSE))","v":",,5,Pink Dragons"},23,5,10]
[{"$f":"\",,\"&C254&\",\"&IF(VLOOKUP(B254,SCHEDULE!$B$5:$O$143,D254,FALSE)=\" \",\",\",VLOOKUP(B254,SCHEDULE!$B$5:$O$143,D254,FALSE))","v":",,6,,"},23,6,11]
[{"$f":"\",,\"&C255&\",\"&IF(VLOOKUP(B255,SCHEDULE!$B$5:$O$143,D255,FALSE)=\" \",\",\",VLOOKUP(B255,SCHEDULE!$B$5:$O$143,D255,FALSE))","v":",,7,,"},23,7,12]
[{"$f":"\",,\"&C256&\",\"&IF(VLOOKUP(B256,SCHEDULE!$B$5:$O$143,D256,FALSE)=\" \",\",\",VLOOKUP(B256,SCHEDULE!$B$5:$O$143,D256,FALSE))","v":",,8,,"},23,8,13]
[{"$f":"\",,\"&C257&\",\"&IF(VLOOKUP(B257,SCHEDULE!$B$5:$O$143,D257,FALSE)=\" \",\",\",VLOOKUP(B257,SCHEDULE!$B$5:$O$143,D257,FALSE))","v":",,9,,"},23,9,14]
[]
[{"$f":"$A$2&\",\"&$A$3&\",\"&B259&\",Race\"&B259&\" - \"&VLOOKUP(B259,SCHEDULE!$B$5:$C$143,2,FALSE)","v":"2023,1310,24,Race24 - Senior B Women 10"},{"$f":"B248+1","v":24}]
[{"$f":"\",,\"&C260&\",\"&IF(VLOOKUP(B260,SCHEDULE!$B$5:$O$143,D260,FALSE)=\" \",\",\",VLOOKUP(B260,SCHEDULE!$B$5:$O$143,D260,FALSE))","v":",,1,Goolwa River Dragons"},{"$f":"B259","v":24},1,6]
[{"$f":"\",,\"&C261&\",\"&IF(VLOOKUP(B261,SCHEDULE!$B$5:$O$143,D261,FALSE)=\" \",\",\",VLOOKUP(B261,SCHEDULE!$B$5:$O$143,D261,FALSE))","v":",,2,Deepwater Dragons"},{"$f":"B260","v":24},2,7]
[{"$f":"\",,\"&C262&\",\"&IF(VLOOKUP(B262,SCHEDULE!$B$5:$O$143,D262,FALSE)=\" \",\",\",VLOOKUP(B262,SCHEDULE!$B$5:$O$143,D262,FALSE))","v":",,3,Dragonfire"},24,3,8]
[{"$f":"\",,\"&C263&\",\"&IF(VLOOKUP(B263,SCHEDULE!$B$5:$O$143,D263,FALSE)=\" \",\",\",VLOOKUP(B263,SCHEDULE!$B$5:$O$143,D263,FALSE))","v":",,4,Newcastle Dragon Hunters Red"},24,4,9]
[{"$f":"\",,\"&C264&\",\"&IF(VLOOKUP(B264,SCHEDULE!$B$5:$O$143,D264,FALSE)=\" \",\",\",VLOOKUP(B264,SCHEDULE!$B$5:$O$143,D264,FALSE))","v":",,5,Hunter River Dragons"},24,5,10]
[{"$f":"\",,\"&C265&\",\"&IF(VLOOKUP(B265,SCHEDULE!$B$5:$O$143,D265,FALSE)=\" \",\",\",VLOOKUP(B265,SCHEDULE!$B$5:$O$143,D265,FALSE))","v":",,6,Mildura"},24,6,11]
[{"$f":"\",,\"&C266&\",\"&IF(VLOOKUP(B266,SCHEDULE!$B$5:$O$143,D266,FALSE)=\" \",\",\",VLOOKUP(B266,SCHEDULE!$B$5:$O$143,D266,FALSE))","v":",,7,,"},24,7,12]
[{"$f":"\",,\"&C267&\",\"&IF(VLOOKUP(B267,SCHEDULE!$B$5:$O$143,D267,FALSE)=\" \",\",\",VLOOKUP(B267,SCHEDULE!$B$5:$O$143,D267,FALSE))","v":",,8,,"},24,8,13]
[{"$f":"\",,\"&C268&\",\"&IF(VLOOKUP(B268,SCHEDULE!$B$5:$O$143,D268,FALSE)=\" \",\",\",VLOOKUP(B268,SCHEDULE!$B$5:$O$143,D268,FALSE))","v":",,9,,"},24,9,14]
[]
[{"$f":"$A$2&\",\"&$A$3&\",\"&B270&\",Race\"&B270&\" - \"&VLOOKUP(B270,SCHEDULE!$B$5:$C$143,2,FALSE)","v":"2023,1310,25,Race25 - Senior B Women 10"},{"$f":"B259+1","v":25}]
[{"$f":"\",,\"&C271&\",\"&IF(VLOOKUP(B271,SCHEDULE!$B$5:$O$143,D271,FALSE)=\" \",\",\",VLOOKUP(B271,SCHEDULE!$B$5:$O$143,D271,FALSE))","v":",,1,DA Bendigo"},{"$f":"B270","v":25},1,6]
[{"$f":"\",,\"&C272&\",\"&IF(VLOOKUP(B272,SCHEDULE!$B$5:$O$143,D272,FALSE)=\" \",\",\",VLOOKUP(B272,SCHEDULE!$B$5:$O$143,D272,FALSE))","v":",,2,SADA Sonix Yellow"},{"$f":"B271","v":25},2,7]
[{"$f":"\",,\"&C273&\",\"&IF(VLOOKUP(B273,SCHEDULE!$B$5:$O$143,D273,FALSE)=\" \",\",\",VLOOKUP(B273,SCHEDULE!$B$5:$O$143,D273,FALSE))","v":",,3,Powerblades"},25,3,8]
[{"$f":"\",,\"&C274&\",\"&IF(VLOOKUP(B274,SCHEDULE!$B$5:$O$143,D274,FALSE)=\" \",\",\",VLOOKUP(B274,SCHEDULE!$B$5:$O$143,D274,FALSE))","v":",,4,Black Sea Dragons"},25,4,9]
[{"$f":"\",,\"&C275&\",\"&IF(VLOOKUP(B275,SCHEDULE!$B$5:$O$143,D275,FALSE)=\" \",\",\",VLOOKUP(B275,SCHEDULE!$B$5:$O$143,D275,FALSE))","v":",,5,Kombo Dragons Purple"},25,5,10]
[{"$f":"\",,\"&C276&\",\"&IF(VLOOKUP(B276,SCHEDULE!$B$5:$O$143,D276,FALSE)=\" \",\",\",VLOOKUP(B276,SCHEDULE!$B$5:$O$143,D276,FALSE))","v":",,6,Gypsy Dragons"},25,6,11]
[{"$f":"\",,\"&C277&\",\"&IF(VLOOKUP(B277,SCHEDULE!$B$5:$O$143,D277,FALSE)=\" \",\",\",VLOOKUP(B277,SCHEDULE!$B$5:$O$143,D277,FALSE))","v":",,7,Outback Dragons"},25,7,12]
[{"$f":"\",,\"&C278&\",\"&IF(VLOOKUP(B278,SCHEDULE!$B$5:$O$143,D278,FALSE)=\" \",\",\",VLOOKUP(B278,SCHEDULE!$B$5:$O$143,D278,FALSE))","v":",,8,,"},25,8,13]
[{"$f":"\",,\"&C279&\",\"&IF(VLOOKUP(B279,SCHEDULE!$B$5:$O$143,D279,FALSE)=\" \",\",\",VLOOKUP(B279,SCHEDULE!$B$5:$O$143,D279,FALSE))","v":",,9,,"},25,9,14]
[]
[{"$f":"$A$2&\",\"&$A$3&\",\"&B281&\",Race\"&B281&\" - \"&VLOOKUP(B281,SCHEDULE!$B$5:$C$143,2,FALSE)","v":"2023,1310,26,Race26 - Senior B Women 10"},{"$f":"B270+1","v":26}]
[{"$f":"\",,\"&C282&\",\"&IF(VLOOKUP(B282,SCHEDULE!$B$5:$O$143,D282,FALSE)=\" \",\",\",VLOOKUP(B282,SCHEDULE!$B$5:$O$143,D282,FALSE))","v":",,1,SCD Warrnambool"},{"$f":"B281","v":26},1,6]
[{"$f":"\",,\"&C283&\",\"&IF(VLOOKUP(B283,SCHEDULE!$B$5:$O$143,D283,FALSE)=\" \",\",\",VLOOKUP(B283,SCHEDULE!$B$5:$O$143,D283,FALSE))","v":",,2,Kombo Dragons Black"},{"$f":"B282","v":26},2,7]
[{"$f":"\",,\"&C284&\",\"&IF(VLOOKUP(B284,SCHEDULE!$B$5:$O$143,D284,FALSE)=\" \",\",\",VLOOKUP(B284,SCHEDULE!$B$5:$O$143,D284,FALSE))","v":",,3,Gippsland United"},26,3,8]
[{"$f":"\",,\"&C285&\",\"&IF(VLOOKUP(B285,SCHEDULE!$B$5:$O$143,D285,FALSE)=\" \",\",\",VLOOKUP(B285,SCHEDULE!$B$5:$O$143,D285,FALSE))","v":",,4,Dragons Afloat Bendigo"},26,4,9]
[{"$f":"\",,\"&C286&\",\"&IF(VLOOKUP(B286,SCHEDULE!$B$5:$O$143,D286,FALSE)=\" \",\",\",VLOOKUP(B286,SCHEDULE!$B$5:$O$143,D286,FALSE))","v":",,5,Southern Warriors"},26,5,10]
[{"$f":"\",,\"&C287&\",\"&IF(VLOOKUP(B287,SCHEDULE!$B$5:$O$143,D287,FALSE)=\" \",\",\",VLOOKUP(B287,SCHEDULE!$B$5:$O$143,D287,FALSE))","v":",,6,SADA Sonix Blue"},26,6,11]
[{"$f":"\",,\"&C288&\",\"&IF(VLOOKUP(B288,SCHEDULE!$B$5:$O$143,D288,FALSE)=\" \",\",\",VLOOKUP(B288,SCHEDULE!$B$5:$O$143,D288,FALSE))","v":",,7,,"},26,7,12]
[{"$f":"\",,\"&C289&\",\"&IF(VLOOKUP(B289,SCHEDULE!$B$5:$O$143,D289,FALSE)=\" \",\",\",VLOOKUP(B289,SCHEDULE!$B$5:$O$143,D289,FALSE))","v":",,8,,"},26,8,13]
[{"$f":"\",,\"&C290&\",\"&IF(VLOOKUP(B290,SCHEDULE!$B$5:$O$143,D290,FALSE)=\" \",\",\",VLOOKUP(B290,SCHEDULE!$B$5:$O$143,D290,FALSE))","v":",,9,,"},26,9,14]
[]
[{"$f":"$A$2&\",\"&$A$3&\",\"&B292&\",Race\"&B292&\" - \"&VLOOKUP(B292,SCHEDULE!$B$5:$C$143,2,FALSE)","v":"2023,1310,27,Race27 - Senior B Women 10"},{"$f":"B281+1","v":27}]
[{"$f":"\",,\"&C293&\",\"&IF(VLOOKUP(B293,SCHEDULE!$B$5:$O$143,D293,FALSE)=\" \",\",\",VLOOKUP(B293,SCHEDULE!$B$5:$O$143,D293,FALSE))","v":",,1,Broadwater Dragons"},{"$f":"B292","v":27},1,6]
[{"$f":"\",,\"&C294&\",\"&IF(VLOOKUP(B294,SCHEDULE!$B$5:$O$143,D294,FALSE)=\" \",\",\",VLOOKUP(B294,SCHEDULE!$B$5:$O$143,D294,FALSE))","v":",,2,Golden Dragons"},{"$f":"B293","v":27},2,7]
[{"$f":"\",,\"&C295&\",\"&IF(VLOOKUP(B295,SCHEDULE!$B$5:$O$143,D295,FALSE)=\" \",\",\",VLOOKUP(B295,SCHEDULE!$B$5:$O$143,D295,FALSE))","v":",,3,Newcastle Dragon Hunters Purple"},27,3,8]
[{"$f":"\",,\"&C296&\",\"&IF(VLOOKUP(B296,SCHEDULE!$B$5:$O$143,D296,FALSE)=\" \",\",\",VLOOKUP(B296,SCHEDULE!$B$5:$O$143,D296,FALSE))","v":",,4,Juggernauts"},27,4,9]
[{"$f":"\",,\"&C297&\",\"&IF(VLOOKUP(B297,SCHEDULE!$B$5:$O$143,D297,FALSE)=\" \",\",\",VLOOKUP(B297,SCHEDULE!$B$5:$O$143,D297,FALSE))","v":",,5,Dragons Afloat Port Lincoln"},27,5,10]
[{"$f":"\",,\"&C298&\",\"&IF(VLOOKUP(B298,SCHEDULE!$B$5:$O$143,D298,FALSE)=\" \",\",\",VLOOKUP(B298,SCHEDULE!$B$5:$O$143,D298,FALSE))","v":",,6,FNC"},27,6,11]
[{"$f":"\",,\"&C299&\",\"&IF(VLOOKUP(B299,SCHEDULE!$B$5:$O$143,D299,FALSE)=\" \",\",\",VLOOKUP(B299,SCHEDULE!$B$5:$O$143,D299,FALSE))","v":",,7,,"},27,7,12]
[{"$f":"\",,\"&C300&\",\"&IF(VLOOKUP(B300,SCHEDULE!$B$5:$O$143,D300,FALSE)=\" \",\",\",VLOOKUP(B300,SCHEDULE!$B$5:$O$143,D300,FALSE))","v":",,8,,"},27,8,13]
[{"$f":"\",,\"&C301&\",\"&IF(VLOOKUP(B301,SCHEDULE!$B$5:$O$143,D301,FALSE)=\" \",\",\",VLOOKUP(B301,SCHEDULE!$B$5:$O$143,D301,FALSE))","v":",,9,,"},27,9,14]
[]
[{"$f":"$A$2&\",\"&$A$3&\",\"&B303&\",Race\"&B303&\" - \"&VLOOKUP(B303,SCHEDULE!$B$5:$C$143,2,FALSE)","v":"2023,1310,28,Race28 - Senior B Open 10"},{"$f":"B292+1","v":28}]
[{"$f":"\",,\"&C304&\",\"&IF(VLOOKUP(B304,SCHEDULE!$B$5:$O$143,D304,FALSE)=\" \",\",\",VLOOKUP(B304,SCHEDULE!$B$5:$O$143,D304,FALSE))","v":",,1,SADA Sonix"},{"$f":"B303","v":28},1,6]
[{"$f":"\",,\"&C305&\",\"&IF(VLOOKUP(B305,SCHEDULE!$B$5:$O$143,D305,FALSE)=\" \",\",\",VLOOKUP(B305,SCHEDULE!$B$5:$O$143,D305,FALSE))","v":",,2,Gippsland United"},{"$f":"B304","v":28},2,7]
[{"$f":"\",,\"&C306&\",\"&IF(VLOOKUP(B306,SCHEDULE!$B$5:$O$143,D306,FALSE)=\" \",\",\",VLOOKUP(B306,SCHEDULE!$B$5:$O$143,D306,FALSE))","v":",,3,Outback Dragons"},28,3,8]
[{"$f":"\",,\"&C307&\",\"&IF(VLOOKUP(B307,SCHEDULE!$B$5:$O$143,D307,FALSE)=\" \",\",\",VLOOKUP(B307,SCHEDULE!$B$5:$O$143,D307,FALSE))","v":",,4,Dragonfire"},28,4,9]
[{"$f":"\",,\"&C308&\",\"&IF(VLOOKUP(B308,SCHEDULE!$B$5:$O$143,D308,FALSE)=\" \",\",\",VLOOKUP(B308,SCHEDULE!$B$5:$O$143,D308,FALSE))","v":",,5,Kombo Dragons Black"},28,5,10]
[{"$f":"\",,\"&C309&\",\"&IF(VLOOKUP(B309,SCHEDULE!$B$5:$O$143,D309,FALSE)=\" \",\",\",VLOOKUP(B309,SCHEDULE!$B$5:$O$143,D309,FALSE))","v":",,6,Mildura"},28,6,11]
[{"$f":"\",,\"&C310&\",\"&IF(VLOOKUP(B310,SCHEDULE!$B$5:$O$143,D310,FALSE)=\" \",\",\",VLOOKUP(B310,SCHEDULE!$B$5:$O$143,D310,FALSE))","v":",,7,,"},28,7,12]
[{"$f":"\",,\"&C311&\",\"&IF(VLOOKUP(B311,SCHEDULE!$B$5:$O$143,D311,FALSE)=\" \",\",\",VLOOKUP(B311,SCHEDULE!$B$5:$O$143,D311,FALSE))","v":",,8,,"},28,8,13]
[{"$f":"\",,\"&C312&\",\"&IF(VLOOKUP(B312,SCHEDULE!$B$5:$O$143,D312,FALSE)=\" \",\",\",VLOOKUP(B312,SCHEDULE!$B$5:$O$143,D312,FALSE))","v":",,9,,"},28,9,14]
[]
[{"$f":"$A$2&\",\"&$A$3&\",\"&B314&\",Race\"&B314&\" - \"&VLOOKUP(B314,SCHEDULE!$B$5:$C$143,2,FALSE)","v":"2023,1310,29,Race29 - Senior B Open 10"},{"$f":"B303+1","v":29}]
[{"$f":"\",,\"&C315&\",\"&IF(VLOOKUP(B315,SCHEDULE!$B$5:$O$143,D315,FALSE)=\" \",\",\",VLOOKUP(B315,SCHEDULE!$B$5:$O$143,D315,FALSE))","v":",,1,Gypsy Dragons"},{"$f":"B314","v":29},1,6]
[{"$f":"\",,\"&C316&\",\"&IF(VLOOKUP(B316,SCHEDULE!$B$5:$O$143,D316,FALSE)=\" \",\",\",VLOOKUP(B316,SCHEDULE!$B$5:$O$143,D316,FALSE))","v":",,2,Southern Warriors"},{"$f":"B315","v":29},2,7]
[{"$f":"\",,\"&C317&\",\"&IF(VLOOKUP(B317,SCHEDULE!$B$5:$O$143,D317,FALSE)=\" \",\",\",VLOOKUP(B317,SCHEDULE!$B$5:$O$143,D317,FALSE))","v":",,3,Deepwater"},29,3,8]
[{"$f":"\",,\"&C318&\",\"&IF(VLOOKUP(B318,SCHEDULE!$B$5:$O$143,D318,FALSE)=\" \",\",\",VLOOKUP(B318,SCHEDULE!$B$5:$O$143,D318,FALSE))","v":",,4,Kombo Dragons Purple"},29,4,9]
[{"$f":"\",,\"&C319&\",\"&IF(VLOOKUP(B319,SCHEDULE!$B$5:$O$143,D319,FALSE)=\" \",\",\",VLOOKUP(B319,SCHEDULE!$B$5:$O$143,D319,FALSE))","v":",,5,ASA"},29,5,10]
[{"$f":"\",,\"&C320&\",\"&IF(VLOOKUP(B320,SCHEDULE!$B$5:$O$143,D320,FALSE)=\" \",\",\",VLOOKUP(B320,SCHEDULE!$B$5:$O$143,D320,FALSE))","v":",,6,Newcastle Dragon Hunters Red"},29,6,11]
[{"$f":"\",,\"&C321&\",\"&IF(VLOOKUP(B321,SCHEDULE!$B$5:$O$143,D321,FALSE)=\" \",\",\",VLOOKUP(B321,SCHEDULE!$B$5:$O$143,D321,FALSE))","v":",,7,,"},29,7,12]
[{"$f":"\",,\"&C322&\",\"&IF(VLOOKUP(B322,SCHEDULE!$B$5:$O$143,D322,FALSE)=\" \",\",\",VLOOKUP(B322,SCHEDULE!$B$5:$O$143,D322,FALSE))","v":",,8,,"},29,8,13]
[{"$f":"\",,\"&C323&\",\"&IF(VLOOKUP(B323,SCHEDULE!$B$5:$O$143,D323,FALSE)=\" \",\",\",VLOOKUP(B323,SCHEDULE!$B$5:$O$143,D323,FALSE))","v":",,9,,"},29,9,14]
[]
[{"$f":"$A$2&\",\"&$A$3&\",\"&B325&\",Race\"&B325&\" - \"&VLOOKUP(B325,SCHEDULE!$B$5:$C$143,2,FALSE)","v":"2023,1310,30,Race30 - Senior B Open 10"},{"$f":"B314+1","v":30}]
[{"$f":"\",,\"&C326&\",\"&IF(VLOOKUP(B326,SCHEDULE!$B$5:$O$143,D326,FALSE)=\" \",\",\",VLOOKUP(B326,SCHEDULE!$B$5:$O$143,D326,FALSE))","v":",,1,Kombo Dragons Green"},{"$f":"B325","v":30},1,6]
[{"$f":"\",,\"&C327&\",\"&IF(VLOOKUP(B327,SCHEDULE!$B$5:$O$143,D327,FALSE)=\" \",\",\",VLOOKUP(B327,SCHEDULE!$B$5:$O$143,D327,FALSE))","v":",,2,Hunter River Dragons"},{"$f":"B326","v":30},2,7]
[{"$f":"\",,\"&C328&\",\"&IF(VLOOKUP(B328,SCHEDULE!$B$5:$O$143,D328,FALSE)=\" \",\",\",VLOOKUP(B328,SCHEDULE!$B$5:$O$143,D328,FALSE))","v":",,3,Black Sea Dragons"},30,3,8]
[{"$f":"\",,\"&C329&\",\"&IF(VLOOKUP(B329,SCHEDULE!$B$5:$O$143,D329,FALSE)=\" \",\",\",VLOOKUP(B329,SCHEDULE!$B$5:$O$143,D329,FALSE))","v":",,4,Goolwa River Dragons"},30,4,9]
[{"$f":"\",,\"&C330&\",\"&IF(VLOOKUP(B330,SCHEDULE!$B$5:$O$143,D330,FALSE)=\" \",\",\",VLOOKUP(B330,SCHEDULE!$B$5:$O$143,D330,FALSE))","v":",,5,Mannum"},30,5,10]
[{"$f":"\",,\"&C331&\",\"&IF(VLOOKUP(B331,SCHEDULE!$B$5:$O$143,D331,FALSE)=\" \",\",\",VLOOKUP(B331,SCHEDULE!$B$5:$O$143,D331,FALSE))","v":",,6,,"},30,6,11]
[{"$f":"\",,\"&C332&\",\"&IF(VLOOKUP(B332,SCHEDULE!$B$5:$O$143,D332,FALSE)=\" \",\",\",VLOOKUP(B332,SCHEDULE!$B$5:$O$143,D332,FALSE))","v":",,7,,"},30,7,12]
[{"$f":"\",,\"&C333&\",\"&IF(VLOOKUP(B333,SCHEDULE!$B$5:$O$143,D333,FALSE)=\" \",\",\",VLOOKUP(B333,SCHEDULE!$B$5:$O$143,D333,FALSE))","v":",,8,,"},30,8,13]
[{"$f":"\",,\"&C334&\",\"&IF(VLOOKUP(B334,SCHEDULE!$B$5:$O$143,D334,FALSE)=\" \",\",\",VLOOKUP(B334,SCHEDULE!$B$5:$O$143,D334,FALSE))","v":",,9,,"},30,9,14]
[]
[{"$f":"$A$2&\",\"&$A$3&\",\"&B336&\",Race\"&B336&\" - \"&VLOOKUP(B336,SCHEDULE!$B$5:$C$143,2,FALSE)","v":"2023,1310,31,Race31 - BCS 20"},{"$f":"B325+1","v":31}]
[{"$f":"\",,\"&C337&\",\"&IF(VLOOKUP(B337,SCHEDULE!$B$5:$O$143,D337,FALSE)=\" \",\",\",VLOOKUP(B337,SCHEDULE!$B$5:$O$143,D337,FALSE))","v":",,1,,"},{"$f":"B336","v":31},1,6]
[{"$f":"\",,\"&C338&\",\"&IF(VLOOKUP(B338,SCHEDULE!$B$5:$O$143,D338,FALSE)=\" \",\",\",VLOOKUP(B338,SCHEDULE!$B$5:$O$143,D338,FALSE))","v":",,2,DA Bendigo"},{"$f":"B337","v":31},2,7]
[{"$f":"\",,\"&C339&\",\"&IF(VLOOKUP(B339,SCHEDULE!$B$5:$O$143,D339,FALSE)=\" \",\",\",VLOOKUP(B339,SCHEDULE!$B$5:$O$143,D339,FALSE))","v":",,3,Dragons Afloat Port Lincoln"},31,3,8]
[{"$f":"\",,\"&C340&\",\"&IF(VLOOKUP(B340,SCHEDULE!$B$5:$O$143,D340,FALSE)=\" \",\",\",VLOOKUP(B340,SCHEDULE!$B$5:$O$143,D340,FALSE))","v":",,4,Juggernauts"},31,4,9]
[{"$f":"\",,\"&C341&\",\"&IF(VLOOKUP(B341,SCHEDULE!$B$5:$O$143,D341,FALSE)=\" \",\",\",VLOOKUP(B341,SCHEDULE!$B$5:$O$143,D341,FALSE))","v":",,5,,"},31,5,10]
[{"$f":"\",,\"&C342&\",\"&IF(VLOOKUP(B342,SCHEDULE!$B$5:$O$143,D342,FALSE)=\" \",\",\",VLOOKUP(B342,SCHEDULE!$B$5:$O$143,D342,FALSE))","v":",,6,,"},31,6,11]
[{"$f":"\",,\"&C343&\",\"&IF(VLOOKUP(B343,SCHEDULE!$B$5:$O$143,D343,FALSE)=\" \",\",\",VLOOKUP(B343,SCHEDULE!$B$5:$O$143,D343,FALSE))","v":",,7,,"},31,7,12]
[{"$f":"\",,\"&C344&\",\"&IF(VLOOKUP(B344,SCHEDULE!$B$5:$O$143,D344,FALSE)=\" \",\",\",VLOOKUP(B344,SCHEDULE!$B$5:$O$143,D344,FALSE))","v":",,8,,"},31,8,13]
[{"$f":"\",,\"&C345&\",\"&IF(VLOOKUP(B345,SCHEDULE!$B$5:$O$143,D345,FALSE)=\" \",\",\",VLOOKUP(B345,SCHEDULE!$B$5:$O$143,D345,FALSE))","v":",,9,,"},31,9,14]
[]
[{"$f":"$A$2&\",\"&$A$3&\",\"&B347&\",Race\"&B347&\" - \"&VLOOKUP(B347,SCHEDULE!$B$5:$C$143,2,FALSE)","v":"2023,1310,32,Race32 - Senior B Women 20"},{"$f":"B336+1","v":32}]
[{"$f":"\",,\"&C348&\",\"&IF(VLOOKUP(B348,SCHEDULE!$B$5:$O$143,D348,FALSE)=\" \",\",\",VLOOKUP(B348,SCHEDULE!$B$5:$O$143,D348,FALSE))","v":",,1,Gippsland United"},{"$f":"B347","v":32},1,6]
[{"$f":"\",,\"&C349&\",\"&IF(VLOOKUP(B349,SCHEDULE!$B$5:$O$143,D349,FALSE)=\" \",\",\",VLOOKUP(B349,SCHEDULE!$B$5:$O$143,D349,FALSE))","v":",,2,Hunter River Dragons"},{"$f":"B348","v":32},2,7]
[{"$f":"\",,\"&C350&\",\"&IF(VLOOKUP(B350,SCHEDULE!$B$5:$O$143,D350,FALSE)=\" \",\",\",VLOOKUP(B350,SCHEDULE!$B$5:$O$143,D350,FALSE))","v":",,3,Deepwater Purple"},32,3,8]
[{"$f":"\",,\"&C351&\",\"&IF(VLOOKUP(B351,SCHEDULE!$B$5:$O$143,D351,FALSE)=\" \",\",\",VLOOKUP(B351,SCHEDULE!$B$5:$O$143,D351,FALSE))","v":",,4,Newcastle Dragon Hunters Red"},32,4,9]
[{"$f":"\",,\"&C352&\",\"&IF(VLOOKUP(B352,SCHEDULE!$B$5:$O$143,D352,FALSE)=\" \",\",\",VLOOKUP(B352,SCHEDULE!$B$5:$O$143,D352,FALSE))","v":",,5,Southern Warriors"},32,5,10]
[{"$f":"\",,\"&C353&\",\"&IF(VLOOKUP(B353,SCHEDULE!$B$5:$O$143,D353,FALSE)=\" \",\",\",VLOOKUP(B353,SCHEDULE!$B$5:$O$143,D353,FALSE))","v":",,6,FNC"},32,6,11]
[{"$f":"\",,\"&C354&\",\"&IF(VLOOKUP(B354,SCHEDULE!$B$5:$O$143,D354,FALSE)=\" \",\",\",VLOOKUP(B354,SCHEDULE!$B$5:$O$143,D354,FALSE))","v":",,7,Kombo Dragons Black"},32,7,12]
[{"$f":"\",,\"&C355&\",\"&IF(VLOOKUP(B355,SCHEDULE!$B$5:$O$143,D355,FALSE)=\" \",\",\",VLOOKUP(B355,SCHEDULE!$B$5:$O$143,D355,FALSE))","v":",,8,,"},32,8,13]
[{"$f":"\",,\"&C356&\",\"&IF(VLOOKUP(B356,SCHEDULE!$B$5:$O$143,D356,FALSE)=\" \",\",\",VLOOKUP(B356,SCHEDULE!$B$5:$O$143,D356,FALSE))","v":",,9,,"},32,9,14]
[]
[{"$f":"$A$2&\",\"&$A$3&\",\"&B358&\",Race\"&B358&\" - \"&VLOOKUP(B358,SCHEDULE!$B$5:$C$143,2,FALSE)","v":"2023,1310,33,Race33 - Senior B Women 20"},{"$f":"B347+1","v":33}]
[{"$f":"\",,\"&C359&\",\"&IF(VLOOKUP(B359,SCHEDULE!$B$5:$O$143,D359,FALSE)=\" \",\",\",VLOOKUP(B359,SCHEDULE!$B$5:$O$143,D359,FALSE))","v":",,1,Dragons Afloat Bendigo"},{"$f":"B358","v":33},1,6]
[{"$f":"\",,\"&C360&\",\"&IF(VLOOKUP(B360,SCHEDULE!$B$5:$O$143,D360,FALSE)=\" \",\",\",VLOOKUP(B360,SCHEDULE!$B$5:$O$143,D360,FALSE))","v":",,2,Mildura"},{"$f":"B359","v":33},2,7]
[{"$f":"\",,\"&C361&\",\"&IF(VLOOKUP(B361,SCHEDULE!$B$5:$O$143,D361,FALSE)=\" \",\",\",VLOOKUP(B361,SCHEDULE!$B$5:$O$143,D361,FALSE))","v":",,3,Motley Crew"},33,3,8]
[{"$f":"\",,\"&C362&\",\"&IF(VLOOKUP(B362,SCHEDULE!$B$5:$O$143,D362,FALSE)=\" \",\",\",VLOOKUP(B362,SCHEDULE!$B$5:$O$143,D362,FALSE))","v":",,4,Rainbow Dragons"},33,4,9]
[{"$f":"\",,\"&C363&\",\"&IF(VLOOKUP(B363,SCHEDULE!$B$5:$O$143,D363,FALSE)=\" \",\",\",VLOOKUP(B363,SCHEDULE!$B$5:$O$143,D363,FALSE))","v":",,5,Newcastle Dragon Hunters Purple"},33,5,10]
[{"$f":"\",,\"&C364&\",\"&IF(VLOOKUP(B364,SCHEDULE!$B$5:$O$143,D364,FALSE)=\" \",\",\",VLOOKUP(B364,SCHEDULE!$B$5:$O$143,D364,FALSE))","v":",,6,Deepwater Green"},33,6,11]
[{"$f":"\",,\"&C365&\",\"&IF(VLOOKUP(B365,SCHEDULE!$B$5:$O$143,D365,FALSE)=\" \",\",\",VLOOKUP(B365,SCHEDULE!$B$5:$O$143,D365,FALSE))","v":",,7,SADA Sonix"},33,7,12]
[{"$f":"\",,\"&C366&\",\"&IF(VLOOKUP(B366,SCHEDULE!$B$5:$O$143,D366,FALSE)=\" \",\",\",VLOOKUP(B366,SCHEDULE!$B$5:$O$143,D366,FALSE))","v":",,8,,"},33,8,13]
[{"$f":"\",,\"&C367&\",\"&IF(VLOOKUP(B367,SCHEDULE!$B$5:$O$143,D367,FALSE)=\" \",\",\",VLOOKUP(B367,SCHEDULE!$B$5:$O$143,D367,FALSE))","v":",,9,,"},33,9,14]
[]
[{"$f":"$A$2&\",\"&$A$3&\",\"&B369&\",Race\"&B369&\" - \"&VLOOKUP(B369,SCHEDULE!$B$5:$C$143,2,FALSE)","v":"2023,1310,34,Race34 - Senior B Open 20"},{"$f":"B358+1","v":34}]
[{"$f":"\",,\"&C370&\",\"&IF(VLOOKUP(B370,SCHEDULE!$B$5:$O$143,D370,FALSE)=\" \",\",\",VLOOKUP(B370,SCHEDULE!$B$5:$O$143,D370,FALSE))","v":",,1,Gypsy Dragons"},{"$f":"B369","v":34},1,6]
[{"$f":"\",,\"&C371&\",\"&IF(VLOOKUP(B371,SCHEDULE!$B$5:$O$143,D371,FALSE)=\" \",\",\",VLOOKUP(B371,SCHEDULE!$B$5:$O$143,D371,FALSE))","v":",,2,Newcastle Dragon Hunters Red"},{"$f":"B370","v":34},2,7]
[{"$f":"\",,\"&C372&\",\"&IF(VLOOKUP(B372,SCHEDULE!$B$5:$O$143,D372,FALSE)=\" \",\",\",VLOOKUP(B372,SCHEDULE!$B$5:$O$143,D372,FALSE))","v":",,3,Kombo Dragons"},34,3,8]
[{"$f":"\",,\"&C373&\",\"&IF(VLOOKUP(B373,SCHEDULE!$B$5:$O$143,D373,FALSE)=\" \",\",\",VLOOKUP(B373,SCHEDULE!$B$5:$O$143,D373,FALSE))","v":",,4,Gippsland United"},34,4,9]
[{"$f":"\",,\"&C374&\",\"&IF(VLOOKUP(B374,SCHEDULE!$B$5:$O$143,D374,FALSE)=\" \",\",\",VLOOKUP(B374,SCHEDULE!$B$5:$O$143,D374,FALSE))","v":",,5,Hunter River Dragons"},34,5,10]
[{"$f":"\",,\"&C375&\",\"&IF(VLOOKUP(B375,SCHEDULE!$B$5:$O$143,D375,FALSE)=\" \",\",\",VLOOKUP(B375,SCHEDULE!$B$5:$O$143,D375,FALSE))","v":",,6,,"},34,6,11]
[{"$f":"\",,\"&C376&\",\"&IF(VLOOKUP(B376,SCHEDULE!$B$5:$O$143,D376,FALSE)=\" \",\",\",VLOOKUP(B376,SCHEDULE!$B$5:$O$143,D376,FALSE))","v":",,7,,"},34,7,12]
[{"$f":"\",,\"&C377&\",\"&IF(VLOOKUP(B377,SCHEDULE!$B$5:$O$143,D377,FALSE)=\" \",\",\",VLOOKUP(B377,SCHEDULE!$B$5:$O$143,D377,FALSE))","v":",,8,,"},34,8,13]
[{"$f":"\",,\"&C378&\",\"&IF(VLOOKUP(B378,SCHEDULE!$B$5:$O$143,D378,FALSE)=\" \",\",\",VLOOKUP(B378,SCHEDULE!$B$5:$O$143,D378,FALSE))","v":",,9,,"},34,9,14]
[]
[{"$f":"$A$2&\",\"&$A$3&\",\"&B380&\",Race\"&B380&\" - \"&VLOOKUP(B380,SCHEDULE!$B$5:$C$143,2,FALSE)","v":"2023,1310,35,Race35 - Senior B Open 20"},{"$f":"B369+1","v":35}]
[{"$f":"\",,\"&C381&\",\"&IF(VLOOKUP(B381,SCHEDULE!$B$5:$O$143,D381,FALSE)=\" \",\",\",VLOOKUP(B381,SCHEDULE!$B$5:$O$143,D381,FALSE))","v":",,1,Newcastle Dragon Hunters Purple"},{"$f":"B380","v":35},1,6]
[{"$f":"\",,\"&C382&\",\"&IF(VLOOKUP(B382,SCHEDULE!$B$5:$O$143,D382,FALSE)=\" \",\",\",VLOOKUP(B382,SCHEDULE!$B$5:$O$143,D382,FALSE))","v":",,2,Motley Crew"},{"$f":"B381","v":35},2,7]
[{"$f":"\",,\"&C383&\",\"&IF(VLOOKUP(B383,SCHEDULE!$B$5:$O$143,D383,FALSE)=\" \",\",\",VLOOKUP(B383,SCHEDULE!$B$5:$O$143,D383,FALSE))","v":",,3,Southern Warriors"},35,3,8]
[{"$f":"\",,\"&C384&\",\"&IF(VLOOKUP(B384,SCHEDULE!$B$5:$O$143,D384,FALSE)=\" \",\",\",VLOOKUP(B384,SCHEDULE!$B$5:$O$143,D384,FALSE))","v":",,4,Deepwater"},35,4,9]
[{"$f":"\",,\"&C385&\",\"&IF(VLOOKUP(B385,SCHEDULE!$B$5:$O$143,D385,FALSE)=\" \",\",\",VLOOKUP(B385,SCHEDULE!$B$5:$O$143,D385,FALSE))","v":",,5,Outback Dragons"},35,5,10]
[{"$f":"\",,\"&C386&\",\"&IF(VLOOKUP(B386,SCHEDULE!$B$5:$O$143,D386,FALSE)=\" \",\",\",VLOOKUP(B386,SCHEDULE!$B$5:$O$143,D386,FALSE))","v":",,6,,"},35,6,11]
[{"$f":"\",,\"&C387&\",\"&IF(VLOOKUP(B387,SCHEDULE!$B$5:$O$143,D387,FALSE)=\" \",\",\",VLOOKUP(B387,SCHEDULE!$B$5:$O$143,D387,FALSE))","v":",,7,,"},35,7,12]
[{"$f":"\",,\"&C388&\",\"&IF(VLOOKUP(B388,SCHEDULE!$B$5:$O$143,D388,FALSE)=\" \",\",\",VLOOKUP(B388,SCHEDULE!$B$5:$O$143,D388,FALSE))","v":",,8,,"},35,8,13]
[{"$f":"\",,\"&C389&\",\"&IF(VLOOKUP(B389,SCHEDULE!$B$5:$O$143,D389,FALSE)=\" \",\",\",VLOOKUP(B389,SCHEDULE!$B$5:$O$143,D389,FALSE))","v":",,9,,"},35,9,14]
[]
[{"$f":"$A$2&\",\"&$A$3&\",\"&B391&\",Race\"&B391&\" - \"&VLOOKUP(B391,SCHEDULE!$B$5:$C$143,2,FALSE)","v":"2023,1310,36,Race36 - Senior A Women 10"},{"$f":"B380+1","v":36}]
[{"$f":"\",,\"&C392&\",\"&IF(VLOOKUP(B392,SCHEDULE!$B$5:$O$143,D392,FALSE)=\" \",\",\",VLOOKUP(B392,SCHEDULE!$B$5:$O$143,D392,FALSE))","v":",,1,Hunter River Dragons"},{"$f":"B391","v":36},1,6]
[{"$f":"\",,\"&C393&\",\"&IF(VLOOKUP(B393,SCHEDULE!$B$5:$O$143,D393,FALSE)=\" \",\",\",VLOOKUP(B393,SCHEDULE!$B$5:$O$143,D393,FALSE))","v":",,2,Mildura"},{"$f":"B392","v":36},2,7]
[{"$f":"\",,\"&C394&\",\"&IF(VLOOKUP(B394,SCHEDULE!$B$5:$O$143,D394,FALSE)=\" \",\",\",VLOOKUP(B394,SCHEDULE!$B$5:$O$143,D394,FALSE))","v":",,3,FNC"},36,3,8]
[{"$f":"\",,\"&C395&\",\"&IF(VLOOKUP(B395,SCHEDULE!$B$5:$O$143,D395,FALSE)=\" \",\",\",VLOOKUP(B395,SCHEDULE!$B$5:$O$143,D395,FALSE))","v":",,4,Kombo Dragons Purple"},36,4,9]
[{"$f":"\",,\"&C396&\",\"&IF(VLOOKUP(B396,SCHEDULE!$B$5:$O$143,D396,FALSE)=\" \",\",\",VLOOKUP(B396,SCHEDULE!$B$5:$O$143,D396,FALSE))","v":",,5,Dragonfire"},36,5,10]
[{"$f":"\",,\"&C397&\",\"&IF(VLOOKUP(B397,SCHEDULE!$B$5:$O$143,D397,FALSE)=\" \",\",\",VLOOKUP(B397,SCHEDULE!$B$5:$O$143,D397,FALSE))","v":",,6,Gippsland United"},36,6,11]
[{"$f":"\",,\"&C398&\",\"&IF(VLOOKUP(B398,SCHEDULE!$B$5:$O$143,D398,FALSE)=\" \",\",\",VLOOKUP(B398,SCHEDULE!$B$5:$O$143,D398,FALSE))","v":",,7,Black Sea Dragons"},36,7,12]
[{"$f":"\",,\"&C399&\",\"&IF(VLOOKUP(B399,SCHEDULE!$B$5:$O$143,D399,FALSE)=\" \",\",\",VLOOKUP(B399,SCHEDULE!$B$5:$O$143,D399,FALSE))","v":",,8,,"},36,8,13]
[{"$f":"\",,\"&C400&\",\"&IF(VLOOKUP(B400,SCHEDULE!$B$5:$O$143,D400,FALSE)=\" \",\",\",VLOOKUP(B400,SCHEDULE!$B$5:$O$143,D400,FALSE))","v":",,9,,"},36,9,14]
[]
[{"$f":"$A$2&\",\"&$A$3&\",\"&B402&\",Race\"&B402&\" - \"&VLOOKUP(B402,SCHEDULE!$B$5:$C$143,2,FALSE)","v":"2023,1310,37,Race37 - Senior A Women 10"},{"$f":"B391+1","v":37}]
[{"$f":"\",,\"&C403&\",\"&IF(VLOOKUP(B403,SCHEDULE!$B$5:$O$143,D403,FALSE)=\" \",\",\",VLOOKUP(B403,SCHEDULE!$B$5:$O$143,D403,FALSE))","v":",,1,Pink Dragons"},{"$f":"B402","v":37},1,6]
[{"$f":"\",,\"&C404&\",\"&IF(VLOOKUP(B404,SCHEDULE!$B$5:$O$143,D404,FALSE)=\" \",\",\",VLOOKUP(B404,SCHEDULE!$B$5:$O$143,D404,FALSE))","v":",,2,Kombo Dragons Black"},{"$f":"B403","v":37},2,7]
[{"$f":"\",,\"&C405&\",\"&IF(VLOOKUP(B405,SCHEDULE!$B$5:$O$143,D405,FALSE)=\" \",\",\",VLOOKUP(B405,SCHEDULE!$B$5:$O$143,D405,FALSE))","v":",,3,Deepwater Dragons"},37,3,8]
[{"$f":"\",,\"&C406&\",\"&IF(VLOOKUP(B406,SCHEDULE!$B$5:$O$143,D406,FALSE)=\" \",\",\",VLOOKUP(B406,SCHEDULE!$B$5:$O$143,D406,FALSE))","v":",,4,Goolwa River Dragons"},37,4,9]
[{"$f":"\",,\"&C407&\",\"&IF(VLOOKUP(B407,SCHEDULE!$B$5:$O$143,D407,FALSE)=\" \",\",\",VLOOKUP(B407,SCHEDULE!$B$5:$O$143,D407,FALSE))","v":",,5,Diamond Phoenix"},37,5,10]
[{"$f":"\",,\"&C408&\",\"&IF(VLOOKUP(B408,SCHEDULE!$B$5:$O$143,D408,FALSE)=\" \",\",\",VLOOKUP(B408,SCHEDULE!$B$5:$O$143,D408,FALSE))","v":",,6,Southern Warriors"},37,6,11]
[{"$f":"\",,\"&C409&\",\"&IF(VLOOKUP(B409,SCHEDULE!$B$5:$O$143,D409,FALSE)=\" \",\",\",VLOOKUP(B409,SCHEDULE!$B$5:$O$143,D409,FALSE))","v":",,7,,"},37,7,12]
[{"$f":"\",,\"&C410&\",\"&IF(VLOOKUP(B410,SCHEDULE!$B$5:$O$143,D410,FALSE)=\" \",\",\",VLOOKUP(B410,SCHEDULE!$B$5:$O$143,D410,FALSE))","v":",,8,,"},37,8,13]
[{"$f":"\",,\"&C411&\",\"&IF(VLOOKUP(B411,SCHEDULE!$B$5:$O$143,D411,FALSE)=\" \",\",\",VLOOKUP(B411,SCHEDULE!$B$5:$O$143,D411,FALSE))","v":",,9,,"},37,9,14]
[]
[{"$f":"$A$2&\",\"&$A$3&\",\"&B413&\",Race\"&B413&\" - \"&VLOOKUP(B413,SCHEDULE!$B$5:$C$143,2,FALSE)","v":"2023,1310,38,Race38 - Senior A Women 10"},{"$f":"B402+1","v":38}]
[{"$f":"\",,\"&C414&\",\"&IF(VLOOKUP(B414,SCHEDULE!$B$5:$O$143,D414,FALSE)=\" \",\",\",VLOOKUP(B414,SCHEDULE!$B$5:$O$143,D414,FALSE))","v":",,1,Rainbow Dragons"},{"$f":"B413","v":38},1,6]
[{"$f":"\",,\"&C415&\",\"&IF(VLOOKUP(B415,SCHEDULE!$B$5:$O$143,D415,FALSE)=\" \",\",\",VLOOKUP(B415,SCHEDULE!$B$5:$O$143,D415,FALSE))","v":",,2,Dragons Abreast Adelaide"},{"$f":"B414","v":38},2,7]
[{"$f":"\",,\"&C416&\",\"&IF(VLOOKUP(B416,SCHEDULE!$B$5:$O$143,D416,FALSE)=\" \",\",\",VLOOKUP(B416,SCHEDULE!$B$5:$O$143,D416,FALSE))","v":",,3,Newcastle Dragon Hunters"},38,3,8]
[{"$f":"\",,\"&C417&\",\"&IF(VLOOKUP(B417,SCHEDULE!$B$5:$O$143,D417,FALSE)=\" \",\",\",VLOOKUP(B417,SCHEDULE!$B$5:$O$143,D417,FALSE))","v":",,4,SADA Sonix"},38,4,9]
[{"$f":"\",,\"&C418&\",\"&IF(VLOOKUP(B418,SCHEDULE!$B$5:$O$143,D418,FALSE)=\" \",\",\",VLOOKUP(B418,SCHEDULE!$B$5:$O$143,D418,FALSE))","v":",,5,Peninsula Dragonflys"},38,5,10]
[{"$f":"\",,\"&C419&\",\"&IF(VLOOKUP(B419,SCHEDULE!$B$5:$O$143,D419,FALSE)=\" \",\",\",VLOOKUP(B419,SCHEDULE!$B$5:$O$143,D419,FALSE))","v":",,6,Powerblades"},38,6,11]
[{"$f":"\",,\"&C420&\",\"&IF(VLOOKUP(B420,SCHEDULE!$B$5:$O$143,D420,FALSE)=\" \",\",\",VLOOKUP(B420,SCHEDULE!$B$5:$O$143,D420,FALSE))","v":",,7,Golden Dragons"},38,7,12]
[{"$f":"\",,\"&C421&\",\"&IF(VLOOKUP(B421,SCHEDULE!$B$5:$O$143,D421,FALSE)=\" \",\",\",VLOOKUP(B421,SCHEDULE!$B$5:$O$143,D421,FALSE))","v":",,8,,"},38,8,13]
[{"$f":"\",,\"&C422&\",\"&IF(VLOOKUP(B422,SCHEDULE!$B$5:$O$143,D422,FALSE)=\" \",\",\",VLOOKUP(B422,SCHEDULE!$B$5:$O$143,D422,FALSE))","v":",,9,,"},38,9,14]
[]
[{"$f":"$A$2&\",\"&$A$3&\",\"&B424&\",Race\"&B424&\" - \"&VLOOKUP(B424,SCHEDULE!$B$5:$C$143,2,FALSE)","v":"2023,1310,39,Race39 - Senior A Open 10"},{"$f":"B413+1","v":39}]
[{"$f":"\",,\"&C425&\",\"&IF(VLOOKUP(B425,SCHEDULE!$B$5:$O$143,D425,FALSE)=\" \",\",\",VLOOKUP(B425,SCHEDULE!$B$5:$O$143,D425,FALSE))","v":",,1,Hunter River Dragons"},{"$f":"B424","v":39},1,6]
[{"$f":"\",,\"&C426&\",\"&IF(VLOOKUP(B426,SCHEDULE!$B$5:$O$143,D426,FALSE)=\" \",\",\",VLOOKUP(B426,SCHEDULE!$B$5:$O$143,D426,FALSE))","v":",,2,Pink Dragons"},{"$f":"B425","v":39},2,7]
[{"$f":"\",,\"&C427&\",\"&IF(VLOOKUP(B427,SCHEDULE!$B$5:$O$143,D427,FALSE)=\" \",\",\",VLOOKUP(B427,SCHEDULE!$B$5:$O$143,D427,FALSE))","v":",,3,Broadwater Dragons"},39,3,8]
[{"$f":"\",,\"&C428&\",\"&IF(VLOOKUP(B428,SCHEDULE!$B$5:$O$143,D428,FALSE)=\" \",\",\",VLOOKUP(B428,SCHEDULE!$B$5:$O$143,D428,FALSE))","v":",,4,Kombo Dragons Purple"},39,4,9]
[{"$f":"\",,\"&C429&\",\"&IF(VLOOKUP(B429,SCHEDULE!$B$5:$O$143,D429,FALSE)=\" \",\",\",VLOOKUP(B429,SCHEDULE!$B$5:$O$143,D429,FALSE))","v":",,5,Black Sea Dragons"},39,5,10]
[{"$f":"\",,\"&C430&\",\"&IF(VLOOKUP(B430,SCHEDULE!$B$5:$O$143,D430,FALSE)=\" \",\",\",VLOOKUP(B430,SCHEDULE!$B$5:$O$143,D430,FALSE))","v":",,6,,"},39,6,11]
[{"$f":"\",,\"&C431&\",\"&IF(VLOOKUP(B431,SCHEDULE!$B$5:$O$143,D431,FALSE)=\" \",\",\",VLOOKUP(B431,SCHEDULE!$B$5:$O$143,D431,FALSE))","v":",,7,,"},39,7,12]
[{"$f":"\",,\"&C432&\",\"&IF(VLOOKUP(B432,SCHEDULE!$B$5:$O$143,D432,FALSE)=\" \",\",\",VLOOKUP(B432,SCHEDULE!$B$5:$O$143,D432,FALSE))","v":",,8,,"},39,8,13]
[{"$f":"\",,\"&C433&\",\"&IF(VLOOKUP(B433,SCHEDULE!$B$5:$O$143,D433,FALSE)=\" \",\",\",VLOOKUP(B433,SCHEDULE!$B$5:$O$143,D433,FALSE))","v":",,9,,"},39,9,14]
[]
[{"$f":"$A$2&\",\"&$A$3&\",\"&B435&\",Race\"&B435&\" - \"&VLOOKUP(B435,SCHEDULE!$B$5:$C$143,2,FALSE)","v":"2023,1310,40,Race40 - Senior A Open 10"},{"$f":"B424+1","v":40}]
[{"$f":"\",,\"&C436&\",\"&IF(VLOOKUP(B436,SCHEDULE!$B$5:$O$143,D436,FALSE)=\" \",\",\",VLOOKUP(B436,SCHEDULE!$B$5:$O$143,D436,FALSE))","v":",,1,Kombo Dragons Black"},{"$f":"B435","v":40},1,6]
[{"$f":"\",,\"&C437&\",\"&IF(VLOOKUP(B437,SCHEDULE!$B$5:$O$143,D437,FALSE)=\" \",\",\",VLOOKUP(B437,SCHEDULE!$B$5:$O$143,D437,FALSE))","v":",,2,Southern Warriors"},{"$f":"B436","v":40},2,7]
[{"$f":"\",,\"&C438&\",\"&IF(VLOOKUP(B438,SCHEDULE!$B$5:$O$143,D438,FALSE)=\" \",\",\",VLOOKUP(B438,SCHEDULE!$B$5:$O$143,D438,FALSE))","v":",,3,Gippsland United"},40,3,8]
[{"$f":"\",,\"&C439&\",\"&IF(VLOOKUP(B439,SCHEDULE!$B$5:$O$143,D439,FALSE)=\" \",\",\",VLOOKUP(B439,SCHEDULE!$B$5:$O$143,D439,FALSE))","v":",,4,Deepwater Dragons"},40,4,9]
[{"$f":"\",,\"&C440&\",\"&IF(VLOOKUP(B440,SCHEDULE!$B$5:$O$143,D440,FALSE)=\" \",\",\",VLOOKUP(B440,SCHEDULE!$B$5:$O$143,D440,FALSE))","v":",,5,Dragonfire"},40,5,10]
[{"$f":"\",,\"&C441&\",\"&IF(VLOOKUP(B441,SCHEDULE!$B$5:$O$143,D441,FALSE)=\" \",\",\",VLOOKUP(B441,SCHEDULE!$B$5:$O$143,D441,FALSE))","v":",,6,,"},40,6,11]
[{"$f":"\",,\"&C442&\",\"&IF(VLOOKUP(B442,SCHEDULE!$B$5:$O$143,D442,FALSE)=\" \",\",\",VLOOKUP(B442,SCHEDULE!$B$5:$O$143,D442,FALSE))","v":",,7,,"},40,7,12]
[{"$f":"\",,\"&C443&\",\"&IF(VLOOKUP(B443,SCHEDULE!$B$5:$O$143,D443,FALSE)=\" \",\",\",VLOOKUP(B443,SCHEDULE!$B$5:$O$143,D443,FALSE))","v":",,8,,"},40,8,13]
[{"$f":"\",,\"&C444&\",\"&IF(VLOOKUP(B444,SCHEDULE!$B$5:$O$143,D444,FALSE)=\" \",\",\",VLOOKUP(B444,SCHEDULE!$B$5:$O$143,D444,FALSE))","v":",,9,,"},40,9,14]
[]
[{"$f":"$A$2&\",\"&$A$3&\",\"&B446&\",Race\"&B446&\" - \"&VLOOKUP(B446,SCHEDULE!$B$5:$C$143,2,FALSE)","v":"2023,1310,41,Race41 - Senior A Open 10"},{"$f":"B435+1","v":41}]
[{"$f":"\",,\"&C447&\",\"&IF(VLOOKUP(B447,SCHEDULE!$B$5:$O$143,D447,FALSE)=\" \",\",\",VLOOKUP(B447,SCHEDULE!$B$5:$O$143,D447,FALSE))","v":",,1,Goolwa River Dragons"},{"$f":"B446","v":41},1,6]
[{"$f":"\",,\"&C448&\",\"&IF(VLOOKUP(B448,SCHEDULE!$B$5:$O$143,D448,FALSE)=\" \",\",\",VLOOKUP(B448,SCHEDULE!$B$5:$O$143,D448,FALSE))","v":",,2,Kombo Dragons Green"},{"$f":"B447","v":41},2,7]
[{"$f":"\",,\"&C449&\",\"&IF(VLOOKUP(B449,SCHEDULE!$B$5:$O$143,D449,FALSE)=\" \",\",\",VLOOKUP(B449,SCHEDULE!$B$5:$O$143,D449,FALSE))","v":",,3,Diamond Phoenix"},41,3,8]
[{"$f":"\",,\"&C450&\",\"&IF(VLOOKUP(B450,SCHEDULE!$B$5:$O$143,D450,FALSE)=\" \",\",\",VLOOKUP(B450,SCHEDULE!$B$5:$O$143,D450,FALSE))","v":",,4,Mildura"},41,4,9]
[{"$f":"\",,\"&C451&\",\"&IF(VLOOKUP(B451,SCHEDULE!$B$5:$O$143,D451,FALSE)=\" \",\",\",VLOOKUP(B451,SCHEDULE!$B$5:$O$143,D451,FALSE))","v":",,5,FNC"},41,5,10]
[{"$f":"\",,\"&C452&\",\"&IF(VLOOKUP(B452,SCHEDULE!$B$5:$O$143,D452,FALSE)=\" \",\",\",VLOOKUP(B452,SCHEDULE!$B$5:$O$143,D452,FALSE))","v":",,6,,"},41,6,11]
[{"$f":"\",,\"&C453&\",\"&IF(VLOOKUP(B453,SCHEDULE!$B$5:$O$143,D453,FALSE)=\" \",\",\",VLOOKUP(B453,SCHEDULE!$B$5:$O$143,D453,FALSE))","v":",,7,,"},41,7,12]
[{"$f":"\",,\"&C454&\",\"&IF(VLOOKUP(B454,SCHEDULE!$B$5:$O$143,D454,FALSE)=\" \",\",\",VLOOKUP(B454,SCHEDULE!$B$5:$O$143,D454,FALSE))","v":",,8,,"},41,8,13]
[{"$f":"\",,\"&C455&\",\"&IF(VLOOKUP(B455,SCHEDULE!$B$5:$O$143,D455,FALSE)=\" \",\",\",VLOOKUP(B455,SCHEDULE!$B$5:$O$143,D455,FALSE))","v":",,9,,"},41,9,14]
[]
[{"$f":"$A$2&\",\"&$A$3&\",\"&B457&\",Race\"&B457&\" - \"&VLOOKUP(B457,SCHEDULE!$B$5:$C$143,2,FALSE)","v":"2023,1310,42,Race42 - Senior A Women 20"},{"$f":"B446+1","v":42}]
[{"$f":"\",,\"&C458&\",\"&IF(VLOOKUP(B458,SCHEDULE!$B$5:$O$143,D458,FALSE)=\" \",\",\",VLOOKUP(B458,SCHEDULE!$B$5:$O$143,D458,FALSE))","v":",,1,Motley Crew"},{"$f":"B457","v":42},1,6]
[{"$f":"\",,\"&C459&\",\"&IF(VLOOKUP(B459,SCHEDULE!$B$5:$O$143,D459,FALSE)=\" \",\",\",VLOOKUP(B459,SCHEDULE!$B$5:$O$143,D459,FALSE))","v":",,2,Deepwater Dragons"},{"$f":"B458","v":42},2,7]
[{"$f":"\",,\"&C460&\",\"&IF(VLOOKUP(B460,SCHEDULE!$B$5:$O$143,D460,FALSE)=\" \",\",\",VLOOKUP(B460,SCHEDULE!$B$5:$O$143,D460,FALSE))","v":",,3,Black Sea Dragons"},42,3,8]
[{"$f":"\",,\"&C461&\",\"&IF(VLOOKUP(B461,SCHEDULE!$B$5:$O$143,D461,FALSE)=\" \",\",\",VLOOKUP(B461,SCHEDULE!$B$5:$O$143,D461,FALSE))","v":",,4,Kombo Dragons Black"},42,4,9]
[{"$f":"\",,\"&C462&\",\"&IF(VLOOKUP(B462,SCHEDULE!$B$5:$O$143,D462,FALSE)=\" \",\",\",VLOOKUP(B462,SCHEDULE!$B$5:$O$143,D462,FALSE))","v":",,5,Hunter River Dragons"},42,5,10]
[{"$f":"\",,\"&C463&\",\"&IF(VLOOKUP(B463,SCHEDULE!$B$5:$O$143,D463,FALSE)=\" \",\",\",VLOOKUP(B463,SCHEDULE!$B$5:$O$143,D463,FALSE))","v":",,6,,"},42,6,11]
[{"$f":"\",,\"&C464&\",\"&IF(VLOOKUP(B464,SCHEDULE!$B$5:$O$143,D464,FALSE)=\" \",\",\",VLOOKUP(B464,SCHEDULE!$B$5:$O$143,D464,FALSE))","v":",,7,,"},42,7,12]
[{"$f":"\",,\"&C465&\",\"&IF(VLOOKUP(B465,SCHEDULE!$B$5:$O$143,D465,FALSE)=\" \",\",\",VLOOKUP(B465,SCHEDULE!$B$5:$O$143,D465,FALSE))","v":",,8,,"},42,8,13]
[{"$f":"\",,\"&C466&\",\"&IF(VLOOKUP(B466,SCHEDULE!$B$5:$O$143,D466,FALSE)=\" \",\",\",VLOOKUP(B466,SCHEDULE!$B$5:$O$143,D466,FALSE))","v":",,9,,"},42,9,14]
[]
[{"$f":"$A$2&\",\"&$A$3&\",\"&B468&\",Race\"&B468&\" - \"&VLOOKUP(B468,SCHEDULE!$B$5:$C$143,2,FALSE)","v":"2023,1310,43,Race43 - Senior A Women 20"},{"$f":"B457+1","v":43}]
[{"$f":"\",,\"&C469&\",\"&IF(VLOOKUP(B469,SCHEDULE!$B$5:$O$143,D469,FALSE)=\" \",\",\",VLOOKUP(B469,SCHEDULE!$B$5:$O$143,D469,FALSE))","v":",,1,Powerblades"},{"$f":"B468","v":43},1,6]
[{"$f":"\",,\"&C470&\",\"&IF(VLOOKUP(B470,SCHEDULE!$B$5:$O$143,D470,FALSE)=\" \",\",\",VLOOKUP(B470,SCHEDULE!$B$5:$O$143,D470,FALSE))","v":",,2,Peninsula Dragonflys"},{"$f":"B469","v":43},2,7]
[{"$f":"\",,\"&C471&\",\"&IF(VLOOKUP(B471,SCHEDULE!$B$5:$O$143,D471,FALSE)=\" \",\",\",VLOOKUP(B471,SCHEDULE!$B$5:$O$143,D471,FALSE))","v":",,3,Broadwater Dragons"},43,3,8]
[{"$f":"\",,\"&C472&\",\"&IF(VLOOKUP(B472,SCHEDULE!$B$5:$O$143,D472,FALSE)=\" \",\",\",VLOOKUP(B472,SCHEDULE!$B$5:$O$143,D472,FALSE))","v":",,4,SADA Sonix"},43,4,9]
[{"$f":"\",,\"&C473&\",\"&IF(VLOOKUP(B473,SCHEDULE!$B$5:$O$143,D473,FALSE)=\" \",\",\",VLOOKUP(B473,SCHEDULE!$B$5:$O$143,D473,FALSE))","v":",,5,Southern Warriors"},43,5,10]
[{"$f":"\",,\"&C474&\",\"&IF(VLOOKUP(B474,SCHEDULE!$B$5:$O$143,D474,FALSE)=\" \",\",\",VLOOKUP(B474,SCHEDULE!$B$5:$O$143,D474,FALSE))","v":",,6,,"},43,6,11]
[{"$f":"\",,\"&C475&\",\"&IF(VLOOKUP(B475,SCHEDULE!$B$5:$O$143,D475,FALSE)=\" \",\",\",VLOOKUP(B475,SCHEDULE!$B$5:$O$143,D475,FALSE))","v":",,7,,"},43,7,12]
[{"$f":"\",,\"&C476&\",\"&IF(VLOOKUP(B476,SCHEDULE!$B$5:$O$143,D476,FALSE)=\" \",\",\",VLOOKUP(B476,SCHEDULE!$B$5:$O$143,D476,FALSE))","v":",,8,,"},43,8,13]
[{"$f":"\",,\"&C477&\",\"&IF(VLOOKUP(B477,SCHEDULE!$B$5:$O$143,D477,FALSE)=\" \",\",\",VLOOKUP(B477,SCHEDULE!$B$5:$O$143,D477,FALSE))","v":",,9,,"},43,9,14]
[]
[{"$f":"$A$2&\",\"&$A$3&\",\"&B479&\",Race\"&B479&\" - \"&VLOOKUP(B479,SCHEDULE!$B$5:$C$143,2,FALSE)","v":"2023,1310,44,Race44 - Senior A Women 20"},{"$f":"B468+1","v":44}]
[{"$f":"\",,\"&C480&\",\"&IF(VLOOKUP(B480,SCHEDULE!$B$5:$O$143,D480,FALSE)=\" \",\",\",VLOOKUP(B480,SCHEDULE!$B$5:$O$143,D480,FALSE))","v":",,1,Newcastle Dragon Hunters"},{"$f":"B479","v":44},1,6]
[{"$f":"\",,\"&C481&\",\"&IF(VLOOKUP(B481,SCHEDULE!$B$5:$O$143,D481,FALSE)=\" \",\",\",VLOOKUP(B481,SCHEDULE!$B$5:$O$143,D481,FALSE))","v":",,2,Gippsland United"},{"$f":"B480","v":44},2,7]
[{"$f":"\",,\"&C482&\",\"&IF(VLOOKUP(B482,SCHEDULE!$B$5:$O$143,D482,FALSE)=\" \",\",\",VLOOKUP(B482,SCHEDULE!$B$5:$O$143,D482,FALSE))","v":",,3,Pink Dragons"},44,3,8]
[{"$f":"\",,\"&C483&\",\"&IF(VLOOKUP(B483,SCHEDULE!$B$5:$O$143,D483,FALSE)=\" \",\",\",VLOOKUP(B483,SCHEDULE!$B$5:$O$143,D483,FALSE))","v":",,4,Dragons Abreast Adelaide"},44,4,9]
[{"$f":"\",,\"&C484&\",\"&IF(VLOOKUP(B484,SCHEDULE!$B$5:$O$143,D484,FALSE)=\" \",\",\",VLOOKUP(B484,SCHEDULE!$B$5:$O$143,D484,FALSE))","v":",,5,Golden Dragons"},44,5,10]
[{"$f":"\",,\"&C485&\",\"&IF(VLOOKUP(B485,SCHEDULE!$B$5:$O$143,D485,FALSE)=\" \",\",\",VLOOKUP(B485,SCHEDULE!$B$5:$O$143,D485,FALSE))","v":",,6,,"},44,6,11]
[{"$f":"\",,\"&C486&\",\"&IF(VLOOKUP(B486,SCHEDULE!$B$5:$O$143,D486,FALSE)=\" \",\",\",VLOOKUP(B486,SCHEDULE!$B$5:$O$143,D486,FALSE))","v":",,7,,"},44,7,12]
[{"$f":"\",,\"&C487&\",\"&IF(VLOOKUP(B487,SCHEDULE!$B$5:$O$143,D487,FALSE)=\" \",\",\",VLOOKUP(B487,SCHEDULE!$B$5:$O$143,D487,FALSE))","v":",,8,,"},44,8,13]
[{"$f":"\",,\"&C488&\",\"&IF(VLOOKUP(B488,SCHEDULE!$B$5:$O$143,D488,FALSE)=\" \",\",\",VLOOKUP(B488,SCHEDULE!$B$5:$O$143,D488,FALSE))","v":",,9,,"},44,9,14]
[]
[{"$f":"$A$2&\",\"&$A$3&\",\"&B490&\",Race\"&B490&\" - \"&VLOOKUP(B490,SCHEDULE!$B$5:$C$143,2,FALSE)","v":"2023,1310,45,Race45 - Senior A Open 20"},{"$f":"B479+1","v":45}]
[{"$f":"\",,\"&C491&\",\"&IF(VLOOKUP(B491,SCHEDULE!$B$5:$O$143,D491,FALSE)=\" \",\",\",VLOOKUP(B491,SCHEDULE!$B$5:$O$143,D491,FALSE))","v":",,1,Deepwater Hunter"},{"$f":"B490","v":45},1,6]
[{"$f":"\",,\"&C492&\",\"&IF(VLOOKUP(B492,SCHEDULE!$B$5:$O$143,D492,FALSE)=\" \",\",\",VLOOKUP(B492,SCHEDULE!$B$5:$O$143,D492,FALSE))","v":",,2,Kombo Dragons Black"},{"$f":"B491","v":45},2,7]
[{"$f":"\",,\"&C493&\",\"&IF(VLOOKUP(B493,SCHEDULE!$B$5:$O$143,D493,FALSE)=\" \",\",\",VLOOKUP(B493,SCHEDULE!$B$5:$O$143,D493,FALSE))","v":",,3,Dragonfire"},45,3,8]
[{"$f":"\",,\"&C494&\",\"&IF(VLOOKUP(B494,SCHEDULE!$B$5:$O$143,D494,FALSE)=\" \",\",\",VLOOKUP(B494,SCHEDULE!$B$5:$O$143,D494,FALSE))","v":",,4,Southern Warriors"},45,4,9]
[{"$f":"\",,\"&C495&\",\"&IF(VLOOKUP(B495,SCHEDULE!$B$5:$O$143,D495,FALSE)=\" \",\",\",VLOOKUP(B495,SCHEDULE!$B$5:$O$143,D495,FALSE))","v":",,5,Motley Crew"},45,5,10]
[{"$f":"\",,\"&C496&\",\"&IF(VLOOKUP(B496,SCHEDULE!$B$5:$O$143,D496,FALSE)=\" \",\",\",VLOOKUP(B496,SCHEDULE!$B$5:$O$143,D496,FALSE))","v":",,6,,"},45,6,11]
[{"$f":"\",,\"&C497&\",\"&IF(VLOOKUP(B497,SCHEDULE!$B$5:$O$143,D497,FALSE)=\" \",\",\",VLOOKUP(B497,SCHEDULE!$B$5:$O$143,D497,FALSE))","v":",,7,,"},45,7,12]
[{"$f":"\",,\"&C498&\",\"&IF(VLOOKUP(B498,SCHEDULE!$B$5:$O$143,D498,FALSE)=\" \",\",\",VLOOKUP(B498,SCHEDULE!$B$5:$O$143,D498,FALSE))","v":",,8,,"},45,8,13]
[{"$f":"\",,\"&C499&\",\"&IF(VLOOKUP(B499,SCHEDULE!$B$5:$O$143,D499,FALSE)=\" \",\",\",VLOOKUP(B499,SCHEDULE!$B$5:$O$143,D499,FALSE))","v":",,9,,"},45,9,14]
[]
[{"$f":"$A$2&\",\"&$A$3&\",\"&B501&\",Race\"&B501&\" - \"&VLOOKUP(B501,SCHEDULE!$B$5:$C$143,2,FALSE)","v":"2023,1310,46,Race46 - Senior A Open 20"},{"$f":"B490+1","v":46}]
[{"$f":"\",,\"&C502&\",\"&IF(VLOOKUP(B502,SCHEDULE!$B$5:$O$143,D502,FALSE)=\" \",\",\",VLOOKUP(B502,SCHEDULE!$B$5:$O$143,D502,FALSE))","v":",,1,Peninsula Dragonflys"},{"$f":"B501","v":46},1,6]
[{"$f":"\",,\"&C503&\",\"&IF(VLOOKUP(B503,SCHEDULE!$B$5:$O$143,D503,FALSE)=\" \",\",\",VLOOKUP(B503,SCHEDULE!$B$5:$O$143,D503,FALSE))","v":",,2,Goolwa River Dragons"},{"$f":"B502","v":46},2,7]
[{"$f":"\",,\"&C504&\",\"&IF(VLOOKUP(B504,SCHEDULE!$B$5:$O$143,D504,FALSE)=\" \",\",\",VLOOKUP(B504,SCHEDULE!$B$5:$O$143,D504,FALSE))","v":",,3,FNC"},46,3,8]
[{"$f":"\",,\"&C505&\",\"&IF(VLOOKUP(B505,SCHEDULE!$B$5:$O$143,D505,FALSE)=\" \",\",\",VLOOKUP(B505,SCHEDULE!$B$5:$O$143,D505,FALSE))","v":",,4,Gippsland United"},46,4,9]
[{"$f":"\",,\"&C506&\",\"&IF(VLOOKUP(B506,SCHEDULE!$B$5:$O$143,D506,FALSE)=\" \",\",\",VLOOKUP(B506,SCHEDULE!$B$5:$O$143,D506,FALSE))","v":",,5,Kombo Dragons Purple"},46,5,10]
[{"$f":"\",,\"&C507&\",\"&IF(VLOOKUP(B507,SCHEDULE!$B$5:$O$143,D507,FALSE)=\" \",\",\",VLOOKUP(B507,SCHEDULE!$B$5:$O$143,D507,FALSE))","v":",,6,,"},46,6,11]
[{"$f":"\",,\"&C508&\",\"&IF(VLOOKUP(B508,SCHEDULE!$B$5:$O$143,D508,FALSE)=\" \",\",\",VLOOKUP(B508,SCHEDULE!$B$5:$O$143,D508,FALSE))","v":",,7,,"},46,7,12]
[{"$f":"\",,\"&C509&\",\"&IF(VLOOKUP(B509,SCHEDULE!$B$5:$O$143,D509,FALSE)=\" \",\",\",VLOOKUP(B509,SCHEDULE!$B$5:$O$143,D509,FALSE))","v":",,8,,"},46,8,13]
[{"$f":"\",,\"&C510&\",\"&IF(VLOOKUP(B510,SCHEDULE!$B$5:$O$143,D510,FALSE)=\" \",\",\",VLOOKUP(B510,SCHEDULE!$B$5:$O$143,D510,FALSE))","v":",,9,,"},46,9,14]
[]
[{"$f":"$A$2&\",\"&$A$3&\",\"&B512&\",Race\"&B512&\" - \"&VLOOKUP(B512,SCHEDULE!$B$5:$C$143,2,FALSE)","v":"2023,1310,47,Race47 - Senior C Mixed 10"},{"$f":"B501+1","v":47}]
[{"$f":"\",,\"&C513&\",\"&IF(VLOOKUP(B513,SCHEDULE!$B$5:$O$143,D513,FALSE)=\" \",\",\",VLOOKUP(B513,SCHEDULE!$B$5:$O$143,D513,FALSE))","v":",,1,SADA Sonix Yellow"},{"$f":"B512","v":47},1,6]
[{"$f":"\",,\"&C514&\",\"&IF(VLOOKUP(B514,SCHEDULE!$B$5:$O$143,D514,FALSE)=\" \",\",\",VLOOKUP(B514,SCHEDULE!$B$5:$O$143,D514,FALSE))","v":",,2,Motley Crew"},{"$f":"B513","v":47},2,7]
[{"$f":"\",,\"&C515&\",\"&IF(VLOOKUP(B515,SCHEDULE!$B$5:$O$143,D515,FALSE)=\" \",\",\",VLOOKUP(B515,SCHEDULE!$B$5:$O$143,D515,FALSE))","v":",,3,Rainbow Dragons Teal"},47,3,8]
[{"$f":"\",,\"&C516&\",\"&IF(VLOOKUP(B516,SCHEDULE!$B$5:$O$143,D516,FALSE)=\" \",\",\",VLOOKUP(B516,SCHEDULE!$B$5:$O$143,D516,FALSE))","v":",,4,Deepwater Dragons"},47,4,9]
[{"$f":"\",,\"&C517&\",\"&IF(VLOOKUP(B517,SCHEDULE!$B$5:$O$143,D517,FALSE)=\" \",\",\",VLOOKUP(B517,SCHEDULE!$B$5:$O$143,D517,FALSE))","v":",,5,Peninsula Dragonflys"},47,5,10]
[{"$f":"\",,\"&C518&\",\"&IF(VLOOKUP(B518,SCHEDULE!$B$5:$O$143,D518,FALSE)=\" \",\",\",VLOOKUP(B518,SCHEDULE!$B$5:$O$143,D518,FALSE))","v":",,6,Dragon Masters Red"},47,6,11]
[{"$f":"\",,\"&C519&\",\"&IF(VLOOKUP(B519,SCHEDULE!$B$5:$O$143,D519,FALSE)=\" \",\",\",VLOOKUP(B519,SCHEDULE!$B$5:$O$143,D519,FALSE))","v":",,7,,"},47,7,12]
[{"$f":"\",,\"&C520&\",\"&IF(VLOOKUP(B520,SCHEDULE!$B$5:$O$143,D520,FALSE)=\" \",\",\",VLOOKUP(B520,SCHEDULE!$B$5:$O$143,D520,FALSE))","v":",,8,,"},47,8,13]
[{"$f":"\",,\"&C521&\",\"&IF(VLOOKUP(B521,SCHEDULE!$B$5:$O$143,D521,FALSE)=\" \",\",\",VLOOKUP(B521,SCHEDULE!$B$5:$O$143,D521,FALSE))","v":",,9,,"},47,9,14]
[]
[{"$f":"$A$2&\",\"&$A$3&\",\"&B523&\",Race\"&B523&\" - \"&VLOOKUP(B523,SCHEDULE!$B$5:$C$143,2,FALSE)","v":"2023,1310,48,Race48 - Senior C Mixed 10"},{"$f":"B512+1","v":48}]
[{"$f":"\",,\"&C524&\",\"&IF(VLOOKUP(B524,SCHEDULE!$B$5:$O$143,D524,FALSE)=\" \",\",\",VLOOKUP(B524,SCHEDULE!$B$5:$O$143,D524,FALSE))","v":",,1,Black Sea Dragons"},{"$f":"B523","v":48},1,6]
[{"$f":"\",,\"&C525&\",\"&IF(VLOOKUP(B525,SCHEDULE!$B$5:$O$143,D525,FALSE)=\" \",\",\",VLOOKUP(B525,SCHEDULE!$B$5:$O$143,D525,FALSE))","v":",,2,Newcastle Dragon Hunters Red"},{"$f":"B524","v":48},2,7]
[{"$f":"\",,\"&C526&\",\"&IF(VLOOKUP(B526,SCHEDULE!$B$5:$O$143,D526,FALSE)=\" \",\",\",VLOOKUP(B526,SCHEDULE!$B$5:$O$143,D526,FALSE))","v":",,3,Kombo Dragons Black"},48,3,8]
[{"$f":"\",,\"&C527&\",\"&IF(VLOOKUP(B527,SCHEDULE!$B$5:$O$143,D527,FALSE)=\" \",\",\",VLOOKUP(B527,SCHEDULE!$B$5:$O$143,D527,FALSE))","v":",,4,Southern Warriors"},48,4,9]
[{"$f":"\",,\"&C528&\",\"&IF(VLOOKUP(B528,SCHEDULE!$B$5:$O$143,D528,FALSE)=\" \",\",\",VLOOKUP(B528,SCHEDULE!$B$5:$O$143,D528,FALSE))","v":",,5,Mildura"},48,5,10]
[{"$f":"\",,\"&C529&\",\"&IF(VLOOKUP(B529,SCHEDULE!$B$5:$O$143,D529,FALSE)=\" \",\",\",VLOOKUP(B529,SCHEDULE!$B$5:$O$143,D529,FALSE))","v":",,6,Gippsland United Orange"},48,6,11]
[{"$f":"\",,\"&C530&\",\"&IF(VLOOKUP(B530,SCHEDULE!$B$5:$O$143,D530,FALSE)=\" \",\",\",VLOOKUP(B530,SCHEDULE!$B$5:$O$143,D530,FALSE))","v":",,7,,"},48,7,12]
[{"$f":"\",,\"&C531&\",\"&IF(VLOOKUP(B531,SCHEDULE!$B$5:$O$143,D531,FALSE)=\" \",\",\",VLOOKUP(B531,SCHEDULE!$B$5:$O$143,D531,FALSE))","v":",,8,,"},48,8,13]
[{"$f":"\",,\"&C532&\",\"&IF(VLOOKUP(B532,SCHEDULE!$B$5:$O$143,D532,FALSE)=\" \",\",\",VLOOKUP(B532,SCHEDULE!$B$5:$O$143,D532,FALSE))","v":",,9,,"},48,9,14]
[]
[{"$f":"$A$2&\",\"&$A$3&\",\"&B534&\",Race\"&B534&\" - \"&VLOOKUP(B534,SCHEDULE!$B$5:$C$143,2,FALSE)","v":"2023,1310,49,Race49 - Senior C Mixed 10"},{"$f":"B523+1","v":49}]
[{"$f":"\",,\"&C535&\",\"&IF(VLOOKUP(B535,SCHEDULE!$B$5:$O$143,D535,FALSE)=\" \",\",\",VLOOKUP(B535,SCHEDULE!$B$5:$O$143,D535,FALSE))","v":",,1,Goolwa River Dragons"},{"$f":"B534","v":49},1,6]
[{"$f":"\",,\"&C536&\",\"&IF(VLOOKUP(B536,SCHEDULE!$B$5:$O$143,D536,FALSE)=\" \",\",\",VLOOKUP(B536,SCHEDULE!$B$5:$O$143,D536,FALSE))","v":",,2,Kangaroo Island Dragons"},{"$f":"B535","v":49},2,7]
[{"$f":"\",,\"&C537&\",\"&IF(VLOOKUP(B537,SCHEDULE!$B$5:$O$143,D537,FALSE)=\" \",\",\",VLOOKUP(B537,SCHEDULE!$B$5:$O$143,D537,FALSE))","v":",,3,Outback Dragons"},49,3,8]
[{"$f":"\",,\"&C538&\",\"&IF(VLOOKUP(B538,SCHEDULE!$B$5:$O$143,D538,FALSE)=\" \",\",\",VLOOKUP(B538,SCHEDULE!$B$5:$O$143,D538,FALSE))","v":",,4,Powerblades"},49,4,9]
[{"$f":"\",,\"&C539&\",\"&IF(VLOOKUP(B539,SCHEDULE!$B$5:$O$143,D539,FALSE)=\" \",\",\",VLOOKUP(B539,SCHEDULE!$B$5:$O$143,D539,FALSE))","v":",,5,SADA Sonix Blue"},49,5,10]
[{"$f":"\",,\"&C540&\",\"&IF(VLOOKUP(B540,SCHEDULE!$B$5:$O$143,D540,FALSE)=\" \",\",\",VLOOKUP(B540,SCHEDULE!$B$5:$O$143,D540,FALSE))","v":",,6,Kombo Dragons Purple"},49,6,11]
[{"$f":"\",,\"&C541&\",\"&IF(VLOOKUP(B541,SCHEDULE!$B$5:$O$143,D541,FALSE)=\" \",\",\",VLOOKUP(B541,SCHEDULE!$B$5:$O$143,D541,FALSE))","v":",,7,,"},49,7,12]
[{"$f":"\",,\"&C542&\",\"&IF(VLOOKUP(B542,SCHEDULE!$B$5:$O$143,D542,FALSE)=\" \",\",\",VLOOKUP(B542,SCHEDULE!$B$5:$O$143,D542,FALSE))","v":",,8,,"},49,8,13]
[{"$f":"\",,\"&C543&\",\"&IF(VLOOKUP(B543,SCHEDULE!$B$5:$O$143,D543,FALSE)=\" \",\",\",VLOOKUP(B543,SCHEDULE!$B$5:$O$143,D543,FALSE))","v":",,9,,"},49,9,14]
[]
[{"$f":"$A$2&\",\"&$A$3&\",\"&B545&\",Race\"&B545&\" - \"&VLOOKUP(B545,SCHEDULE!$B$5:$C$143,2,FALSE)","v":"2023,1310,50,Race50 - Senior C Mixed 10"},{"$f":"B534+1","v":50}]
[{"$f":"\",,\"&C546&\",\"&IF(VLOOKUP(B546,SCHEDULE!$B$5:$O$143,D546,FALSE)=\" \",\",\",VLOOKUP(B546,SCHEDULE!$B$5:$O$143,D546,FALSE))","v":",,1,FNC"},{"$f":"B545","v":50},1,6]
[{"$f":"\",,\"&C547&\",\"&IF(VLOOKUP(B547,SCHEDULE!$B$5:$O$143,D547,FALSE)=\" \",\",\",VLOOKUP(B547,SCHEDULE!$B$5:$O$143,D547,FALSE))","v":",,2,Dragon Masters Yellow"},{"$f":"B546","v":50},2,7]
[{"$f":"\",,\"&C548&\",\"&IF(VLOOKUP(B548,SCHEDULE!$B$5:$O$143,D548,FALSE)=\" \",\",\",VLOOKUP(B548,SCHEDULE!$B$5:$O$143,D548,FALSE))","v":",,3,Newcastle Dragon Hunters Purple"},50,3,8]
[{"$f":"\",,\"&C549&\",\"&IF(VLOOKUP(B549,SCHEDULE!$B$5:$O$143,D549,FALSE)=\" \",\",\",VLOOKUP(B549,SCHEDULE!$B$5:$O$143,D549,FALSE))","v":",,4,Gypsy Dragons"},50,4,9]
[{"$f":"\",,\"&C550&\",\"&IF(VLOOKUP(B550,SCHEDULE!$B$5:$O$143,D550,FALSE)=\" \",\",\",VLOOKUP(B550,SCHEDULE!$B$5:$O$143,D550,FALSE))","v":",,5,Gippsland United Blue"},50,5,10]
[{"$f":"\",,\"&C551&\",\"&IF(VLOOKUP(B551,SCHEDULE!$B$5:$O$143,D551,FALSE)=\" \",\",\",VLOOKUP(B551,SCHEDULE!$B$5:$O$143,D551,FALSE))","v":",,6,Rainbow Dragons White"},50,6,11]
[{"$f":"\",,\"&C552&\",\"&IF(VLOOKUP(B552,SCHEDULE!$B$5:$O$143,D552,FALSE)=\" \",\",\",VLOOKUP(B552,SCHEDULE!$B$5:$O$143,D552,FALSE))","v":",,7,,"},50,7,12]
[{"$f":"\",,\"&C553&\",\"&IF(VLOOKUP(B553,SCHEDULE!$B$5:$O$143,D553,FALSE)=\" \",\",\",VLOOKUP(B553,SCHEDULE!$B$5:$O$143,D553,FALSE))","v":",,8,,"},50,8,13]
[{"$f":"\",,\"&C554&\",\"&IF(VLOOKUP(B554,SCHEDULE!$B$5:$O$143,D554,FALSE)=\" \",\",\",VLOOKUP(B554,SCHEDULE!$B$5:$O$143,D554,FALSE))","v":",,9,,"},50,9,14]
[]
[{"$f":"$A$2&\",\"&$A$3&\",\"&B556&\",Race\"&B556&\" - \"&VLOOKUP(B556,SCHEDULE!$B$5:$C$143,2,FALSE)","v":"2023,1310,51,Race51 - Senior B Mixed 10's"},{"$f":"B545+1","v":51}]
[{"$f":"\",,\"&C557&\",\"&IF(VLOOKUP(B557,SCHEDULE!$B$5:$O$143,D557,FALSE)=\" \",\",\",VLOOKUP(B557,SCHEDULE!$B$5:$O$143,D557,FALSE))","v":",,1,Newcastle Dragon Hunters Red"},{"$f":"B556","v":51},1,6]
[{"$f":"\",,\"&C558&\",\"&IF(VLOOKUP(B558,SCHEDULE!$B$5:$O$143,D558,FALSE)=\" \",\",\",VLOOKUP(B558,SCHEDULE!$B$5:$O$143,D558,FALSE))","v":",,2,Black Sea Dragons"},{"$f":"B557","v":51},2,7]
[{"$f":"\",,\"&C559&\",\"&IF(VLOOKUP(B559,SCHEDULE!$B$5:$O$143,D559,FALSE)=\" \",\",\",VLOOKUP(B559,SCHEDULE!$B$5:$O$143,D559,FALSE))","v":",,3,Gippsland United"},51,3,8]
[{"$f":"\",,\"&C560&\",\"&IF(VLOOKUP(B560,SCHEDULE!$B$5:$O$143,D560,FALSE)=\" \",\",\",VLOOKUP(B560,SCHEDULE!$B$5:$O$143,D560,FALSE))","v":",,4,Powerblades"},51,4,9]
[{"$f":"\",,\"&C561&\",\"&IF(VLOOKUP(B561,SCHEDULE!$B$5:$O$143,D561,FALSE)=\" \",\",\",VLOOKUP(B561,SCHEDULE!$B$5:$O$143,D561,FALSE))","v":",,5,Deepwater Dragons"},51,5,10]
[{"$f":"\",,\"&C562&\",\"&IF(VLOOKUP(B562,SCHEDULE!$B$5:$O$143,D562,FALSE)=\" \",\",\",VLOOKUP(B562,SCHEDULE!$B$5:$O$143,D562,FALSE))","v":",,6,Kombo Dragons Black"},51,6,11]
[{"$f":"\",,\"&C563&\",\"&IF(VLOOKUP(B563,SCHEDULE!$B$5:$O$143,D563,FALSE)=\" \",\",\",VLOOKUP(B563,SCHEDULE!$B$5:$O$143,D563,FALSE))","v":",,7,,"},51,7,12]
[{"$f":"\",,\"&C564&\",\"&IF(VLOOKUP(B564,SCHEDULE!$B$5:$O$143,D564,FALSE)=\" \",\",\",VLOOKUP(B564,SCHEDULE!$B$5:$O$143,D564,FALSE))","v":",,8,,"},51,8,13]
[{"$f":"\",,\"&C565&\",\"&IF(VLOOKUP(B565,SCHEDULE!$B$5:$O$143,D565,FALSE)=\" \",\",\",VLOOKUP(B565,SCHEDULE!$B$5:$O$143,D565,FALSE))","v":",,9,,"},51,9,14]
[]
[{"$f":"$A$2&\",\"&$A$3&\",\"&B567&\",Race\"&B567&\" - \"&VLOOKUP(B567,SCHEDULE!$B$5:$C$143,2,FALSE)","v":"2023,1310,52,Race52 - Senior B Mixed 10's"},{"$f":"B556+1","v":52}]
[{"$f":"\",,\"&C568&\",\"&IF(VLOOKUP(B568,SCHEDULE!$B$5:$O$143,D568,FALSE)=\" \",\",\",VLOOKUP(B568,SCHEDULE!$B$5:$O$143,D568,FALSE))","v":",,1,Gypsy Dragons"},{"$f":"B567","v":52},1,6]
[{"$f":"\",,\"&C569&\",\"&IF(VLOOKUP(B569,SCHEDULE!$B$5:$O$143,D569,FALSE)=\" \",\",\",VLOOKUP(B569,SCHEDULE!$B$5:$O$143,D569,FALSE))","v":",,2,Goolwa River Dragons"},{"$f":"B568","v":52},2,7]
[{"$f":"\",,\"&C570&\",\"&IF(VLOOKUP(B570,SCHEDULE!$B$5:$O$143,D570,FALSE)=\" \",\",\",VLOOKUP(B570,SCHEDULE!$B$5:$O$143,D570,FALSE))","v":",,3,Kombo Dragons Purple"},52,3,8]
[{"$f":"\",,\"&C571&\",\"&IF(VLOOKUP(B571,SCHEDULE!$B$5:$O$143,D571,FALSE)=\" \",\",\",VLOOKUP(B571,SCHEDULE!$B$5:$O$143,D571,FALSE))","v":",,4,Outback Dragons"},52,4,9]
[{"$f":"\",,\"&C572&\",\"&IF(VLOOKUP(B572,SCHEDULE!$B$5:$O$143,D572,FALSE)=\" \",\",\",VLOOKUP(B572,SCHEDULE!$B$5:$O$143,D572,FALSE))","v":",,5,SADA Sonix Yellow"},52,5,10]
[{"$f":"\",,\"&C573&\",\"&IF(VLOOKUP(B573,SCHEDULE!$B$5:$O$143,D573,FALSE)=\" \",\",\",VLOOKUP(B573,SCHEDULE!$B$5:$O$143,D573,FALSE))","v":",,6,FNC"},52,6,11]
[{"$f":"\",,\"&C574&\",\"&IF(VLOOKUP(B574,SCHEDULE!$B$5:$O$143,D574,FALSE)=\" \",\",\",VLOOKUP(B574,SCHEDULE!$B$5:$O$143,D574,FALSE))","v":",,7,,"},52,7,12]
[{"$f":"\",,\"&C575&\",\"&IF(VLOOKUP(B575,SCHEDULE!$B$5:$O$143,D575,FALSE)=\" \",\",\",VLOOKUP(B575,SCHEDULE!$B$5:$O$143,D575,FALSE))","v":",,8,,"},52,8,13]
[{"$f":"\",,\"&C576&\",\"&IF(VLOOKUP(B576,SCHEDULE!$B$5:$O$143,D576,FALSE)=\" \",\",\",VLOOKUP(B576,SCHEDULE!$B$5:$O$143,D576,FALSE))","v":",,9,,"},52,9,14]
[]
[{"$f":"$A$2&\",\"&$A$3&\",\"&B578&\",Race\"&B578&\" - \"&VLOOKUP(B578,SCHEDULE!$B$5:$C$143,2,FALSE)","v":"2023,1310,53,Race53 - Senior B Mixed 10's"},{"$f":"B567+1","v":53}]
[{"$f":"\",,\"&C579&\",\"&IF(VLOOKUP(B579,SCHEDULE!$B$5:$O$143,D579,FALSE)=\" \",\",\",VLOOKUP(B579,SCHEDULE!$B$5:$O$143,D579,FALSE))","v":",,1,Newcastle Dragon Hunters Purple"},{"$f":"B578","v":53},1,6]
[{"$f":"\",,\"&C580&\",\"&IF(VLOOKUP(B580,SCHEDULE!$B$5:$O$143,D580,FALSE)=\" \",\",\",VLOOKUP(B580,SCHEDULE!$B$5:$O$143,D580,FALSE))","v":",,2,SADA Sonix Blue"},{"$f":"B579","v":53},2,7]
[{"$f":"\",,\"&C581&\",\"&IF(VLOOKUP(B581,SCHEDULE!$B$5:$O$143,D581,FALSE)=\" \",\",\",VLOOKUP(B581,SCHEDULE!$B$5:$O$143,D581,FALSE))","v":",,3,Mannum"},53,3,8]
[{"$f":"\",,\"&C582&\",\"&IF(VLOOKUP(B582,SCHEDULE!$B$5:$O$143,D582,FALSE)=\" \",\",\",VLOOKUP(B582,SCHEDULE!$B$5:$O$143,D582,FALSE))","v":",,4,Southern Warriors"},53,4,9]
[{"$f":"\",,\"&C583&\",\"&IF(VLOOKUP(B583,SCHEDULE!$B$5:$O$143,D583,FALSE)=\" \",\",\",VLOOKUP(B583,SCHEDULE!$B$5:$O$143,D583,FALSE))","v":",,5,Mildura"},53,5,10]
[{"$f":"\",,\"&C584&\",\"&IF(VLOOKUP(B584,SCHEDULE!$B$5:$O$143,D584,FALSE)=\" \",\",\",VLOOKUP(B584,SCHEDULE!$B$5:$O$143,D584,FALSE))","v":",,6,Hunter River Dragons"},53,6,11]
[{"$f":"\",,\"&C585&\",\"&IF(VLOOKUP(B585,SCHEDULE!$B$5:$O$143,D585,FALSE)=\" \",\",\",VLOOKUP(B585,SCHEDULE!$B$5:$O$143,D585,FALSE))","v":",,7,,"},53,7,12]
[{"$f":"\",,\"&C586&\",\"&IF(VLOOKUP(B586,SCHEDULE!$B$5:$O$143,D586,FALSE)=\" \",\",\",VLOOKUP(B586,SCHEDULE!$B$5:$O$143,D586,FALSE))","v":",,8,,"},53,8,13]
[{"$f":"\",,\"&C587&\",\"&IF(VLOOKUP(B587,SCHEDULE!$B$5:$O$143,D587,FALSE)=\" \",\",\",VLOOKUP(B587,SCHEDULE!$B$5:$O$143,D587,FALSE))","v":",,9,,"},53,9,14]
[]
[{"$f":"$A$2&\",\"&$A$3&\",\"&B589&\",Race\"&B589&\" - \"&VLOOKUP(B589,SCHEDULE!$B$5:$C$143,2,FALSE)","v":"2023,1310,54,Race54 - Senior B Mixed 20's"},{"$f":"B578+1","v":54}]
[{"$f":"\",,\"&C590&\",\"&IF(VLOOKUP(B590,SCHEDULE!$B$5:$O$143,D590,FALSE)=\" \",\",\",VLOOKUP(B590,SCHEDULE!$B$5:$O$143,D590,FALSE))","v":",,1,Dragon Masters"},{"$f":"B589","v":54},1,6]
[{"$f":"\",,\"&C591&\",\"&IF(VLOOKUP(B591,SCHEDULE!$B$5:$O$143,D591,FALSE)=\" \",\",\",VLOOKUP(B591,SCHEDULE!$B$5:$O$143,D591,FALSE))","v":",,2,Rainbow Dragons"},{"$f":"B590","v":54},2,7]
[{"$f":"\",,\"&C592&\",\"&IF(VLOOKUP(B592,SCHEDULE!$B$5:$O$143,D592,FALSE)=\" \",\",\",VLOOKUP(B592,SCHEDULE!$B$5:$O$143,D592,FALSE))","v":",,3,Kombo Dragons Black"},54,3,8]
[{"$f":"\",,\"&C593&\",\"&IF(VLOOKUP(B593,SCHEDULE!$B$5:$O$143,D593,FALSE)=\" \",\",\",VLOOKUP(B593,SCHEDULE!$B$5:$O$143,D593,FALSE))","v":",,4,Newcastle Dragon Hunters Red"},54,4,9]
[{"$f":"\",,\"&C594&\",\"&IF(VLOOKUP(B594,SCHEDULE!$B$5:$O$143,D594,FALSE)=\" \",\",\",VLOOKUP(B594,SCHEDULE!$B$5:$O$143,D594,FALSE))","v":",,5,Deepwater Dragons"},54,5,10]
[{"$f":"\",,\"&C595&\",\"&IF(VLOOKUP(B595,SCHEDULE!$B$5:$O$143,D595,FALSE)=\" \",\",\",VLOOKUP(B595,SCHEDULE!$B$5:$O$143,D595,FALSE))","v":",,6,Powerblades"},54,6,11]
[{"$f":"\",,\"&C596&\",\"&IF(VLOOKUP(B596,SCHEDULE!$B$5:$O$143,D596,FALSE)=\" \",\",\",VLOOKUP(B596,SCHEDULE!$B$5:$O$143,D596,FALSE))","v":",,7,,"},54,7,12]
[{"$f":"\",,\"&C597&\",\"&IF(VLOOKUP(B597,SCHEDULE!$B$5:$O$143,D597,FALSE)=\" \",\",\",VLOOKUP(B597,SCHEDULE!$B$5:$O$143,D597,FALSE))","v":",,8,,"},54,8,13]
[{"$f":"\",,\"&C598&\",\"&IF(VLOOKUP(B598,SCHEDULE!$B$5:$O$143,D598,FALSE)=\" \",\",\",VLOOKUP(B598,SCHEDULE!$B$5:$O$143,D598,FALSE))","v":",,9,,"},54,9,14]
[]
[{"$f":"$A$2&\",\"&$A$3&\",\"&B600&\",Race\"&B600&\" - \"&VLOOKUP(B600,SCHEDULE!$B$5:$C$143,2,FALSE)","v":"2023,1310,55,Race55 - Senior B Mixed 20's"},{"$f":"B589+1","v":55}]
[{"$f":"\",,\"&C601&\",\"&IF(VLOOKUP(B601,SCHEDULE!$B$5:$O$143,D601,FALSE)=\" \",\",\",VLOOKUP(B601,SCHEDULE!$B$5:$O$143,D601,FALSE))","v":",,1,Motley Crew"},{"$f":"B600","v":55},1,6]
[{"$f":"\",,\"&C602&\",\"&IF(VLOOKUP(B602,SCHEDULE!$B$5:$O$143,D602,FALSE)=\" \",\",\",VLOOKUP(B602,SCHEDULE!$B$5:$O$143,D602,FALSE))","v":",,2,Newcastle Dragon Hunters Purple"},{"$f":"B601","v":55},2,7]
[{"$f":"\",,\"&C603&\",\"&IF(VLOOKUP(B603,SCHEDULE!$B$5:$O$143,D603,FALSE)=\" \",\",\",VLOOKUP(B603,SCHEDULE!$B$5:$O$143,D603,FALSE))","v":",,3,Hunter River Dragons"},55,3,8]
[{"$f":"\",,\"&C604&\",\"&IF(VLOOKUP(B604,SCHEDULE!$B$5:$O$143,D604,FALSE)=\" \",\",\",VLOOKUP(B604,SCHEDULE!$B$5:$O$143,D604,FALSE))","v":",,4,Gippsland United"},55,4,9]
[{"$f":"\",,\"&C605&\",\"&IF(VLOOKUP(B605,SCHEDULE!$B$5:$O$143,D605,FALSE)=\" \",\",\",VLOOKUP(B605,SCHEDULE!$B$5:$O$143,D605,FALSE))","v":",,5,Mildura"},55,5,10]
[{"$f":"\",,\"&C606&\",\"&IF(VLOOKUP(B606,SCHEDULE!$B$5:$O$143,D606,FALSE)=\" \",\",\",VLOOKUP(B606,SCHEDULE!$B$5:$O$143,D606,FALSE))","v":",,6,SADA Sonix"},55,6,11]
[{"$f":"\",,\"&C607&\",\"&IF(VLOOKUP(B607,SCHEDULE!$B$5:$O$143,D607,FALSE)=\" \",\",\",VLOOKUP(B607,SCHEDULE!$B$5:$O$143,D607,FALSE))","v":",,7,,"},55,7,12]
[{"$f":"\",,\"&C608&\",\"&IF(VLOOKUP(B608,SCHEDULE!$B$5:$O$143,D608,FALSE)=\" \",\",\",VLOOKUP(B608,SCHEDULE!$B$5:$O$143,D608,FALSE))","v":",,8,,"},55,8,13]
[{"$f":"\",,\"&C609&\",\"&IF(VLOOKUP(B609,SCHEDULE!$B$5:$O$143,D609,FALSE)=\" \",\",\",VLOOKUP(B609,SCHEDULE!$B$5:$O$143,D609,FALSE))","v":",,9,,"},55,9,14]
[]
[{"$f":"$A$2&\",\"&$A$3&\",\"&B611&\",Race\"&B611&\" - \"&VLOOKUP(B611,SCHEDULE!$B$5:$C$143,2,FALSE)","v":"2023,1310,56,Race56 - Senior A Mixed 10's"},{"$f":"B600+1","v":56}]
[{"$f":"\",,\"&C612&\",\"&IF(VLOOKUP(B612,SCHEDULE!$B$5:$O$143,D612,FALSE)=\" \",\",\",VLOOKUP(B612,SCHEDULE!$B$5:$O$143,D612,FALSE))","v":",,1,Black Sea Dragons"},{"$f":"B611","v":56},1,6]
[{"$f":"\",,\"&C613&\",\"&IF(VLOOKUP(B613,SCHEDULE!$B$5:$O$143,D613,FALSE)=\" \",\",\",VLOOKUP(B613,SCHEDULE!$B$5:$O$143,D613,FALSE))","v":",,2,Newcastle Dragon Hunters"},{"$f":"B612","v":56},2,7]
[{"$f":"\",,\"&C614&\",\"&IF(VLOOKUP(B614,SCHEDULE!$B$5:$O$143,D614,FALSE)=\" \",\",\",VLOOKUP(B614,SCHEDULE!$B$5:$O$143,D614,FALSE))","v":",,3,Mildura"},56,3,8]
[{"$f":"\",,\"&C615&\",\"&IF(VLOOKUP(B615,SCHEDULE!$B$5:$O$143,D615,FALSE)=\" \",\",\",VLOOKUP(B615,SCHEDULE!$B$5:$O$143,D615,FALSE))","v":",,4,Powerblades"},56,4,9]
[{"$f":"\",,\"&C616&\",\"&IF(VLOOKUP(B616,SCHEDULE!$B$5:$O$143,D616,FALSE)=\" \",\",\",VLOOKUP(B616,SCHEDULE!$B$5:$O$143,D616,FALSE))","v":",,5,Kombo Dragons Black"},56,5,10]
[{"$f":"\",,\"&C617&\",\"&IF(VLOOKUP(B617,SCHEDULE!$B$5:$O$143,D617,FALSE)=\" \",\",\",VLOOKUP(B617,SCHEDULE!$B$5:$O$143,D617,FALSE))","v":",,6,,"},56,6,11]
[{"$f":"\",,\"&C618&\",\"&IF(VLOOKUP(B618,SCHEDULE!$B$5:$O$143,D618,FALSE)=\" \",\",\",VLOOKUP(B618,SCHEDULE!$B$5:$O$143,D618,FALSE))","v":",,7,,"},56,7,12]
[{"$f":"\",,\"&C619&\",\"&IF(VLOOKUP(B619,SCHEDULE!$B$5:$O$143,D619,FALSE)=\" \",\",\",VLOOKUP(B619,SCHEDULE!$B$5:$O$143,D619,FALSE))","v":",,8,,"},56,8,13]
[{"$f":"\",,\"&C620&\",\"&IF(VLOOKUP(B620,SCHEDULE!$B$5:$O$143,D620,FALSE)=\" \",\",\",VLOOKUP(B620,SCHEDULE!$B$5:$O$143,D620,FALSE))","v":",,9,,"},56,9,14]
[]
[{"$f":"$A$2&\",\"&$A$3&\",\"&B622&\",Race\"&B622&\" - \"&VLOOKUP(B622,SCHEDULE!$B$5:$C$143,2,FALSE)","v":"2023,1310,57,Race57 - Senior A Mixed 10's"},{"$f":"B611+1","v":57}]
[{"$f":"\",,\"&C623&\",\"&IF(VLOOKUP(B623,SCHEDULE!$B$5:$O$143,D623,FALSE)=\" \",\",\",VLOOKUP(B623,SCHEDULE!$B$5:$O$143,D623,FALSE))","v":",,1,Rainbow Dragons"},{"$f":"B622","v":57},1,6]
[{"$f":"\",,\"&C624&\",\"&IF(VLOOKUP(B624,SCHEDULE!$B$5:$O$143,D624,FALSE)=\" \",\",\",VLOOKUP(B624,SCHEDULE!$B$5:$O$143,D624,FALSE))","v":",,2,Kombo Dragons Black"},{"$f":"B623","v":57},2,7]
[{"$f":"\",,\"&C625&\",\"&IF(VLOOKUP(B625,SCHEDULE!$B$5:$O$143,D625,FALSE)=\" \",\",\",VLOOKUP(B625,SCHEDULE!$B$5:$O$143,D625,FALSE))","v":",,3,Hunter River Dragons"},57,3,8]
[{"$f":"\",,\"&C626&\",\"&IF(VLOOKUP(B626,SCHEDULE!$B$5:$O$143,D626,FALSE)=\" \",\",\",VLOOKUP(B626,SCHEDULE!$B$5:$O$143,D626,FALSE))","v":",,4,Broadwater Dragons"},57,4,9]
[{"$f":"\",,\"&C627&\",\"&IF(VLOOKUP(B627,SCHEDULE!$B$5:$O$143,D627,FALSE)=\" \",\",\",VLOOKUP(B627,SCHEDULE!$B$5:$O$143,D627,FALSE))","v":",,5,Deepwater Dragons"},57,5,10]
[{"$f":"\",,\"&C628&\",\"&IF(VLOOKUP(B628,SCHEDULE!$B$5:$O$143,D628,FALSE)=\" \",\",\",VLOOKUP(B628,SCHEDULE!$B$5:$O$143,D628,FALSE))","v":",,6,,"},57,6,11]
[{"$f":"\",,\"&C629&\",\"&IF(VLOOKUP(B629,SCHEDULE!$B$5:$O$143,D629,FALSE)=\" \",\",\",VLOOKUP(B629,SCHEDULE!$B$5:$O$143,D629,FALSE))","v":",,7,,"},57,7,12]
[{"$f":"\",,\"&C630&\",\"&IF(VLOOKUP(B630,SCHEDULE!$B$5:$O$143,D630,FALSE)=\" \",\",\",VLOOKUP(B630,SCHEDULE!$B$5:$O$143,D630,FALSE))","v":",,8,,"},57,8,13]
[{"$f":"\",,\"&C631&\",\"&IF(VLOOKUP(B631,SCHEDULE!$B$5:$O$143,D631,FALSE)=\" \",\",\",VLOOKUP(B631,SCHEDULE!$B$5:$O$143,D631,FALSE))","v":",,9,,"},57,9,14]
[]
[{"$f":"$A$2&\",\"&$A$3&\",\"&B633&\",Race\"&B633&\" - \"&VLOOKUP(B633,SCHEDULE!$B$5:$C$143,2,FALSE)","v":"2023,1310,58,Race58 - Senior A Mixed 10's"},{"$f":"B622+1","v":58}]
[{"$f":"\",,\"&C634&\",\"&IF(VLOOKUP(B634,SCHEDULE!$B$5:$O$143,D634,FALSE)=\" \",\",\",VLOOKUP(B634,SCHEDULE!$B$5:$O$143,D634,FALSE))","v":",,1,Gippsland United"},{"$f":"B633","v":58},1,6]
[{"$f":"\",,\"&C635&\",\"&IF(VLOOKUP(B635,SCHEDULE!$B$5:$O$143,D635,FALSE)=\" \",\",\",VLOOKUP(B635,SCHEDULE!$B$5:$O$143,D635,FALSE))","v":",,2,Peninsula Dragonfly"},{"$f":"B634","v":58},2,7]
[{"$f":"\",,\"&C636&\",\"&IF(VLOOKUP(B636,SCHEDULE!$B$5:$O$143,D636,FALSE)=\" \",\",\",VLOOKUP(B636,SCHEDULE!$B$5:$O$143,D636,FALSE))","v":",,3,Southern Warriors"},58,3,8]
[{"$f":"\",,\"&C637&\",\"&IF(VLOOKUP(B637,SCHEDULE!$B$5:$O$143,D637,FALSE)=\" \",\",\",VLOOKUP(B637,SCHEDULE!$B$5:$O$143,D637,FALSE))","v":",,4,Goolwa River Dragons"},58,4,9]
[{"$f":"\",,\"&C638&\",\"&IF(VLOOKUP(B638,SCHEDULE!$B$5:$O$143,D638,FALSE)=\" \",\",\",VLOOKUP(B638,SCHEDULE!$B$5:$O$143,D638,FALSE))","v":",,5,Dragonfire"},58,5,10]
[{"$f":"\",,\"&C639&\",\"&IF(VLOOKUP(B639,SCHEDULE!$B$5:$O$143,D639,FALSE)=\" \",\",\",VLOOKUP(B639,SCHEDULE!$B$5:$O$143,D639,FALSE))","v":",,6,,"},58,6,11]
[{"$f":"\",,\"&C640&\",\"&IF(VLOOKUP(B640,SCHEDULE!$B$5:$O$143,D640,FALSE)=\" \",\",\",VLOOKUP(B640,SCHEDULE!$B$5:$O$143,D640,FALSE))","v":",,7,,"},58,7,12]
[{"$f":"\",,\"&C641&\",\"&IF(VLOOKUP(B641,SCHEDULE!$B$5:$O$143,D641,FALSE)=\" \",\",\",VLOOKUP(B641,SCHEDULE!$B$5:$O$143,D641,FALSE))","v":",,8,,"},58,8,13]
[{"$f":"\",,\"&C642&\",\"&IF(VLOOKUP(B642,SCHEDULE!$B$5:$O$143,D642,FALSE)=\" \",\",\",VLOOKUP(B642,SCHEDULE!$B$5:$O$143,D642,FALSE))","v":",,9,,"},58,9,14]
[]
[{"$f":"$A$2&\",\"&$A$3&\",\"&B644&\",Race\"&B644&\" - \"&VLOOKUP(B644,SCHEDULE!$B$5:$C$143,2,FALSE)","v":"2023,1310,59,Race59 - Senior A Mixed 20"},{"$f":"B633+1","v":59}]
[{"$f":"\",,\"&C645&\",\"&IF(VLOOKUP(B645,SCHEDULE!$B$5:$O$143,D645,FALSE)=\" \",\",\",VLOOKUP(B645,SCHEDULE!$B$5:$O$143,D645,FALSE))","v":",,1,Kombo Dragons Black"},{"$f":"B644","v":59},1,6]
[{"$f":"\",,\"&C646&\",\"&IF(VLOOKUP(B646,SCHEDULE!$B$5:$O$143,D646,FALSE)=\" \",\",\",VLOOKUP(B646,SCHEDULE!$B$5:$O$143,D646,FALSE))","v":",,2,Hunter River Dragons"},{"$f":"B645","v":59},2,7]
[{"$f":"\",,\"&C647&\",\"&IF(VLOOKUP(B647,SCHEDULE!$B$5:$O$143,D647,FALSE)=\" \",\",\",VLOOKUP(B647,SCHEDULE!$B$5:$O$143,D647,FALSE))","v":",,3,Deepwater Dragons"},59,3,8]
[{"$f":"\",,\"&C648&\",\"&IF(VLOOKUP(B648,SCHEDULE!$B$5:$O$143,D648,FALSE)=\" \",\",\",VLOOKUP(B648,SCHEDULE!$B$5:$O$143,D648,FALSE))","v":",,4,Motley Crew"},59,4,9]
[{"$f":"\",,\"&C649&\",\"&IF(VLOOKUP(B649,SCHEDULE!$B$5:$O$143,D649,FALSE)=\" \",\",\",VLOOKUP(B649,SCHEDULE!$B$5:$O$143,D649,FALSE))","v":",,5,Gippsland United"},59,5,10]
[{"$f":"\",,\"&C650&\",\"&IF(VLOOKUP(B650,SCHEDULE!$B$5:$O$143,D650,FALSE)=\" \",\",\",VLOOKUP(B650,SCHEDULE!$B$5:$O$143,D650,FALSE))","v":",,6,Mildura"},59,6,11]
[{"$f":"\",,\"&C651&\",\"&IF(VLOOKUP(B651,SCHEDULE!$B$5:$O$143,D651,FALSE)=\" \",\",\",VLOOKUP(B651,SCHEDULE!$B$5:$O$143,D651,FALSE))","v":",,7,,"},59,7,12]
[{"$f":"\",,\"&C652&\",\"&IF(VLOOKUP(B652,SCHEDULE!$B$5:$O$143,D652,FALSE)=\" \",\",\",VLOOKUP(B652,SCHEDULE!$B$5:$O$143,D652,FALSE))","v":",,8,,"},59,8,13]
[{"$f":"\",,\"&C653&\",\"&IF(VLOOKUP(B653,SCHEDULE!$B$5:$O$143,D653,FALSE)=\" \",\",\",VLOOKUP(B653,SCHEDULE!$B$5:$O$143,D653,FALSE))","v":",,9,,"},59,9,14]
[]
[{"$f":"$A$2&\",\"&$A$3&\",\"&B655&\",Race\"&B655&\" - \"&VLOOKUP(B655,SCHEDULE!$B$5:$C$143,2,FALSE)","v":"2023,1310,60,Race60 - Senior C Women 10"},{"$f":"B644+1","v":60}]
[{"$f":"\",,\"&C656&\",\"&IF(VLOOKUP(B656,SCHEDULE!$B$5:$O$143,D656,FALSE)=\" \",\",\",VLOOKUP(B656,SCHEDULE!$B$5:$O$143,D656,FALSE))","v":",,1,Black Sea Dragons"},{"$f":"B655","v":60},1,6]
[{"$f":"\",,\"&C657&\",\"&IF(VLOOKUP(B657,SCHEDULE!$B$5:$O$143,D657,FALSE)=\" \",\",\",VLOOKUP(B657,SCHEDULE!$B$5:$O$143,D657,FALSE))","v":",,2,Rainbow Dragons Blue"},{"$f":"B656","v":60},2,7]
[{"$f":"\",,\"&C658&\",\"&IF(VLOOKUP(B658,SCHEDULE!$B$5:$O$143,D658,FALSE)=\" \",\",\",VLOOKUP(B658,SCHEDULE!$B$5:$O$143,D658,FALSE))","v":",,3,SADA Sonix Blue"},60,3,8]
[{"$f":"\",,\"&C659&\",\"&IF(VLOOKUP(B659,SCHEDULE!$B$5:$O$143,D659,FALSE)=\" \",\",\",VLOOKUP(B659,SCHEDULE!$B$5:$O$143,D659,FALSE))","v":",,4,Newcastle Dragon Hunters Red"},60,4,9]
[{"$f":"\",,\"&C660&\",\"&IF(VLOOKUP(B660,SCHEDULE!$B$5:$O$143,D660,FALSE)=\" \",\",\",VLOOKUP(B660,SCHEDULE!$B$5:$O$143,D660,FALSE))","v":",,5,Dragons Afloat Port Lincoln"},60,5,10]
[{"$f":"\",,\"&C661&\",\"&IF(VLOOKUP(B661,SCHEDULE!$B$5:$O$143,D661,FALSE)=\" \",\",\",VLOOKUP(B661,SCHEDULE!$B$5:$O$143,D661,FALSE))","v":",,6,Deepwater Green"},60,6,11]
[{"$f":"\",,\"&C662&\",\"&IF(VLOOKUP(B662,SCHEDULE!$B$5:$O$143,D662,FALSE)=\" \",\",\",VLOOKUP(B662,SCHEDULE!$B$5:$O$143,D662,FALSE))","v":",,7,,"},60,7,12]
[{"$f":"\",,\"&C663&\",\"&IF(VLOOKUP(B663,SCHEDULE!$B$5:$O$143,D663,FALSE)=\" \",\",\",VLOOKUP(B663,SCHEDULE!$B$5:$O$143,D663,FALSE))","v":",,8,,"},60,8,13]
[{"$f":"\",,\"&C664&\",\"&IF(VLOOKUP(B664,SCHEDULE!$B$5:$O$143,D664,FALSE)=\" \",\",\",VLOOKUP(B664,SCHEDULE!$B$5:$O$143,D664,FALSE))","v":",,9,,"},60,9,14]
[]
[{"$f":"$A$2&\",\"&$A$3&\",\"&B666&\",Race\"&B666&\" - \"&VLOOKUP(B666,SCHEDULE!$B$5:$C$143,2,FALSE)","v":"2023,1310,61,Race61 - Senior C Women 10"},{"$f":"B655+1","v":61}]
[{"$f":"\",,\"&C667&\",\"&IF(VLOOKUP(B667,SCHEDULE!$B$5:$O$143,D667,FALSE)=\" \",\",\",VLOOKUP(B667,SCHEDULE!$B$5:$O$143,D667,FALSE))","v":",,1,Southern Warriors White"},{"$f":"B666","v":61},1,6]
[{"$f":"\",,\"&C668&\",\"&IF(VLOOKUP(B668,SCHEDULE!$B$5:$O$143,D668,FALSE)=\" \",\",\",VLOOKUP(B668,SCHEDULE!$B$5:$O$143,D668,FALSE))","v":",,2,Rainbow Dragons Red"},{"$f":"B667","v":61},2,7]
[{"$f":"\",,\"&C669&\",\"&IF(VLOOKUP(B669,SCHEDULE!$B$5:$O$143,D669,FALSE)=\" \",\",\",VLOOKUP(B669,SCHEDULE!$B$5:$O$143,D669,FALSE))","v":",,3,SCD Warrnambool"},61,3,8]
[{"$f":"\",,\"&C670&\",\"&IF(VLOOKUP(B670,SCHEDULE!$B$5:$O$143,D670,FALSE)=\" \",\",\",VLOOKUP(B670,SCHEDULE!$B$5:$O$143,D670,FALSE))","v":",,4,DA Bendigo Blue"},61,4,9]
[{"$f":"\",,\"&C671&\",\"&IF(VLOOKUP(B671,SCHEDULE!$B$5:$O$143,D671,FALSE)=\" \",\",\",VLOOKUP(B671,SCHEDULE!$B$5:$O$143,D671,FALSE))","v":",,5,FNC"},61,5,10]
[{"$f":"\",,\"&C672&\",\"&IF(VLOOKUP(B672,SCHEDULE!$B$5:$O$143,D672,FALSE)=\" \",\",\",VLOOKUP(B672,SCHEDULE!$B$5:$O$143,D672,FALSE))","v":",,6,Gypsy Dragons"},61,6,11]
[{"$f":"\",,\"&C673&\",\"&IF(VLOOKUP(B673,SCHEDULE!$B$5:$O$143,D673,FALSE)=\" \",\",\",VLOOKUP(B673,SCHEDULE!$B$5:$O$143,D673,FALSE))","v":",,7,,"},61,7,12]
[{"$f":"\",,\"&C674&\",\"&IF(VLOOKUP(B674,SCHEDULE!$B$5:$O$143,D674,FALSE)=\" \",\",\",VLOOKUP(B674,SCHEDULE!$B$5:$O$143,D674,FALSE))","v":",,8,,"},61,8,13]
[{"$f":"\",,\"&C675&\",\"&IF(VLOOKUP(B675,SCHEDULE!$B$5:$O$143,D675,FALSE)=\" \",\",\",VLOOKUP(B675,SCHEDULE!$B$5:$O$143,D675,FALSE))","v":",,9,,"},61,9,14]
[]
[{"$f":"$A$2&\",\"&$A$3&\",\"&B677&\",Race\"&B677&\" - \"&VLOOKUP(B677,SCHEDULE!$B$5:$C$143,2,FALSE)","v":"2023,1310,62,Race62 - Senior C Women 10"},{"$f":"B666+1","v":62}]
[{"$f":"\",,\"&C678&\",\"&IF(VLOOKUP(B678,SCHEDULE!$B$5:$O$143,D678,FALSE)=\" \",\",\",VLOOKUP(B678,SCHEDULE!$B$5:$O$143,D678,FALSE))","v":",,1,Gippsland Blue"},{"$f":"B677","v":62},1,6]
[{"$f":"\",,\"&C679&\",\"&IF(VLOOKUP(B679,SCHEDULE!$B$5:$O$143,D679,FALSE)=\" \",\",\",VLOOKUP(B679,SCHEDULE!$B$5:$O$143,D679,FALSE))","v":",,2,Dragons Afloat Bendigo"},{"$f":"B678","v":62},2,7]
[{"$f":"\",,\"&C680&\",\"&IF(VLOOKUP(B680,SCHEDULE!$B$5:$O$143,D680,FALSE)=\" \",\",\",VLOOKUP(B680,SCHEDULE!$B$5:$O$143,D680,FALSE))","v":",,3,Hunter River Dragons"},62,3,8]
[{"$f":"\",,\"&C681&\",\"&IF(VLOOKUP(B681,SCHEDULE!$B$5:$O$143,D681,FALSE)=\" \",\",\",VLOOKUP(B681,SCHEDULE!$B$5:$O$143,D681,FALSE))","v":",,4,Dragon Masters"},62,4,9]
[{"$f":"\",,\"&C682&\",\"&IF(VLOOKUP(B682,SCHEDULE!$B$5:$O$143,D682,FALSE)=\" \",\",\",VLOOKUP(B682,SCHEDULE!$B$5:$O$143,D682,FALSE))","v":",,5,Outback Dragons"},62,5,10]
[{"$f":"\",,\"&C683&\",\"&IF(VLOOKUP(B683,SCHEDULE!$B$5:$O$143,D683,FALSE)=\" \",\",\",VLOOKUP(B683,SCHEDULE!$B$5:$O$143,D683,FALSE))","v":",,6,Kangaroo Island Dragons"},62,6,11]
[{"$f":"\",,\"&C684&\",\"&IF(VLOOKUP(B684,SCHEDULE!$B$5:$O$143,D684,FALSE)=\" \",\",\",VLOOKUP(B684,SCHEDULE!$B$5:$O$143,D684,FALSE))","v":",,7,,"},62,7,12]
[{"$f":"\",,\"&C685&\",\"&IF(VLOOKUP(B685,SCHEDULE!$B$5:$O$143,D685,FALSE)=\" \",\",\",VLOOKUP(B685,SCHEDULE!$B$5:$O$143,D685,FALSE))","v":",,8,,"},62,8,13]
[{"$f":"\",,\"&C686&\",\"&IF(VLOOKUP(B686,SCHEDULE!$B$5:$O$143,D686,FALSE)=\" \",\",\",VLOOKUP(B686,SCHEDULE!$B$5:$O$143,D686,FALSE))","v":",,9,,"},62,9,14]
[]
[{"$f":"$A$2&\",\"&$A$3&\",\"&B688&\",Race\"&B688&\" - \"&VLOOKUP(B688,SCHEDULE!$B$5:$C$143,2,FALSE)","v":"2023,1310,63,Race63 - Senior C Women 10"},{"$f":"B677+1","v":63}]
[{"$f":"\",,\"&C689&\",\"&IF(VLOOKUP(B689,SCHEDULE!$B$5:$O$143,D689,FALSE)=\" \",\",\",VLOOKUP(B689,SCHEDULE!$B$5:$O$143,D689,FALSE))","v":",,1,Mildura"},{"$f":"B688","v":63},1,6]
[{"$f":"\",,\"&C690&\",\"&IF(VLOOKUP(B690,SCHEDULE!$B$5:$O$143,D690,FALSE)=\" \",\",\",VLOOKUP(B690,SCHEDULE!$B$5:$O$143,D690,FALSE))","v":",,2,Peninsula Dragonfly"},{"$f":"B689","v":63},2,7]
[{"$f":"\",,\"&C691&\",\"&IF(VLOOKUP(B691,SCHEDULE!$B$5:$O$143,D691,FALSE)=\" \",\",\",VLOOKUP(B691,SCHEDULE!$B$5:$O$143,D691,FALSE))","v":",,3,Golden Dragons"},63,3,8]
[{"$f":"\",,\"&C692&\",\"&IF(VLOOKUP(B692,SCHEDULE!$B$5:$O$143,D692,FALSE)=\" \",\",\",VLOOKUP(B692,SCHEDULE!$B$5:$O$143,D692,FALSE))","v":",,4,Southern Warriors Blue"},63,4,9]
[{"$f":"\",,\"&C693&\",\"&IF(VLOOKUP(B693,SCHEDULE!$B$5:$O$143,D693,FALSE)=\" \",\",\",VLOOKUP(B693,SCHEDULE!$B$5:$O$143,D693,FALSE))","v":",,5,SADA Sonix Yellow"},63,5,10]
[{"$f":"\",,\"&C694&\",\"&IF(VLOOKUP(B694,SCHEDULE!$B$5:$O$143,D694,FALSE)=\" \",\",\",VLOOKUP(B694,SCHEDULE!$B$5:$O$143,D694,FALSE))","v":",,6,Deepwater Purple"},63,6,11]
[{"$f":"\",,\"&C695&\",\"&IF(VLOOKUP(B695,SCHEDULE!$B$5:$O$143,D695,FALSE)=\" \",\",\",VLOOKUP(B695,SCHEDULE!$B$5:$O$143,D695,FALSE))","v":",,7,,"},63,7,12]
[{"$f":"\",,\"&C696&\",\"&IF(VLOOKUP(B696,SCHEDULE!$B$5:$O$143,D696,FALSE)=\" \",\",\",VLOOKUP(B696,SCHEDULE!$B$5:$O$143,D696,FALSE))","v":",,8,,"},63,8,13]
[{"$f":"\",,\"&C697&\",\"&IF(VLOOKUP(B697,SCHEDULE!$B$5:$O$143,D697,FALSE)=\" \",\",\",VLOOKUP(B697,SCHEDULE!$B$5:$O$143,D697,FALSE))","v":",,9,,"},63,9,14]
[]
[{"$f":"$A$2&\",\"&$A$3&\",\"&B699&\",Race\"&B699&\" - \"&VLOOKUP(B699,SCHEDULE!$B$5:$C$143,2,FALSE)","v":"2023,1310,64,Race64 - Senior C Women 10"},{"$f":"B688+1","v":64}]
[{"$f":"\",,\"&C700&\",\"&IF(VLOOKUP(B700,SCHEDULE!$B$5:$O$143,D700,FALSE)=\" \",\",\",VLOOKUP(B700,SCHEDULE!$B$5:$O$143,D700,FALSE))","v":",,1,Kombo Dragons Black"},{"$f":"B699","v":64},1,6]
[{"$f":"\",,\"&C701&\",\"&IF(VLOOKUP(B701,SCHEDULE!$B$5:$O$143,D701,FALSE)=\" \",\",\",VLOOKUP(B701,SCHEDULE!$B$5:$O$143,D701,FALSE))","v":",,2,DA Bendigo Pink"},{"$f":"B700","v":64},2,7]
[{"$f":"\",,\"&C702&\",\"&IF(VLOOKUP(B702,SCHEDULE!$B$5:$O$143,D702,FALSE)=\" \",\",\",VLOOKUP(B702,SCHEDULE!$B$5:$O$143,D702,FALSE))","v":",,3,Juggernauts"},64,3,8]
[{"$f":"\",,\"&C703&\",\"&IF(VLOOKUP(B703,SCHEDULE!$B$5:$O$143,D703,FALSE)=\" \",\",\",VLOOKUP(B703,SCHEDULE!$B$5:$O$143,D703,FALSE))","v":",,4,Motley Crew"},64,4,9]
[{"$f":"\",,\"&C704&\",\"&IF(VLOOKUP(B704,SCHEDULE!$B$5:$O$143,D704,FALSE)=\" \",\",\",VLOOKUP(B704,SCHEDULE!$B$5:$O$143,D704,FALSE))","v":",,5,Powerblades"},64,5,10]
[{"$f":"\",,\"&C705&\",\"&IF(VLOOKUP(B705,SCHEDULE!$B$5:$O$143,D705,FALSE)=\" \",\",\",VLOOKUP(B705,SCHEDULE!$B$5:$O$143,D705,FALSE))","v":",,6,Newcastle Dragon Hunters Purple"},64,6,11]
[{"$f":"\",,\"&C706&\",\"&IF(VLOOKUP(B706,SCHEDULE!$B$5:$O$143,D706,FALSE)=\" \",\",\",VLOOKUP(B706,SCHEDULE!$B$5:$O$143,D706,FALSE))","v":",,7,Gippsland Orange"},64,7,12]
[{"$f":"\",,\"&C707&\",\"&IF(VLOOKUP(B707,SCHEDULE!$B$5:$O$143,D707,FALSE)=\" \",\",\",VLOOKUP(B707,SCHEDULE!$B$5:$O$143,D707,FALSE))","v":",,8,,"},64,8,13]
[{"$f":"\",,\"&C708&\",\"&IF(VLOOKUP(B708,SCHEDULE!$B$5:$O$143,D708,FALSE)=\" \",\",\",VLOOKUP(B708,SCHEDULE!$B$5:$O$143,D708,FALSE))","v":",,9,,"},64,9,14]
[]
[{"$f":"$A$2&\",\"&$A$3&\",\"&B710&\",Race\"&B710&\" - \"&VLOOKUP(B710,SCHEDULE!$B$5:$C$143,2,FALSE)","v":"2023,1310,65,Race65 - Senior C Open 10's"},{"$f":"B699+1","v":65}]
[{"$f":"\",,\"&C711&\",\"&IF(VLOOKUP(B711,SCHEDULE!$B$5:$O$143,D711,FALSE)=\" \",\",\",VLOOKUP(B711,SCHEDULE!$B$5:$O$143,D711,FALSE))","v":",,1,Rainbow Dragons"},{"$f":"B710","v":65},1,6]
[{"$f":"\",,\"&C712&\",\"&IF(VLOOKUP(B712,SCHEDULE!$B$5:$O$143,D712,FALSE)=\" \",\",\",VLOOKUP(B712,SCHEDULE!$B$5:$O$143,D712,FALSE))","v":",,2,Mildura"},{"$f":"B711","v":65},2,7]
[{"$f":"\",,\"&C713&\",\"&IF(VLOOKUP(B713,SCHEDULE!$B$5:$O$143,D713,FALSE)=\" \",\",\",VLOOKUP(B713,SCHEDULE!$B$5:$O$143,D713,FALSE))","v":",,3,PowerBlades"},65,3,8]
[{"$f":"\",,\"&C714&\",\"&IF(VLOOKUP(B714,SCHEDULE!$B$5:$O$143,D714,FALSE)=\" \",\",\",VLOOKUP(B714,SCHEDULE!$B$5:$O$143,D714,FALSE))","v":",,4,SADA Sonix"},65,4,9]
[{"$f":"\",,\"&C715&\",\"&IF(VLOOKUP(B715,SCHEDULE!$B$5:$O$143,D715,FALSE)=\" \",\",\",VLOOKUP(B715,SCHEDULE!$B$5:$O$143,D715,FALSE))","v":",,5,Kangaroo Island Dragons"},65,5,10]
[{"$f":"\",,\"&C716&\",\"&IF(VLOOKUP(B716,SCHEDULE!$B$5:$O$143,D716,FALSE)=\" \",\",\",VLOOKUP(B716,SCHEDULE!$B$5:$O$143,D716,FALSE))","v":",,6,Hunter River Dragons"},65,6,11]
[{"$f":"\",,\"&C717&\",\"&IF(VLOOKUP(B717,SCHEDULE!$B$5:$O$143,D717,FALSE)=\" \",\",\",VLOOKUP(B717,SCHEDULE!$B$5:$O$143,D717,FALSE))","v":",,7,,"},65,7,12]
[{"$f":"\",,\"&C718&\",\"&IF(VLOOKUP(B718,SCHEDULE!$B$5:$O$143,D718,FALSE)=\" \",\",\",VLOOKUP(B718,SCHEDULE!$B$5:$O$143,D718,FALSE))","v":",,8,,"},65,8,13]
[{"$f":"\",,\"&C719&\",\"&IF(VLOOKUP(B719,SCHEDULE!$B$5:$O$143,D719,FALSE)=\" \",\",\",VLOOKUP(B719,SCHEDULE!$B$5:$O$143,D719,FALSE))","v":",,9,,"},65,9,14]
[]
[{"$f":"$A$2&\",\"&$A$3&\",\"&B721&\",Race\"&B721&\" - \"&VLOOKUP(B721,SCHEDULE!$B$5:$C$143,2,FALSE)","v":"2023,1310,66,Race66 - Senior C Open 10's"},{"$f":"B710+1","v":66}]
[{"$f":"\",,\"&C722&\",\"&IF(VLOOKUP(B722,SCHEDULE!$B$5:$O$143,D722,FALSE)=\" \",\",\",VLOOKUP(B722,SCHEDULE!$B$5:$O$143,D722,FALSE))","v":",,1,Deepwater"},{"$f":"B721","v":66},1,6]
[{"$f":"\",,\"&C723&\",\"&IF(VLOOKUP(B723,SCHEDULE!$B$5:$O$143,D723,FALSE)=\" \",\",\",VLOOKUP(B723,SCHEDULE!$B$5:$O$143,D723,FALSE))","v":",,2,Gippsland United"},{"$f":"B722","v":66},2,7]
[{"$f":"\",,\"&C724&\",\"&IF(VLOOKUP(B724,SCHEDULE!$B$5:$O$143,D724,FALSE)=\" \",\",\",VLOOKUP(B724,SCHEDULE!$B$5:$O$143,D724,FALSE))","v":",,3,Southern Warriors Blue"},66,3,8]
[{"$f":"\",,\"&C725&\",\"&IF(VLOOKUP(B725,SCHEDULE!$B$5:$O$143,D725,FALSE)=\" \",\",\",VLOOKUP(B725,SCHEDULE!$B$5:$O$143,D725,FALSE))","v":",,4,FNC"},66,4,9]
[{"$f":"\",,\"&C726&\",\"&IF(VLOOKUP(B726,SCHEDULE!$B$5:$O$143,D726,FALSE)=\" \",\",\",VLOOKUP(B726,SCHEDULE!$B$5:$O$143,D726,FALSE))","v":",,5,Gypsy Dragons"},66,5,10]
[{"$f":"\",,\"&C727&\",\"&IF(VLOOKUP(B727,SCHEDULE!$B$5:$O$143,D727,FALSE)=\" \",\",\",VLOOKUP(B727,SCHEDULE!$B$5:$O$143,D727,FALSE))","v":",,6,Kombo Dragons Black"},66,6,11]
[{"$f":"\",,\"&C728&\",\"&IF(VLOOKUP(B728,SCHEDULE!$B$5:$O$143,D728,FALSE)=\" \",\",\",VLOOKUP(B728,SCHEDULE!$B$5:$O$143,D728,FALSE))","v":",,7,ASA"},66,7,12]
[{"$f":"\",,\"&C729&\",\"&IF(VLOOKUP(B729,SCHEDULE!$B$5:$O$143,D729,FALSE)=\" \",\",\",VLOOKUP(B729,SCHEDULE!$B$5:$O$143,D729,FALSE))","v":",,8,,"},66,8,13]
[{"$f":"\",,\"&C730&\",\"&IF(VLOOKUP(B730,SCHEDULE!$B$5:$O$143,D730,FALSE)=\" \",\",\",VLOOKUP(B730,SCHEDULE!$B$5:$O$143,D730,FALSE))","v":",,9,,"},66,9,14]
[]
[{"$f":"$A$2&\",\"&$A$3&\",\"&B732&\",Race\"&B732&\" - \"&VLOOKUP(B732,SCHEDULE!$B$5:$C$143,2,FALSE)","v":"2023,1310,67,Race67 - Senior C Open 10's"},{"$f":"B721+1","v":67}]
[{"$f":"\",,\"&C733&\",\"&IF(VLOOKUP(B733,SCHEDULE!$B$5:$O$143,D733,FALSE)=\" \",\",\",VLOOKUP(B733,SCHEDULE!$B$5:$O$143,D733,FALSE))","v":",,1,Southern Warriors White"},{"$f":"B732","v":67},1,6]
[{"$f":"\",,\"&C734&\",\"&IF(VLOOKUP(B734,SCHEDULE!$B$5:$O$143,D734,FALSE)=\" \",\",\",VLOOKUP(B734,SCHEDULE!$B$5:$O$143,D734,FALSE))","v":",,2,Outback Dragons"},{"$f":"B733","v":67},2,7]
[{"$f":"\",,\"&C735&\",\"&IF(VLOOKUP(B735,SCHEDULE!$B$5:$O$143,D735,FALSE)=\" \",\",\",VLOOKUP(B735,SCHEDULE!$B$5:$O$143,D735,FALSE))","v":",,3,Newcastle Dragon Hunters Red"},67,3,8]
[{"$f":"\",,\"&C736&\",\"&IF(VLOOKUP(B736,SCHEDULE!$B$5:$O$143,D736,FALSE)=\" \",\",\",VLOOKUP(B736,SCHEDULE!$B$5:$O$143,D736,FALSE))","v":",,4,Kombo Dragons Purple"},67,4,9]
[{"$f":"\",,\"&C737&\",\"&IF(VLOOKUP(B737,SCHEDULE!$B$5:$O$143,D737,FALSE)=\" \",\",\",VLOOKUP(B737,SCHEDULE!$B$5:$O$143,D737,FALSE))","v":",,5,Motley Crew"},67,5,10]
[{"$f":"\",,\"&C738&\",\"&IF(VLOOKUP(B738,SCHEDULE!$B$5:$O$143,D738,FALSE)=\" \",\",\",VLOOKUP(B738,SCHEDULE!$B$5:$O$143,D738,FALSE))","v":",,6,Dragon Masters"},67,6,11]
[{"$f":"\",,\"&C739&\",\"&IF(VLOOKUP(B739,SCHEDULE!$B$5:$O$143,D739,FALSE)=\" \",\",\",VLOOKUP(B739,SCHEDULE!$B$5:$O$143,D739,FALSE))","v":",,7,,"},67,7,12]
[{"$f":"\",,\"&C740&\",\"&IF(VLOOKUP(B740,SCHEDULE!$B$5:$O$143,D740,FALSE)=\" \",\",\",VLOOKUP(B740,SCHEDULE!$B$5:$O$143,D740,FALSE))","v":",,8,,"},67,8,13]
[{"$f":"\",,\"&C741&\",\"&IF(VLOOKUP(B741,SCHEDULE!$B$5:$O$143,D741,FALSE)=\" \",\",\",VLOOKUP(B741,SCHEDULE!$B$5:$O$143,D741,FALSE))","v":",,9,,"},67,9,14]
[]
[{"$f":"$A$2&\",\"&$A$3&\",\"&B743&\",Race\"&B743&\" - \"&VLOOKUP(B743,SCHEDULE!$B$5:$C$143,2,FALSE)","v":"2023,1310,68,Race68 - BCS 10"},{"$f":"B732+1","v":68}]
[{"$f":"\",,\"&C744&\",\"&IF(VLOOKUP(B744,SCHEDULE!$B$5:$O$143,D744,FALSE)=\" \",\",\",VLOOKUP(B744,SCHEDULE!$B$5:$O$143,D744,FALSE))","v":",,1,Rainbow Dragons"},{"$f":"B743","v":68},1,6]
[{"$f":"\",,\"&C745&\",\"&IF(VLOOKUP(B745,SCHEDULE!$B$5:$O$143,D745,FALSE)=\" \",\",\",VLOOKUP(B745,SCHEDULE!$B$5:$O$143,D745,FALSE))","v":",,2,SADA Sonix"},{"$f":"B744","v":68},2,7]
[{"$f":"\",,\"&C746&\",\"&IF(VLOOKUP(B746,SCHEDULE!$B$5:$O$143,D746,FALSE)=\" \",\",\",VLOOKUP(B746,SCHEDULE!$B$5:$O$143,D746,FALSE))","v":",,3,Pink Dragons"},68,3,8]
[{"$f":"\",,\"&C747&\",\"&IF(VLOOKUP(B747,SCHEDULE!$B$5:$O$143,D747,FALSE)=\" \",\",\",VLOOKUP(B747,SCHEDULE!$B$5:$O$143,D747,FALSE))","v":",,4,DA Bendigo Blue"},68,4,9]
[{"$f":"\",,\"&C748&\",\"&IF(VLOOKUP(B748,SCHEDULE!$B$5:$O$143,D748,FALSE)=\" \",\",\",VLOOKUP(B748,SCHEDULE!$B$5:$O$143,D748,FALSE))","v":",,5,Juggernauts"},68,5,10]
[{"$f":"\",,\"&C749&\",\"&IF(VLOOKUP(B749,SCHEDULE!$B$5:$O$143,D749,FALSE)=\" \",\",\",VLOOKUP(B749,SCHEDULE!$B$5:$O$143,D749,FALSE))","v":",,6,,"},68,6,11]
[{"$f":"\",,\"&C750&\",\"&IF(VLOOKUP(B750,SCHEDULE!$B$5:$O$143,D750,FALSE)=\" \",\",\",VLOOKUP(B750,SCHEDULE!$B$5:$O$143,D750,FALSE))","v":",,7,,"},68,7,12]
[{"$f":"\",,\"&C751&\",\"&IF(VLOOKUP(B751,SCHEDULE!$B$5:$O$143,D751,FALSE)=\" \",\",\",VLOOKUP(B751,SCHEDULE!$B$5:$O$143,D751,FALSE))","v":",,8,,"},68,8,13]
[{"$f":"\",,\"&C752&\",\"&IF(VLOOKUP(B752,SCHEDULE!$B$5:$O$143,D752,FALSE)=\" \",\",\",VLOOKUP(B752,SCHEDULE!$B$5:$O$143,D752,FALSE))","v":",,9,,"},68,9,14]
[]
[{"$f":"$A$2&\",\"&$A$3&\",\"&B754&\",Race\"&B754&\" - \"&VLOOKUP(B754,SCHEDULE!$B$5:$C$143,2,FALSE)","v":"2023,1310,69,Race69 - BCS 10"},{"$f":"B743+1","v":69}]
[{"$f":"\",,\"&C755&\",\"&IF(VLOOKUP(B755,SCHEDULE!$B$5:$O$143,D755,FALSE)=\" \",\",\",VLOOKUP(B755,SCHEDULE!$B$5:$O$143,D755,FALSE))","v":",,1,DA Bendigo Pink"},{"$f":"B754","v":69},1,6]
[{"$f":"\",,\"&C756&\",\"&IF(VLOOKUP(B756,SCHEDULE!$B$5:$O$143,D756,FALSE)=\" \",\",\",VLOOKUP(B756,SCHEDULE!$B$5:$O$143,D756,FALSE))","v":",,2,Motley Crew"},{"$f":"B755","v":69},2,7]
[{"$f":"\",,\"&C757&\",\"&IF(VLOOKUP(B757,SCHEDULE!$B$5:$O$143,D757,FALSE)=\" \",\",\",VLOOKUP(B757,SCHEDULE!$B$5:$O$143,D757,FALSE))","v":",,3,Dragons Abreast Adelaide"},69,3,8]
[{"$f":"\",,\"&C758&\",\"&IF(VLOOKUP(B758,SCHEDULE!$B$5:$O$143,D758,FALSE)=\" \",\",\",VLOOKUP(B758,SCHEDULE!$B$5:$O$143,D758,FALSE))","v":",,4,ASA"},69,4,9]
[{"$f":"\",,\"&C759&\",\"&IF(VLOOKUP(B759,SCHEDULE!$B$5:$O$143,D759,FALSE)=\" \",\",\",VLOOKUP(B759,SCHEDULE!$B$5:$O$143,D759,FALSE))","v":",,5,,"},69,5,10]
[{"$f":"\",,\"&C760&\",\"&IF(VLOOKUP(B760,SCHEDULE!$B$5:$O$143,D760,FALSE)=\" \",\",\",VLOOKUP(B760,SCHEDULE!$B$5:$O$143,D760,FALSE))","v":",,6,,"},69,6,11]
[{"$f":"\",,\"&C761&\",\"&IF(VLOOKUP(B761,SCHEDULE!$B$5:$O$143,D761,FALSE)=\" \",\",\",VLOOKUP(B761,SCHEDULE!$B$5:$O$143,D761,FALSE))","v":",,7,,"},69,7,12]
[{"$f":"\",,\"&C762&\",\"&IF(VLOOKUP(B762,SCHEDULE!$B$5:$O$143,D762,FALSE)=\" \",\",\",VLOOKUP(B762,SCHEDULE!$B$5:$O$143,D762,FALSE))","v":",,8,,"},69,8,13]
[{"$f":"\",,\"&C763&\",\"&IF(VLOOKUP(B763,SCHEDULE!$B$5:$O$143,D763,FALSE)=\" \",\",\",VLOOKUP(B763,SCHEDULE!$B$5:$O$143,D763,FALSE))","v":",,9,,"},69,9,14]
[]
[{"$f":"$A$2&\",\"&$A$3&\",\"&B765&\",Race\"&B765&\" - \"&VLOOKUP(B765,SCHEDULE!$B$5:$C$143,2,FALSE)","v":"2023,1310,70,Race70 - Senior B Women 10"},{"$f":"B754+1","v":70}]
[{"$f":"\",,\"&C766&\",\"&IF(VLOOKUP(B766,SCHEDULE!$B$5:$O$143,D766,FALSE)=\" \",\",\",VLOOKUP(B766,SCHEDULE!$B$5:$O$143,D766,FALSE))","v":",,1,Newcastle Dragon Hunters Purple"},{"$f":"B765","v":70},1,6]
[{"$f":"\",,\"&C767&\",\"&IF(VLOOKUP(B767,SCHEDULE!$B$5:$O$143,D767,FALSE)=\" \",\",\",VLOOKUP(B767,SCHEDULE!$B$5:$O$143,D767,FALSE))","v":",,2,Outback Dragons"},{"$f":"B766","v":70},2,7]
[{"$f":"\",,\"&C768&\",\"&IF(VLOOKUP(B768,SCHEDULE!$B$5:$O$143,D768,FALSE)=\" \",\",\",VLOOKUP(B768,SCHEDULE!$B$5:$O$143,D768,FALSE))","v":",,3,Golden Dragons"},70,3,8]
[{"$f":"\",,\"&C769&\",\"&IF(VLOOKUP(B769,SCHEDULE!$B$5:$O$143,D769,FALSE)=\" \",\",\",VLOOKUP(B769,SCHEDULE!$B$5:$O$143,D769,FALSE))","v":",,4,Kombo Dragons Purple"},70,4,9]
[{"$f":"\",,\"&C770&\",\"&IF(VLOOKUP(B770,SCHEDULE!$B$5:$O$143,D770,FALSE)=\" \",\",\",VLOOKUP(B770,SCHEDULE!$B$5:$O$143,D770,FALSE))","v":",,5,Goolwa River Dragons"},70,5,10]
[{"$f":"\",,\"&C771&\",\"&IF(VLOOKUP(B771,SCHEDULE!$B$5:$O$143,D771,FALSE)=\" \",\",\",VLOOKUP(B771,SCHEDULE!$B$5:$O$143,D771,FALSE))","v":",,6,Black Sea Dragons"},70,6,11]
[{"$f":"\",,\"&C772&\",\"&IF(VLOOKUP(B772,SCHEDULE!$B$5:$O$143,D772,FALSE)=\" \",\",\",VLOOKUP(B772,SCHEDULE!$B$5:$O$143,D772,FALSE))","v":",,7,,"},70,7,12]
[{"$f":"\",,\"&C773&\",\"&IF(VLOOKUP(B773,SCHEDULE!$B$5:$O$143,D773,FALSE)=\" \",\",\",VLOOKUP(B773,SCHEDULE!$B$5:$O$143,D773,FALSE))","v":",,8,,"},70,8,13]
[{"$f":"\",,\"&C774&\",\"&IF(VLOOKUP(B774,SCHEDULE!$B$5:$O$143,D774,FALSE)=\" \",\",\",VLOOKUP(B774,SCHEDULE!$B$5:$O$143,D774,FALSE))","v":",,9,,"},70,9,14]
[]
[{"$f":"$A$2&\",\"&$A$3&\",\"&B776&\",Race\"&B776&\" - \"&VLOOKUP(B776,SCHEDULE!$B$5:$C$143,2,FALSE)","v":"2023,1310,71,Race71 - Senior B Women 10"},{"$f":"B765+1","v":71}]
[{"$f":"\",,\"&C777&\",\"&IF(VLOOKUP(B777,SCHEDULE!$B$5:$O$143,D777,FALSE)=\" \",\",\",VLOOKUP(B777,SCHEDULE!$B$5:$O$143,D777,FALSE))","v":",,1,Dragonfire"},{"$f":"B776","v":71},1,6]
[{"$f":"\",,\"&C778&\",\"&IF(VLOOKUP(B778,SCHEDULE!$B$5:$O$143,D778,FALSE)=\" \",\",\",VLOOKUP(B778,SCHEDULE!$B$5:$O$143,D778,FALSE))","v":",,2,Mildura"},{"$f":"B777","v":71},2,7]
[{"$f":"\",,\"&C779&\",\"&IF(VLOOKUP(B779,SCHEDULE!$B$5:$O$143,D779,FALSE)=\" \",\",\",VLOOKUP(B779,SCHEDULE!$B$5:$O$143,D779,FALSE))","v":",,3,Kombo Dragons Black"},71,3,8]
[{"$f":"\",,\"&C780&\",\"&IF(VLOOKUP(B780,SCHEDULE!$B$5:$O$143,D780,FALSE)=\" \",\",\",VLOOKUP(B780,SCHEDULE!$B$5:$O$143,D780,FALSE))","v":",,4,Dragons Afloat Port Lincoln"},71,4,9]
[{"$f":"\",,\"&C781&\",\"&IF(VLOOKUP(B781,SCHEDULE!$B$5:$O$143,D781,FALSE)=\" \",\",\",VLOOKUP(B781,SCHEDULE!$B$5:$O$143,D781,FALSE))","v":",,5,Broadwater Dragons"},71,5,10]
[{"$f":"\",,\"&C782&\",\"&IF(VLOOKUP(B782,SCHEDULE!$B$5:$O$143,D782,FALSE)=\" \",\",\",VLOOKUP(B782,SCHEDULE!$B$5:$O$143,D782,FALSE))","v":",,6,Newcastle Dragon Hunters Red"},71,6,11]
[{"$f":"\",,\"&C783&\",\"&IF(VLOOKUP(B783,SCHEDULE!$B$5:$O$143,D783,FALSE)=\" \",\",\",VLOOKUP(B783,SCHEDULE!$B$5:$O$143,D783,FALSE))","v":",,7,SCD Warrnambool"},71,7,12]
[{"$f":"\",,\"&C784&\",\"&IF(VLOOKUP(B784,SCHEDULE!$B$5:$O$143,D784,FALSE)=\" \",\",\",VLOOKUP(B784,SCHEDULE!$B$5:$O$143,D784,FALSE))","v":",,8,,"},71,8,13]
[{"$f":"\",,\"&C785&\",\"&IF(VLOOKUP(B785,SCHEDULE!$B$5:$O$143,D785,FALSE)=\" \",\",\",VLOOKUP(B785,SCHEDULE!$B$5:$O$143,D785,FALSE))","v":",,9,,"},71,9,14]
[]
[{"$f":"$A$2&\",\"&$A$3&\",\"&B787&\",Race\"&B787&\" - \"&VLOOKUP(B787,SCHEDULE!$B$5:$C$143,2,FALSE)","v":"2023,1310,72,Race72 - Senior B Women 10"},{"$f":"B776+1","v":72}]
[{"$f":"\",,\"&C788&\",\"&IF(VLOOKUP(B788,SCHEDULE!$B$5:$O$143,D788,FALSE)=\" \",\",\",VLOOKUP(B788,SCHEDULE!$B$5:$O$143,D788,FALSE))","v":",,1,Deepwater"},{"$f":"B787","v":72},1,6]
[{"$f":"\",,\"&C789&\",\"&IF(VLOOKUP(B789,SCHEDULE!$B$5:$O$143,D789,FALSE)=\" \",\",\",VLOOKUP(B789,SCHEDULE!$B$5:$O$143,D789,FALSE))","v":",,2,SADA Sonix Blue"},{"$f":"B788","v":72},2,7]
[{"$f":"\",,\"&C790&\",\"&IF(VLOOKUP(B790,SCHEDULE!$B$5:$O$143,D790,FALSE)=\" \",\",\",VLOOKUP(B790,SCHEDULE!$B$5:$O$143,D790,FALSE))","v":",,3,Gypsy Dragons"},72,3,8]
[{"$f":"\",,\"&C791&\",\"&IF(VLOOKUP(B791,SCHEDULE!$B$5:$O$143,D791,FALSE)=\" \",\",\",VLOOKUP(B791,SCHEDULE!$B$5:$O$143,D791,FALSE))","v":",,4,Southern Warriors"},72,4,9]
[{"$f":"\",,\"&C792&\",\"&IF(VLOOKUP(B792,SCHEDULE!$B$5:$O$143,D792,FALSE)=\" \",\",\",VLOOKUP(B792,SCHEDULE!$B$5:$O$143,D792,FALSE))","v":",,5,Gippsland United"},72,5,10]
[{"$f":"\",,\"&C793&\",\"&IF(VLOOKUP(B793,SCHEDULE!$B$5:$O$143,D793,FALSE)=\" \",\",\",VLOOKUP(B793,SCHEDULE!$B$5:$O$143,D793,FALSE))","v":",,6,Juggernauts"},72,6,11]
[{"$f":"\",,\"&C794&\",\"&IF(VLOOKUP(B794,SCHEDULE!$B$5:$O$143,D794,FALSE)=\" \",\",\",VLOOKUP(B794,SCHEDULE!$B$5:$O$143,D794,FALSE))","v":",,7,,"},72,7,12]
[{"$f":"\",,\"&C795&\",\"&IF(VLOOKUP(B795,SCHEDULE!$B$5:$O$143,D795,FALSE)=\" \",\",\",VLOOKUP(B795,SCHEDULE!$B$5:$O$143,D795,FALSE))","v":",,8,,"},72,8,13]
[{"$f":"\",,\"&C796&\",\"&IF(VLOOKUP(B796,SCHEDULE!$B$5:$O$143,D796,FALSE)=\" \",\",\",VLOOKUP(B796,SCHEDULE!$B$5:$O$143,D796,FALSE))","v":",,9,,"},72,9,14]
[]
[{"$f":"$A$2&\",\"&$A$3&\",\"&B798&\",Race\"&B798&\" - \"&VLOOKUP(B798,SCHEDULE!$B$5:$C$143,2,FALSE)","v":"2023,1310,73,Race73 - Senior B Women 10"},{"$f":"B787+1","v":73}]
[{"$f":"\",,\"&C799&\",\"&IF(VLOOKUP(B799,SCHEDULE!$B$5:$O$143,D799,FALSE)=\" \",\",\",VLOOKUP(B799,SCHEDULE!$B$5:$O$143,D799,FALSE))","v":",,1,Powerblades"},{"$f":"B798","v":73},1,6]
[{"$f":"\",,\"&C800&\",\"&IF(VLOOKUP(B800,SCHEDULE!$B$5:$O$143,D800,FALSE)=\" \",\",\",VLOOKUP(B800,SCHEDULE!$B$5:$O$143,D800,FALSE))","v":",,2,FNC"},{"$f":"B799","v":73},2,7]
[{"$f":"\",,\"&C801&\",\"&IF(VLOOKUP(B801,SCHEDULE!$B$5:$O$143,D801,FALSE)=\" \",\",\",VLOOKUP(B801,SCHEDULE!$B$5:$O$143,D801,FALSE))","v":",,3,SADA Sonix Yellow"},73,3,8]
[{"$f":"\",,\"&C802&\",\"&IF(VLOOKUP(B802,SCHEDULE!$B$5:$O$143,D802,FALSE)=\" \",\",\",VLOOKUP(B802,SCHEDULE!$B$5:$O$143,D802,FALSE))","v":",,4,Hunter River Dragons"},73,4,9]
[{"$f":"\",,\"&C803&\",\"&IF(VLOOKUP(B803,SCHEDULE!$B$5:$O$143,D803,FALSE)=\" \",\",\",VLOOKUP(B803,SCHEDULE!$B$5:$O$143,D803,FALSE))","v":",,5,DA Bendigo"},73,5,10]
[{"$f":"\",,\"&C804&\",\"&IF(VLOOKUP(B804,SCHEDULE!$B$5:$O$143,D804,FALSE)=\" \",\",\",VLOOKUP(B804,SCHEDULE!$B$5:$O$143,D804,FALSE))","v":",,6,Dragons Afloat Bendigo"},73,6,11]
[{"$f":"\",,\"&C805&\",\"&IF(VLOOKUP(B805,SCHEDULE!$B$5:$O$143,D805,FALSE)=\" \",\",\",VLOOKUP(B805,SCHEDULE!$B$5:$O$143,D805,FALSE))","v":",,7,,"},73,7,12]
[{"$f":"\",,\"&C806&\",\"&IF(VLOOKUP(B806,SCHEDULE!$B$5:$O$143,D806,FALSE)=\" \",\",\",VLOOKUP(B806,SCHEDULE!$B$5:$O$143,D806,FALSE))","v":",,8,,"},73,8,13]
[{"$f":"\",,\"&C807&\",\"&IF(VLOOKUP(B807,SCHEDULE!$B$5:$O$143,D807,FALSE)=\" \",\",\",VLOOKUP(B807,SCHEDULE!$B$5:$O$143,D807,FALSE))","v":",,9,,"},73,9,14]
[]
[{"$f":"$A$2&\",\"&$A$3&\",\"&B809&\",Race\"&B809&\" - \"&VLOOKUP(B809,SCHEDULE!$B$5:$C$143,2,FALSE)","v":"2023,1310,74,Race74 - Senior B Open 10"},{"$f":"B798+1","v":74}]
[{"$f":"\",,\"&C810&\",\"&IF(VLOOKUP(B810,SCHEDULE!$B$5:$O$143,D810,FALSE)=\" \",\",\",VLOOKUP(B810,SCHEDULE!$B$5:$O$143,D810,FALSE))","v":",,1,Kombo Dragons Purple"},{"$f":"B809","v":74},1,6]
[{"$f":"\",,\"&C811&\",\"&IF(VLOOKUP(B811,SCHEDULE!$B$5:$O$143,D811,FALSE)=\" \",\",\",VLOOKUP(B811,SCHEDULE!$B$5:$O$143,D811,FALSE))","v":",,2,ASA"},{"$f":"B810","v":74},2,7]
[{"$f":"\",,\"&C812&\",\"&IF(VLOOKUP(B812,SCHEDULE!$B$5:$O$143,D812,FALSE)=\" \",\",\",VLOOKUP(B812,SCHEDULE!$B$5:$O$143,D812,FALSE))","v":",,3,Mannum"},74,3,8]
[{"$f":"\",,\"&C813&\",\"&IF(VLOOKUP(B813,SCHEDULE!$B$5:$O$143,D813,FALSE)=\" \",\",\",VLOOKUP(B813,SCHEDULE!$B$5:$O$143,D813,FALSE))","v":",,4,Gypsy Dragons"},74,4,9]
[{"$f":"\",,\"&C814&\",\"&IF(VLOOKUP(B814,SCHEDULE!$B$5:$O$143,D814,FALSE)=\" \",\",\",VLOOKUP(B814,SCHEDULE!$B$5:$O$143,D814,FALSE))","v":",,5,Southern Warriors"},74,5,10]
[{"$f":"\",,\"&C815&\",\"&IF(VLOOKUP(B815,SCHEDULE!$B$5:$O$143,D815,FALSE)=\" \",\",\",VLOOKUP(B815,SCHEDULE!$B$5:$O$143,D815,FALSE))","v":",,6,Black Sea Dragons"},74,6,11]
[{"$f":"\",,\"&C816&\",\"&IF(VLOOKUP(B816,SCHEDULE!$B$5:$O$143,D816,FALSE)=\" \",\",\",VLOOKUP(B816,SCHEDULE!$B$5:$O$143,D816,FALSE))","v":",,7,,"},74,7,12]
[{"$f":"\",,\"&C817&\",\"&IF(VLOOKUP(B817,SCHEDULE!$B$5:$O$143,D817,FALSE)=\" \",\",\",VLOOKUP(B817,SCHEDULE!$B$5:$O$143,D817,FALSE))","v":",,8,,"},74,8,13]
[{"$f":"\",,\"&C818&\",\"&IF(VLOOKUP(B818,SCHEDULE!$B$5:$O$143,D818,FALSE)=\" \",\",\",VLOOKUP(B818,SCHEDULE!$B$5:$O$143,D818,FALSE))","v":",,9,,"},74,9,14]
[]
[{"$f":"$A$2&\",\"&$A$3&\",\"&B820&\",Race\"&B820&\" - \"&VLOOKUP(B820,SCHEDULE!$B$5:$C$143,2,FALSE)","v":"2023,1310,75,Race75 - Senior B Open 10"},{"$f":"B809+1","v":75}]
[{"$f":"\",,\"&C821&\",\"&IF(VLOOKUP(B821,SCHEDULE!$B$5:$O$143,D821,FALSE)=\" \",\",\",VLOOKUP(B821,SCHEDULE!$B$5:$O$143,D821,FALSE))","v":",,1,Goolwa River Dragons"},{"$f":"B820","v":75},1,6]
[{"$f":"\",,\"&C822&\",\"&IF(VLOOKUP(B822,SCHEDULE!$B$5:$O$143,D822,FALSE)=\" \",\",\",VLOOKUP(B822,SCHEDULE!$B$5:$O$143,D822,FALSE))","v":",,2,Kombo Dragons Black"},{"$f":"B821","v":75},2,7]
[{"$f":"\",,\"&C823&\",\"&IF(VLOOKUP(B823,SCHEDULE!$B$5:$O$143,D823,FALSE)=\" \",\",\",VLOOKUP(B823,SCHEDULE!$B$5:$O$143,D823,FALSE))","v":",,3,Newcastle Dragon Hunters Red"},75,3,8]
[{"$f":"\",,\"&C824&\",\"&IF(VLOOKUP(B824,SCHEDULE!$B$5:$O$143,D824,FALSE)=\" \",\",\",VLOOKUP(B824,SCHEDULE!$B$5:$O$143,D824,FALSE))","v":",,4,SADA Sonix"},75,4,9]
[{"$f":"\",,\"&C825&\",\"&IF(VLOOKUP(B825,SCHEDULE!$B$5:$O$143,D825,FALSE)=\" \",\",\",VLOOKUP(B825,SCHEDULE!$B$5:$O$143,D825,FALSE))","v":",,5,Gippsland United"},75,5,10]
[{"$f":"\",,\"&C826&\",\"&IF(VLOOKUP(B826,SCHEDULE!$B$5:$O$143,D826,FALSE)=\" \",\",\",VLOOKUP(B826,SCHEDULE!$B$5:$O$143,D826,FALSE))","v":",,6,Outback Dragons"},75,6,11]
[{"$f":"\",,\"&C827&\",\"&IF(VLOOKUP(B827,SCHEDULE!$B$5:$O$143,D827,FALSE)=\" \",\",\",VLOOKUP(B827,SCHEDULE!$B$5:$O$143,D827,FALSE))","v":",,7,,"},75,7,12]
[{"$f":"\",,\"&C828&\",\"&IF(VLOOKUP(B828,SCHEDULE!$B$5:$O$143,D828,FALSE)=\" \",\",\",VLOOKUP(B828,SCHEDULE!$B$5:$O$143,D828,FALSE))","v":",,8,,"},75,8,13]
[{"$f":"\",,\"&C829&\",\"&IF(VLOOKUP(B829,SCHEDULE!$B$5:$O$143,D829,FALSE)=\" \",\",\",VLOOKUP(B829,SCHEDULE!$B$5:$O$143,D829,FALSE))","v":",,9,,"},75,9,14]
[]
[{"$f":"$A$2&\",\"&$A$3&\",\"&B831&\",Race\"&B831&\" - \"&VLOOKUP(B831,SCHEDULE!$B$5:$C$143,2,FALSE)","v":"2023,1310,76,Race76 - Senior B Open 10"},{"$f":"B820+1","v":76}]
[{"$f":"\",,\"&C832&\",\"&IF(VLOOKUP(B832,SCHEDULE!$B$5:$O$143,D832,FALSE)=\" \",\",\",VLOOKUP(B832,SCHEDULE!$B$5:$O$143,D832,FALSE))","v":",,1,Dragonfire"},{"$f":"B831","v":76},1,6]
[{"$f":"\",,\"&C833&\",\"&IF(VLOOKUP(B833,SCHEDULE!$B$5:$O$143,D833,FALSE)=\" \",\",\",VLOOKUP(B833,SCHEDULE!$B$5:$O$143,D833,FALSE))","v":",,2,Mildura"},{"$f":"B832","v":76},2,7]
[{"$f":"\",,\"&C834&\",\"&IF(VLOOKUP(B834,SCHEDULE!$B$5:$O$143,D834,FALSE)=\" \",\",\",VLOOKUP(B834,SCHEDULE!$B$5:$O$143,D834,FALSE))","v":",,3,Kombo Dragons Green"},76,3,8]
[{"$f":"\",,\"&C835&\",\"&IF(VLOOKUP(B835,SCHEDULE!$B$5:$O$143,D835,FALSE)=\" \",\",\",VLOOKUP(B835,SCHEDULE!$B$5:$O$143,D835,FALSE))","v":",,4,Hunter River Dragons"},76,4,9]
[{"$f":"\",,\"&C836&\",\"&IF(VLOOKUP(B836,SCHEDULE!$B$5:$O$143,D836,FALSE)=\" \",\",\",VLOOKUP(B836,SCHEDULE!$B$5:$O$143,D836,FALSE))","v":",,5,Deepwater"},76,5,10]
[{"$f":"\",,\"&C837&\",\"&IF(VLOOKUP(B837,SCHEDULE!$B$5:$O$143,D837,FALSE)=\" \",\",\",VLOOKUP(B837,SCHEDULE!$B$5:$O$143,D837,FALSE))","v":",,6,,"},76,6,11]
[{"$f":"\",,\"&C838&\",\"&IF(VLOOKUP(B838,SCHEDULE!$B$5:$O$143,D838,FALSE)=\" \",\",\",VLOOKUP(B838,SCHEDULE!$B$5:$O$143,D838,FALSE))","v":",,7,,"},76,7,12]
[{"$f":"\",,\"&C839&\",\"&IF(VLOOKUP(B839,SCHEDULE!$B$5:$O$143,D839,FALSE)=\" \",\",\",VLOOKUP(B839,SCHEDULE!$B$5:$O$143,D839,FALSE))","v":",,8,,"},76,8,13]
[{"$f":"\",,\"&C840&\",\"&IF(VLOOKUP(B840,SCHEDULE!$B$5:$O$143,D840,FALSE)=\" \",\",\",VLOOKUP(B840,SCHEDULE!$B$5:$O$143,D840,FALSE))","v":",,9,,"},76,9,14]
[]
[{"$f":"$A$2&\",\"&$A$3&\",\"&B842&\",Race\"&B842&\" - \"&VLOOKUP(B842,SCHEDULE!$B$5:$C$143,2,FALSE)","v":"2023,1310,77,Race77 - BCS 20"},{"$f":"B831+1","v":77}]
[{"$f":"\",,\"&C843&\",\"&IF(VLOOKUP(B843,SCHEDULE!$B$5:$O$143,D843,FALSE)=\" \",\",\",VLOOKUP(B843,SCHEDULE!$B$5:$O$143,D843,FALSE))","v":",,1,,"},{"$f":"B842","v":77},1,6]
[{"$f":"\",,\"&C844&\",\"&IF(VLOOKUP(B844,SCHEDULE!$B$5:$O$143,D844,FALSE)=\" \",\",\",VLOOKUP(B844,SCHEDULE!$B$5:$O$143,D844,FALSE))","v":",,2,Dragons Afloat Port Lincoln"},{"$f":"B843","v":77},2,7]
[{"$f":"\",,\"&C845&\",\"&IF(VLOOKUP(B845,SCHEDULE!$B$5:$O$143,D845,FALSE)=\" \",\",\",VLOOKUP(B845,SCHEDULE!$B$5:$O$143,D845,FALSE))","v":",,3,DA Bendigo"},77,3,8]
[{"$f":"\",,\"&C846&\",\"&IF(VLOOKUP(B846,SCHEDULE!$B$5:$O$143,D846,FALSE)=\" \",\",\",VLOOKUP(B846,SCHEDULE!$B$5:$O$143,D846,FALSE))","v":",,4,Juggernauts"},77,4,9]
[{"$f":"\",,\"&C847&\",\"&IF(VLOOKUP(B847,SCHEDULE!$B$5:$O$143,D847,FALSE)=\" \",\",\",VLOOKUP(B847,SCHEDULE!$B$5:$O$143,D847,FALSE))","v":",,5,,"},77,5,10]
[{"$f":"\",,\"&C848&\",\"&IF(VLOOKUP(B848,SCHEDULE!$B$5:$O$143,D848,FALSE)=\" \",\",\",VLOOKUP(B848,SCHEDULE!$B$5:$O$143,D848,FALSE))","v":",,6,,"},77,6,11]
[{"$f":"\",,\"&C849&\",\"&IF(VLOOKUP(B849,SCHEDULE!$B$5:$O$143,D849,FALSE)=\" \",\",\",VLOOKUP(B849,SCHEDULE!$B$5:$O$143,D849,FALSE))","v":",,7,,"},77,7,12]
[{"$f":"\",,\"&C850&\",\"&IF(VLOOKUP(B850,SCHEDULE!$B$5:$O$143,D850,FALSE)=\" \",\",\",VLOOKUP(B850,SCHEDULE!$B$5:$O$143,D850,FALSE))","v":",,8,,"},77,8,13]
[{"$f":"\",,\"&C851&\",\"&IF(VLOOKUP(B851,SCHEDULE!$B$5:$O$143,D851,FALSE)=\" \",\",\",VLOOKUP(B851,SCHEDULE!$B$5:$O$143,D851,FALSE))","v":",,9,,"},77,9,14]
[]
[{"$f":"$A$2&\",\"&$A$3+100&\",\"&B853&\",Race\"&B853&\" - \"&VLOOKUP(B853,SCHEDULE!$B$5:$C$143,2,FALSE)","v":"2023,1410,78,Race78 - Senior B Women 20"},{"$f":"B842+1","v":78}]
[{"$f":"\",,\"&C854&\",\"&IF(VLOOKUP(B854,SCHEDULE!$B$5:$O$143,D854,FALSE)=\" \",\",\",VLOOKUP(B854,SCHEDULE!$B$5:$O$143,D854,FALSE))","v":",,1,Deepwater Purple"},{"$f":"B853","v":78},1,6]
[{"$f":"\",,\"&C855&\",\"&IF(VLOOKUP(B855,SCHEDULE!$B$5:$O$143,D855,FALSE)=\" \",\",\",VLOOKUP(B855,SCHEDULE!$B$5:$O$143,D855,FALSE))","v":",,2,Kombo Dragons Black"},{"$f":"B854","v":78},2,7]
[{"$f":"\",,\"&C856&\",\"&IF(VLOOKUP(B856,SCHEDULE!$B$5:$O$143,D856,FALSE)=\" \",\",\",VLOOKUP(B856,SCHEDULE!$B$5:$O$143,D856,FALSE))","v":",,3,Rainbow Dragons"},78,3,8]
[{"$f":"\",,\"&C857&\",\"&IF(VLOOKUP(B857,SCHEDULE!$B$5:$O$143,D857,FALSE)=\" \",\",\",VLOOKUP(B857,SCHEDULE!$B$5:$O$143,D857,FALSE))","v":",,4,Newcastle Dragon Hunters Purple"},78,4,9]
[{"$f":"\",,\"&C858&\",\"&IF(VLOOKUP(B858,SCHEDULE!$B$5:$O$143,D858,FALSE)=\" \",\",\",VLOOKUP(B858,SCHEDULE!$B$5:$O$143,D858,FALSE))","v":",,5,FNC"},78,5,10]
[{"$f":"\",,\"&C859&\",\"&IF(VLOOKUP(B859,SCHEDULE!$B$5:$O$143,D859,FALSE)=\" \",\",\",VLOOKUP(B859,SCHEDULE!$B$5:$O$143,D859,FALSE))","v":",,6,Mildura"},78,6,11]
[{"$f":"\",,\"&C860&\",\"&IF(VLOOKUP(B860,SCHEDULE!$B$5:$O$143,D860,FALSE)=\" \",\",\",VLOOKUP(B860,SCHEDULE!$B$5:$O$143,D860,FALSE))","v":",,7,Motley Crew"},78,7,12]
[{"$f":"\",,\"&C861&\",\"&IF(VLOOKUP(B861,SCHEDULE!$B$5:$O$143,D861,FALSE)=\" \",\",\",VLOOKUP(B861,SCHEDULE!$B$5:$O$143,D861,FALSE))","v":",,8,,"},78,8,13]
[{"$f":"\",,\"&C862&\",\"&IF(VLOOKUP(B862,SCHEDULE!$B$5:$O$143,D862,FALSE)=\" \",\",\",VLOOKUP(B862,SCHEDULE!$B$5:$O$143,D862,FALSE))","v":",,9,,"},78,9,14]
[]
[{"$f":"$A$2&\",\"&$A$3+100&\",\"&B864&\",Race\"&B864&\" - \"&VLOOKUP(B864,SCHEDULE!$B$5:$C$143,2,FALSE)","v":"2023,1410,79,Race79 - Senior B Women 20"},{"$f":"B853+1","v":79}]
[{"$f":"\",,\"&C865&\",\"&IF(VLOOKUP(B865,SCHEDULE!$B$5:$O$143,D865,FALSE)=\" \",\",\",VLOOKUP(B865,SCHEDULE!$B$5:$O$143,D865,FALSE))","v":",,1,Gippsland United"},{"$f":"B864","v":79},1,6]
[{"$f":"\",,\"&C866&\",\"&IF(VLOOKUP(B866,SCHEDULE!$B$5:$O$143,D866,FALSE)=\" \",\",\",VLOOKUP(B866,SCHEDULE!$B$5:$O$143,D866,FALSE))","v":",,2,SADA Sonix"},{"$f":"B865","v":79},2,7]
[{"$f":"\",,\"&C867&\",\"&IF(VLOOKUP(B867,SCHEDULE!$B$5:$O$143,D867,FALSE)=\" \",\",\",VLOOKUP(B867,SCHEDULE!$B$5:$O$143,D867,FALSE))","v":",,3,Newcastle Dsragon Hunters Red"},79,3,8]
[{"$f":"\",,\"&C868&\",\"&IF(VLOOKUP(B868,SCHEDULE!$B$5:$O$143,D868,FALSE)=\" \",\",\",VLOOKUP(B868,SCHEDULE!$B$5:$O$143,D868,FALSE))","v":",,4,Southern Warriors"},79,4,9]
[{"$f":"\",,\"&C869&\",\"&IF(VLOOKUP(B869,SCHEDULE!$B$5:$O$143,D869,FALSE)=\" \",\",\",VLOOKUP(B869,SCHEDULE!$B$5:$O$143,D869,FALSE))","v":",,5,Deepwater Green"},79,5,10]
[{"$f":"\",,\"&C870&\",\"&IF(VLOOKUP(B870,SCHEDULE!$B$5:$O$143,D870,FALSE)=\" \",\",\",VLOOKUP(B870,SCHEDULE!$B$5:$O$143,D870,FALSE))","v":",,6,Hunter River Dragons"},79,6,11]
[{"$f":"\",,\"&C871&\",\"&IF(VLOOKUP(B871,SCHEDULE!$B$5:$O$143,D871,FALSE)=\" \",\",\",VLOOKUP(B871,SCHEDULE!$B$5:$O$143,D871,FALSE))","v":",,7,Gragons Afloat Bendigo"},79,7,12]
[{"$f":"\",,\"&C872&\",\"&IF(VLOOKUP(B872,SCHEDULE!$B$5:$O$143,D872,FALSE)=\" \",\",\",VLOOKUP(B872,SCHEDULE!$B$5:$O$143,D872,FALSE))","v":",,8,,"},79,8,13]
[{"$f":"\",,\"&C873&\",\"&IF(VLOOKUP(B873,SCHEDULE!$B$5:$O$143,D873,FALSE)=\" \",\",\",VLOOKUP(B873,SCHEDULE!$B$5:$O$143,D873,FALSE))","v":",,9,,"},79,9,14]
[]
[{"$f":"$A$2&\",\"&$A$3+100&\",\"&B875&\",Race\"&B875&\" - \"&VLOOKUP(B875,SCHEDULE!$B$5:$C$143,2,FALSE)","v":"2023,1410,80,Race80 - Senior B Open 20"},{"$f":"B864+1","v":80}]
[{"$f":"\",,\"&C876&\",\"&IF(VLOOKUP(B876,SCHEDULE!$B$5:$O$143,D876,FALSE)=\" \",\",\",VLOOKUP(B876,SCHEDULE!$B$5:$O$143,D876,FALSE))","v":",,1,Southern Warriors"},{"$f":"B875","v":80},1,6]
[{"$f":"\",,\"&C877&\",\"&IF(VLOOKUP(B877,SCHEDULE!$B$5:$O$143,D877,FALSE)=\" \",\",\",VLOOKUP(B877,SCHEDULE!$B$5:$O$143,D877,FALSE))","v":",,2,Deepwater"},{"$f":"B876","v":80},2,7]
[{"$f":"\",,\"&C878&\",\"&IF(VLOOKUP(B878,SCHEDULE!$B$5:$O$143,D878,FALSE)=\" \",\",\",VLOOKUP(B878,SCHEDULE!$B$5:$O$143,D878,FALSE))","v":",,3,Outback Dragons"},80,3,8]
[{"$f":"\",,\"&C879&\",\"&IF(VLOOKUP(B879,SCHEDULE!$B$5:$O$143,D879,FALSE)=\" \",\",\",VLOOKUP(B879,SCHEDULE!$B$5:$O$143,D879,FALSE))","v":",,4,Newcastle Dragon Hunters Purple"},80,4,9]
[{"$f":"\",,\"&C880&\",\"&IF(VLOOKUP(B880,SCHEDULE!$B$5:$O$143,D880,FALSE)=\" \",\",\",VLOOKUP(B880,SCHEDULE!$B$5:$O$143,D880,FALSE))","v":",,5,Motley Crew"},80,5,10]
[{"$f":"\",,\"&C881&\",\"&IF(VLOOKUP(B881,SCHEDULE!$B$5:$O$143,D881,FALSE)=\" \",\",\",VLOOKUP(B881,SCHEDULE!$B$5:$O$143,D881,FALSE))","v":",,6,,"},80,6,11]
[{"$f":"\",,\"&C882&\",\"&IF(VLOOKUP(B882,SCHEDULE!$B$5:$O$143,D882,FALSE)=\" \",\",\",VLOOKUP(B882,SCHEDULE!$B$5:$O$143,D882,FALSE))","v":",,7,,"},80,7,12]
[{"$f":"\",,\"&C883&\",\"&IF(VLOOKUP(B883,SCHEDULE!$B$5:$O$143,D883,FALSE)=\" \",\",\",VLOOKUP(B883,SCHEDULE!$B$5:$O$143,D883,FALSE))","v":",,8,,"},80,8,13]
[{"$f":"\",,\"&C884&\",\"&IF(VLOOKUP(B884,SCHEDULE!$B$5:$O$143,D884,FALSE)=\" \",\",\",VLOOKUP(B884,SCHEDULE!$B$5:$O$143,D884,FALSE))","v":",,9,,"},80,9,14]
[]
[{"$f":"$A$2&\",\"&$A$3+100&\",\"&B886&\",Race\"&B886&\" - \"&VLOOKUP(B886,SCHEDULE!$B$5:$C$143,2,FALSE)","v":"2023,1410,81,Race81 - Senior B Open 20"},{"$f":"B875+1","v":81}]
[{"$f":"\",,\"&C887&\",\"&IF(VLOOKUP(B887,SCHEDULE!$B$5:$O$143,D887,FALSE)=\" \",\",\",VLOOKUP(B887,SCHEDULE!$B$5:$O$143,D887,FALSE))","v":",,1,Kombo Dragons"},{"$f":"B886","v":81},1,6]
[{"$f":"\",,\"&C888&\",\"&IF(VLOOKUP(B888,SCHEDULE!$B$5:$O$143,D888,FALSE)=\" \",\",\",VLOOKUP(B888,SCHEDULE!$B$5:$O$143,D888,FALSE))","v":",,2,Gippsland United"},{"$f":"B887","v":81},2,7]
[{"$f":"\",,\"&C889&\",\"&IF(VLOOKUP(B889,SCHEDULE!$B$5:$O$143,D889,FALSE)=\" \",\",\",VLOOKUP(B889,SCHEDULE!$B$5:$O$143,D889,FALSE))","v":",,3,Hunter River Dragons"},81,3,8]
[{"$f":"\",,\"&C890&\",\"&IF(VLOOKUP(B890,SCHEDULE!$B$5:$O$143,D890,FALSE)=\" \",\",\",VLOOKUP(B890,SCHEDULE!$B$5:$O$143,D890,FALSE))","v":",,4,Gypsy Dragons"},81,4,9]
[{"$f":"\",,\"&C891&\",\"&IF(VLOOKUP(B891,SCHEDULE!$B$5:$O$143,D891,FALSE)=\" \",\",\",VLOOKUP(B891,SCHEDULE!$B$5:$O$143,D891,FALSE))","v":",,5,Newcastle Dsragon Hunters Red"},81,5,10]
[{"$f":"\",,\"&C892&\",\"&IF(VLOOKUP(B892,SCHEDULE!$B$5:$O$143,D892,FALSE)=\" \",\",\",VLOOKUP(B892,SCHEDULE!$B$5:$O$143,D892,FALSE))","v":",,6,,"},81,6,11]
[{"$f":"\",,\"&C893&\",\"&IF(VLOOKUP(B893,SCHEDULE!$B$5:$O$143,D893,FALSE)=\" \",\",\",VLOOKUP(B893,SCHEDULE!$B$5:$O$143,D893,FALSE))","v":",,7,,"},81,7,12]
[{"$f":"\",,\"&C894&\",\"&IF(VLOOKUP(B894,SCHEDULE!$B$5:$O$143,D894,FALSE)=\" \",\",\",VLOOKUP(B894,SCHEDULE!$B$5:$O$143,D894,FALSE))","v":",,8,,"},81,8,13]
[{"$f":"\",,\"&C895&\",\"&IF(VLOOKUP(B895,SCHEDULE!$B$5:$O$143,D895,FALSE)=\" \",\",\",VLOOKUP(B895,SCHEDULE!$B$5:$O$143,D895,FALSE))","v":",,9,,"},81,9,14]
[]
[{"$f":"$A$2&\",\"&$A$3+100&\",\"&B897&\",Race\"&B897&\" - \"&VLOOKUP(B897,SCHEDULE!$B$5:$C$143,2,FALSE)","v":"2023,1410,82,Race82 - Senior A Women 10"},{"$f":"B886+1","v":82}]
[{"$f":"\",,\"&C898&\",\"&IF(VLOOKUP(B898,SCHEDULE!$B$5:$O$143,D898,FALSE)=\" \",\",\",VLOOKUP(B898,SCHEDULE!$B$5:$O$143,D898,FALSE))","v":",,1,Sada Sonix"},{"$f":"B897","v":82},1,6]
[{"$f":"\",,\"&C899&\",\"&IF(VLOOKUP(B899,SCHEDULE!$B$5:$O$143,D899,FALSE)=\" \",\",\",VLOOKUP(B899,SCHEDULE!$B$5:$O$143,D899,FALSE))","v":",,2,Dragonfire"},{"$f":"B898","v":82},2,7]
[{"$f":"\",,\"&C900&\",\"&IF(VLOOKUP(B900,SCHEDULE!$B$5:$O$143,D900,FALSE)=\" \",\",\",VLOOKUP(B900,SCHEDULE!$B$5:$O$143,D900,FALSE))","v":",,3,Southern Warriors"},82,3,8]
[{"$f":"\",,\"&C901&\",\"&IF(VLOOKUP(B901,SCHEDULE!$B$5:$O$143,D901,FALSE)=\" \",\",\",VLOOKUP(B901,SCHEDULE!$B$5:$O$143,D901,FALSE))","v":",,4,Pink Dragons"},82,4,9]
[{"$f":"\",,\"&C902&\",\"&IF(VLOOKUP(B902,SCHEDULE!$B$5:$O$143,D902,FALSE)=\" \",\",\",VLOOKUP(B902,SCHEDULE!$B$5:$O$143,D902,FALSE))","v":",,5,Powerblades"},82,5,10]
[{"$f":"\",,\"&C903&\",\"&IF(VLOOKUP(B903,SCHEDULE!$B$5:$O$143,D903,FALSE)=\" \",\",\",VLOOKUP(B903,SCHEDULE!$B$5:$O$143,D903,FALSE))","v":",,6,Newcastle Dragon Hunters"},82,6,11]
[{"$f":"\",,\"&C904&\",\"&IF(VLOOKUP(B904,SCHEDULE!$B$5:$O$143,D904,FALSE)=\" \",\",\",VLOOKUP(B904,SCHEDULE!$B$5:$O$143,D904,FALSE))","v":",,7,Mildura"},82,7,12]
[{"$f":"\",,\"&C905&\",\"&IF(VLOOKUP(B905,SCHEDULE!$B$5:$O$143,D905,FALSE)=\" \",\",\",VLOOKUP(B905,SCHEDULE!$B$5:$O$143,D905,FALSE))","v":",,8,,"},82,8,13]
[{"$f":"\",,\"&C906&\",\"&IF(VLOOKUP(B906,SCHEDULE!$B$5:$O$143,D906,FALSE)=\" \",\",\",VLOOKUP(B906,SCHEDULE!$B$5:$O$143,D906,FALSE))","v":",,9,,"},82,9,14]
[]
[{"$f":"$A$2&\",\"&$A$3+100&\",\"&B908&\",Race\"&B908&\" - \"&VLOOKUP(B908,SCHEDULE!$B$5:$C$143,2,FALSE)","v":"2023,1410,83,Race83 - Senior A Women 10"},{"$f":"B897+1","v":83}]
[{"$f":"\",,\"&C909&\",\"&IF(VLOOKUP(B909,SCHEDULE!$B$5:$O$143,D909,FALSE)=\" \",\",\",VLOOKUP(B909,SCHEDULE!$B$5:$O$143,D909,FALSE))","v":",,1,Kombo Dragons Purple"},{"$f":"B908","v":83},1,6]
[{"$f":"\",,\"&C910&\",\"&IF(VLOOKUP(B910,SCHEDULE!$B$5:$O$143,D910,FALSE)=\" \",\",\",VLOOKUP(B910,SCHEDULE!$B$5:$O$143,D910,FALSE))","v":",,2,Peninsula Dragonflys"},{"$f":"B909","v":83},2,7]
[{"$f":"\",,\"&C911&\",\"&IF(VLOOKUP(B911,SCHEDULE!$B$5:$O$143,D911,FALSE)=\" \",\",\",VLOOKUP(B911,SCHEDULE!$B$5:$O$143,D911,FALSE))","v":",,3,Golden Dragons"},83,3,8]
[{"$f":"\",,\"&C912&\",\"&IF(VLOOKUP(B912,SCHEDULE!$B$5:$O$143,D912,FALSE)=\" \",\",\",VLOOKUP(B912,SCHEDULE!$B$5:$O$143,D912,FALSE))","v":",,4,Hunter River Dragons"},83,4,9]
[{"$f":"\",,\"&C913&\",\"&IF(VLOOKUP(B913,SCHEDULE!$B$5:$O$143,D913,FALSE)=\" \",\",\",VLOOKUP(B913,SCHEDULE!$B$5:$O$143,D913,FALSE))","v":",,5,FNC"},83,5,10]
[{"$f":"\",,\"&C914&\",\"&IF(VLOOKUP(B914,SCHEDULE!$B$5:$O$143,D914,FALSE)=\" \",\",\",VLOOKUP(B914,SCHEDULE!$B$5:$O$143,D914,FALSE))","v":",,6,Dragons Abreast Adelaide"},83,6,11]
[{"$f":"\",,\"&C915&\",\"&IF(VLOOKUP(B915,SCHEDULE!$B$5:$O$143,D915,FALSE)=\" \",\",\",VLOOKUP(B915,SCHEDULE!$B$5:$O$143,D915,FALSE))","v":",,7,,"},83,7,12]
[{"$f":"\",,\"&C916&\",\"&IF(VLOOKUP(B916,SCHEDULE!$B$5:$O$143,D916,FALSE)=\" \",\",\",VLOOKUP(B916,SCHEDULE!$B$5:$O$143,D916,FALSE))","v":",,8,,"},83,8,13]
[{"$f":"\",,\"&C917&\",\"&IF(VLOOKUP(B917,SCHEDULE!$B$5:$O$143,D917,FALSE)=\" \",\",\",VLOOKUP(B917,SCHEDULE!$B$5:$O$143,D917,FALSE))","v":",,9,,"},83,9,14]
[]
[{"$f":"$A$2&\",\"&$A$3+100&\",\"&B919&\",Race\"&B919&\" - \"&VLOOKUP(B919,SCHEDULE!$B$5:$C$143,2,FALSE)","v":"2023,1410,84,Race84 - Senior A Women 10"},{"$f":"B908+1","v":84}]
[{"$f":"\",,\"&C920&\",\"&IF(VLOOKUP(B920,SCHEDULE!$B$5:$O$143,D920,FALSE)=\" \",\",\",VLOOKUP(B920,SCHEDULE!$B$5:$O$143,D920,FALSE))","v":",,1,Goolwa River Dragons"},{"$f":"B919","v":84},1,6]
[{"$f":"\",,\"&C921&\",\"&IF(VLOOKUP(B921,SCHEDULE!$B$5:$O$143,D921,FALSE)=\" \",\",\",VLOOKUP(B921,SCHEDULE!$B$5:$O$143,D921,FALSE))","v":",,2,Diamond Phoenix"},{"$f":"B920","v":84},2,7]
[{"$f":"\",,\"&C922&\",\"&IF(VLOOKUP(B922,SCHEDULE!$B$5:$O$143,D922,FALSE)=\" \",\",\",VLOOKUP(B922,SCHEDULE!$B$5:$O$143,D922,FALSE))","v":",,3,Black Sea Dragons"},84,3,8]
[{"$f":"\",,\"&C923&\",\"&IF(VLOOKUP(B923,SCHEDULE!$B$5:$O$143,D923,FALSE)=\" \",\",\",VLOOKUP(B923,SCHEDULE!$B$5:$O$143,D923,FALSE))","v":",,4,Rainbow Dragons"},84,4,9]
[{"$f":"\",,\"&C924&\",\"&IF(VLOOKUP(B924,SCHEDULE!$B$5:$O$143,D924,FALSE)=\" \",\",\",VLOOKUP(B924,SCHEDULE!$B$5:$O$143,D924,FALSE))","v":",,5,Gippsland United"},84,5,10]
[{"$f":"\",,\"&C925&\",\"&IF(VLOOKUP(B925,SCHEDULE!$B$5:$O$143,D925,FALSE)=\" \",\",\",VLOOKUP(B925,SCHEDULE!$B$5:$O$143,D925,FALSE))","v":",,6,Deepwater"},84,6,11]
[{"$f":"\",,\"&C926&\",\"&IF(VLOOKUP(B926,SCHEDULE!$B$5:$O$143,D926,FALSE)=\" \",\",\",VLOOKUP(B926,SCHEDULE!$B$5:$O$143,D926,FALSE))","v":",,7,Kombo Dragons Black"},84,7,12]
[{"$f":"\",,\"&C927&\",\"&IF(VLOOKUP(B927,SCHEDULE!$B$5:$O$143,D927,FALSE)=\" \",\",\",VLOOKUP(B927,SCHEDULE!$B$5:$O$143,D927,FALSE))","v":",,8,,"},84,8,13]
[{"$f":"\",,\"&C928&\",\"&IF(VLOOKUP(B928,SCHEDULE!$B$5:$O$143,D928,FALSE)=\" \",\",\",VLOOKUP(B928,SCHEDULE!$B$5:$O$143,D928,FALSE))","v":",,9,,"},84,9,14]
[]
[{"$f":"$A$2&\",\"&$A$3+100&\",\"&B930&\",Race\"&B930&\" - \"&VLOOKUP(B930,SCHEDULE!$B$5:$C$143,2,FALSE)","v":"2023,1410,85,Race85 - Senior A Open 10"},{"$f":"B919+1","v":85}]
[{"$f":"\",,\"&C931&\",\"&IF(VLOOKUP(B931,SCHEDULE!$B$5:$O$143,D931,FALSE)=\" \",\",\",VLOOKUP(B931,SCHEDULE!$B$5:$O$143,D931,FALSE))","v":",,1,Pink Dragons"},{"$f":"B930","v":85},1,6]
[{"$f":"\",,\"&C932&\",\"&IF(VLOOKUP(B932,SCHEDULE!$B$5:$O$143,D932,FALSE)=\" \",\",\",VLOOKUP(B932,SCHEDULE!$B$5:$O$143,D932,FALSE))","v":",,2,Mildura"},{"$f":"B931","v":85},2,7]
[{"$f":"\",,\"&C933&\",\"&IF(VLOOKUP(B933,SCHEDULE!$B$5:$O$143,D933,FALSE)=\" \",\",\",VLOOKUP(B933,SCHEDULE!$B$5:$O$143,D933,FALSE))","v":",,3,Goolwa River Dragons"},85,3,8]
[{"$f":"\",,\"&C934&\",\"&IF(VLOOKUP(B934,SCHEDULE!$B$5:$O$143,D934,FALSE)=\" \",\",\",VLOOKUP(B934,SCHEDULE!$B$5:$O$143,D934,FALSE))","v":",,4,Black Sea Dragons"},85,4,9]
[{"$f":"\",,\"&C935&\",\"&IF(VLOOKUP(B935,SCHEDULE!$B$5:$O$143,D935,FALSE)=\" \",\",\",VLOOKUP(B935,SCHEDULE!$B$5:$O$143,D935,FALSE))","v":",,5,Gippsland United"},85,5,10]
[{"$f":"\",,\"&C936&\",\"&IF(VLOOKUP(B936,SCHEDULE!$B$5:$O$143,D936,FALSE)=\" \",\",\",VLOOKUP(B936,SCHEDULE!$B$5:$O$143,D936,FALSE))","v":",,6,,"},85,6,11]
[{"$f":"\",,\"&C937&\",\"&IF(VLOOKUP(B937,SCHEDULE!$B$5:$O$143,D937,FALSE)=\" \",\",\",VLOOKUP(B937,SCHEDULE!$B$5:$O$143,D937,FALSE))","v":",,7,,"},85,7,12]
[{"$f":"\",,\"&C938&\",\"&IF(VLOOKUP(B938,SCHEDULE!$B$5:$O$143,D938,FALSE)=\" \",\",\",VLOOKUP(B938,SCHEDULE!$B$5:$O$143,D938,FALSE))","v":",,8,,"},85,8,13]
[{"$f":"\",,\"&C939&\",\"&IF(VLOOKUP(B939,SCHEDULE!$B$5:$O$143,D939,FALSE)=\" \",\",\",VLOOKUP(B939,SCHEDULE!$B$5:$O$143,D939,FALSE))","v":",,9,,"},85,9,14]
[]
[{"$f":"$A$2&\",\"&$A$3+100&\",\"&B941&\",Race\"&B941&\" - \"&VLOOKUP(B941,SCHEDULE!$B$5:$C$143,2,FALSE)","v":"2023,1410,86,Race86 - Senior A Open 10"},{"$f":"B930+1","v":86}]
[{"$f":"\",,\"&C942&\",\"&IF(VLOOKUP(B942,SCHEDULE!$B$5:$O$143,D942,FALSE)=\" \",\",\",VLOOKUP(B942,SCHEDULE!$B$5:$O$143,D942,FALSE))","v":",,1,Southern Warriors"},{"$f":"B941","v":86},1,6]
[{"$f":"\",,\"&C943&\",\"&IF(VLOOKUP(B943,SCHEDULE!$B$5:$O$143,D943,FALSE)=\" \",\",\",VLOOKUP(B943,SCHEDULE!$B$5:$O$143,D943,FALSE))","v":",,2,Kombo Dragons Purple"},{"$f":"B942","v":86},2,7]
[{"$f":"\",,\"&C944&\",\"&IF(VLOOKUP(B944,SCHEDULE!$B$5:$O$143,D944,FALSE)=\" \",\",\",VLOOKUP(B944,SCHEDULE!$B$5:$O$143,D944,FALSE))","v":",,3,Kombo Dragons Black"},86,3,8]
[{"$f":"\",,\"&C945&\",\"&IF(VLOOKUP(B945,SCHEDULE!$B$5:$O$143,D945,FALSE)=\" \",\",\",VLOOKUP(B945,SCHEDULE!$B$5:$O$143,D945,FALSE))","v":",,4,FNC"},86,4,9]
[{"$f":"\",,\"&C946&\",\"&IF(VLOOKUP(B946,SCHEDULE!$B$5:$O$143,D946,FALSE)=\" \",\",\",VLOOKUP(B946,SCHEDULE!$B$5:$O$143,D946,FALSE))","v":",,5,Diamond Phoenix"},86,5,10]
[{"$f":"\",,\"&C947&\",\"&IF(VLOOKUP(B947,SCHEDULE!$B$5:$O$143,D947,FALSE)=\" \",\",\",VLOOKUP(B947,SCHEDULE!$B$5:$O$143,D947,FALSE))","v":",,6,,"},86,6,11]
[{"$f":"\",,\"&C948&\",\"&IF(VLOOKUP(B948,SCHEDULE!$B$5:$O$143,D948,FALSE)=\" \",\",\",VLOOKUP(B948,SCHEDULE!$B$5:$O$143,D948,FALSE))","v":",,7,,"},86,7,12]
[{"$f":"\",,\"&C949&\",\"&IF(VLOOKUP(B949,SCHEDULE!$B$5:$O$143,D949,FALSE)=\" \",\",\",VLOOKUP(B949,SCHEDULE!$B$5:$O$143,D949,FALSE))","v":",,8,,"},86,8,13]
[{"$f":"\",,\"&C950&\",\"&IF(VLOOKUP(B950,SCHEDULE!$B$5:$O$143,D950,FALSE)=\" \",\",\",VLOOKUP(B950,SCHEDULE!$B$5:$O$143,D950,FALSE))","v":",,9,,"},86,9,14]
[]
[{"$f":"$A$2&\",\"&$A$3+100&\",\"&B952&\",Race\"&B952&\" - \"&VLOOKUP(B952,SCHEDULE!$B$5:$C$143,2,FALSE)","v":"2023,1410,87,Race87 - Senior A Open 10"},{"$f":"B941+1","v":87}]
[{"$f":"\",,\"&C953&\",\"&IF(VLOOKUP(B953,SCHEDULE!$B$5:$O$143,D953,FALSE)=\" \",\",\",VLOOKUP(B953,SCHEDULE!$B$5:$O$143,D953,FALSE))","v":",,1,Kombo Dragons Green"},{"$f":"B952","v":87},1,6]
[{"$f":"\",,\"&C954&\",\"&IF(VLOOKUP(B954,SCHEDULE!$B$5:$O$143,D954,FALSE)=\" \",\",\",VLOOKUP(B954,SCHEDULE!$B$5:$O$143,D954,FALSE))","v":",,2,Deepwater Dragons"},{"$f":"B953","v":87},2,7]
[{"$f":"\",,\"&C955&\",\"&IF(VLOOKUP(B955,SCHEDULE!$B$5:$O$143,D955,FALSE)=\" \",\",\",VLOOKUP(B955,SCHEDULE!$B$5:$O$143,D955,FALSE))","v":",,3,Hunter River Dragons"},87,3,8]
[{"$f":"\",,\"&C956&\",\"&IF(VLOOKUP(B956,SCHEDULE!$B$5:$O$143,D956,FALSE)=\" \",\",\",VLOOKUP(B956,SCHEDULE!$B$5:$O$143,D956,FALSE))","v":",,4,Dragonfire"},87,4,9]
[{"$f":"\",,\"&C957&\",\"&IF(VLOOKUP(B957,SCHEDULE!$B$5:$O$143,D957,FALSE)=\" \",\",\",VLOOKUP(B957,SCHEDULE!$B$5:$O$143,D957,FALSE))","v":",,5,Broadwater Dragons"},87,5,10]
[{"$f":"\",,\"&C958&\",\"&IF(VLOOKUP(B958,SCHEDULE!$B$5:$O$143,D958,FALSE)=\" \",\",\",VLOOKUP(B958,SCHEDULE!$B$5:$O$143,D958,FALSE))","v":",,6,,"},87,6,11]
[{"$f":"\",,\"&C959&\",\"&IF(VLOOKUP(B959,SCHEDULE!$B$5:$O$143,D959,FALSE)=\" \",\",\",VLOOKUP(B959,SCHEDULE!$B$5:$O$143,D959,FALSE))","v":",,7,,"},87,7,12]
[{"$f":"\",,\"&C960&\",\"&IF(VLOOKUP(B960,SCHEDULE!$B$5:$O$143,D960,FALSE)=\" \",\",\",VLOOKUP(B960,SCHEDULE!$B$5:$O$143,D960,FALSE))","v":",,8,,"},87,8,13]
[{"$f":"\",,\"&C961&\",\"&IF(VLOOKUP(B961,SCHEDULE!$B$5:$O$143,D961,FALSE)=\" \",\",\",VLOOKUP(B961,SCHEDULE!$B$5:$O$143,D961,FALSE))","v":",,9,,"},87,9,14]
[]
[{"$f":"$A$2&\",\"&$A$3+100&\",\"&B963&\",Race\"&B963&\" - \"&VLOOKUP(B963,SCHEDULE!$B$5:$C$143,2,FALSE)","v":"2023,1410,88,Race88 - Senior A Women 20"},{"$f":"B952+1","v":88}]
[{"$f":"\",,\"&C964&\",\"&IF(VLOOKUP(B964,SCHEDULE!$B$5:$O$143,D964,FALSE)=\" \",\",\",VLOOKUP(B964,SCHEDULE!$B$5:$O$143,D964,FALSE))","v":",,1,Pink Dragons"},{"$f":"B963","v":88},1,6]
[{"$f":"\",,\"&C965&\",\"&IF(VLOOKUP(B965,SCHEDULE!$B$5:$O$143,D965,FALSE)=\" \",\",\",VLOOKUP(B965,SCHEDULE!$B$5:$O$143,D965,FALSE))","v":",,2,Golden Dragons"},{"$f":"B964","v":88},2,7]
[{"$f":"\",,\"&C966&\",\"&IF(VLOOKUP(B966,SCHEDULE!$B$5:$O$143,D966,FALSE)=\" \",\",\",VLOOKUP(B966,SCHEDULE!$B$5:$O$143,D966,FALSE))","v":",,3,Powerblades"},88,3,8]
[{"$f":"\",,\"&C967&\",\"&IF(VLOOKUP(B967,SCHEDULE!$B$5:$O$143,D967,FALSE)=\" \",\",\",VLOOKUP(B967,SCHEDULE!$B$5:$O$143,D967,FALSE))","v":",,4,Peninsula Dragonflys"},88,4,9]
[{"$f":"\",,\"&C968&\",\"&IF(VLOOKUP(B968,SCHEDULE!$B$5:$O$143,D968,FALSE)=\" \",\",\",VLOOKUP(B968,SCHEDULE!$B$5:$O$143,D968,FALSE))","v":",,5,SADA Sonix"},88,5,10]
[{"$f":"\",,\"&C969&\",\"&IF(VLOOKUP(B969,SCHEDULE!$B$5:$O$143,D969,FALSE)=\" \",\",\",VLOOKUP(B969,SCHEDULE!$B$5:$O$143,D969,FALSE))","v":",,6,,"},88,6,11]
[{"$f":"\",,\"&C970&\",\"&IF(VLOOKUP(B970,SCHEDULE!$B$5:$O$143,D970,FALSE)=\" \",\",\",VLOOKUP(B970,SCHEDULE!$B$5:$O$143,D970,FALSE))","v":",,7,,"},88,7,12]
[{"$f":"\",,\"&C971&\",\"&IF(VLOOKUP(B971,SCHEDULE!$B$5:$O$143,D971,FALSE)=\" \",\",\",VLOOKUP(B971,SCHEDULE!$B$5:$O$143,D971,FALSE))","v":",,8,,"},88,8,13]
[{"$f":"\",,\"&C972&\",\"&IF(VLOOKUP(B972,SCHEDULE!$B$5:$O$143,D972,FALSE)=\" \",\",\",VLOOKUP(B972,SCHEDULE!$B$5:$O$143,D972,FALSE))","v":",,9,,"},88,9,14]
[]
[{"$f":"$A$2&\",\"&$A$3+100&\",\"&B974&\",Race\"&B974&\" - \"&VLOOKUP(B974,SCHEDULE!$B$5:$C$143,2,FALSE)","v":"2023,1410,89,Race89 - Senior A Women 20"},{"$f":"B963+1","v":89}]
[{"$f":"\",,\"&C975&\",\"&IF(VLOOKUP(B975,SCHEDULE!$B$5:$O$143,D975,FALSE)=\" \",\",\",VLOOKUP(B975,SCHEDULE!$B$5:$O$143,D975,FALSE))","v":",,1,Black Sea Dragons"},{"$f":"B974","v":89},1,6]
[{"$f":"\",,\"&C976&\",\"&IF(VLOOKUP(B976,SCHEDULE!$B$5:$O$143,D976,FALSE)=\" \",\",\",VLOOKUP(B976,SCHEDULE!$B$5:$O$143,D976,FALSE))","v":",,2,Southern Warriors"},{"$f":"B975","v":89},2,7]
[{"$f":"\",,\"&C977&\",\"&IF(VLOOKUP(B977,SCHEDULE!$B$5:$O$143,D977,FALSE)=\" \",\",\",VLOOKUP(B977,SCHEDULE!$B$5:$O$143,D977,FALSE))","v":",,3,Motley Crew"},89,3,8]
[{"$f":"\",,\"&C978&\",\"&IF(VLOOKUP(B978,SCHEDULE!$B$5:$O$143,D978,FALSE)=\" \",\",\",VLOOKUP(B978,SCHEDULE!$B$5:$O$143,D978,FALSE))","v":",,4,Gippsland United"},89,4,9]
[{"$f":"\",,\"&C979&\",\"&IF(VLOOKUP(B979,SCHEDULE!$B$5:$O$143,D979,FALSE)=\" \",\",\",VLOOKUP(B979,SCHEDULE!$B$5:$O$143,D979,FALSE))","v":",,5,Kombo Dragons Black"},89,5,10]
[{"$f":"\",,\"&C980&\",\"&IF(VLOOKUP(B980,SCHEDULE!$B$5:$O$143,D980,FALSE)=\" \",\",\",VLOOKUP(B980,SCHEDULE!$B$5:$O$143,D980,FALSE))","v":",,6,,"},89,6,11]
[{"$f":"\",,\"&C981&\",\"&IF(VLOOKUP(B981,SCHEDULE!$B$5:$O$143,D981,FALSE)=\" \",\",\",VLOOKUP(B981,SCHEDULE!$B$5:$O$143,D981,FALSE))","v":",,7,,"},89,7,12]
[{"$f":"\",,\"&C982&\",\"&IF(VLOOKUP(B982,SCHEDULE!$B$5:$O$143,D982,FALSE)=\" \",\",\",VLOOKUP(B982,SCHEDULE!$B$5:$O$143,D982,FALSE))","v":",,8,,"},89,8,13]
[{"$f":"\",,\"&C983&\",\"&IF(VLOOKUP(B983,SCHEDULE!$B$5:$O$143,D983,FALSE)=\" \",\",\",VLOOKUP(B983,SCHEDULE!$B$5:$O$143,D983,FALSE))","v":",,9,,"},89,9,14]
[]
[{"$f":"$A$2&\",\"&$A$3+100&\",\"&B985&\",Race\"&B985&\" - \"&VLOOKUP(B985,SCHEDULE!$B$5:$C$143,2,FALSE)","v":"2023,1410,90,Race90 - Senior A Women 20"},{"$f":"B974+1","v":90}]
[{"$f":"\",,\"&C986&\",\"&IF(VLOOKUP(B986,SCHEDULE!$B$5:$O$143,D986,FALSE)=\" \",\",\",VLOOKUP(B986,SCHEDULE!$B$5:$O$143,D986,FALSE))","v":",,1,Broadwater Dragons"},{"$f":"B985","v":90},1,6]
[{"$f":"\",,\"&C987&\",\"&IF(VLOOKUP(B987,SCHEDULE!$B$5:$O$143,D987,FALSE)=\" \",\",\",VLOOKUP(B987,SCHEDULE!$B$5:$O$143,D987,FALSE))","v":",,2,Hunter River Dragons"},{"$f":"B986","v":90},2,7]
[{"$f":"\",,\"&C988&\",\"&IF(VLOOKUP(B988,SCHEDULE!$B$5:$O$143,D988,FALSE)=\" \",\",\",VLOOKUP(B988,SCHEDULE!$B$5:$O$143,D988,FALSE))","v":",,3,Newcastle Dragon Hunters"},90,3,8]
[{"$f":"\",,\"&C989&\",\"&IF(VLOOKUP(B989,SCHEDULE!$B$5:$O$143,D989,FALSE)=\" \",\",\",VLOOKUP(B989,SCHEDULE!$B$5:$O$143,D989,FALSE))","v":",,4,Deepwater"},90,4,9]
[{"$f":"\",,\"&C990&\",\"&IF(VLOOKUP(B990,SCHEDULE!$B$5:$O$143,D990,FALSE)=\" \",\",\",VLOOKUP(B990,SCHEDULE!$B$5:$O$143,D990,FALSE))","v":",,5,Dragons Abreast Adelaide"},90,5,10]
[{"$f":"\",,\"&C991&\",\"&IF(VLOOKUP(B991,SCHEDULE!$B$5:$O$143,D991,FALSE)=\" \",\",\",VLOOKUP(B991,SCHEDULE!$B$5:$O$143,D991,FALSE))","v":",,6,,"},90,6,11]
[{"$f":"\",,\"&C992&\",\"&IF(VLOOKUP(B992,SCHEDULE!$B$5:$O$143,D992,FALSE)=\" \",\",\",VLOOKUP(B992,SCHEDULE!$B$5:$O$143,D992,FALSE))","v":",,7,,"},90,7,12]
[{"$f":"\",,\"&C993&\",\"&IF(VLOOKUP(B993,SCHEDULE!$B$5:$O$143,D993,FALSE)=\" \",\",\",VLOOKUP(B993,SCHEDULE!$B$5:$O$143,D993,FALSE))","v":",,8,,"},90,8,13]
[{"$f":"\",,\"&C994&\",\"&IF(VLOOKUP(B994,SCHEDULE!$B$5:$O$143,D994,FALSE)=\" \",\",\",VLOOKUP(B994,SCHEDULE!$B$5:$O$143,D994,FALSE))","v":",,9,,"},90,9,14]
[]
[{"$f":"$A$2&\",\"&$A$3+100&\",\"&B996&\",Race\"&B996&\" - \"&VLOOKUP(B996,SCHEDULE!$B$5:$C$143,2,FALSE)","v":"2023,1410,91,Race91 - Senior A Open 20"},{"$f":"B985+1","v":91}]
[{"$f":"\",,\"&C997&\",\"&IF(VLOOKUP(B997,SCHEDULE!$B$5:$O$143,D997,FALSE)=\" \",\",\",VLOOKUP(B997,SCHEDULE!$B$5:$O$143,D997,FALSE))","v":",,1,FNC"},{"$f":"B996","v":91},1,6]
[{"$f":"\",,\"&C998&\",\"&IF(VLOOKUP(B998,SCHEDULE!$B$5:$O$143,D998,FALSE)=\" \",\",\",VLOOKUP(B998,SCHEDULE!$B$5:$O$143,D998,FALSE))","v":",,2,Kombo Dragons Purple"},{"$f":"B997","v":91},2,7]
[{"$f":"\",,\"&C999&\",\"&IF(VLOOKUP(B999,SCHEDULE!$B$5:$O$143,D999,FALSE)=\" \",\",\",VLOOKUP(B999,SCHEDULE!$B$5:$O$143,D999,FALSE))","v":",,3,Peninsula Dragonflys"},91,3,8]
[{"$f":"\",,\"&C1000&\",\"&IF(VLOOKUP(B1000,SCHEDULE!$B$5:$O$143,D1000,FALSE)=\" \",\",\",VLOOKUP(B1000,SCHEDULE!$B$5:$O$143,D1000,FALSE))","v":",,4,Goolwa River Dragons"},91,4,9]
[{"$f":"\",,\"&C1001&\",\"&IF(VLOOKUP(B1001,SCHEDULE!$B$5:$O$143,D1001,FALSE)=\" \",\",\",VLOOKUP(B1001,SCHEDULE!$B$5:$O$143,D1001,FALSE))","v":",,5,Southern Warriors"},91,5,10]
[{"$f":"\",,\"&C1002&\",\"&IF(VLOOKUP(B1002,SCHEDULE!$B$5:$O$143,D1002,FALSE)=\" \",\",\",VLOOKUP(B1002,SCHEDULE!$B$5:$O$143,D1002,FALSE))","v":",,6,,"},91,6,11]
[{"$f":"\",,\"&C1003&\",\"&IF(VLOOKUP(B1003,SCHEDULE!$B$5:$O$143,D1003,FALSE)=\" \",\",\",VLOOKUP(B1003,SCHEDULE!$B$5:$O$143,D1003,FALSE))","v":",,7,,"},91,7,12]
[{"$f":"\",,\"&C1004&\",\"&IF(VLOOKUP(B1004,SCHEDULE!$B$5:$O$143,D1004,FALSE)=\" \",\",\",VLOOKUP(B1004,SCHEDULE!$B$5:$O$143,D1004,FALSE))","v":",,8,,"},91,8,13]
[{"$f":"\",,\"&C1005&\",\"&IF(VLOOKUP(B1005,SCHEDULE!$B$5:$O$143,D1005,FALSE)=\" \",\",\",VLOOKUP(B1005,SCHEDULE!$B$5:$O$143,D1005,FALSE))","v":",,9,,"},91,9,14]
[]
[{"$f":"$A$2&\",\"&$A$3+100&\",\"&B1007&\",Race\"&B1007&\" - \"&VLOOKUP(B1007,SCHEDULE!$B$5:$C$143,2,FALSE)","v":"2023,1410,92,Race92 - Senior A Open 20"},{"$f":"B996+1","v":92}]
[{"$f":"\",,\"&C1008&\",\"&IF(VLOOKUP(B1008,SCHEDULE!$B$5:$O$143,D1008,FALSE)=\" \",\",\",VLOOKUP(B1008,SCHEDULE!$B$5:$O$143,D1008,FALSE))","v":",,1,Dragonfire"},{"$f":"B1007","v":92},1,6]
[{"$f":"\",,\"&C1009&\",\"&IF(VLOOKUP(B1009,SCHEDULE!$B$5:$O$143,D1009,FALSE)=\" \",\",\",VLOOKUP(B1009,SCHEDULE!$B$5:$O$143,D1009,FALSE))","v":",,2,Motley Crew"},{"$f":"B1008","v":92},2,7]
[{"$f":"\",,\"&C1010&\",\"&IF(VLOOKUP(B1010,SCHEDULE!$B$5:$O$143,D1010,FALSE)=\" \",\",\",VLOOKUP(B1010,SCHEDULE!$B$5:$O$143,D1010,FALSE))","v":",,3,Deepwater Hunter"},92,3,8]
[{"$f":"\",,\"&C1011&\",\"&IF(VLOOKUP(B1011,SCHEDULE!$B$5:$O$143,D1011,FALSE)=\" \",\",\",VLOOKUP(B1011,SCHEDULE!$B$5:$O$143,D1011,FALSE))","v":",,4,Kombo Dragons Black"},92,4,9]
[{"$f":"\",,\"&C1012&\",\"&IF(VLOOKUP(B1012,SCHEDULE!$B$5:$O$143,D1012,FALSE)=\" \",\",\",VLOOKUP(B1012,SCHEDULE!$B$5:$O$143,D1012,FALSE))","v":",,5,Gippsland United"},92,5,10]
[{"$f":"\",,\"&C1013&\",\"&IF(VLOOKUP(B1013,SCHEDULE!$B$5:$O$143,D1013,FALSE)=\" \",\",\",VLOOKUP(B1013,SCHEDULE!$B$5:$O$143,D1013,FALSE))","v":",,6,,"},92,6,11]
[{"$f":"\",,\"&C1014&\",\"&IF(VLOOKUP(B1014,SCHEDULE!$B$5:$O$143,D1014,FALSE)=\" \",\",\",VLOOKUP(B1014,SCHEDULE!$B$5:$O$143,D1014,FALSE))","v":",,7,,"},92,7,12]
[{"$f":"\",,\"&C1015&\",\"&IF(VLOOKUP(B1015,SCHEDULE!$B$5:$O$143,D1015,FALSE)=\" \",\",\",VLOOKUP(B1015,SCHEDULE!$B$5:$O$143,D1015,FALSE))","v":",,8,,"},92,8,13]
[{"$f":"\",,\"&C1016&\",\"&IF(VLOOKUP(B1016,SCHEDULE!$B$5:$O$143,D1016,FALSE)=\" \",\",\",VLOOKUP(B1016,SCHEDULE!$B$5:$O$143,D1016,FALSE))","v":",,9,,"},92,9,14]
[]
[{"$f":"$A$2&\",\"&$A$3+100&\",\"&B1018&\",Race\"&B1018&\" - \"&VLOOKUP(B1018,SCHEDULE!$B$5:$C$143,2,FALSE)","v":"2023,1410,93,Race93 - Senior C Mixed 10"},{"$f":"B1007+1","v":93}]
[{"$f":"\",,\"&C1019&\",\"&IF(VLOOKUP(B1019,SCHEDULE!$B$5:$O$143,D1019,FALSE)=\" \",\",\",VLOOKUP(B1019,SCHEDULE!$B$5:$O$143,D1019,FALSE))","v":",,1,Rainbow Dragons Teal"},{"$f":"B1018","v":93},1,6]
[{"$f":"\",,\"&C1020&\",\"&IF(VLOOKUP(B1020,SCHEDULE!$B$5:$O$143,D1020,FALSE)=\" \",\",\",VLOOKUP(B1020,SCHEDULE!$B$5:$O$143,D1020,FALSE))","v":",,2,SADA Sonix Yellow"},{"$f":"B1019","v":93},2,7]
[{"$f":"\",,\"&C1021&\",\"&IF(VLOOKUP(B1021,SCHEDULE!$B$5:$O$143,D1021,FALSE)=\" \",\",\",VLOOKUP(B1021,SCHEDULE!$B$5:$O$143,D1021,FALSE))","v":",,3,Newcastle Dragon Hunters Red"},93,3,8]
[{"$f":"\",,\"&C1022&\",\"&IF(VLOOKUP(B1022,SCHEDULE!$B$5:$O$143,D1022,FALSE)=\" \",\",\",VLOOKUP(B1022,SCHEDULE!$B$5:$O$143,D1022,FALSE))","v":",,4,Mildura"},93,4,9]
[{"$f":"\",,\"&C1023&\",\"&IF(VLOOKUP(B1023,SCHEDULE!$B$5:$O$143,D1023,FALSE)=\" \",\",\",VLOOKUP(B1023,SCHEDULE!$B$5:$O$143,D1023,FALSE))","v":",,5,Dragon Masters Red"},93,5,10]
[{"$f":"\",,\"&C1024&\",\"&IF(VLOOKUP(B1024,SCHEDULE!$B$5:$O$143,D1024,FALSE)=\" \",\",\",VLOOKUP(B1024,SCHEDULE!$B$5:$O$143,D1024,FALSE))","v":",,6,Powerblades"},93,6,11]
[{"$f":"\",,\"&C1025&\",\"&IF(VLOOKUP(B1025,SCHEDULE!$B$5:$O$143,D1025,FALSE)=\" \",\",\",VLOOKUP(B1025,SCHEDULE!$B$5:$O$143,D1025,FALSE))","v":",,7,,"},93,7,12]
[{"$f":"\",,\"&C1026&\",\"&IF(VLOOKUP(B1026,SCHEDULE!$B$5:$O$143,D1026,FALSE)=\" \",\",\",VLOOKUP(B1026,SCHEDULE!$B$5:$O$143,D1026,FALSE))","v":",,8,,"},93,8,13]
[{"$f":"\",,\"&C1027&\",\"&IF(VLOOKUP(B1027,SCHEDULE!$B$5:$O$143,D1027,FALSE)=\" \",\",\",VLOOKUP(B1027,SCHEDULE!$B$5:$O$143,D1027,FALSE))","v":",,9,,"},93,9,14]
[]
[{"$f":"$A$2&\",\"&$A$3+100&\",\"&B1029&\",Race\"&B1029&\" - \"&VLOOKUP(B1029,SCHEDULE!$B$5:$C$143,2,FALSE)","v":"2023,1410,94,Race94 - Senior C Mixed 10"},{"$f":"B1018+1","v":94}]
[{"$f":"\",,\"&C1030&\",\"&IF(VLOOKUP(B1030,SCHEDULE!$B$5:$O$143,D1030,FALSE)=\" \",\",\",VLOOKUP(B1030,SCHEDULE!$B$5:$O$143,D1030,FALSE))","v":",,1,Southern Warriors"},{"$f":"B1029","v":94},1,6]
[{"$f":"\",,\"&C1031&\",\"&IF(VLOOKUP(B1031,SCHEDULE!$B$5:$O$143,D1031,FALSE)=\" \",\",\",VLOOKUP(B1031,SCHEDULE!$B$5:$O$143,D1031,FALSE))","v":",,2,Black Sea Dragons"},{"$f":"B1030","v":94},2,7]
[{"$f":"\",,\"&C1032&\",\"&IF(VLOOKUP(B1032,SCHEDULE!$B$5:$O$143,D1032,FALSE)=\" \",\",\",VLOOKUP(B1032,SCHEDULE!$B$5:$O$143,D1032,FALSE))","v":",,3,Motley Crew"},94,3,8]
[{"$f":"\",,\"&C1033&\",\"&IF(VLOOKUP(B1033,SCHEDULE!$B$5:$O$143,D1033,FALSE)=\" \",\",\",VLOOKUP(B1033,SCHEDULE!$B$5:$O$143,D1033,FALSE))","v":",,4,Peninsula Dragonflys"},94,4,9]
[{"$f":"\",,\"&C1034&\",\"&IF(VLOOKUP(B1034,SCHEDULE!$B$5:$O$143,D1034,FALSE)=\" \",\",\",VLOOKUP(B1034,SCHEDULE!$B$5:$O$143,D1034,FALSE))","v":",,5,Gippsland United Orange"},94,5,10]
[{"$f":"\",,\"&C1035&\",\"&IF(VLOOKUP(B1035,SCHEDULE!$B$5:$O$143,D1035,FALSE)=\" \",\",\",VLOOKUP(B1035,SCHEDULE!$B$5:$O$143,D1035,FALSE))","v":",,6,Kombo Dragons Black"},94,6,11]
[{"$f":"\",,\"&C1036&\",\"&IF(VLOOKUP(B1036,SCHEDULE!$B$5:$O$143,D1036,FALSE)=\" \",\",\",VLOOKUP(B1036,SCHEDULE!$B$5:$O$143,D1036,FALSE))","v":",,7,,"},94,7,12]
[{"$f":"\",,\"&C1037&\",\"&IF(VLOOKUP(B1037,SCHEDULE!$B$5:$O$143,D1037,FALSE)=\" \",\",\",VLOOKUP(B1037,SCHEDULE!$B$5:$O$143,D1037,FALSE))","v":",,8,,"},94,8,13]
[{"$f":"\",,\"&C1038&\",\"&IF(VLOOKUP(B1038,SCHEDULE!$B$5:$O$143,D1038,FALSE)=\" \",\",\",VLOOKUP(B1038,SCHEDULE!$B$5:$O$143,D1038,FALSE))","v":",,9,,"},94,9,14]
[]
[{"$f":"$A$2&\",\"&$A$3+100&\",\"&B1040&\",Race\"&B1040&\" - \"&VLOOKUP(B1040,SCHEDULE!$B$5:$C$143,2,FALSE)","v":"2023,1410,95,Race95 - Senior C Mixed 10"},{"$f":"B1029+1","v":95}]
[{"$f":"\",,\"&C1041&\",\"&IF(VLOOKUP(B1041,SCHEDULE!$B$5:$O$143,D1041,FALSE)=\" \",\",\",VLOOKUP(B1041,SCHEDULE!$B$5:$O$143,D1041,FALSE))","v":",,1,Deepwater Dragons"},{"$f":"B1040","v":95},1,6]
[{"$f":"\",,\"&C1042&\",\"&IF(VLOOKUP(B1042,SCHEDULE!$B$5:$O$143,D1042,FALSE)=\" \",\",\",VLOOKUP(B1042,SCHEDULE!$B$5:$O$143,D1042,FALSE))","v":",,2,Kombo Dragons Purple"},{"$f":"B1041","v":95},2,7]
[{"$f":"\",,\"&C1043&\",\"&IF(VLOOKUP(B1043,SCHEDULE!$B$5:$O$143,D1043,FALSE)=\" \",\",\",VLOOKUP(B1043,SCHEDULE!$B$5:$O$143,D1043,FALSE))","v":",,3,Kangaroo Island Dragons"},95,3,8]
[{"$f":"\",,\"&C1044&\",\"&IF(VLOOKUP(B1044,SCHEDULE!$B$5:$O$143,D1044,FALSE)=\" \",\",\",VLOOKUP(B1044,SCHEDULE!$B$5:$O$143,D1044,FALSE))","v":",,4,Gippsland United Blue"},95,4,9]
[{"$f":"\",,\"&C1045&\",\"&IF(VLOOKUP(B1045,SCHEDULE!$B$5:$O$143,D1045,FALSE)=\" \",\",\",VLOOKUP(B1045,SCHEDULE!$B$5:$O$143,D1045,FALSE))","v":",,5,FNC"},95,5,10]
[{"$f":"\",,\"&C1046&\",\"&IF(VLOOKUP(B1046,SCHEDULE!$B$5:$O$143,D1046,FALSE)=\" \",\",\",VLOOKUP(B1046,SCHEDULE!$B$5:$O$143,D1046,FALSE))","v":",,6,Newcastle Dragon Hunters Purple"},95,6,11]
[{"$f":"\",,\"&C1047&\",\"&IF(VLOOKUP(B1047,SCHEDULE!$B$5:$O$143,D1047,FALSE)=\" \",\",\",VLOOKUP(B1047,SCHEDULE!$B$5:$O$143,D1047,FALSE))","v":",,7,,"},95,7,12]
[{"$f":"\",,\"&C1048&\",\"&IF(VLOOKUP(B1048,SCHEDULE!$B$5:$O$143,D1048,FALSE)=\" \",\",\",VLOOKUP(B1048,SCHEDULE!$B$5:$O$143,D1048,FALSE))","v":",,8,,"},95,8,13]
[{"$f":"\",,\"&C1049&\",\"&IF(VLOOKUP(B1049,SCHEDULE!$B$5:$O$143,D1049,FALSE)=\" \",\",\",VLOOKUP(B1049,SCHEDULE!$B$5:$O$143,D1049,FALSE))","v":",,9,,"},95,9,14]
[]
[{"$f":"$A$2&\",\"&$A$3+100&\",\"&B1051&\",Race\"&B1051&\" - \"&VLOOKUP(B1051,SCHEDULE!$B$5:$C$143,2,FALSE)","v":"2023,1410,96,Race96 - Senior C Mixed 10"},{"$f":"B1040+1","v":96}]
[{"$f":"\",,\"&C1052&\",\"&IF(VLOOKUP(B1052,SCHEDULE!$B$5:$O$143,D1052,FALSE)=\" \",\",\",VLOOKUP(B1052,SCHEDULE!$B$5:$O$143,D1052,FALSE))","v":",,1,Outback Dragons"},{"$f":"B1051","v":96},1,6]
[{"$f":"\",,\"&C1053&\",\"&IF(VLOOKUP(B1053,SCHEDULE!$B$5:$O$143,D1053,FALSE)=\" \",\",\",VLOOKUP(B1053,SCHEDULE!$B$5:$O$143,D1053,FALSE))","v":",,2,Goolwa River Dragons"},{"$f":"B1052","v":96},2,7]
[{"$f":"\",,\"&C1054&\",\"&IF(VLOOKUP(B1054,SCHEDULE!$B$5:$O$143,D1054,FALSE)=\" \",\",\",VLOOKUP(B1054,SCHEDULE!$B$5:$O$143,D1054,FALSE))","v":",,3,SADA Sonix Blue"},96,3,8]
[{"$f":"\",,\"&C1055&\",\"&IF(VLOOKUP(B1055,SCHEDULE!$B$5:$O$143,D1055,FALSE)=\" \",\",\",VLOOKUP(B1055,SCHEDULE!$B$5:$O$143,D1055,FALSE))","v":",,4,Dragon Masters Yellow"},96,4,9]
[{"$f":"\",,\"&C1056&\",\"&IF(VLOOKUP(B1056,SCHEDULE!$B$5:$O$143,D1056,FALSE)=\" \",\",\",VLOOKUP(B1056,SCHEDULE!$B$5:$O$143,D1056,FALSE))","v":",,5,Rainbow Dragons White"},96,5,10]
[{"$f":"\",,\"&C1057&\",\"&IF(VLOOKUP(B1057,SCHEDULE!$B$5:$O$143,D1057,FALSE)=\" \",\",\",VLOOKUP(B1057,SCHEDULE!$B$5:$O$143,D1057,FALSE))","v":",,6,Gypsy Dragons"},96,6,11]
[{"$f":"\",,\"&C1058&\",\"&IF(VLOOKUP(B1058,SCHEDULE!$B$5:$O$143,D1058,FALSE)=\" \",\",\",VLOOKUP(B1058,SCHEDULE!$B$5:$O$143,D1058,FALSE))","v":",,7,,"},96,7,12]
[{"$f":"\",,\"&C1059&\",\"&IF(VLOOKUP(B1059,SCHEDULE!$B$5:$O$143,D1059,FALSE)=\" \",\",\",VLOOKUP(B1059,SCHEDULE!$B$5:$O$143,D1059,FALSE))","v":",,8,,"},96,8,13]
[{"$f":"\",,\"&C1060&\",\"&IF(VLOOKUP(B1060,SCHEDULE!$B$5:$O$143,D1060,FALSE)=\" \",\",\",VLOOKUP(B1060,SCHEDULE!$B$5:$O$143,D1060,FALSE))","v":",,9,,"},96,9,14]
[]
[{"$f":"$A$2&\",\"&$A$3+100&\",\"&B1062&\",Race\"&B1062&\" - \"&VLOOKUP(B1062,SCHEDULE!$B$5:$C$143,2,FALSE)","v":"2023,1410,97,Race97 - Senior B Mixed 10's"},{"$f":"B1051+1","v":97}]
[{"$f":"\",,\"&C1063&\",\"&IF(VLOOKUP(B1063,SCHEDULE!$B$5:$O$143,D1063,FALSE)=\" \",\",\",VLOOKUP(B1063,SCHEDULE!$B$5:$O$143,D1063,FALSE))","v":",,1,Hunter River Dragons"},{"$f":"B1062","v":97},1,6]
[{"$f":"\",,\"&C1064&\",\"&IF(VLOOKUP(B1064,SCHEDULE!$B$5:$O$143,D1064,FALSE)=\" \",\",\",VLOOKUP(B1064,SCHEDULE!$B$5:$O$143,D1064,FALSE))","v":",,2,Mannum"},{"$f":"B1063","v":97},2,7]
[{"$f":"\",,\"&C1065&\",\"&IF(VLOOKUP(B1065,SCHEDULE!$B$5:$O$143,D1065,FALSE)=\" \",\",\",VLOOKUP(B1065,SCHEDULE!$B$5:$O$143,D1065,FALSE))","v":",,3,Black Sea Dragons"},97,3,8]
[{"$f":"\",,\"&C1066&\",\"&IF(VLOOKUP(B1066,SCHEDULE!$B$5:$O$143,D1066,FALSE)=\" \",\",\",VLOOKUP(B1066,SCHEDULE!$B$5:$O$143,D1066,FALSE))","v":",,4,Mildura"},97,4,9]
[{"$f":"\",,\"&C1067&\",\"&IF(VLOOKUP(B1067,SCHEDULE!$B$5:$O$143,D1067,FALSE)=\" \",\",\",VLOOKUP(B1067,SCHEDULE!$B$5:$O$143,D1067,FALSE))","v":",,5,Kombo Dragons Purple"},97,5,10]
[{"$f":"\",,\"&C1068&\",\"&IF(VLOOKUP(B1068,SCHEDULE!$B$5:$O$143,D1068,FALSE)=\" \",\",\",VLOOKUP(B1068,SCHEDULE!$B$5:$O$143,D1068,FALSE))","v":",,6,Newcastle Dragon Hunters Purple"},97,6,11]
[{"$f":"\",,\"&C1069&\",\"&IF(VLOOKUP(B1069,SCHEDULE!$B$5:$O$143,D1069,FALSE)=\" \",\",\",VLOOKUP(B1069,SCHEDULE!$B$5:$O$143,D1069,FALSE))","v":",,7,,"},97,7,12]
[{"$f":"\",,\"&C1070&\",\"&IF(VLOOKUP(B1070,SCHEDULE!$B$5:$O$143,D1070,FALSE)=\" \",\",\",VLOOKUP(B1070,SCHEDULE!$B$5:$O$143,D1070,FALSE))","v":",,8,,"},97,8,13]
[{"$f":"\",,\"&C1071&\",\"&IF(VLOOKUP(B1071,SCHEDULE!$B$5:$O$143,D1071,FALSE)=\" \",\",\",VLOOKUP(B1071,SCHEDULE!$B$5:$O$143,D1071,FALSE))","v":",,9,,"},97,9,14]
[]
[{"$f":"$A$2&\",\"&$A$3+100&\",\"&B1073&\",Race\"&B1073&\" - \"&VLOOKUP(B1073,SCHEDULE!$B$5:$C$143,2,FALSE)","v":"2023,1410,98,Race98 - Senior B Mixed 10's"},{"$f":"B1062+1","v":98}]
[{"$f":"\",,\"&C1074&\",\"&IF(VLOOKUP(B1074,SCHEDULE!$B$5:$O$143,D1074,FALSE)=\" \",\",\",VLOOKUP(B1074,SCHEDULE!$B$5:$O$143,D1074,FALSE))","v":",,1,FNC"},{"$f":"B1073","v":98},1,6]
[{"$f":"\",,\"&C1075&\",\"&IF(VLOOKUP(B1075,SCHEDULE!$B$5:$O$143,D1075,FALSE)=\" \",\",\",VLOOKUP(B1075,SCHEDULE!$B$5:$O$143,D1075,FALSE))","v":",,2,Southern Warriors"},{"$f":"B1074","v":98},2,7]
[{"$f":"\",,\"&C1076&\",\"&IF(VLOOKUP(B1076,SCHEDULE!$B$5:$O$143,D1076,FALSE)=\" \",\",\",VLOOKUP(B1076,SCHEDULE!$B$5:$O$143,D1076,FALSE))","v":",,3,SADA Sonix Blue"},98,3,8]
[{"$f":"\",,\"&C1077&\",\"&IF(VLOOKUP(B1077,SCHEDULE!$B$5:$O$143,D1077,FALSE)=\" \",\",\",VLOOKUP(B1077,SCHEDULE!$B$5:$O$143,D1077,FALSE))","v":",,4,Deepwater Dragons"},98,4,9]
[{"$f":"\",,\"&C1078&\",\"&IF(VLOOKUP(B1078,SCHEDULE!$B$5:$O$143,D1078,FALSE)=\" \",\",\",VLOOKUP(B1078,SCHEDULE!$B$5:$O$143,D1078,FALSE))","v":",,5,Powerblades"},98,5,10]
[{"$f":"\",,\"&C1079&\",\"&IF(VLOOKUP(B1079,SCHEDULE!$B$5:$O$143,D1079,FALSE)=\" \",\",\",VLOOKUP(B1079,SCHEDULE!$B$5:$O$143,D1079,FALSE))","v":",,6,Newcastle Dragon Hunters Red"},98,6,11]
[{"$f":"\",,\"&C1080&\",\"&IF(VLOOKUP(B1080,SCHEDULE!$B$5:$O$143,D1080,FALSE)=\" \",\",\",VLOOKUP(B1080,SCHEDULE!$B$5:$O$143,D1080,FALSE))","v":",,7,,"},98,7,12]
[{"$f":"\",,\"&C1081&\",\"&IF(VLOOKUP(B1081,SCHEDULE!$B$5:$O$143,D1081,FALSE)=\" \",\",\",VLOOKUP(B1081,SCHEDULE!$B$5:$O$143,D1081,FALSE))","v":",,8,,"},98,8,13]
[{"$f":"\",,\"&C1082&\",\"&IF(VLOOKUP(B1082,SCHEDULE!$B$5:$O$143,D1082,FALSE)=\" \",\",\",VLOOKUP(B1082,SCHEDULE!$B$5:$O$143,D1082,FALSE))","v":",,9,,"},98,9,14]
[]
[{"$f":"$A$2&\",\"&$A$3+100&\",\"&B1084&\",Race\"&B1084&\" - \"&VLOOKUP(B1084,SCHEDULE!$B$5:$C$143,2,FALSE)","v":"2023,1410,99,Race99 - Senior B Mixed 10's"},{"$f":"B1073+1","v":99}]
[{"$f":"\",,\"&C1085&\",\"&IF(VLOOKUP(B1085,SCHEDULE!$B$5:$O$143,D1085,FALSE)=\" \",\",\",VLOOKUP(B1085,SCHEDULE!$B$5:$O$143,D1085,FALSE))","v":",,1,Kombo Dragons Black"},{"$f":"B1084","v":99},1,6]
[{"$f":"\",,\"&C1086&\",\"&IF(VLOOKUP(B1086,SCHEDULE!$B$5:$O$143,D1086,FALSE)=\" \",\",\",VLOOKUP(B1086,SCHEDULE!$B$5:$O$143,D1086,FALSE))","v":",,2,Outback Dragons"},{"$f":"B1085","v":99},2,7]
[{"$f":"\",,\"&C1087&\",\"&IF(VLOOKUP(B1087,SCHEDULE!$B$5:$O$143,D1087,FALSE)=\" \",\",\",VLOOKUP(B1087,SCHEDULE!$B$5:$O$143,D1087,FALSE))","v":",,3,Goolwa River Dragons"},99,3,8]
[{"$f":"\",,\"&C1088&\",\"&IF(VLOOKUP(B1088,SCHEDULE!$B$5:$O$143,D1088,FALSE)=\" \",\",\",VLOOKUP(B1088,SCHEDULE!$B$5:$O$143,D1088,FALSE))","v":",,4,SADA Sonix Yellow"},99,4,9]
[{"$f":"\",,\"&C1089&\",\"&IF(VLOOKUP(B1089,SCHEDULE!$B$5:$O$143,D1089,FALSE)=\" \",\",\",VLOOKUP(B1089,SCHEDULE!$B$5:$O$143,D1089,FALSE))","v":",,5,Gippsland United"},99,5,10]
[{"$f":"\",,\"&C1090&\",\"&IF(VLOOKUP(B1090,SCHEDULE!$B$5:$O$143,D1090,FALSE)=\" \",\",\",VLOOKUP(B1090,SCHEDULE!$B$5:$O$143,D1090,FALSE))","v":",,6,Gypsy Dragons"},99,6,11]
[{"$f":"\",,\"&C1091&\",\"&IF(VLOOKUP(B1091,SCHEDULE!$B$5:$O$143,D1091,FALSE)=\" \",\",\",VLOOKUP(B1091,SCHEDULE!$B$5:$O$143,D1091,FALSE))","v":",,7,,"},99,7,12]
[{"$f":"\",,\"&C1092&\",\"&IF(VLOOKUP(B1092,SCHEDULE!$B$5:$O$143,D1092,FALSE)=\" \",\",\",VLOOKUP(B1092,SCHEDULE!$B$5:$O$143,D1092,FALSE))","v":",,8,,"},99,8,13]
[{"$f":"\",,\"&C1093&\",\"&IF(VLOOKUP(B1093,SCHEDULE!$B$5:$O$143,D1093,FALSE)=\" \",\",\",VLOOKUP(B1093,SCHEDULE!$B$5:$O$143,D1093,FALSE))","v":",,9,,"},99,9,14]
[]
[{"$f":"$A$2&\",\"&$A$3+100&\",\"&B1095&\",Race\"&B1095&\" - \"&VLOOKUP(B1095,SCHEDULE!$B$5:$C$143,2,FALSE)","v":"2023,1410,100,Race100 - Senior B Mixed 20's"},{"$f":"B1084+1","v":100}]
[{"$f":"\",,\"&C1096&\",\"&IF(VLOOKUP(B1096,SCHEDULE!$B$5:$O$143,D1096,FALSE)=\" \",\",\",VLOOKUP(B1096,SCHEDULE!$B$5:$O$143,D1096,FALSE))","v":",,1,Newcastle Dragon Hunters Red"},{"$f":"B1095","v":100},1,6]
[{"$f":"\",,\"&C1097&\",\"&IF(VLOOKUP(B1097,SCHEDULE!$B$5:$O$143,D1097,FALSE)=\" \",\",\",VLOOKUP(B1097,SCHEDULE!$B$5:$O$143,D1097,FALSE))","v":",,2,Powerblades"},{"$f":"B1096","v":100},2,7]
[{"$f":"\",,\"&C1098&\",\"&IF(VLOOKUP(B1098,SCHEDULE!$B$5:$O$143,D1098,FALSE)=\" \",\",\",VLOOKUP(B1098,SCHEDULE!$B$5:$O$143,D1098,FALSE))","v":",,3,Deepwater Dragons"},100,3,8]
[{"$f":"\",,\"&C1099&\",\"&IF(VLOOKUP(B1099,SCHEDULE!$B$5:$O$143,D1099,FALSE)=\" \",\",\",VLOOKUP(B1099,SCHEDULE!$B$5:$O$143,D1099,FALSE))","v":",,4,Mildura"},100,4,9]
[{"$f":"\",,\"&C1100&\",\"&IF(VLOOKUP(B1100,SCHEDULE!$B$5:$O$143,D1100,FALSE)=\" \",\",\",VLOOKUP(B1100,SCHEDULE!$B$5:$O$143,D1100,FALSE))","v":",,5,Dragon Masters"},100,5,10]
[{"$f":"\",,\"&C1101&\",\"&IF(VLOOKUP(B1101,SCHEDULE!$B$5:$O$143,D1101,FALSE)=\" \",\",\",VLOOKUP(B1101,SCHEDULE!$B$5:$O$143,D1101,FALSE))","v":",,6,Hunter River Dragons"},100,6,11]
[{"$f":"\",,\"&C1102&\",\"&IF(VLOOKUP(B1102,SCHEDULE!$B$5:$O$143,D1102,FALSE)=\" \",\",\",VLOOKUP(B1102,SCHEDULE!$B$5:$O$143,D1102,FALSE))","v":",,7,,"},100,7,12]
[{"$f":"\",,\"&C1103&\",\"&IF(VLOOKUP(B1103,SCHEDULE!$B$5:$O$143,D1103,FALSE)=\" \",\",\",VLOOKUP(B1103,SCHEDULE!$B$5:$O$143,D1103,FALSE))","v":",,8,,"},100,8,13]
[{"$f":"\",,\"&C1104&\",\"&IF(VLOOKUP(B1104,SCHEDULE!$B$5:$O$143,D1104,FALSE)=\" \",\",\",VLOOKUP(B1104,SCHEDULE!$B$5:$O$143,D1104,FALSE))","v":",,9,,"},100,9,14]
[]
[{"$f":"$A$2&\",\"&$A$3+100&\",\"&B1106&\",Race\"&B1106&\" - \"&VLOOKUP(B1106,SCHEDULE!$B$5:$C$143,2,FALSE)","v":"2023,1410,101,Race101 - Senior B Mixed 20's"},{"$f":"B1095+1","v":101}]
[{"$f":"\",,\"&C1107&\",\"&IF(VLOOKUP(B1107,SCHEDULE!$B$5:$O$143,D1107,FALSE)=\" \",\",\",VLOOKUP(B1107,SCHEDULE!$B$5:$O$143,D1107,FALSE))","v":",,1,Gippsland United"},{"$f":"B1106","v":101},1,6]
[{"$f":"\",,\"&C1108&\",\"&IF(VLOOKUP(B1108,SCHEDULE!$B$5:$O$143,D1108,FALSE)=\" \",\",\",VLOOKUP(B1108,SCHEDULE!$B$5:$O$143,D1108,FALSE))","v":",,2,Rainbow Dragons"},{"$f":"B1107","v":101},2,7]
[{"$f":"\",,\"&C1109&\",\"&IF(VLOOKUP(B1109,SCHEDULE!$B$5:$O$143,D1109,FALSE)=\" \",\",\",VLOOKUP(B1109,SCHEDULE!$B$5:$O$143,D1109,FALSE))","v":",,3,Newcastle Dragon Hunters Purple"},101,3,8]
[{"$f":"\",,\"&C1110&\",\"&IF(VLOOKUP(B1110,SCHEDULE!$B$5:$O$143,D1110,FALSE)=\" \",\",\",VLOOKUP(B1110,SCHEDULE!$B$5:$O$143,D1110,FALSE))","v":",,4,SADA Sonix"},101,4,9]
[{"$f":"\",,\"&C1111&\",\"&IF(VLOOKUP(B1111,SCHEDULE!$B$5:$O$143,D1111,FALSE)=\" \",\",\",VLOOKUP(B1111,SCHEDULE!$B$5:$O$143,D1111,FALSE))","v":",,5,Motley Crew"},101,5,10]
[{"$f":"\",,\"&C1112&\",\"&IF(VLOOKUP(B1112,SCHEDULE!$B$5:$O$143,D1112,FALSE)=\" \",\",\",VLOOKUP(B1112,SCHEDULE!$B$5:$O$143,D1112,FALSE))","v":",,6,Kombo Dragons Black"},101,6,11]
[{"$f":"\",,\"&C1113&\",\"&IF(VLOOKUP(B1113,SCHEDULE!$B$5:$O$143,D1113,FALSE)=\" \",\",\",VLOOKUP(B1113,SCHEDULE!$B$5:$O$143,D1113,FALSE))","v":",,7,,"},101,7,12]
[{"$f":"\",,\"&C1114&\",\"&IF(VLOOKUP(B1114,SCHEDULE!$B$5:$O$143,D1114,FALSE)=\" \",\",\",VLOOKUP(B1114,SCHEDULE!$B$5:$O$143,D1114,FALSE))","v":",,8,,"},101,8,13]
[{"$f":"\",,\"&C1115&\",\"&IF(VLOOKUP(B1115,SCHEDULE!$B$5:$O$143,D1115,FALSE)=\" \",\",\",VLOOKUP(B1115,SCHEDULE!$B$5:$O$143,D1115,FALSE))","v":",,9,,"},101,9,14]
[]
[{"$f":"$A$2&\",\"&$A$3+100&\",\"&B1117&\",Race\"&B1117&\" - \"&VLOOKUP(B1117,SCHEDULE!$B$5:$C$143,2,FALSE)","v":"2023,1410,102,Race102 - Senior A Mixed 10's"},{"$f":"B1106+1","v":102}]
[{"$f":"\",,\"&C1118&\",\"&IF(VLOOKUP(B1118,SCHEDULE!$B$5:$O$143,D1118,FALSE)=\" \",\",\",VLOOKUP(B1118,SCHEDULE!$B$5:$O$143,D1118,FALSE))","v":",,1,Goolwa River Dragons"},{"$f":"B1117","v":102},1,6]
[{"$f":"\",,\"&C1119&\",\"&IF(VLOOKUP(B1119,SCHEDULE!$B$5:$O$143,D1119,FALSE)=\" \",\",\",VLOOKUP(B1119,SCHEDULE!$B$5:$O$143,D1119,FALSE))","v":",,2,Deepwater Dragons"},{"$f":"B1118","v":102},2,7]
[{"$f":"\",,\"&C1120&\",\"&IF(VLOOKUP(B1120,SCHEDULE!$B$5:$O$143,D1120,FALSE)=\" \",\",\",VLOOKUP(B1120,SCHEDULE!$B$5:$O$143,D1120,FALSE))","v":",,3,Southern Warriors"},102,3,8]
[{"$f":"\",,\"&C1121&\",\"&IF(VLOOKUP(B1121,SCHEDULE!$B$5:$O$143,D1121,FALSE)=\" \",\",\",VLOOKUP(B1121,SCHEDULE!$B$5:$O$143,D1121,FALSE))","v":",,4,Peninsula Dragonfly"},102,4,9]
[{"$f":"\",,\"&C1122&\",\"&IF(VLOOKUP(B1122,SCHEDULE!$B$5:$O$143,D1122,FALSE)=\" \",\",\",VLOOKUP(B1122,SCHEDULE!$B$5:$O$143,D1122,FALSE))","v":",,5,Gippsland United"},102,5,10]
[{"$f":"\",,\"&C1123&\",\"&IF(VLOOKUP(B1123,SCHEDULE!$B$5:$O$143,D1123,FALSE)=\" \",\",\",VLOOKUP(B1123,SCHEDULE!$B$5:$O$143,D1123,FALSE))","v":",,6,,"},102,6,11]
[{"$f":"\",,\"&C1124&\",\"&IF(VLOOKUP(B1124,SCHEDULE!$B$5:$O$143,D1124,FALSE)=\" \",\",\",VLOOKUP(B1124,SCHEDULE!$B$5:$O$143,D1124,FALSE))","v":",,7,,"},102,7,12]
[{"$f":"\",,\"&C1125&\",\"&IF(VLOOKUP(B1125,SCHEDULE!$B$5:$O$143,D1125,FALSE)=\" \",\",\",VLOOKUP(B1125,SCHEDULE!$B$5:$O$143,D1125,FALSE))","v":",,8,,"},102,8,13]
[{"$f":"\",,\"&C1126&\",\"&IF(VLOOKUP(B1126,SCHEDULE!$B$5:$O$143,D1126,FALSE)=\" \",\",\",VLOOKUP(B1126,SCHEDULE!$B$5:$O$143,D1126,FALSE))","v":",,9,,"},102,9,14]
[]
[{"$f":"$A$2&\",\"&$A$3+100&\",\"&B1128&\",Race\"&B1128&\" - \"&VLOOKUP(B1128,SCHEDULE!$B$5:$C$143,2,FALSE)","v":"2023,1410,103,Race103 - Senior A Mixed 10's"},{"$f":"B1117+1","v":103}]
[{"$f":"\",,\"&C1129&\",\"&IF(VLOOKUP(B1129,SCHEDULE!$B$5:$O$143,D1129,FALSE)=\" \",\",\",VLOOKUP(B1129,SCHEDULE!$B$5:$O$143,D1129,FALSE))","v":",,1,Powerblades"},{"$f":"B1128","v":103},1,6]
[{"$f":"\",,\"&C1130&\",\"&IF(VLOOKUP(B1130,SCHEDULE!$B$5:$O$143,D1130,FALSE)=\" \",\",\",VLOOKUP(B1130,SCHEDULE!$B$5:$O$143,D1130,FALSE))","v":",,2,Kombo Dragons Black"},{"$f":"B1129","v":103},2,7]
[{"$f":"\",,\"&C1131&\",\"&IF(VLOOKUP(B1131,SCHEDULE!$B$5:$O$143,D1131,FALSE)=\" \",\",\",VLOOKUP(B1131,SCHEDULE!$B$5:$O$143,D1131,FALSE))","v":",,3,Mildura"},103,3,8]
[{"$f":"\",,\"&C1132&\",\"&IF(VLOOKUP(B1132,SCHEDULE!$B$5:$O$143,D1132,FALSE)=\" \",\",\",VLOOKUP(B1132,SCHEDULE!$B$5:$O$143,D1132,FALSE))","v":",,4,Kombo Dragons Purple"},103,4,9]
[{"$f":"\",,\"&C1133&\",\"&IF(VLOOKUP(B1133,SCHEDULE!$B$5:$O$143,D1133,FALSE)=\" \",\",\",VLOOKUP(B1133,SCHEDULE!$B$5:$O$143,D1133,FALSE))","v":",,5,Black Sea Dragons"},103,5,10]
[{"$f":"\",,\"&C1134&\",\"&IF(VLOOKUP(B1134,SCHEDULE!$B$5:$O$143,D1134,FALSE)=\" \",\",\",VLOOKUP(B1134,SCHEDULE!$B$5:$O$143,D1134,FALSE))","v":",,6,,"},103,6,11]
[{"$f":"\",,\"&C1135&\",\"&IF(VLOOKUP(B1135,SCHEDULE!$B$5:$O$143,D1135,FALSE)=\" \",\",\",VLOOKUP(B1135,SCHEDULE!$B$5:$O$143,D1135,FALSE))","v":",,7,,"},103,7,12]
[{"$f":"\",,\"&C1136&\",\"&IF(VLOOKUP(B1136,SCHEDULE!$B$5:$O$143,D1136,FALSE)=\" \",\",\",VLOOKUP(B1136,SCHEDULE!$B$5:$O$143,D1136,FALSE))","v":",,8,,"},103,8,13]
[{"$f":"\",,\"&C1137&\",\"&IF(VLOOKUP(B1137,SCHEDULE!$B$5:$O$143,D1137,FALSE)=\" \",\",\",VLOOKUP(B1137,SCHEDULE!$B$5:$O$143,D1137,FALSE))","v":",,9,,"},103,9,14]
[]
[{"$f":"$A$2&\",\"&$A$3+100&\",\"&B1139&\",Race\"&B1139&\" - \"&VLOOKUP(B1139,SCHEDULE!$B$5:$C$143,2,FALSE)","v":"2023,1410,104,Race104 - Senior A Mixed 10's"},{"$f":"B1128+1","v":104}]
[{"$f":"\",,\"&C1140&\",\"&IF(VLOOKUP(B1140,SCHEDULE!$B$5:$O$143,D1140,FALSE)=\" \",\",\",VLOOKUP(B1140,SCHEDULE!$B$5:$O$143,D1140,FALSE))","v":",,1,Rainbow Dragons"},{"$f":"B1139","v":104},1,6]
[{"$f":"\",,\"&C1141&\",\"&IF(VLOOKUP(B1141,SCHEDULE!$B$5:$O$143,D1141,FALSE)=\" \",\",\",VLOOKUP(B1141,SCHEDULE!$B$5:$O$143,D1141,FALSE))","v":",,2,Dragonfire"},{"$f":"B1140","v":104},2,7]
[{"$f":"\",,\"&C1142&\",\"&IF(VLOOKUP(B1142,SCHEDULE!$B$5:$O$143,D1142,FALSE)=\" \",\",\",VLOOKUP(B1142,SCHEDULE!$B$5:$O$143,D1142,FALSE))","v":",,3,Hunter River Dragons"},104,3,8]
[{"$f":"\",,\"&C1143&\",\"&IF(VLOOKUP(B1143,SCHEDULE!$B$5:$O$143,D1143,FALSE)=\" \",\",\",VLOOKUP(B1143,SCHEDULE!$B$5:$O$143,D1143,FALSE))","v":",,4,Newcastle Dragon Hunters"},104,4,9]
[{"$f":"\",,\"&C1144&\",\"&IF(VLOOKUP(B1144,SCHEDULE!$B$5:$O$143,D1144,FALSE)=\" \",\",\",VLOOKUP(B1144,SCHEDULE!$B$5:$O$143,D1144,FALSE))","v":",,5,Broadwater Dragons"},104,5,10]
[{"$f":"\",,\"&C1145&\",\"&IF(VLOOKUP(B1145,SCHEDULE!$B$5:$O$143,D1145,FALSE)=\" \",\",\",VLOOKUP(B1145,SCHEDULE!$B$5:$O$143,D1145,FALSE))","v":",,6,,"},104,6,11]
[{"$f":"\",,\"&C1146&\",\"&IF(VLOOKUP(B1146,SCHEDULE!$B$5:$O$143,D1146,FALSE)=\" \",\",\",VLOOKUP(B1146,SCHEDULE!$B$5:$O$143,D1146,FALSE))","v":",,7,,"},104,7,12]
[{"$f":"\",,\"&C1147&\",\"&IF(VLOOKUP(B1147,SCHEDULE!$B$5:$O$143,D1147,FALSE)=\" \",\",\",VLOOKUP(B1147,SCHEDULE!$B$5:$O$143,D1147,FALSE))","v":",,8,,"},104,8,13]
[{"$f":"\",,\"&C1148&\",\"&IF(VLOOKUP(B1148,SCHEDULE!$B$5:$O$143,D1148,FALSE)=\" \",\",\",VLOOKUP(B1148,SCHEDULE!$B$5:$O$143,D1148,FALSE))","v":",,9,,"},104,9,14]
[]
[{"$f":"$A$2&\",\"&$A$3+100&\",\"&B1150&\",Race\"&B1150&\" - \"&VLOOKUP(B1150,SCHEDULE!$B$5:$C$143,2,FALSE)","v":"2023,1410,105,Race105 - Senior A Mixed 20"},{"$f":"B1139+1","v":105}]
[{"$f":"\",,\"&C1151&\",\"&IF(VLOOKUP(B1151,SCHEDULE!$B$5:$O$143,D1151,FALSE)=\" \",\",\",VLOOKUP(B1151,SCHEDULE!$B$5:$O$143,D1151,FALSE))","v":",,1,Mildura"},{"$f":"B1150","v":105},1,6]
[{"$f":"\",,\"&C1152&\",\"&IF(VLOOKUP(B1152,SCHEDULE!$B$5:$O$143,D1152,FALSE)=\" \",\",\",VLOOKUP(B1152,SCHEDULE!$B$5:$O$143,D1152,FALSE))","v":",,2,Deepwater Dragons"},{"$f":"B1151","v":105},2,7]
[{"$f":"\",,\"&C1153&\",\"&IF(VLOOKUP(B1153,SCHEDULE!$B$5:$O$143,D1153,FALSE)=\" \",\",\",VLOOKUP(B1153,SCHEDULE!$B$5:$O$143,D1153,FALSE))","v":",,3,Hunter River Dragons"},105,3,8]
[{"$f":"\",,\"&C1154&\",\"&IF(VLOOKUP(B1154,SCHEDULE!$B$5:$O$143,D1154,FALSE)=\" \",\",\",VLOOKUP(B1154,SCHEDULE!$B$5:$O$143,D1154,FALSE))","v":",,4,Gippsland United"},105,4,9]
[{"$f":"\",,\"&C1155&\",\"&IF(VLOOKUP(B1155,SCHEDULE!$B$5:$O$143,D1155,FALSE)=\" \",\",\",VLOOKUP(B1155,SCHEDULE!$B$5:$O$143,D1155,FALSE))","v":",,5,Motley Crew"},105,5,10]
[{"$f":"\",,\"&C1156&\",\"&IF(VLOOKUP(B1156,SCHEDULE!$B$5:$O$143,D1156,FALSE)=\" \",\",\",VLOOKUP(B1156,SCHEDULE!$B$5:$O$143,D1156,FALSE))","v":",,6,Kombo Dragons Black"},105,6,11]
[{"$f":"\",,\"&C1157&\",\"&IF(VLOOKUP(B1157,SCHEDULE!$B$5:$O$143,D1157,FALSE)=\" \",\",\",VLOOKUP(B1157,SCHEDULE!$B$5:$O$143,D1157,FALSE))","v":",,7,,"},105,7,12]
[{"$f":"\",,\"&C1158&\",\"&IF(VLOOKUP(B1158,SCHEDULE!$B$5:$O$143,D1158,FALSE)=\" \",\",\",VLOOKUP(B1158,SCHEDULE!$B$5:$O$143,D1158,FALSE))","v":",,8,,"},105,8,13]
[{"$f":"\",,\"&C1159&\",\"&IF(VLOOKUP(B1159,SCHEDULE!$B$5:$O$143,D1159,FALSE)=\" \",\",\",VLOOKUP(B1159,SCHEDULE!$B$5:$O$143,D1159,FALSE))","v":",,9,,"},105,9,14]
[]
[{"$f":"$A$2&\",\"&$A$3+100&\",\"&B1161&\",Race\"&B1161&\" - \"&VLOOKUP(B1161,SCHEDULE!$B$5:$C$143,2,FALSE)","v":"2023,1410,106,Race106 - Senior C Women 10"},{"$f":"B1150+1","v":106}]
[{"$f":"\",,\"&C1162&\",\"&IF(VLOOKUP(B1162,SCHEDULE!$B$5:$O$143,D1162,FALSE)=\" \",\",\",VLOOKUP(B1162,SCHEDULE!$B$5:$O$143,D1162,FALSE))","v":",,1,SADA Sonix Yellow"},{"$f":"B1161","v":106},1,6]
[{"$f":"\",,\"&C1163&\",\"&IF(VLOOKUP(B1163,SCHEDULE!$B$5:$O$143,D1163,FALSE)=\" \",\",\",VLOOKUP(B1163,SCHEDULE!$B$5:$O$143,D1163,FALSE))","v":",,2,FNC"},{"$f":"B1162","v":106},2,7]
[{"$f":"\",,\"&C1164&\",\"&IF(VLOOKUP(B1164,SCHEDULE!$B$5:$O$143,D1164,FALSE)=\" \",\",\",VLOOKUP(B1164,SCHEDULE!$B$5:$O$143,D1164,FALSE))","v":",,3,Dragons Afloat Bendigo"},106,3,8]
[{"$f":"\",,\"&C1165&\",\"&IF(VLOOKUP(B1165,SCHEDULE!$B$5:$O$143,D1165,FALSE)=\" \",\",\",VLOOKUP(B1165,SCHEDULE!$B$5:$O$143,D1165,FALSE))","v":",,4,Dragons Afloat Port Lincoln"},106,4,9]
[{"$f":"\",,\"&C1166&\",\"&IF(VLOOKUP(B1166,SCHEDULE!$B$5:$O$143,D1166,FALSE)=\" \",\",\",VLOOKUP(B1166,SCHEDULE!$B$5:$O$143,D1166,FALSE))","v":",,5,Motley Crew"},106,5,10]
[{"$f":"\",,\"&C1167&\",\"&IF(VLOOKUP(B1167,SCHEDULE!$B$5:$O$143,D1167,FALSE)=\" \",\",\",VLOOKUP(B1167,SCHEDULE!$B$5:$O$143,D1167,FALSE))","v":",,6,Mildura"},106,6,11]
[{"$f":"\",,\"&C1168&\",\"&IF(VLOOKUP(B1168,SCHEDULE!$B$5:$O$143,D1168,FALSE)=\" \",\",\",VLOOKUP(B1168,SCHEDULE!$B$5:$O$143,D1168,FALSE))","v":",,7,,"},106,7,12]
[{"$f":"\",,\"&C1169&\",\"&IF(VLOOKUP(B1169,SCHEDULE!$B$5:$O$143,D1169,FALSE)=\" \",\",\",VLOOKUP(B1169,SCHEDULE!$B$5:$O$143,D1169,FALSE))","v":",,8,,"},106,8,13]
[{"$f":"\",,\"&C1170&\",\"&IF(VLOOKUP(B1170,SCHEDULE!$B$5:$O$143,D1170,FALSE)=\" \",\",\",VLOOKUP(B1170,SCHEDULE!$B$5:$O$143,D1170,FALSE))","v":",,9,,"},106,9,14]
[]
[{"$f":"$A$2&\",\"&$A$3+100&\",\"&B1172&\",Race\"&B1172&\" - \"&VLOOKUP(B1172,SCHEDULE!$B$5:$C$143,2,FALSE)","v":"2023,1410,107,Race107 - Senior C Women 10"},{"$f":"B1161+1","v":107}]
[{"$f":"\",,\"&C1173&\",\"&IF(VLOOKUP(B1173,SCHEDULE!$B$5:$O$143,D1173,FALSE)=\" \",\",\",VLOOKUP(B1173,SCHEDULE!$B$5:$O$143,D1173,FALSE))","v":",,1,DA Bendigo Blue"},{"$f":"B1172","v":107},1,6]
[{"$f":"\",,\"&C1174&\",\"&IF(VLOOKUP(B1174,SCHEDULE!$B$5:$O$143,D1174,FALSE)=\" \",\",\",VLOOKUP(B1174,SCHEDULE!$B$5:$O$143,D1174,FALSE))","v":",,2,Southern Warriors Blue"},{"$f":"B1173","v":107},2,7]
[{"$f":"\",,\"&C1175&\",\"&IF(VLOOKUP(B1175,SCHEDULE!$B$5:$O$143,D1175,FALSE)=\" \",\",\",VLOOKUP(B1175,SCHEDULE!$B$5:$O$143,D1175,FALSE))","v":",,3,Gippsland Orange"},107,3,8]
[{"$f":"\",,\"&C1176&\",\"&IF(VLOOKUP(B1176,SCHEDULE!$B$5:$O$143,D1176,FALSE)=\" \",\",\",VLOOKUP(B1176,SCHEDULE!$B$5:$O$143,D1176,FALSE))","v":",,4,Newcastle Dragon Hunters Red"},107,4,9]
[{"$f":"\",,\"&C1177&\",\"&IF(VLOOKUP(B1177,SCHEDULE!$B$5:$O$143,D1177,FALSE)=\" \",\",\",VLOOKUP(B1177,SCHEDULE!$B$5:$O$143,D1177,FALSE))","v":",,5,Juggernauts"},107,5,10]
[{"$f":"\",,\"&C1178&\",\"&IF(VLOOKUP(B1178,SCHEDULE!$B$5:$O$143,D1178,FALSE)=\" \",\",\",VLOOKUP(B1178,SCHEDULE!$B$5:$O$143,D1178,FALSE))","v":",,6,Kangaroo Island Dragons"},107,6,11]
[{"$f":"\",,\"&C1179&\",\"&IF(VLOOKUP(B1179,SCHEDULE!$B$5:$O$143,D1179,FALSE)=\" \",\",\",VLOOKUP(B1179,SCHEDULE!$B$5:$O$143,D1179,FALSE))","v":",,7,,"},107,7,12]
[{"$f":"\",,\"&C1180&\",\"&IF(VLOOKUP(B1180,SCHEDULE!$B$5:$O$143,D1180,FALSE)=\" \",\",\",VLOOKUP(B1180,SCHEDULE!$B$5:$O$143,D1180,FALSE))","v":",,8,,"},107,8,13]
[{"$f":"\",,\"&C1181&\",\"&IF(VLOOKUP(B1181,SCHEDULE!$B$5:$O$143,D1181,FALSE)=\" \",\",\",VLOOKUP(B1181,SCHEDULE!$B$5:$O$143,D1181,FALSE))","v":",,9,,"},107,9,14]
[]
[{"$f":"$A$2&\",\"&$A$3+100&\",\"&B1183&\",Race\"&B1183&\" - \"&VLOOKUP(B1183,SCHEDULE!$B$5:$C$143,2,FALSE)","v":"2023,1410,108,Race108 - Senior C Women 10"},{"$f":"B1172+1","v":108}]
[{"$f":"\",,\"&C1184&\",\"&IF(VLOOKUP(B1184,SCHEDULE!$B$5:$O$143,D1184,FALSE)=\" \",\",\",VLOOKUP(B1184,SCHEDULE!$B$5:$O$143,D1184,FALSE))","v":",,1,Scd Warrnambool"},{"$f":"B1183","v":108},1,6]
[{"$f":"\",,\"&C1185&\",\"&IF(VLOOKUP(B1185,SCHEDULE!$B$5:$O$143,D1185,FALSE)=\" \",\",\",VLOOKUP(B1185,SCHEDULE!$B$5:$O$143,D1185,FALSE))","v":",,2,Rainbow Dragons Blue"},{"$f":"B1184","v":108},2,7]
[{"$f":"\",,\"&C1186&\",\"&IF(VLOOKUP(B1186,SCHEDULE!$B$5:$O$143,D1186,FALSE)=\" \",\",\",VLOOKUP(B1186,SCHEDULE!$B$5:$O$143,D1186,FALSE))","v":",,3,Deepwater Purple"},108,3,8]
[{"$f":"\",,\"&C1187&\",\"&IF(VLOOKUP(B1187,SCHEDULE!$B$5:$O$143,D1187,FALSE)=\" \",\",\",VLOOKUP(B1187,SCHEDULE!$B$5:$O$143,D1187,FALSE))","v":",,4,Hunter River Dragons"},108,4,9]
[{"$f":"\",,\"&C1188&\",\"&IF(VLOOKUP(B1188,SCHEDULE!$B$5:$O$143,D1188,FALSE)=\" \",\",\",VLOOKUP(B1188,SCHEDULE!$B$5:$O$143,D1188,FALSE))","v":",,5,Outback Dragons"},108,5,10]
[{"$f":"\",,\"&C1189&\",\"&IF(VLOOKUP(B1189,SCHEDULE!$B$5:$O$143,D1189,FALSE)=\" \",\",\",VLOOKUP(B1189,SCHEDULE!$B$5:$O$143,D1189,FALSE))","v":",,6,Powerblades"},108,6,11]
[{"$f":"\",,\"&C1190&\",\"&IF(VLOOKUP(B1190,SCHEDULE!$B$5:$O$143,D1190,FALSE)=\" \",\",\",VLOOKUP(B1190,SCHEDULE!$B$5:$O$143,D1190,FALSE))","v":",,7,,"},108,7,12]
[{"$f":"\",,\"&C1191&\",\"&IF(VLOOKUP(B1191,SCHEDULE!$B$5:$O$143,D1191,FALSE)=\" \",\",\",VLOOKUP(B1191,SCHEDULE!$B$5:$O$143,D1191,FALSE))","v":",,8,,"},108,8,13]
[{"$f":"\",,\"&C1192&\",\"&IF(VLOOKUP(B1192,SCHEDULE!$B$5:$O$143,D1192,FALSE)=\" \",\",\",VLOOKUP(B1192,SCHEDULE!$B$5:$O$143,D1192,FALSE))","v":",,9,,"},108,9,14]
[]
[{"$f":"$A$2&\",\"&$A$3+100&\",\"&B1194&\",Race\"&B1194&\" - \"&VLOOKUP(B1194,SCHEDULE!$B$5:$C$143,2,FALSE)","v":"2023,1410,109,Race109 - Senior C Women 10"},{"$f":"B1183+1","v":109}]
[{"$f":"\",,\"&C1195&\",\"&IF(VLOOKUP(B1195,SCHEDULE!$B$5:$O$143,D1195,FALSE)=\" \",\",\",VLOOKUP(B1195,SCHEDULE!$B$5:$O$143,D1195,FALSE))","v":",,1,Peninsula Dragonfly"},{"$f":"B1194","v":109},1,6]
[{"$f":"\",,\"&C1196&\",\"&IF(VLOOKUP(B1196,SCHEDULE!$B$5:$O$143,D1196,FALSE)=\" \",\",\",VLOOKUP(B1196,SCHEDULE!$B$5:$O$143,D1196,FALSE))","v":",,2,Gypsy Dragons"},{"$f":"B1195","v":109},2,7]
[{"$f":"\",,\"&C1197&\",\"&IF(VLOOKUP(B1197,SCHEDULE!$B$5:$O$143,D1197,FALSE)=\" \",\",\",VLOOKUP(B1197,SCHEDULE!$B$5:$O$143,D1197,FALSE))","v":",,3,SADA Sonix Blue"},109,3,8]
[{"$f":"\",,\"&C1198&\",\"&IF(VLOOKUP(B1198,SCHEDULE!$B$5:$O$143,D1198,FALSE)=\" \",\",\",VLOOKUP(B1198,SCHEDULE!$B$5:$O$143,D1198,FALSE))","v":",,4,DA Bendigo Pink"},109,4,9]
[{"$f":"\",,\"&C1199&\",\"&IF(VLOOKUP(B1199,SCHEDULE!$B$5:$O$143,D1199,FALSE)=\" \",\",\",VLOOKUP(B1199,SCHEDULE!$B$5:$O$143,D1199,FALSE))","v":",,5,Deepwater Green"},109,5,10]
[{"$f":"\",,\"&C1200&\",\"&IF(VLOOKUP(B1200,SCHEDULE!$B$5:$O$143,D1200,FALSE)=\" \",\",\",VLOOKUP(B1200,SCHEDULE!$B$5:$O$143,D1200,FALSE))","v":",,6,Rainbow Dragons Red"},109,6,11]
[{"$f":"\",,\"&C1201&\",\"&IF(VLOOKUP(B1201,SCHEDULE!$B$5:$O$143,D1201,FALSE)=\" \",\",\",VLOOKUP(B1201,SCHEDULE!$B$5:$O$143,D1201,FALSE))","v":",,7,,"},109,7,12]
[{"$f":"\",,\"&C1202&\",\"&IF(VLOOKUP(B1202,SCHEDULE!$B$5:$O$143,D1202,FALSE)=\" \",\",\",VLOOKUP(B1202,SCHEDULE!$B$5:$O$143,D1202,FALSE))","v":",,8,,"},109,8,13]
[{"$f":"\",,\"&C1203&\",\"&IF(VLOOKUP(B1203,SCHEDULE!$B$5:$O$143,D1203,FALSE)=\" \",\",\",VLOOKUP(B1203,SCHEDULE!$B$5:$O$143,D1203,FALSE))","v":",,9,,"},109,9,14]
[]
[{"$f":"$A$2&\",\"&$A$3+100&\",\"&B1205&\",Race\"&B1205&\" - \"&VLOOKUP(B1205,SCHEDULE!$B$5:$C$143,2,FALSE)","v":"2023,1410,110,Race110 - Senior C Women 10"},{"$f":"B1194+1","v":110}]
[{"$f":"\",,\"&C1206&\",\"&IF(VLOOKUP(B1206,SCHEDULE!$B$5:$O$143,D1206,FALSE)=\" \",\",\",VLOOKUP(B1206,SCHEDULE!$B$5:$O$143,D1206,FALSE))","v":",,1,Gippsland Blue"},{"$f":"B1205","v":110},1,6]
[{"$f":"\",,\"&C1207&\",\"&IF(VLOOKUP(B1207,SCHEDULE!$B$5:$O$143,D1207,FALSE)=\" \",\",\",VLOOKUP(B1207,SCHEDULE!$B$5:$O$143,D1207,FALSE))","v":",,2,Black Sea Dragons"},{"$f":"B1206","v":110},2,7]
[{"$f":"\",,\"&C1208&\",\"&IF(VLOOKUP(B1208,SCHEDULE!$B$5:$O$143,D1208,FALSE)=\" \",\",\",VLOOKUP(B1208,SCHEDULE!$B$5:$O$143,D1208,FALSE))","v":",,3,Kombo Dragons Black"},110,3,8]
[{"$f":"\",,\"&C1209&\",\"&IF(VLOOKUP(B1209,SCHEDULE!$B$5:$O$143,D1209,FALSE)=\" \",\",\",VLOOKUP(B1209,SCHEDULE!$B$5:$O$143,D1209,FALSE))","v":",,4,Golden Dragons"},110,4,9]
[{"$f":"\",,\"&C1210&\",\"&IF(VLOOKUP(B1210,SCHEDULE!$B$5:$O$143,D1210,FALSE)=\" \",\",\",VLOOKUP(B1210,SCHEDULE!$B$5:$O$143,D1210,FALSE))","v":",,5,Southern Warriors White"},110,5,10]
[{"$f":"\",,\"&C1211&\",\"&IF(VLOOKUP(B1211,SCHEDULE!$B$5:$O$143,D1211,FALSE)=\" \",\",\",VLOOKUP(B1211,SCHEDULE!$B$5:$O$143,D1211,FALSE))","v":",,6,Newcastle Dragon Hunters Purple"},110,6,11]
[{"$f":"\",,\"&C1212&\",\"&IF(VLOOKUP(B1212,SCHEDULE!$B$5:$O$143,D1212,FALSE)=\" \",\",\",VLOOKUP(B1212,SCHEDULE!$B$5:$O$143,D1212,FALSE))","v":",,7,Dragon Masters"},110,7,12]
[{"$f":"\",,\"&C1213&\",\"&IF(VLOOKUP(B1213,SCHEDULE!$B$5:$O$143,D1213,FALSE)=\" \",\",\",VLOOKUP(B1213,SCHEDULE!$B$5:$O$143,D1213,FALSE))","v":",,8,,"},110,8,13]
[{"$f":"\",,\"&C1214&\",\"&IF(VLOOKUP(B1214,SCHEDULE!$B$5:$O$143,D1214,FALSE)=\" \",\",\",VLOOKUP(B1214,SCHEDULE!$B$5:$O$143,D1214,FALSE))","v":",,9,,"},110,9,14]
[]
[{"$f":"$A$2&\",\"&$A$3+100&\",\"&B1216&\",Race\"&B1216&\" - \"&VLOOKUP(B1216,SCHEDULE!$B$5:$C$143,2,FALSE)","v":"2023,1410,111,Race111 - Senior C Open 10's"},{"$f":"B1205+1","v":111}]
[{"$f":"\",,\"&C1217&\",\"&IF(VLOOKUP(B1217,SCHEDULE!$B$5:$O$143,D1217,FALSE)=\" \",\",\",VLOOKUP(B1217,SCHEDULE!$B$5:$O$143,D1217,FALSE))","v":",,1,Rainbow Dragons"},{"$f":"B1216","v":111},1,6]
[{"$f":"\",,\"&C1218&\",\"&IF(VLOOKUP(B1218,SCHEDULE!$B$5:$O$143,D1218,FALSE)=\" \",\",\",VLOOKUP(B1218,SCHEDULE!$B$5:$O$143,D1218,FALSE))","v":",,2,Hunter River Dragons"},{"$f":"B1217","v":111},2,7]
[{"$f":"\",,\"&C1219&\",\"&IF(VLOOKUP(B1219,SCHEDULE!$B$5:$O$143,D1219,FALSE)=\" \",\",\",VLOOKUP(B1219,SCHEDULE!$B$5:$O$143,D1219,FALSE))","v":",,3,Gippsland United"},111,3,8]
[{"$f":"\",,\"&C1220&\",\"&IF(VLOOKUP(B1220,SCHEDULE!$B$5:$O$143,D1220,FALSE)=\" \",\",\",VLOOKUP(B1220,SCHEDULE!$B$5:$O$143,D1220,FALSE))","v":",,4,Motley Crew"},111,4,9]
[{"$f":"\",,\"&C1221&\",\"&IF(VLOOKUP(B1221,SCHEDULE!$B$5:$O$143,D1221,FALSE)=\" \",\",\",VLOOKUP(B1221,SCHEDULE!$B$5:$O$143,D1221,FALSE))","v":",,5,FNC"},111,5,10]
[{"$f":"\",,\"&C1222&\",\"&IF(VLOOKUP(B1222,SCHEDULE!$B$5:$O$143,D1222,FALSE)=\" \",\",\",VLOOKUP(B1222,SCHEDULE!$B$5:$O$143,D1222,FALSE))","v":",,6,Southern Warriors Blue"},111,6,11]
[{"$f":"\",,\"&C1223&\",\"&IF(VLOOKUP(B1223,SCHEDULE!$B$5:$O$143,D1223,FALSE)=\" \",\",\",VLOOKUP(B1223,SCHEDULE!$B$5:$O$143,D1223,FALSE))","v":",,7,,"},111,7,12]
[{"$f":"\",,\"&C1224&\",\"&IF(VLOOKUP(B1224,SCHEDULE!$B$5:$O$143,D1224,FALSE)=\" \",\",\",VLOOKUP(B1224,SCHEDULE!$B$5:$O$143,D1224,FALSE))","v":",,8,,"},111,8,13]
[{"$f":"\",,\"&C1225&\",\"&IF(VLOOKUP(B1225,SCHEDULE!$B$5:$O$143,D1225,FALSE)=\" \",\",\",VLOOKUP(B1225,SCHEDULE!$B$5:$O$143,D1225,FALSE))","v":",,9,,"},111,9,14]
[]
[{"$f":"$A$2&\",\"&$A$3+100&\",\"&B1227&\",Race\"&B1227&\" - \"&VLOOKUP(B1227,SCHEDULE!$B$5:$C$143,2,FALSE)","v":"2023,1410,112,Race112 - Senior C Open 10's"},{"$f":"B1216+1","v":112}]
[{"$f":"\",,\"&C1228&\",\"&IF(VLOOKUP(B1228,SCHEDULE!$B$5:$O$143,D1228,FALSE)=\" \",\",\",VLOOKUP(B1228,SCHEDULE!$B$5:$O$143,D1228,FALSE))","v":",,1,Kombo Dragons Purple"},{"$f":"B1227","v":112},1,6]
[{"$f":"\",,\"&C1229&\",\"&IF(VLOOKUP(B1229,SCHEDULE!$B$5:$O$143,D1229,FALSE)=\" \",\",\",VLOOKUP(B1229,SCHEDULE!$B$5:$O$143,D1229,FALSE))","v":",,2,Dragon Masters"},{"$f":"B1228","v":112},2,7]
[{"$f":"\",,\"&C1230&\",\"&IF(VLOOKUP(B1230,SCHEDULE!$B$5:$O$143,D1230,FALSE)=\" \",\",\",VLOOKUP(B1230,SCHEDULE!$B$5:$O$143,D1230,FALSE))","v":",,3,Outback Dragons"},112,3,8]
[{"$f":"\",,\"&C1231&\",\"&IF(VLOOKUP(B1231,SCHEDULE!$B$5:$O$143,D1231,FALSE)=\" \",\",\",VLOOKUP(B1231,SCHEDULE!$B$5:$O$143,D1231,FALSE))","v":",,4,Kangaroo Island Dragons"},112,4,9]
[{"$f":"\",,\"&C1232&\",\"&IF(VLOOKUP(B1232,SCHEDULE!$B$5:$O$143,D1232,FALSE)=\" \",\",\",VLOOKUP(B1232,SCHEDULE!$B$5:$O$143,D1232,FALSE))","v":",,5,Gypsy Dragons"},112,5,10]
[{"$f":"\",,\"&C1233&\",\"&IF(VLOOKUP(B1233,SCHEDULE!$B$5:$O$143,D1233,FALSE)=\" \",\",\",VLOOKUP(B1233,SCHEDULE!$B$5:$O$143,D1233,FALSE))","v":",,6,Southern Warriors White"},112,6,11]
[{"$f":"\",,\"&C1234&\",\"&IF(VLOOKUP(B1234,SCHEDULE!$B$5:$O$143,D1234,FALSE)=\" \",\",\",VLOOKUP(B1234,SCHEDULE!$B$5:$O$143,D1234,FALSE))","v":",,7,Powerblades"},112,7,12]
[{"$f":"\",,\"&C1235&\",\"&IF(VLOOKUP(B1235,SCHEDULE!$B$5:$O$143,D1235,FALSE)=\" \",\",\",VLOOKUP(B1235,SCHEDULE!$B$5:$O$143,D1235,FALSE))","v":",,8,,"},112,8,13]
[{"$f":"\",,\"&C1236&\",\"&IF(VLOOKUP(B1236,SCHEDULE!$B$5:$O$143,D1236,FALSE)=\" \",\",\",VLOOKUP(B1236,SCHEDULE!$B$5:$O$143,D1236,FALSE))","v":",,9,,"},112,9,14]
[]
[{"$f":"$A$2&\",\"&$A$3+100&\",\"&B1238&\",Race\"&B1238&\" - \"&VLOOKUP(B1238,SCHEDULE!$B$5:$C$143,2,FALSE)","v":"2023,1410,113,Race113 - Senior C Open 10's"},{"$f":"B1227+1","v":113}]
[{"$f":"\",,\"&C1239&\",\"&IF(VLOOKUP(B1239,SCHEDULE!$B$5:$O$143,D1239,FALSE)=\" \",\",\",VLOOKUP(B1239,SCHEDULE!$B$5:$O$143,D1239,FALSE))","v":",,1,SADA Sonix"},{"$f":"B1238","v":113},1,6]
[{"$f":"\",,\"&C1240&\",\"&IF(VLOOKUP(B1240,SCHEDULE!$B$5:$O$143,D1240,FALSE)=\" \",\",\",VLOOKUP(B1240,SCHEDULE!$B$5:$O$143,D1240,FALSE))","v":",,2,Kombo Dragons Black"},{"$f":"B1239","v":113},2,7]
[{"$f":"\",,\"&C1241&\",\"&IF(VLOOKUP(B1241,SCHEDULE!$B$5:$O$143,D1241,FALSE)=\" \",\",\",VLOOKUP(B1241,SCHEDULE!$B$5:$O$143,D1241,FALSE))","v":",,3,Mildura"},113,3,8]
[{"$f":"\",,\"&C1242&\",\"&IF(VLOOKUP(B1242,SCHEDULE!$B$5:$O$143,D1242,FALSE)=\" \",\",\",VLOOKUP(B1242,SCHEDULE!$B$5:$O$143,D1242,FALSE))","v":",,4,ASA"},113,4,9]
[{"$f":"\",,\"&C1243&\",\"&IF(VLOOKUP(B1243,SCHEDULE!$B$5:$O$143,D1243,FALSE)=\" \",\",\",VLOOKUP(B1243,SCHEDULE!$B$5:$O$143,D1243,FALSE))","v":",,5,Deepwater"},113,5,10]
[{"$f":"\",,\"&C1244&\",\"&IF(VLOOKUP(B1244,SCHEDULE!$B$5:$O$143,D1244,FALSE)=\" \",\",\",VLOOKUP(B1244,SCHEDULE!$B$5:$O$143,D1244,FALSE))","v":",,6,Newcastle Dragon Hunters Red"},113,6,11]
[{"$f":"\",,\"&C1245&\",\"&IF(VLOOKUP(B1245,SCHEDULE!$B$5:$O$143,D1245,FALSE)=\" \",\",\",VLOOKUP(B1245,SCHEDULE!$B$5:$O$143,D1245,FALSE))","v":",,7,,"},113,7,12]
[{"$f":"\",,\"&C1246&\",\"&IF(VLOOKUP(B1246,SCHEDULE!$B$5:$O$143,D1246,FALSE)=\" \",\",\",VLOOKUP(B1246,SCHEDULE!$B$5:$O$143,D1246,FALSE))","v":",,8,,"},113,8,13]
[{"$f":"\",,\"&C1247&\",\"&IF(VLOOKUP(B1247,SCHEDULE!$B$5:$O$143,D1247,FALSE)=\" \",\",\",VLOOKUP(B1247,SCHEDULE!$B$5:$O$143,D1247,FALSE))","v":",,9,,"},113,9,14]
[]
[{"$f":"$A$2&\",\"&$A$3+100&\",\"&B1249&\",Race\"&B1249&\" - \"&VLOOKUP(B1249,SCHEDULE!$B$5:$C$143,2,FALSE)","v":"2023,1410,114,Race114 - BCS 10"},{"$f":"B1238+1","v":114}]
[{"$f":"\",,\"&C1250&\",\"&IF(VLOOKUP(B1250,SCHEDULE!$B$5:$O$143,D1250,FALSE)=\" \",\",\",VLOOKUP(B1250,SCHEDULE!$B$5:$O$143,D1250,FALSE))","v":",,1,DA Bendigo Pink"},{"$f":"B1249","v":114},1,6]
[{"$f":"\",,\"&C1251&\",\"&IF(VLOOKUP(B1251,SCHEDULE!$B$5:$O$143,D1251,FALSE)=\" \",\",\",VLOOKUP(B1251,SCHEDULE!$B$5:$O$143,D1251,FALSE))","v":",,2,Dragons Abreast Adelaide"},{"$f":"B1250","v":114},2,7]
[{"$f":"\",,\"&C1252&\",\"&IF(VLOOKUP(B1252,SCHEDULE!$B$5:$O$143,D1252,FALSE)=\" \",\",\",VLOOKUP(B1252,SCHEDULE!$B$5:$O$143,D1252,FALSE))","v":",,3,ASA"},114,3,8]
[{"$f":"\",,\"&C1253&\",\"&IF(VLOOKUP(B1253,SCHEDULE!$B$5:$O$143,D1253,FALSE)=\" \",\",\",VLOOKUP(B1253,SCHEDULE!$B$5:$O$143,D1253,FALSE))","v":",,4,SADA Sonix"},114,4,9]
[{"$f":"\",,\"&C1254&\",\"&IF(VLOOKUP(B1254,SCHEDULE!$B$5:$O$143,D1254,FALSE)=\" \",\",\",VLOOKUP(B1254,SCHEDULE!$B$5:$O$143,D1254,FALSE))","v":",,5,,"},114,5,10]
[{"$f":"\",,\"&C1255&\",\"&IF(VLOOKUP(B1255,SCHEDULE!$B$5:$O$143,D1255,FALSE)=\" \",\",\",VLOOKUP(B1255,SCHEDULE!$B$5:$O$143,D1255,FALSE))","v":",,6,,"},114,6,11]
[{"$f":"\",,\"&C1256&\",\"&IF(VLOOKUP(B1256,SCHEDULE!$B$5:$O$143,D1256,FALSE)=\" \",\",\",VLOOKUP(B1256,SCHEDULE!$B$5:$O$143,D1256,FALSE))","v":",,7,,"},114,7,12]
[{"$f":"\",,\"&C1257&\",\"&IF(VLOOKUP(B1257,SCHEDULE!$B$5:$O$143,D1257,FALSE)=\" \",\",\",VLOOKUP(B1257,SCHEDULE!$B$5:$O$143,D1257,FALSE))","v":",,8,,"},114,8,13]
[{"$f":"\",,\"&C1258&\",\"&IF(VLOOKUP(B1258,SCHEDULE!$B$5:$O$143,D1258,FALSE)=\" \",\",\",VLOOKUP(B1258,SCHEDULE!$B$5:$O$143,D1258,FALSE))","v":",,9,,"},114,9,14]
[]
[{"$f":"$A$2&\",\"&$A$3+100&\",\"&B1260&\",Race\"&B1260&\" - \"&VLOOKUP(B1260,SCHEDULE!$B$5:$C$143,2,FALSE)","v":"2023,1410,115,Race115 - BCS 10"},{"$f":"B1249+1","v":115}]
[{"$f":"\",,\"&C1261&\",\"&IF(VLOOKUP(B1261,SCHEDULE!$B$5:$O$143,D1261,FALSE)=\" \",\",\",VLOOKUP(B1261,SCHEDULE!$B$5:$O$143,D1261,FALSE))","v":",,1,Pink Dragons"},{"$f":"B1260","v":115},1,6]
[{"$f":"\",,\"&C1262&\",\"&IF(VLOOKUP(B1262,SCHEDULE!$B$5:$O$143,D1262,FALSE)=\" \",\",\",VLOOKUP(B1262,SCHEDULE!$B$5:$O$143,D1262,FALSE))","v":",,2,Rainbow Dragons"},{"$f":"B1261","v":115},2,7]
[{"$f":"\",,\"&C1263&\",\"&IF(VLOOKUP(B1263,SCHEDULE!$B$5:$O$143,D1263,FALSE)=\" \",\",\",VLOOKUP(B1263,SCHEDULE!$B$5:$O$143,D1263,FALSE))","v":",,3,DA Bendigo Blue"},115,3,8]
[{"$f":"\",,\"&C1264&\",\"&IF(VLOOKUP(B1264,SCHEDULE!$B$5:$O$143,D1264,FALSE)=\" \",\",\",VLOOKUP(B1264,SCHEDULE!$B$5:$O$143,D1264,FALSE))","v":",,4,Juggernauts"},115,4,9]
[{"$f":"\",,\"&C1265&\",\"&IF(VLOOKUP(B1265,SCHEDULE!$B$5:$O$143,D1265,FALSE)=\" \",\",\",VLOOKUP(B1265,SCHEDULE!$B$5:$O$143,D1265,FALSE))","v":",,5,Motley Crew"},115,5,10]
[{"$f":"\",,\"&C1266&\",\"&IF(VLOOKUP(B1266,SCHEDULE!$B$5:$O$143,D1266,FALSE)=\" \",\",\",VLOOKUP(B1266,SCHEDULE!$B$5:$O$143,D1266,FALSE))","v":",,6,,"},115,6,11]
[{"$f":"\",,\"&C1267&\",\"&IF(VLOOKUP(B1267,SCHEDULE!$B$5:$O$143,D1267,FALSE)=\" \",\",\",VLOOKUP(B1267,SCHEDULE!$B$5:$O$143,D1267,FALSE))","v":",,7,,"},115,7,12]
[{"$f":"\",,\"&C1268&\",\"&IF(VLOOKUP(B1268,SCHEDULE!$B$5:$O$143,D1268,FALSE)=\" \",\",\",VLOOKUP(B1268,SCHEDULE!$B$5:$O$143,D1268,FALSE))","v":",,8,,"},115,8,13]
[{"$f":"\",,\"&C1269&\",\"&IF(VLOOKUP(B1269,SCHEDULE!$B$5:$O$143,D1269,FALSE)=\" \",\",\",VLOOKUP(B1269,SCHEDULE!$B$5:$O$143,D1269,FALSE))","v":",,9,,"},115,9,14]
[]
[{"$f":"$A$2&\",\"&$A$3+100&\",\"&B1271&\",Race\"&B1271&\" - \"&VLOOKUP(B1271,SCHEDULE!$B$5:$C$143,2,FALSE)","v":"2023,1410,116,Race116 - Senior B Women 10"},{"$f":"B1260+1","v":116}]
[{"$f":"\",,\"&C1272&\",\"&IF(VLOOKUP(B1272,SCHEDULE!$B$5:$O$143,D1272,FALSE)=\" \",\",\",VLOOKUP(B1272,SCHEDULE!$B$5:$O$143,D1272,FALSE))","v":",,1,Dragons Afloat Bendigo"},{"$f":"B1271","v":116},1,6]
[{"$f":"\",,\"&C1273&\",\"&IF(VLOOKUP(B1273,SCHEDULE!$B$5:$O$143,D1273,FALSE)=\" \",\",\",VLOOKUP(B1273,SCHEDULE!$B$5:$O$143,D1273,FALSE))","v":",,2,Dragons Afloat Port Lincoln"},{"$f":"B1272","v":116},2,7]
[{"$f":"\",,\"&C1274&\",\"&IF(VLOOKUP(B1274,SCHEDULE!$B$5:$O$143,D1274,FALSE)=\" \",\",\",VLOOKUP(B1274,SCHEDULE!$B$5:$O$143,D1274,FALSE))","v":",,3,SCD Warrnambool"},116,3,8]
[{"$f":"\",,\"&C1275&\",\"&IF(VLOOKUP(B1275,SCHEDULE!$B$5:$O$143,D1275,FALSE)=\" \",\",\",VLOOKUP(B1275,SCHEDULE!$B$5:$O$143,D1275,FALSE))","v":",,4,Outback Dragons"},116,4,9]
[{"$f":"\",,\"&C1276&\",\"&IF(VLOOKUP(B1276,SCHEDULE!$B$5:$O$143,D1276,FALSE)=\" \",\",\",VLOOKUP(B1276,SCHEDULE!$B$5:$O$143,D1276,FALSE))","v":",,5,Sada Sonix Yellow"},116,5,10]
[{"$f":"\",,\"&C1277&\",\"&IF(VLOOKUP(B1277,SCHEDULE!$B$5:$O$143,D1277,FALSE)=\" \",\",\",VLOOKUP(B1277,SCHEDULE!$B$5:$O$143,D1277,FALSE))","v":",,6,Powerblades"},116,6,11]
[{"$f":"\",,\"&C1278&\",\"&IF(VLOOKUP(B1278,SCHEDULE!$B$5:$O$143,D1278,FALSE)=\" \",\",\",VLOOKUP(B1278,SCHEDULE!$B$5:$O$143,D1278,FALSE))","v":",,7,,"},116,7,12]
[{"$f":"\",,\"&C1279&\",\"&IF(VLOOKUP(B1279,SCHEDULE!$B$5:$O$143,D1279,FALSE)=\" \",\",\",VLOOKUP(B1279,SCHEDULE!$B$5:$O$143,D1279,FALSE))","v":",,8,,"},116,8,13]
[{"$f":"\",,\"&C1280&\",\"&IF(VLOOKUP(B1280,SCHEDULE!$B$5:$O$143,D1280,FALSE)=\" \",\",\",VLOOKUP(B1280,SCHEDULE!$B$5:$O$143,D1280,FALSE))","v":",,9,,"},116,9,14]
[]
[{"$f":"$A$2&\",\"&$A$3+100&\",\"&B1282&\",Race\"&B1282&\" - \"&VLOOKUP(B1282,SCHEDULE!$B$5:$C$143,2,FALSE)","v":"2023,1410,117,Race117 - Senior B Women 10"},{"$f":"B1271+1","v":117}]
[{"$f":"\",,\"&C1283&\",\"&IF(VLOOKUP(B1283,SCHEDULE!$B$5:$O$143,D1283,FALSE)=\" \",\",\",VLOOKUP(B1283,SCHEDULE!$B$5:$O$143,D1283,FALSE))","v":",,1,Newcastle Dragon Hunters Red"},{"$f":"B1282","v":117},1,6]
[{"$f":"\",,\"&C1284&\",\"&IF(VLOOKUP(B1284,SCHEDULE!$B$5:$O$143,D1284,FALSE)=\" \",\",\",VLOOKUP(B1284,SCHEDULE!$B$5:$O$143,D1284,FALSE))","v":",,2,Kombo Dragons Purple"},{"$f":"B1283","v":117},2,7]
[{"$f":"\",,\"&C1285&\",\"&IF(VLOOKUP(B1285,SCHEDULE!$B$5:$O$143,D1285,FALSE)=\" \",\",\",VLOOKUP(B1285,SCHEDULE!$B$5:$O$143,D1285,FALSE))","v":",,3,Broadwater Dragons"},117,3,8]
[{"$f":"\",,\"&C1286&\",\"&IF(VLOOKUP(B1286,SCHEDULE!$B$5:$O$143,D1286,FALSE)=\" \",\",\",VLOOKUP(B1286,SCHEDULE!$B$5:$O$143,D1286,FALSE))","v":",,4,Mildura"},117,4,9]
[{"$f":"\",,\"&C1287&\",\"&IF(VLOOKUP(B1287,SCHEDULE!$B$5:$O$143,D1287,FALSE)=\" \",\",\",VLOOKUP(B1287,SCHEDULE!$B$5:$O$143,D1287,FALSE))","v":",,5,Gypsy Dragons"},117,5,10]
[{"$f":"\",,\"&C1288&\",\"&IF(VLOOKUP(B1288,SCHEDULE!$B$5:$O$143,D1288,FALSE)=\" \",\",\",VLOOKUP(B1288,SCHEDULE!$B$5:$O$143,D1288,FALSE))","v":",,6,Deepwater"},117,6,11]
[{"$f":"\",,\"&C1289&\",\"&IF(VLOOKUP(B1289,SCHEDULE!$B$5:$O$143,D1289,FALSE)=\" \",\",\",VLOOKUP(B1289,SCHEDULE!$B$5:$O$143,D1289,FALSE))","v":",,7,Gippsland United"},117,7,12]
[{"$f":"\",,\"&C1290&\",\"&IF(VLOOKUP(B1290,SCHEDULE!$B$5:$O$143,D1290,FALSE)=\" \",\",\",VLOOKUP(B1290,SCHEDULE!$B$5:$O$143,D1290,FALSE))","v":",,8,,"},117,8,13]
[{"$f":"\",,\"&C1291&\",\"&IF(VLOOKUP(B1291,SCHEDULE!$B$5:$O$143,D1291,FALSE)=\" \",\",\",VLOOKUP(B1291,SCHEDULE!$B$5:$O$143,D1291,FALSE))","v":",,9,,"},117,9,14]
[]
[{"$f":"$A$2&\",\"&$A$3+100&\",\"&B1293&\",Race\"&B1293&\" - \"&VLOOKUP(B1293,SCHEDULE!$B$5:$C$143,2,FALSE)","v":"2023,1410,118,Race118 - Senior B Women 10"},{"$f":"B1282+1","v":118}]
[{"$f":"\",,\"&C1294&\",\"&IF(VLOOKUP(B1294,SCHEDULE!$B$5:$O$143,D1294,FALSE)=\" \",\",\",VLOOKUP(B1294,SCHEDULE!$B$5:$O$143,D1294,FALSE))","v":",,1,Juggernauts"},{"$f":"B1293","v":118},1,6]
[{"$f":"\",,\"&C1295&\",\"&IF(VLOOKUP(B1295,SCHEDULE!$B$5:$O$143,D1295,FALSE)=\" \",\",\",VLOOKUP(B1295,SCHEDULE!$B$5:$O$143,D1295,FALSE))","v":",,2,Hunter River Dragons"},{"$f":"B1294","v":118},2,7]
[{"$f":"\",,\"&C1296&\",\"&IF(VLOOKUP(B1296,SCHEDULE!$B$5:$O$143,D1296,FALSE)=\" \",\",\",VLOOKUP(B1296,SCHEDULE!$B$5:$O$143,D1296,FALSE))","v":",,3,Goolwa River Dragons"},118,3,8]
[{"$f":"\",,\"&C1297&\",\"&IF(VLOOKUP(B1297,SCHEDULE!$B$5:$O$143,D1297,FALSE)=\" \",\",\",VLOOKUP(B1297,SCHEDULE!$B$5:$O$143,D1297,FALSE))","v":",,4,FNC"},118,4,9]
[{"$f":"\",,\"&C1298&\",\"&IF(VLOOKUP(B1298,SCHEDULE!$B$5:$O$143,D1298,FALSE)=\" \",\",\",VLOOKUP(B1298,SCHEDULE!$B$5:$O$143,D1298,FALSE))","v":",,5,Kombo Dragons Black"},118,5,10]
[{"$f":"\",,\"&C1299&\",\"&IF(VLOOKUP(B1299,SCHEDULE!$B$5:$O$143,D1299,FALSE)=\" \",\",\",VLOOKUP(B1299,SCHEDULE!$B$5:$O$143,D1299,FALSE))","v":",,6,Newcastle Dragon Hunters Purple"},118,6,11]
[{"$f":"\",,\"&C1300&\",\"&IF(VLOOKUP(B1300,SCHEDULE!$B$5:$O$143,D1300,FALSE)=\" \",\",\",VLOOKUP(B1300,SCHEDULE!$B$5:$O$143,D1300,FALSE))","v":",,7,,"},118,7,12]
[{"$f":"\",,\"&C1301&\",\"&IF(VLOOKUP(B1301,SCHEDULE!$B$5:$O$143,D1301,FALSE)=\" \",\",\",VLOOKUP(B1301,SCHEDULE!$B$5:$O$143,D1301,FALSE))","v":",,8,,"},118,8,13]
[{"$f":"\",,\"&C1302&\",\"&IF(VLOOKUP(B1302,SCHEDULE!$B$5:$O$143,D1302,FALSE)=\" \",\",\",VLOOKUP(B1302,SCHEDULE!$B$5:$O$143,D1302,FALSE))","v":",,9,,"},118,9,14]
[]
[{"$f":"$A$2&\",\"&$A$3+100&\",\"&B1304&\",Race\"&B1304&\" - \"&VLOOKUP(B1304,SCHEDULE!$B$5:$C$143,2,FALSE)","v":"2023,1410,119,Race119 - Senior B Women 10"},{"$f":"B1293+1","v":119}]
[{"$f":"\",,\"&C1305&\",\"&IF(VLOOKUP(B1305,SCHEDULE!$B$5:$O$143,D1305,FALSE)=\" \",\",\",VLOOKUP(B1305,SCHEDULE!$B$5:$O$143,D1305,FALSE))","v":",,1,Black Sea Dragons"},{"$f":"B1304","v":119},1,6]
[{"$f":"\",,\"&C1306&\",\"&IF(VLOOKUP(B1306,SCHEDULE!$B$5:$O$143,D1306,FALSE)=\" \",\",\",VLOOKUP(B1306,SCHEDULE!$B$5:$O$143,D1306,FALSE))","v":",,2,Southern Warriors"},{"$f":"B1305","v":119},2,7]
[{"$f":"\",,\"&C1307&\",\"&IF(VLOOKUP(B1307,SCHEDULE!$B$5:$O$143,D1307,FALSE)=\" \",\",\",VLOOKUP(B1307,SCHEDULE!$B$5:$O$143,D1307,FALSE))","v":",,3,DA Bendigo"},119,3,8]
[{"$f":"\",,\"&C1308&\",\"&IF(VLOOKUP(B1308,SCHEDULE!$B$5:$O$143,D1308,FALSE)=\" \",\",\",VLOOKUP(B1308,SCHEDULE!$B$5:$O$143,D1308,FALSE))","v":",,4,SADA Sonix Blue"},119,4,9]
[{"$f":"\",,\"&C1309&\",\"&IF(VLOOKUP(B1309,SCHEDULE!$B$5:$O$143,D1309,FALSE)=\" \",\",\",VLOOKUP(B1309,SCHEDULE!$B$5:$O$143,D1309,FALSE))","v":",,5,Golden Dragons"},119,5,10]
[{"$f":"\",,\"&C1310&\",\"&IF(VLOOKUP(B1310,SCHEDULE!$B$5:$O$143,D1310,FALSE)=\" \",\",\",VLOOKUP(B1310,SCHEDULE!$B$5:$O$143,D1310,FALSE))","v":",,6,Dragonfire"},119,6,11]
[{"$f":"\",,\"&C1311&\",\"&IF(VLOOKUP(B1311,SCHEDULE!$B$5:$O$143,D1311,FALSE)=\" \",\",\",VLOOKUP(B1311,SCHEDULE!$B$5:$O$143,D1311,FALSE))","v":",,7,,"},119,7,12]
[{"$f":"\",,\"&C1312&\",\"&IF(VLOOKUP(B1312,SCHEDULE!$B$5:$O$143,D1312,FALSE)=\" \",\",\",VLOOKUP(B1312,SCHEDULE!$B$5:$O$143,D1312,FALSE))","v":",,8,,"},119,8,13]
[{"$f":"\",,\"&C1313&\",\"&IF(VLOOKUP(B1313,SCHEDULE!$B$5:$O$143,D1313,FALSE)=\" \",\",\",VLOOKUP(B1313,SCHEDULE!$B$5:$O$143,D1313,FALSE))","v":",,9,,"},119,9,14]
[]
[{"$f":"$A$2&\",\"&$A$3+100&\",\"&B1315&\",Race\"&B1315&\" - \"&VLOOKUP(B1315,SCHEDULE!$B$5:$C$143,2,FALSE)","v":"2023,1410,120,Race120 - Senior B Open 10"},{"$f":"B1304+1","v":120}]
[{"$f":"\",,\"&C1316&\",\"&IF(VLOOKUP(B1316,SCHEDULE!$B$5:$O$143,D1316,FALSE)=\" \",\",\",VLOOKUP(B1316,SCHEDULE!$B$5:$O$143,D1316,FALSE))","v":",,1,Hunter River Dragons"},{"$f":"B1315","v":120},1,6]
[{"$f":"\",,\"&C1317&\",\"&IF(VLOOKUP(B1317,SCHEDULE!$B$5:$O$143,D1317,FALSE)=\" \",\",\",VLOOKUP(B1317,SCHEDULE!$B$5:$O$143,D1317,FALSE))","v":",,2,Deepwater"},{"$f":"B1316","v":120},2,7]
[{"$f":"\",,\"&C1318&\",\"&IF(VLOOKUP(B1318,SCHEDULE!$B$5:$O$143,D1318,FALSE)=\" \",\",\",VLOOKUP(B1318,SCHEDULE!$B$5:$O$143,D1318,FALSE))","v":",,3,Kombo Dragons Black"},120,3,8]
[{"$f":"\",,\"&C1319&\",\"&IF(VLOOKUP(B1319,SCHEDULE!$B$5:$O$143,D1319,FALSE)=\" \",\",\",VLOOKUP(B1319,SCHEDULE!$B$5:$O$143,D1319,FALSE))","v":",,4,Southern Warriors"},120,4,9]
[{"$f":"\",,\"&C1320&\",\"&IF(VLOOKUP(B1320,SCHEDULE!$B$5:$O$143,D1320,FALSE)=\" \",\",\",VLOOKUP(B1320,SCHEDULE!$B$5:$O$143,D1320,FALSE))","v":",,5,Goolwa River Dragons"},120,5,10]
[{"$f":"\",,\"&C1321&\",\"&IF(VLOOKUP(B1321,SCHEDULE!$B$5:$O$143,D1321,FALSE)=\" \",\",\",VLOOKUP(B1321,SCHEDULE!$B$5:$O$143,D1321,FALSE))","v":",,6,Newcastle Dragon Hunters Red"},120,6,11]
[{"$f":"\",,\"&C1322&\",\"&IF(VLOOKUP(B1322,SCHEDULE!$B$5:$O$143,D1322,FALSE)=\" \",\",\",VLOOKUP(B1322,SCHEDULE!$B$5:$O$143,D1322,FALSE))","v":",,7,,"},120,7,12]
[{"$f":"\",,\"&C1323&\",\"&IF(VLOOKUP(B1323,SCHEDULE!$B$5:$O$143,D1323,FALSE)=\" \",\",\",VLOOKUP(B1323,SCHEDULE!$B$5:$O$143,D1323,FALSE))","v":",,8,,"},120,8,13]
[{"$f":"\",,\"&C1324&\",\"&IF(VLOOKUP(B1324,SCHEDULE!$B$5:$O$143,D1324,FALSE)=\" \",\",\",VLOOKUP(B1324,SCHEDULE!$B$5:$O$143,D1324,FALSE))","v":",,9,,"},120,9,14]
[]
[{"$f":"$A$2&\",\"&$A$3+100&\",\"&B1326&\",Race\"&B1326&\" - \"&VLOOKUP(B1326,SCHEDULE!$B$5:$C$143,2,FALSE)","v":"2023,1410,121,Race121 - Senior B Open 10"},{"$f":"B1315+1","v":121}]
[{"$f":"\",,\"&C1327&\",\"&IF(VLOOKUP(B1327,SCHEDULE!$B$5:$O$143,D1327,FALSE)=\" \",\",\",VLOOKUP(B1327,SCHEDULE!$B$5:$O$143,D1327,FALSE))","v":",,1,SADA Sonix"},{"$f":"B1326","v":121},1,6]
[{"$f":"\",,\"&C1328&\",\"&IF(VLOOKUP(B1328,SCHEDULE!$B$5:$O$143,D1328,FALSE)=\" \",\",\",VLOOKUP(B1328,SCHEDULE!$B$5:$O$143,D1328,FALSE))","v":",,2,Outback Dragons"},{"$f":"B1327","v":121},2,7]
[{"$f":"\",,\"&C1329&\",\"&IF(VLOOKUP(B1329,SCHEDULE!$B$5:$O$143,D1329,FALSE)=\" \",\",\",VLOOKUP(B1329,SCHEDULE!$B$5:$O$143,D1329,FALSE))","v":",,3,ASA"},121,3,8]
[{"$f":"\",,\"&C1330&\",\"&IF(VLOOKUP(B1330,SCHEDULE!$B$5:$O$143,D1330,FALSE)=\" \",\",\",VLOOKUP(B1330,SCHEDULE!$B$5:$O$143,D1330,FALSE))","v":",,4,Gippsland United"},121,4,9]
[{"$f":"\",,\"&C1331&\",\"&IF(VLOOKUP(B1331,SCHEDULE!$B$5:$O$143,D1331,FALSE)=\" \",\",\",VLOOKUP(B1331,SCHEDULE!$B$5:$O$143,D1331,FALSE))","v":",,5,Dragonfire"},121,5,10]
[{"$f":"\",,\"&C1332&\",\"&IF(VLOOKUP(B1332,SCHEDULE!$B$5:$O$143,D1332,FALSE)=\" \",\",\",VLOOKUP(B1332,SCHEDULE!$B$5:$O$143,D1332,FALSE))","v":",,6,Kombo Dragons Green"},121,6,11]
[{"$f":"\",,\"&C1333&\",\"&IF(VLOOKUP(B1333,SCHEDULE!$B$5:$O$143,D1333,FALSE)=\" \",\",\",VLOOKUP(B1333,SCHEDULE!$B$5:$O$143,D1333,FALSE))","v":",,7,,"},121,7,12]
[{"$f":"\",,\"&C1334&\",\"&IF(VLOOKUP(B1334,SCHEDULE!$B$5:$O$143,D1334,FALSE)=\" \",\",\",VLOOKUP(B1334,SCHEDULE!$B$5:$O$143,D1334,FALSE))","v":",,8,,"},121,8,13]
[{"$f":"\",,\"&C1335&\",\"&IF(VLOOKUP(B1335,SCHEDULE!$B$5:$O$143,D1335,FALSE)=\" \",\",\",VLOOKUP(B1335,SCHEDULE!$B$5:$O$143,D1335,FALSE))","v":",,9,,"},121,9,14]
[]
[{"$f":"$A$2&\",\"&$A$3+100&\",\"&B1337&\",Race\"&B1337&\" - \"&VLOOKUP(B1337,SCHEDULE!$B$5:$C$143,2,FALSE)","v":"2023,1410,122,Race122 - Senior B Open 10"},{"$f":"B1326+1","v":122}]
[{"$f":"\",,\"&C1338&\",\"&IF(VLOOKUP(B1338,SCHEDULE!$B$5:$O$143,D1338,FALSE)=\" \",\",\",VLOOKUP(B1338,SCHEDULE!$B$5:$O$143,D1338,FALSE))","v":",,1,Black Sea Dragons"},{"$f":"B1337","v":122},1,6]
[{"$f":"\",,\"&C1339&\",\"&IF(VLOOKUP(B1339,SCHEDULE!$B$5:$O$143,D1339,FALSE)=\" \",\",\",VLOOKUP(B1339,SCHEDULE!$B$5:$O$143,D1339,FALSE))","v":",,2,Gypsy Dragons"},{"$f":"B1338","v":122},2,7]
[{"$f":"\",,\"&C1340&\",\"&IF(VLOOKUP(B1340,SCHEDULE!$B$5:$O$143,D1340,FALSE)=\" \",\",\",VLOOKUP(B1340,SCHEDULE!$B$5:$O$143,D1340,FALSE))","v":",,3,Mildura"},122,3,8]
[{"$f":"\",,\"&C1341&\",\"&IF(VLOOKUP(B1341,SCHEDULE!$B$5:$O$143,D1341,FALSE)=\" \",\",\",VLOOKUP(B1341,SCHEDULE!$B$5:$O$143,D1341,FALSE))","v":",,4,Kombo Dragons Purple"},122,4,9]
[{"$f":"\",,\"&C1342&\",\"&IF(VLOOKUP(B1342,SCHEDULE!$B$5:$O$143,D1342,FALSE)=\" \",\",\",VLOOKUP(B1342,SCHEDULE!$B$5:$O$143,D1342,FALSE))","v":",,5,Mannum"},122,5,10]
[{"$f":"\",,\"&C1343&\",\"&IF(VLOOKUP(B1343,SCHEDULE!$B$5:$O$143,D1343,FALSE)=\" \",\",\",VLOOKUP(B1343,SCHEDULE!$B$5:$O$143,D1343,FALSE))","v":",,6,,"},122,6,11]
[{"$f":"\",,\"&C1344&\",\"&IF(VLOOKUP(B1344,SCHEDULE!$B$5:$O$143,D1344,FALSE)=\" \",\",\",VLOOKUP(B1344,SCHEDULE!$B$5:$O$143,D1344,FALSE))","v":",,7,,"},122,7,12]
[{"$f":"\",,\"&C1345&\",\"&IF(VLOOKUP(B1345,SCHEDULE!$B$5:$O$143,D1345,FALSE)=\" \",\",\",VLOOKUP(B1345,SCHEDULE!$B$5:$O$143,D1345,FALSE))","v":",,8,,"},122,8,13]
[{"$f":"\",,\"&C1346&\",\"&IF(VLOOKUP(B1346,SCHEDULE!$B$5:$O$143,D1346,FALSE)=\" \",\",\",VLOOKUP(B1346,SCHEDULE!$B$5:$O$143,D1346,FALSE))","v":",,9,,"},122,9,14]
[]
[{"$f":"$A$2&\",\"&$A$3+100&\",\"&B1348&\",Race\"&B1348&\" - \"&VLOOKUP(B1348,SCHEDULE!$B$5:$C$143,2,FALSE)","v":"2023,1410,123,Race123 - BCS 20"},{"$f":"B1337+1","v":123}]
[{"$f":"\",,\"&C1349&\",\"&IF(VLOOKUP(B1349,SCHEDULE!$B$5:$O$143,D1349,FALSE)=\" \",\",\",VLOOKUP(B1349,SCHEDULE!$B$5:$O$143,D1349,FALSE))","v":",,1,,"},{"$f":"B1348","v":123},1,6]
[{"$f":"\",,\"&C1350&\",\"&IF(VLOOKUP(B1350,SCHEDULE!$B$5:$O$143,D1350,FALSE)=\" \",\",\",VLOOKUP(B1350,SCHEDULE!$B$5:$O$143,D1350,FALSE))","v":",,2,Juggernauts"},{"$f":"B1349","v":123},2,7]
[{"$f":"\",,\"&C1351&\",\"&IF(VLOOKUP(B1351,SCHEDULE!$B$5:$O$143,D1351,FALSE)=\" \",\",\",VLOOKUP(B1351,SCHEDULE!$B$5:$O$143,D1351,FALSE))","v":",,3,DA Bendigo"},123,3,8]
[{"$f":"\",,\"&C1352&\",\"&IF(VLOOKUP(B1352,SCHEDULE!$B$5:$O$143,D1352,FALSE)=\" \",\",\",VLOOKUP(B1352,SCHEDULE!$B$5:$O$143,D1352,FALSE))","v":",,4,Dragons Afloat Port Lincoln"},123,4,9]
[{"$f":"\",,\"&C1353&\",\"&IF(VLOOKUP(B1353,SCHEDULE!$B$5:$O$143,D1353,FALSE)=\" \",\",\",VLOOKUP(B1353,SCHEDULE!$B$5:$O$143,D1353,FALSE))","v":",,5,,"},123,5,10]
[{"$f":"\",,\"&C1354&\",\"&IF(VLOOKUP(B1354,SCHEDULE!$B$5:$O$143,D1354,FALSE)=\" \",\",\",VLOOKUP(B1354,SCHEDULE!$B$5:$O$143,D1354,FALSE))","v":",,6,,"},123,6,11]
[{"$f":"\",,\"&C1355&\",\"&IF(VLOOKUP(B1355,SCHEDULE!$B$5:$O$143,D1355,FALSE)=\" \",\",\",VLOOKUP(B1355,SCHEDULE!$B$5:$O$143,D1355,FALSE))","v":",,7,,"},123,7,12]
[{"$f":"\",,\"&C1356&\",\"&IF(VLOOKUP(B1356,SCHEDULE!$B$5:$O$143,D1356,FALSE)=\" \",\",\",VLOOKUP(B1356,SCHEDULE!$B$5:$O$143,D1356,FALSE))","v":",,8,,"},123,8,13]
[{"$f":"\",,\"&C1357&\",\"&IF(VLOOKUP(B1357,SCHEDULE!$B$5:$O$143,D1357,FALSE)=\" \",\",\",VLOOKUP(B1357,SCHEDULE!$B$5:$O$143,D1357,FALSE))","v":",,9,,"},123,9,14]
[]
[{"$f":"$A$2&\",\"&$A$3+100&\",\"&B1359&\",Race\"&B1359&\" - \"&VLOOKUP(B1359,SCHEDULE!$B$5:$C$143,2,FALSE)","v":"2023,1410,124,Race124 - Senior B Women 20"},{"$f":"B1348+1","v":124}]
[{"$f":"\",,\"&C1360&\",\"&IF(VLOOKUP(B1360,SCHEDULE!$B$5:$O$143,D1360,FALSE)=\" \",\",\",VLOOKUP(B1360,SCHEDULE!$B$5:$O$143,D1360,FALSE))","v":",,1,Newcastle Dragon Hunters Red"},{"$f":"B1359","v":124},1,6]
[{"$f":"\",,\"&C1361&\",\"&IF(VLOOKUP(B1361,SCHEDULE!$B$5:$O$143,D1361,FALSE)=\" \",\",\",VLOOKUP(B1361,SCHEDULE!$B$5:$O$143,D1361,FALSE))","v":",,2,Deepwater Green"},{"$f":"B1360","v":124},2,7]
[{"$f":"\",,\"&C1362&\",\"&IF(VLOOKUP(B1362,SCHEDULE!$B$5:$O$143,D1362,FALSE)=\" \",\",\",VLOOKUP(B1362,SCHEDULE!$B$5:$O$143,D1362,FALSE))","v":",,3,Gippsland United"},124,3,8]
[{"$f":"\",,\"&C1363&\",\"&IF(VLOOKUP(B1363,SCHEDULE!$B$5:$O$143,D1363,FALSE)=\" \",\",\",VLOOKUP(B1363,SCHEDULE!$B$5:$O$143,D1363,FALSE))","v":",,4,SADA Sonix"},124,4,9]
[{"$f":"\",,\"&C1364&\",\"&IF(VLOOKUP(B1364,SCHEDULE!$B$5:$O$143,D1364,FALSE)=\" \",\",\",VLOOKUP(B1364,SCHEDULE!$B$5:$O$143,D1364,FALSE))","v":",,5,Hunter River Dragons"},124,5,10]
[{"$f":"\",,\"&C1365&\",\"&IF(VLOOKUP(B1365,SCHEDULE!$B$5:$O$143,D1365,FALSE)=\" \",\",\",VLOOKUP(B1365,SCHEDULE!$B$5:$O$143,D1365,FALSE))","v":",,6,Motley Crew"},124,6,11]
[{"$f":"\",,\"&C1366&\",\"&IF(VLOOKUP(B1366,SCHEDULE!$B$5:$O$143,D1366,FALSE)=\" \",\",\",VLOOKUP(B1366,SCHEDULE!$B$5:$O$143,D1366,FALSE))","v":",,7,Southern Warriors"},124,7,12]
[{"$f":"\",,\"&C1367&\",\"&IF(VLOOKUP(B1367,SCHEDULE!$B$5:$O$143,D1367,FALSE)=\" \",\",\",VLOOKUP(B1367,SCHEDULE!$B$5:$O$143,D1367,FALSE))","v":",,8,,"},124,8,13]
[{"$f":"\",,\"&C1368&\",\"&IF(VLOOKUP(B1368,SCHEDULE!$B$5:$O$143,D1368,FALSE)=\" \",\",\",VLOOKUP(B1368,SCHEDULE!$B$5:$O$143,D1368,FALSE))","v":",,9,,"},124,9,14]
[]
[{"$f":"$A$2&\",\"&$A$3+100&\",\"&B1370&\",Race\"&B1370&\" - \"&VLOOKUP(B1370,SCHEDULE!$B$5:$C$143,2,FALSE)","v":"2023,1410,125,Race125 - Senior B Women 20"},{"$f":"B1359+1","v":125}]
[{"$f":"\",,\"&C1371&\",\"&IF(VLOOKUP(B1371,SCHEDULE!$B$5:$O$143,D1371,FALSE)=\" \",\",\",VLOOKUP(B1371,SCHEDULE!$B$5:$O$143,D1371,FALSE))","v":",,1,Rainbow Dragons"},{"$f":"B1370","v":125},1,6]
[{"$f":"\",,\"&C1372&\",\"&IF(VLOOKUP(B1372,SCHEDULE!$B$5:$O$143,D1372,FALSE)=\" \",\",\",VLOOKUP(B1372,SCHEDULE!$B$5:$O$143,D1372,FALSE))","v":",,2,FNC"},{"$f":"B1371","v":125},2,7]
[{"$f":"\",,\"&C1373&\",\"&IF(VLOOKUP(B1373,SCHEDULE!$B$5:$O$143,D1373,FALSE)=\" \",\",\",VLOOKUP(B1373,SCHEDULE!$B$5:$O$143,D1373,FALSE))","v":",,3,Dragons Afloat Bendigo"},125,3,8]
[{"$f":"\",,\"&C1374&\",\"&IF(VLOOKUP(B1374,SCHEDULE!$B$5:$O$143,D1374,FALSE)=\" \",\",\",VLOOKUP(B1374,SCHEDULE!$B$5:$O$143,D1374,FALSE))","v":",,4,Kombo Dragons Black"},125,4,9]
[{"$f":"\",,\"&C1375&\",\"&IF(VLOOKUP(B1375,SCHEDULE!$B$5:$O$143,D1375,FALSE)=\" \",\",\",VLOOKUP(B1375,SCHEDULE!$B$5:$O$143,D1375,FALSE))","v":",,5,Mildura"},125,5,10]
[{"$f":"\",,\"&C1376&\",\"&IF(VLOOKUP(B1376,SCHEDULE!$B$5:$O$143,D1376,FALSE)=\" \",\",\",VLOOKUP(B1376,SCHEDULE!$B$5:$O$143,D1376,FALSE))","v":",,6,Deepwater Purple"},125,6,11]
[{"$f":"\",,\"&C1377&\",\"&IF(VLOOKUP(B1377,SCHEDULE!$B$5:$O$143,D1377,FALSE)=\" \",\",\",VLOOKUP(B1377,SCHEDULE!$B$5:$O$143,D1377,FALSE))","v":",,7,Newcastle Dragon Hunters Purple"},125,7,12]
[{"$f":"\",,\"&C1378&\",\"&IF(VLOOKUP(B1378,SCHEDULE!$B$5:$O$143,D1378,FALSE)=\" \",\",\",VLOOKUP(B1378,SCHEDULE!$B$5:$O$143,D1378,FALSE))","v":",,8,,"},125,8,13]
[{"$f":"\",,\"&C1379&\",\"&IF(VLOOKUP(B1379,SCHEDULE!$B$5:$O$143,D1379,FALSE)=\" \",\",\",VLOOKUP(B1379,SCHEDULE!$B$5:$O$143,D1379,FALSE))","v":",,9,,"},125,9,14]
[]
[{"$f":"$A$2&\",\"&$A$3+100&\",\"&B1381&\",Race\"&B1381&\" - \"&VLOOKUP(B1381,SCHEDULE!$B$5:$C$143,2,FALSE)","v":"2023,1410,126,Race126 - Senior B Open 20"},{"$f":"B1370+1","v":126}]
[{"$f":"\",,\"&C1382&\",\"&IF(VLOOKUP(B1382,SCHEDULE!$B$5:$O$143,D1382,FALSE)=\" \",\",\",VLOOKUP(B1382,SCHEDULE!$B$5:$O$143,D1382,FALSE))","v":",,1,Hunter River Dragons"},{"$f":"B1381","v":126},1,6]
[{"$f":"\",,\"&C1383&\",\"&IF(VLOOKUP(B1383,SCHEDULE!$B$5:$O$143,D1383,FALSE)=\" \",\",\",VLOOKUP(B1383,SCHEDULE!$B$5:$O$143,D1383,FALSE))","v":",,2,Gypsy Dragons"},{"$f":"B1382","v":126},2,7]
[{"$f":"\",,\"&C1384&\",\"&IF(VLOOKUP(B1384,SCHEDULE!$B$5:$O$143,D1384,FALSE)=\" \",\",\",VLOOKUP(B1384,SCHEDULE!$B$5:$O$143,D1384,FALSE))","v":",,3,Newcastle Dragon Hunters Red"},126,3,8]
[{"$f":"\",,\"&C1385&\",\"&IF(VLOOKUP(B1385,SCHEDULE!$B$5:$O$143,D1385,FALSE)=\" \",\",\",VLOOKUP(B1385,SCHEDULE!$B$5:$O$143,D1385,FALSE))","v":",,4,Southern Warriors"},126,4,9]
[{"$f":"\",,\"&C1386&\",\"&IF(VLOOKUP(B1386,SCHEDULE!$B$5:$O$143,D1386,FALSE)=\" \",\",\",VLOOKUP(B1386,SCHEDULE!$B$5:$O$143,D1386,FALSE))","v":",,5,Gippsland United"},126,5,10]
[{"$f":"\",,\"&C1387&\",\"&IF(VLOOKUP(B1387,SCHEDULE!$B$5:$O$143,D1387,FALSE)=\" \",\",\",VLOOKUP(B1387,SCHEDULE!$B$5:$O$143,D1387,FALSE))","v":",,6,,"},126,6,11]
[{"$f":"\",,\"&C1388&\",\"&IF(VLOOKUP(B1388,SCHEDULE!$B$5:$O$143,D1388,FALSE)=\" \",\",\",VLOOKUP(B1388,SCHEDULE!$B$5:$O$143,D1388,FALSE))","v":",,7,,"},126,7,12]
[{"$f":"\",,\"&C1389&\",\"&IF(VLOOKUP(B1389,SCHEDULE!$B$5:$O$143,D1389,FALSE)=\" \",\",\",VLOOKUP(B1389,SCHEDULE!$B$5:$O$143,D1389,FALSE))","v":",,8,,"},126,8,13]
[{"$f":"\",,\"&C1390&\",\"&IF(VLOOKUP(B1390,SCHEDULE!$B$5:$O$143,D1390,FALSE)=\" \",\",\",VLOOKUP(B1390,SCHEDULE!$B$5:$O$143,D1390,FALSE))","v":",,9,,"},126,9,14]
[]
[{"$f":"$A$2&\",\"&$A$3+100&\",\"&B1392&\",Race\"&B1392&\" - \"&VLOOKUP(B1392,SCHEDULE!$B$5:$C$143,2,FALSE)","v":"2023,1410,127,Race127 - Senior B Open 20"},{"$f":"B1381+1","v":127}]
[{"$f":"\",,\"&C1393&\",\"&IF(VLOOKUP(B1393,SCHEDULE!$B$5:$O$143,D1393,FALSE)=\" \",\",\",VLOOKUP(B1393,SCHEDULE!$B$5:$O$143,D1393,FALSE))","v":",,1,Outback Dragons"},{"$f":"B1392","v":127},1,6]
[{"$f":"\",,\"&C1394&\",\"&IF(VLOOKUP(B1394,SCHEDULE!$B$5:$O$143,D1394,FALSE)=\" \",\",\",VLOOKUP(B1394,SCHEDULE!$B$5:$O$143,D1394,FALSE))","v":",,2,Newcastle Dragon Hunters Purple"},{"$f":"B1393","v":127},2,7]
[{"$f":"\",,\"&C1395&\",\"&IF(VLOOKUP(B1395,SCHEDULE!$B$5:$O$143,D1395,FALSE)=\" \",\",\",VLOOKUP(B1395,SCHEDULE!$B$5:$O$143,D1395,FALSE))","v":",,3,Motley Crew"},127,3,8]
[{"$f":"\",,\"&C1396&\",\"&IF(VLOOKUP(B1396,SCHEDULE!$B$5:$O$143,D1396,FALSE)=\" \",\",\",VLOOKUP(B1396,SCHEDULE!$B$5:$O$143,D1396,FALSE))","v":",,4,Kombo Dragons"},127,4,9]
[{"$f":"\",,\"&C1397&\",\"&IF(VLOOKUP(B1397,SCHEDULE!$B$5:$O$143,D1397,FALSE)=\" \",\",\",VLOOKUP(B1397,SCHEDULE!$B$5:$O$143,D1397,FALSE))","v":",,5,Deepwater"},127,5,10]
[{"$f":"\",,\"&C1398&\",\"&IF(VLOOKUP(B1398,SCHEDULE!$B$5:$O$143,D1398,FALSE)=\" \",\",\",VLOOKUP(B1398,SCHEDULE!$B$5:$O$143,D1398,FALSE))","v":",,6,,"},127,6,11]
[{"$f":"\",,\"&C1399&\",\"&IF(VLOOKUP(B1399,SCHEDULE!$B$5:$O$143,D1399,FALSE)=\" \",\",\",VLOOKUP(B1399,SCHEDULE!$B$5:$O$143,D1399,FALSE))","v":",,7,,"},127,7,12]
[{"$f":"\",,\"&C1400&\",\"&IF(VLOOKUP(B1400,SCHEDULE!$B$5:$O$143,D1400,FALSE)=\" \",\",\",VLOOKUP(B1400,SCHEDULE!$B$5:$O$143,D1400,FALSE))","v":",,8,,"},127,8,13]
[{"$f":"\",,\"&C1401&\",\"&IF(VLOOKUP(B1401,SCHEDULE!$B$5:$O$143,D1401,FALSE)=\" \",\",\",VLOOKUP(B1401,SCHEDULE!$B$5:$O$143,D1401,FALSE))","v":",,9,,"},127,9,14]
[]
[{"$f":"$A$2&\",\"&$A$3+100&\",\"&B1403&\",Race\"&B1403&\" - \"&VLOOKUP(B1403,SCHEDULE!$B$5:$C$143,2,FALSE)","v":"2023,1410,128,Race128 - Senior A Women 10"},{"$f":"B1392+1","v":128}]
[{"$f":"\",,\"&C1404&\",\"&IF(VLOOKUP(B1404,SCHEDULE!$B$5:$O$143,D1404,FALSE)=\" \",\",\",VLOOKUP(B1404,SCHEDULE!$B$5:$O$143,D1404,FALSE))","v":",,1,Gippsland United"},{"$f":"B1403","v":128},1,6]
[{"$f":"\",,\"&C1405&\",\"&IF(VLOOKUP(B1405,SCHEDULE!$B$5:$O$143,D1405,FALSE)=\" \",\",\",VLOOKUP(B1405,SCHEDULE!$B$5:$O$143,D1405,FALSE))","v":",,2,Rainbow Dragons"},{"$f":"B1404","v":128},2,7]
[{"$f":"\",,\"&C1406&\",\"&IF(VLOOKUP(B1406,SCHEDULE!$B$5:$O$143,D1406,FALSE)=\" \",\",\",VLOOKUP(B1406,SCHEDULE!$B$5:$O$143,D1406,FALSE))","v":",,3,Mildura"},128,3,8]
[{"$f":"\",,\"&C1407&\",\"&IF(VLOOKUP(B1407,SCHEDULE!$B$5:$O$143,D1407,FALSE)=\" \",\",\",VLOOKUP(B1407,SCHEDULE!$B$5:$O$143,D1407,FALSE))","v":",,4,Goolwa River Dragons"},128,4,9]
[{"$f":"\",,\"&C1408&\",\"&IF(VLOOKUP(B1408,SCHEDULE!$B$5:$O$143,D1408,FALSE)=\" \",\",\",VLOOKUP(B1408,SCHEDULE!$B$5:$O$143,D1408,FALSE))","v":",,5,Golden Dragons"},128,5,10]
[{"$f":"\",,\"&C1409&\",\"&IF(VLOOKUP(B1409,SCHEDULE!$B$5:$O$143,D1409,FALSE)=\" \",\",\",VLOOKUP(B1409,SCHEDULE!$B$5:$O$143,D1409,FALSE))","v":",,6,Diamond Phoenix"},128,6,11]
[{"$f":"\",,\"&C1410&\",\"&IF(VLOOKUP(B1410,SCHEDULE!$B$5:$O$143,D1410,FALSE)=\" \",\",\",VLOOKUP(B1410,SCHEDULE!$B$5:$O$143,D1410,FALSE))","v":",,7,,"},128,7,12]
[{"$f":"\",,\"&C1411&\",\"&IF(VLOOKUP(B1411,SCHEDULE!$B$5:$O$143,D1411,FALSE)=\" \",\",\",VLOOKUP(B1411,SCHEDULE!$B$5:$O$143,D1411,FALSE))","v":",,8,,"},128,8,13]
[{"$f":"\",,\"&C1412&\",\"&IF(VLOOKUP(B1412,SCHEDULE!$B$5:$O$143,D1412,FALSE)=\" \",\",\",VLOOKUP(B1412,SCHEDULE!$B$5:$O$143,D1412,FALSE))","v":",,9,,"},128,9,14]
[]
[{"$f":"$A$2&\",\"&$A$3+100&\",\"&B1414&\",Race\"&B1414&\" - \"&VLOOKUP(B1414,SCHEDULE!$B$5:$C$143,2,FALSE)","v":"2023,1410,129,Race129 - Senior A Women 10"},{"$f":"B1403+1","v":129}]
[{"$f":"\",,\"&C1415&\",\"&IF(VLOOKUP(B1415,SCHEDULE!$B$5:$O$143,D1415,FALSE)=\" \",\",\",VLOOKUP(B1415,SCHEDULE!$B$5:$O$143,D1415,FALSE))","v":",,1,FNC"},{"$f":"B1414","v":129},1,6]
[{"$f":"\",,\"&C1416&\",\"&IF(VLOOKUP(B1416,SCHEDULE!$B$5:$O$143,D1416,FALSE)=\" \",\",\",VLOOKUP(B1416,SCHEDULE!$B$5:$O$143,D1416,FALSE))","v":",,2,Hunter River Dragons"},{"$f":"B1415","v":129},2,7]
[{"$f":"\",,\"&C1417&\",\"&IF(VLOOKUP(B1417,SCHEDULE!$B$5:$O$143,D1417,FALSE)=\" \",\",\",VLOOKUP(B1417,SCHEDULE!$B$5:$O$143,D1417,FALSE))","v":",,3,Dragons Abreast Adelaide"},129,3,8]
[{"$f":"\",,\"&C1418&\",\"&IF(VLOOKUP(B1418,SCHEDULE!$B$5:$O$143,D1418,FALSE)=\" \",\",\",VLOOKUP(B1418,SCHEDULE!$B$5:$O$143,D1418,FALSE))","v":",,4,Kombo Dragons Purple"},129,4,9]
[{"$f":"\",,\"&C1419&\",\"&IF(VLOOKUP(B1419,SCHEDULE!$B$5:$O$143,D1419,FALSE)=\" \",\",\",VLOOKUP(B1419,SCHEDULE!$B$5:$O$143,D1419,FALSE))","v":",,5,Black Sea Dragons"},129,5,10]
[{"$f":"\",,\"&C1420&\",\"&IF(VLOOKUP(B1420,SCHEDULE!$B$5:$O$143,D1420,FALSE)=\" \",\",\",VLOOKUP(B1420,SCHEDULE!$B$5:$O$143,D1420,FALSE))","v":",,6,Peninsula Dragonflys"},129,6,11]
[{"$f":"\",,\"&C1421&\",\"&IF(VLOOKUP(B1421,SCHEDULE!$B$5:$O$143,D1421,FALSE)=\" \",\",\",VLOOKUP(B1421,SCHEDULE!$B$5:$O$143,D1421,FALSE))","v":",,7,Deepwater"},129,7,12]
[{"$f":"\",,\"&C1422&\",\"&IF(VLOOKUP(B1422,SCHEDULE!$B$5:$O$143,D1422,FALSE)=\" \",\",\",VLOOKUP(B1422,SCHEDULE!$B$5:$O$143,D1422,FALSE))","v":",,8,,"},129,8,13]
[{"$f":"\",,\"&C1423&\",\"&IF(VLOOKUP(B1423,SCHEDULE!$B$5:$O$143,D1423,FALSE)=\" \",\",\",VLOOKUP(B1423,SCHEDULE!$B$5:$O$143,D1423,FALSE))","v":",,9,,"},129,9,14]
[]
[{"$f":"$A$2&\",\"&$A$3+100&\",\"&B1425&\",Race\"&B1425&\" - \"&VLOOKUP(B1425,SCHEDULE!$B$5:$C$143,2,FALSE)","v":"2023,1410,130,Race130 - Senior A Women 10"},{"$f":"B1414+1","v":130}]
[{"$f":"\",,\"&C1426&\",\"&IF(VLOOKUP(B1426,SCHEDULE!$B$5:$O$143,D1426,FALSE)=\" \",\",\",VLOOKUP(B1426,SCHEDULE!$B$5:$O$143,D1426,FALSE))","v":",,1,Powerblades"},{"$f":"B1425","v":130},1,6]
[{"$f":"\",,\"&C1427&\",\"&IF(VLOOKUP(B1427,SCHEDULE!$B$5:$O$143,D1427,FALSE)=\" \",\",\",VLOOKUP(B1427,SCHEDULE!$B$5:$O$143,D1427,FALSE))","v":",,2,Pink Dragons"},{"$f":"B1426","v":130},2,7]
[{"$f":"\",,\"&C1428&\",\"&IF(VLOOKUP(B1428,SCHEDULE!$B$5:$O$143,D1428,FALSE)=\" \",\",\",VLOOKUP(B1428,SCHEDULE!$B$5:$O$143,D1428,FALSE))","v":",,3,Kombo Dragons Black"},130,3,8]
[{"$f":"\",,\"&C1429&\",\"&IF(VLOOKUP(B1429,SCHEDULE!$B$5:$O$143,D1429,FALSE)=\" \",\",\",VLOOKUP(B1429,SCHEDULE!$B$5:$O$143,D1429,FALSE))","v":",,4,SADA Sonix"},130,4,9]
[{"$f":"\",,\"&C1430&\",\"&IF(VLOOKUP(B1430,SCHEDULE!$B$5:$O$143,D1430,FALSE)=\" \",\",\",VLOOKUP(B1430,SCHEDULE!$B$5:$O$143,D1430,FALSE))","v":",,5,Southern Warriors"},130,5,10]
[{"$f":"\",,\"&C1431&\",\"&IF(VLOOKUP(B1431,SCHEDULE!$B$5:$O$143,D1431,FALSE)=\" \",\",\",VLOOKUP(B1431,SCHEDULE!$B$5:$O$143,D1431,FALSE))","v":",,6,Dragonfire"},130,6,11]
[{"$f":"\",,\"&C1432&\",\"&IF(VLOOKUP(B1432,SCHEDULE!$B$5:$O$143,D1432,FALSE)=\" \",\",\",VLOOKUP(B1432,SCHEDULE!$B$5:$O$143,D1432,FALSE))","v":",,7,Newcastle Dragon Hunters"},130,7,12]
[{"$f":"\",,\"&C1433&\",\"&IF(VLOOKUP(B1433,SCHEDULE!$B$5:$O$143,D1433,FALSE)=\" \",\",\",VLOOKUP(B1433,SCHEDULE!$B$5:$O$143,D1433,FALSE))","v":",,8,,"},130,8,13]
[{"$f":"\",,\"&C1434&\",\"&IF(VLOOKUP(B1434,SCHEDULE!$B$5:$O$143,D1434,FALSE)=\" \",\",\",VLOOKUP(B1434,SCHEDULE!$B$5:$O$143,D1434,FALSE))","v":",,9,,"},130,9,14]
[]
[{"$f":"$A$2&\",\"&$A$3+100&\",\"&B1436&\",Race\"&B1436&\" - \"&VLOOKUP(B1436,SCHEDULE!$B$5:$C$143,2,FALSE)","v":"2023,1410,131,Race131 - Senior A Open 10"},{"$f":"B1425+1","v":131}]
[{"$f":"\",,\"&C1437&\",\"&IF(VLOOKUP(B1437,SCHEDULE!$B$5:$O$143,D1437,FALSE)=\" \",\",\",VLOOKUP(B1437,SCHEDULE!$B$5:$O$143,D1437,FALSE))","v":",,1,Diamond Phoenix"},{"$f":"B1436","v":131},1,6]
[{"$f":"\",,\"&C1438&\",\"&IF(VLOOKUP(B1438,SCHEDULE!$B$5:$O$143,D1438,FALSE)=\" \",\",\",VLOOKUP(B1438,SCHEDULE!$B$5:$O$143,D1438,FALSE))","v":",,2,FNC"},{"$f":"B1437","v":131},2,7]
[{"$f":"\",,\"&C1439&\",\"&IF(VLOOKUP(B1439,SCHEDULE!$B$5:$O$143,D1439,FALSE)=\" \",\",\",VLOOKUP(B1439,SCHEDULE!$B$5:$O$143,D1439,FALSE))","v":",,3,Hunter River Dragons"},131,3,8]
[{"$f":"\",,\"&C1440&\",\"&IF(VLOOKUP(B1440,SCHEDULE!$B$5:$O$143,D1440,FALSE)=\" \",\",\",VLOOKUP(B1440,SCHEDULE!$B$5:$O$143,D1440,FALSE))","v":",,4,Kombo Dragons Green"},131,4,9]
[{"$f":"\",,\"&C1441&\",\"&IF(VLOOKUP(B1441,SCHEDULE!$B$5:$O$143,D1441,FALSE)=\" \",\",\",VLOOKUP(B1441,SCHEDULE!$B$5:$O$143,D1441,FALSE))","v":",,5,Deepwater"},131,5,10]
[{"$f":"\",,\"&C1442&\",\"&IF(VLOOKUP(B1442,SCHEDULE!$B$5:$O$143,D1442,FALSE)=\" \",\",\",VLOOKUP(B1442,SCHEDULE!$B$5:$O$143,D1442,FALSE))","v":",,6,,"},131,6,11]
[{"$f":"\",,\"&C1443&\",\"&IF(VLOOKUP(B1443,SCHEDULE!$B$5:$O$143,D1443,FALSE)=\" \",\",\",VLOOKUP(B1443,SCHEDULE!$B$5:$O$143,D1443,FALSE))","v":",,7,,"},131,7,12]
[{"$f":"\",,\"&C1444&\",\"&IF(VLOOKUP(B1444,SCHEDULE!$B$5:$O$143,D1444,FALSE)=\" \",\",\",VLOOKUP(B1444,SCHEDULE!$B$5:$O$143,D1444,FALSE))","v":",,8,,"},131,8,13]
[{"$f":"\",,\"&C1445&\",\"&IF(VLOOKUP(B1445,SCHEDULE!$B$5:$O$143,D1445,FALSE)=\" \",\",\",VLOOKUP(B1445,SCHEDULE!$B$5:$O$143,D1445,FALSE))","v":",,9,,"},131,9,14]
[]
[{"$f":"$A$2&\",\"&$A$3+100&\",\"&B1447&\",Race\"&B1447&\" - \"&VLOOKUP(B1447,SCHEDULE!$B$5:$C$143,2,FALSE)","v":"2023,1410,132,Race132 - Senior A Open 10"},{"$f":"B1436+1","v":132}]
[{"$f":"\",,\"&C1448&\",\"&IF(VLOOKUP(B1448,SCHEDULE!$B$5:$O$143,D1448,FALSE)=\" \",\",\",VLOOKUP(B1448,SCHEDULE!$B$5:$O$143,D1448,FALSE))","v":",,1,Broadwater Dragons"},{"$f":"B1447","v":132},1,6]
[{"$f":"\",,\"&C1449&\",\"&IF(VLOOKUP(B1449,SCHEDULE!$B$5:$O$143,D1449,FALSE)=\" \",\",\",VLOOKUP(B1449,SCHEDULE!$B$5:$O$143,D1449,FALSE))","v":",,2,Dragonfire"},{"$f":"B1448","v":132},2,7]
[{"$f":"\",,\"&C1450&\",\"&IF(VLOOKUP(B1450,SCHEDULE!$B$5:$O$143,D1450,FALSE)=\" \",\",\",VLOOKUP(B1450,SCHEDULE!$B$5:$O$143,D1450,FALSE))","v":",,3,Kombo Dragons Black"},132,3,8]
[{"$f":"\",,\"&C1451&\",\"&IF(VLOOKUP(B1451,SCHEDULE!$B$5:$O$143,D1451,FALSE)=\" \",\",\",VLOOKUP(B1451,SCHEDULE!$B$5:$O$143,D1451,FALSE))","v":",,4,Southern Warriors"},132,4,9]
[{"$f":"\",,\"&C1452&\",\"&IF(VLOOKUP(B1452,SCHEDULE!$B$5:$O$143,D1452,FALSE)=\" \",\",\",VLOOKUP(B1452,SCHEDULE!$B$5:$O$143,D1452,FALSE))","v":",,5,Mildura"},132,5,10]
[{"$f":"\",,\"&C1453&\",\"&IF(VLOOKUP(B1453,SCHEDULE!$B$5:$O$143,D1453,FALSE)=\" \",\",\",VLOOKUP(B1453,SCHEDULE!$B$5:$O$143,D1453,FALSE))","v":",,6,,"},132,6,11]
[{"$f":"\",,\"&C1454&\",\"&IF(VLOOKUP(B1454,SCHEDULE!$B$5:$O$143,D1454,FALSE)=\" \",\",\",VLOOKUP(B1454,SCHEDULE!$B$5:$O$143,D1454,FALSE))","v":",,7,,"},132,7,12]
[{"$f":"\",,\"&C1455&\",\"&IF(VLOOKUP(B1455,SCHEDULE!$B$5:$O$143,D1455,FALSE)=\" \",\",\",VLOOKUP(B1455,SCHEDULE!$B$5:$O$143,D1455,FALSE))","v":",,8,,"},132,8,13]
[{"$f":"\",,\"&C1456&\",\"&IF(VLOOKUP(B1456,SCHEDULE!$B$5:$O$143,D1456,FALSE)=\" \",\",\",VLOOKUP(B1456,SCHEDULE!$B$5:$O$143,D1456,FALSE))","v":",,9,,"},132,9,14]
[]
[{"$f":"$A$2&\",\"&$A$3+100&\",\"&B1458&\",Race\"&B1458&\" - \"&VLOOKUP(B1458,SCHEDULE!$B$5:$C$143,2,FALSE)","v":"2023,1410,133,Race133 - Senior A Open 10"},{"$f":"B1447+1","v":133}]
[{"$f":"\",,\"&C1459&\",\"&IF(VLOOKUP(B1459,SCHEDULE!$B$5:$O$143,D1459,FALSE)=\" \",\",\",VLOOKUP(B1459,SCHEDULE!$B$5:$O$143,D1459,FALSE))","v":",,1,Gippsland United"},{"$f":"B1458","v":133},1,6]
[{"$f":"\",,\"&C1460&\",\"&IF(VLOOKUP(B1460,SCHEDULE!$B$5:$O$143,D1460,FALSE)=\" \",\",\",VLOOKUP(B1460,SCHEDULE!$B$5:$O$143,D1460,FALSE))","v":",,2,Black Sea Dragons"},{"$f":"B1459","v":133},2,7]
[{"$f":"\",,\"&C1461&\",\"&IF(VLOOKUP(B1461,SCHEDULE!$B$5:$O$143,D1461,FALSE)=\" \",\",\",VLOOKUP(B1461,SCHEDULE!$B$5:$O$143,D1461,FALSE))","v":",,3,Goolwa River Dragons"},133,3,8]
[{"$f":"\",,\"&C1462&\",\"&IF(VLOOKUP(B1462,SCHEDULE!$B$5:$O$143,D1462,FALSE)=\" \",\",\",VLOOKUP(B1462,SCHEDULE!$B$5:$O$143,D1462,FALSE))","v":",,4,Pink Dragons"},133,4,9]
[{"$f":"\",,\"&C1463&\",\"&IF(VLOOKUP(B1463,SCHEDULE!$B$5:$O$143,D1463,FALSE)=\" \",\",\",VLOOKUP(B1463,SCHEDULE!$B$5:$O$143,D1463,FALSE))","v":",,5,Kombo Dragons Purple"},133,5,10]
[{"$f":"\",,\"&C1464&\",\"&IF(VLOOKUP(B1464,SCHEDULE!$B$5:$O$143,D1464,FALSE)=\" \",\",\",VLOOKUP(B1464,SCHEDULE!$B$5:$O$143,D1464,FALSE))","v":",,6,,"},133,6,11]
[{"$f":"\",,\"&C1465&\",\"&IF(VLOOKUP(B1465,SCHEDULE!$B$5:$O$143,D1465,FALSE)=\" \",\",\",VLOOKUP(B1465,SCHEDULE!$B$5:$O$143,D1465,FALSE))","v":",,7,,"},133,7,12]
[{"$f":"\",,\"&C1466&\",\"&IF(VLOOKUP(B1466,SCHEDULE!$B$5:$O$143,D1466,FALSE)=\" \",\",\",VLOOKUP(B1466,SCHEDULE!$B$5:$O$143,D1466,FALSE))","v":",,8,,"},133,8,13]
[{"$f":"\",,\"&C1467&\",\"&IF(VLOOKUP(B1467,SCHEDULE!$B$5:$O$143,D1467,FALSE)=\" \",\",\",VLOOKUP(B1467,SCHEDULE!$B$5:$O$143,D1467,FALSE))","v":",,9,,"},133,9,14]
[]
[{"$f":"$A$2&\",\"&$A$3+100&\",\"&B1469&\",Race\"&B1469&\" - \"&VLOOKUP(B1469,SCHEDULE!$B$5:$C$143,2,FALSE)","v":"2023,1410,134,Race134 - Senior A Women 20"},{"$f":"B1458+1","v":134}]
[{"$f":"\",,\"&C1470&\",\"&IF(VLOOKUP(B1470,SCHEDULE!$B$5:$O$143,D1470,FALSE)=\" \",\",\",VLOOKUP(B1470,SCHEDULE!$B$5:$O$143,D1470,FALSE))","v":",,1,Deepwater Dragons"},{"$f":"B1469","v":134},1,6]
[{"$f":"\",,\"&C1471&\",\"&IF(VLOOKUP(B1471,SCHEDULE!$B$5:$O$143,D1471,FALSE)=\" \",\",\",VLOOKUP(B1471,SCHEDULE!$B$5:$O$143,D1471,FALSE))","v":",,2,Dragons Abreast Adelaide"},{"$f":"B1470","v":134},2,7]
[{"$f":"\",,\"&C1472&\",\"&IF(VLOOKUP(B1472,SCHEDULE!$B$5:$O$143,D1472,FALSE)=\" \",\",\",VLOOKUP(B1472,SCHEDULE!$B$5:$O$143,D1472,FALSE))","v":",,3,Newcastle Dragon Hunters"},134,3,8]
[{"$f":"\",,\"&C1473&\",\"&IF(VLOOKUP(B1473,SCHEDULE!$B$5:$O$143,D1473,FALSE)=\" \",\",\",VLOOKUP(B1473,SCHEDULE!$B$5:$O$143,D1473,FALSE))","v":",,4,Hunter River dragons"},134,4,9]
[{"$f":"\",,\"&C1474&\",\"&IF(VLOOKUP(B1474,SCHEDULE!$B$5:$O$143,D1474,FALSE)=\" \",\",\",VLOOKUP(B1474,SCHEDULE!$B$5:$O$143,D1474,FALSE))","v":",,5,Broadwater Dragons"},134,5,10]
[{"$f":"\",,\"&C1475&\",\"&IF(VLOOKUP(B1475,SCHEDULE!$B$5:$O$143,D1475,FALSE)=\" \",\",\",VLOOKUP(B1475,SCHEDULE!$B$5:$O$143,D1475,FALSE))","v":",,6,,"},134,6,11]
[{"$f":"\",,\"&C1476&\",\"&IF(VLOOKUP(B1476,SCHEDULE!$B$5:$O$143,D1476,FALSE)=\" \",\",\",VLOOKUP(B1476,SCHEDULE!$B$5:$O$143,D1476,FALSE))","v":",,7,,"},134,7,12]
[{"$f":"\",,\"&C1477&\",\"&IF(VLOOKUP(B1477,SCHEDULE!$B$5:$O$143,D1477,FALSE)=\" \",\",\",VLOOKUP(B1477,SCHEDULE!$B$5:$O$143,D1477,FALSE))","v":",,8,,"},134,8,13]
[{"$f":"\",,\"&C1478&\",\"&IF(VLOOKUP(B1478,SCHEDULE!$B$5:$O$143,D1478,FALSE)=\" \",\",\",VLOOKUP(B1478,SCHEDULE!$B$5:$O$143,D1478,FALSE))","v":",,9,,"},134,9,14]
[]
[{"$f":"$A$2&\",\"&$A$3+100&\",\"&B1480&\",Race\"&B1480&\" - \"&VLOOKUP(B1480,SCHEDULE!$B$5:$C$143,2,FALSE)","v":"2023,1410,135,Race135 - Senior A Women 20"},{"$f":"B1469+1","v":135}]
[{"$f":"\",,\"&C1481&\",\"&IF(VLOOKUP(B1481,SCHEDULE!$B$5:$O$143,D1481,FALSE)=\" \",\",\",VLOOKUP(B1481,SCHEDULE!$B$5:$O$143,D1481,FALSE))","v":",,1,Peninsula Dragonflys"},{"$f":"B1480","v":135},1,6]
[{"$f":"\",,\"&C1482&\",\"&IF(VLOOKUP(B1482,SCHEDULE!$B$5:$O$143,D1482,FALSE)=\" \",\",\",VLOOKUP(B1482,SCHEDULE!$B$5:$O$143,D1482,FALSE))","v":",,2,Kombo Dragons Black"},{"$f":"B1481","v":135},2,7]
[{"$f":"\",,\"&C1483&\",\"&IF(VLOOKUP(B1483,SCHEDULE!$B$5:$O$143,D1483,FALSE)=\" \",\",\",VLOOKUP(B1483,SCHEDULE!$B$5:$O$143,D1483,FALSE))","v":",,3,Powerblades"},135,3,8]
[{"$f":"\",,\"&C1484&\",\"&IF(VLOOKUP(B1484,SCHEDULE!$B$5:$O$143,D1484,FALSE)=\" \",\",\",VLOOKUP(B1484,SCHEDULE!$B$5:$O$143,D1484,FALSE))","v":",,4,Golden Dragons"},135,4,9]
[{"$f":"\",,\"&C1485&\",\"&IF(VLOOKUP(B1485,SCHEDULE!$B$5:$O$143,D1485,FALSE)=\" \",\",\",VLOOKUP(B1485,SCHEDULE!$B$5:$O$143,D1485,FALSE))","v":",,5,Pink Dragons"},135,5,10]
[{"$f":"\",,\"&C1486&\",\"&IF(VLOOKUP(B1486,SCHEDULE!$B$5:$O$143,D1486,FALSE)=\" \",\",\",VLOOKUP(B1486,SCHEDULE!$B$5:$O$143,D1486,FALSE))","v":",,6,,"},135,6,11]
[{"$f":"\",,\"&C1487&\",\"&IF(VLOOKUP(B1487,SCHEDULE!$B$5:$O$143,D1487,FALSE)=\" \",\",\",VLOOKUP(B1487,SCHEDULE!$B$5:$O$143,D1487,FALSE))","v":",,7,,"},135,7,12]
[{"$f":"\",,\"&C1488&\",\"&IF(VLOOKUP(B1488,SCHEDULE!$B$5:$O$143,D1488,FALSE)=\" \",\",\",VLOOKUP(B1488,SCHEDULE!$B$5:$O$143,D1488,FALSE))","v":",,8,,"},135,8,13]
[{"$f":"\",,\"&C1489&\",\"&IF(VLOOKUP(B1489,SCHEDULE!$B$5:$O$143,D1489,FALSE)=\" \",\",\",VLOOKUP(B1489,SCHEDULE!$B$5:$O$143,D1489,FALSE))","v":",,9,,"},135,9,14]
[]
[{"$f":"$A$2&\",\"&$A$3+100&\",\"&B1491&\",Race\"&B1491&\" - \"&VLOOKUP(B1491,SCHEDULE!$B$5:$C$143,2,FALSE)","v":"2023,1410,136,Race136 - Senior A Women 20"},{"$f":"B1480+1","v":136}]
[{"$f":"\",,\"&C1492&\",\"&IF(VLOOKUP(B1492,SCHEDULE!$B$5:$O$143,D1492,FALSE)=\" \",\",\",VLOOKUP(B1492,SCHEDULE!$B$5:$O$143,D1492,FALSE))","v":",,1,Gippsland United"},{"$f":"B1491","v":136},1,6]
[{"$f":"\",,\"&C1493&\",\"&IF(VLOOKUP(B1493,SCHEDULE!$B$5:$O$143,D1493,FALSE)=\" \",\",\",VLOOKUP(B1493,SCHEDULE!$B$5:$O$143,D1493,FALSE))","v":",,2,SADA Sonix"},{"$f":"B1492","v":136},2,7]
[{"$f":"\",,\"&C1494&\",\"&IF(VLOOKUP(B1494,SCHEDULE!$B$5:$O$143,D1494,FALSE)=\" \",\",\",VLOOKUP(B1494,SCHEDULE!$B$5:$O$143,D1494,FALSE))","v":",,3,Motley Crew"},136,3,8]
[{"$f":"\",,\"&C1495&\",\"&IF(VLOOKUP(B1495,SCHEDULE!$B$5:$O$143,D1495,FALSE)=\" \",\",\",VLOOKUP(B1495,SCHEDULE!$B$5:$O$143,D1495,FALSE))","v":",,4,Southern Warriors"},136,4,9]
[{"$f":"\",,\"&C1496&\",\"&IF(VLOOKUP(B1496,SCHEDULE!$B$5:$O$143,D1496,FALSE)=\" \",\",\",VLOOKUP(B1496,SCHEDULE!$B$5:$O$143,D1496,FALSE))","v":",,5,Black Sea Dragons"},136,5,10]
[{"$f":"\",,\"&C1497&\",\"&IF(VLOOKUP(B1497,SCHEDULE!$B$5:$O$143,D1497,FALSE)=\" \",\",\",VLOOKUP(B1497,SCHEDULE!$B$5:$O$143,D1497,FALSE))","v":",,6,,"},136,6,11]
[{"$f":"\",,\"&C1498&\",\"&IF(VLOOKUP(B1498,SCHEDULE!$B$5:$O$143,D1498,FALSE)=\" \",\",\",VLOOKUP(B1498,SCHEDULE!$B$5:$O$143,D1498,FALSE))","v":",,7,,"},136,7,12]
[{"$f":"\",,\"&C1499&\",\"&IF(VLOOKUP(B1499,SCHEDULE!$B$5:$O$143,D1499,FALSE)=\" \",\",\",VLOOKUP(B1499,SCHEDULE!$B$5:$O$143,D1499,FALSE))","v":",,8,,"},136,8,13]
[{"$f":"\",,\"&C1500&\",\"&IF(VLOOKUP(B1500,SCHEDULE!$B$5:$O$143,D1500,FALSE)=\" \",\",\",VLOOKUP(B1500,SCHEDULE!$B$5:$O$143,D1500,FALSE))","v":",,9,,"},136,9,14]
[]
[{"$f":"$A$2&\",\"&$A$3+100&\",\"&B1502&\",Race\"&B1502&\" - \"&VLOOKUP(B1502,SCHEDULE!$B$5:$C$143,2,FALSE)","v":"2023,1410,137,Race137 - Senior A Open 20"},{"$f":"B1491+1","v":137}]
[{"$f":"\",,\"&C1503&\",\"&IF(VLOOKUP(B1503,SCHEDULE!$B$5:$O$143,D1503,FALSE)=\" \",\",\",VLOOKUP(B1503,SCHEDULE!$B$5:$O$143,D1503,FALSE))","v":",,1,Southern Warriors"},{"$f":"B1502","v":137},1,6]
[{"$f":"\",,\"&C1504&\",\"&IF(VLOOKUP(B1504,SCHEDULE!$B$5:$O$143,D1504,FALSE)=\" \",\",\",VLOOKUP(B1504,SCHEDULE!$B$5:$O$143,D1504,FALSE))","v":",,2,Goolwa River Dragons"},{"$f":"B1503","v":137},2,7]
[{"$f":"\",,\"&C1505&\",\"&IF(VLOOKUP(B1505,SCHEDULE!$B$5:$O$143,D1505,FALSE)=\" \",\",\",VLOOKUP(B1505,SCHEDULE!$B$5:$O$143,D1505,FALSE))","v":",,3,Kombo Dragons Purple"},137,3,8]
[{"$f":"\",,\"&C1506&\",\"&IF(VLOOKUP(B1506,SCHEDULE!$B$5:$O$143,D1506,FALSE)=\" \",\",\",VLOOKUP(B1506,SCHEDULE!$B$5:$O$143,D1506,FALSE))","v":",,4,Dragonfire"},137,4,9]
[{"$f":"\",,\"&C1507&\",\"&IF(VLOOKUP(B1507,SCHEDULE!$B$5:$O$143,D1507,FALSE)=\" \",\",\",VLOOKUP(B1507,SCHEDULE!$B$5:$O$143,D1507,FALSE))","v":",,5,Deepwater Hunter"},137,5,10]
[{"$f":"\",,\"&C1508&\",\"&IF(VLOOKUP(B1508,SCHEDULE!$B$5:$O$143,D1508,FALSE)=\" \",\",\",VLOOKUP(B1508,SCHEDULE!$B$5:$O$143,D1508,FALSE))","v":",,6,,"},137,6,11]
[{"$f":"\",,\"&C1509&\",\"&IF(VLOOKUP(B1509,SCHEDULE!$B$5:$O$143,D1509,FALSE)=\" \",\",\",VLOOKUP(B1509,SCHEDULE!$B$5:$O$143,D1509,FALSE))","v":",,7,,"},137,7,12]
[{"$f":"\",,\"&C1510&\",\"&IF(VLOOKUP(B1510,SCHEDULE!$B$5:$O$143,D1510,FALSE)=\" \",\",\",VLOOKUP(B1510,SCHEDULE!$B$5:$O$143,D1510,FALSE))","v":",,8,,"},137,8,13]
[{"$f":"\",,\"&C1511&\",\"&IF(VLOOKUP(B1511,SCHEDULE!$B$5:$O$143,D1511,FALSE)=\" \",\",\",VLOOKUP(B1511,SCHEDULE!$B$5:$O$143,D1511,FALSE))","v":",,9,,"},137,9,14]
[]
[{"$f":"$A$2&\",\"&$A$3+100&\",\"&B1513&\",Race\"&B1513&\" - \"&VLOOKUP(B1513,SCHEDULE!$B$5:$C$143,2,FALSE)","v":"2023,1410,138,Race138 - Senior A Open 20"},{"$f":"B1502+1","v":138}]
[{"$f":"\",,\"&C1514&\",\"&IF(VLOOKUP(B1514,SCHEDULE!$B$5:$O$143,D1514,FALSE)=\" \",\",\",VLOOKUP(B1514,SCHEDULE!$B$5:$O$143,D1514,FALSE))","v":",,1,Gippsland United"},{"$f":"B1513","v":138},1,6]
[{"$f":"\",,\"&C1515&\",\"&IF(VLOOKUP(B1515,SCHEDULE!$B$5:$O$143,D1515,FALSE)=\" \",\",\",VLOOKUP(B1515,SCHEDULE!$B$5:$O$143,D1515,FALSE))","v":",,2,Kombo Dragons Black"},{"$f":"B1514","v":138},2,7]
[{"$f":"\",,\"&C1516&\",\"&IF(VLOOKUP(B1516,SCHEDULE!$B$5:$O$143,D1516,FALSE)=\" \",\",\",VLOOKUP(B1516,SCHEDULE!$B$5:$O$143,D1516,FALSE))","v":",,3,Motley Crew"},138,3,8]
[{"$f":"\",,\"&C1517&\",\"&IF(VLOOKUP(B1517,SCHEDULE!$B$5:$O$143,D1517,FALSE)=\" \",\",\",VLOOKUP(B1517,SCHEDULE!$B$5:$O$143,D1517,FALSE))","v":",,4,FNC"},138,4,9]
[{"$f":"\",,\"&C1518&\",\"&IF(VLOOKUP(B1518,SCHEDULE!$B$5:$O$143,D1518,FALSE)=\" \",\",\",VLOOKUP(B1518,SCHEDULE!$B$5:$O$143,D1518,FALSE))","v":",,5,Peninsula Dragonflys"},138,5,10]
[{"$f":"\",,\"&C1519&\",\"&IF(VLOOKUP(B1519,SCHEDULE!$B$5:$O$143,D1519,FALSE)=\" \",\",\",VLOOKUP(B1519,SCHEDULE!$B$5:$O$143,D1519,FALSE))","v":",,6,,"},138,6,11]
[{"$f":"\",,\"&C1520&\",\"&IF(VLOOKUP(B1520,SCHEDULE!$B$5:$O$143,D1520,FALSE)=\" \",\",\",VLOOKUP(B1520,SCHEDULE!$B$5:$O$143,D1520,FALSE))","v":",,7,,"},138,7,12]
[{"$f":"\",,\"&C1521&\",\"&IF(VLOOKUP(B1521,SCHEDULE!$B$5:$O$143,D1521,FALSE)=\" \",\",\",VLOOKUP(B1521,SCHEDULE!$B$5:$O$143,D1521,FALSE))","v":",,8,,"},138,8,13]
[{"$f":"\",,\"&C1522&\",\"&IF(VLOOKUP(B1522,SCHEDULE!$B$5:$O$143,D1522,FALSE)=\" \",\",\",VLOOKUP(B1522,SCHEDULE!$B$5:$O$143,D1522,FALSE))","v":",,9,,"},138,9,14]

{"sheet":"ADD TIMES (2.1)","index":27,"n_rows":61,"n_cols":7,"rows_kept":61,"cut":false,"hidden":true,"merged":[]}
[null,"TEAM","RACE 1","RACE 2","RACE 3","RACE 4","TOTAL TIME"]
[null,null,null,null,null,null,{"$f":"C2+D2+E2+F2","v":"00:00:00"}]
[null,null,null,null,null,null,{"$f":"C3+D3+E3+F3","v":"00:00:00"}]
[null,null,null,null,null,null,{"$f":"C4+D4+E4+F4","v":"00:00:00"}]
[null,null,null,null,null,null,{"$f":"C5+D5+E5+F5","v":"00:00:00"}]
[]
[null,null,null,null,null,null,{"$f":"C7+D7+E7+F7","v":"00:00:00"}]
[null,null,null,null,null,null,"00:00:00"]
[null,null,null,null,null,null,"00:00:00"]
[null,null,null,null,null,null,"00:00:00"]
[null,null,null,null,null,null,"00:00:00"]
[]
[null,null,null,null,null,null,"00:00:00"]
[null,null,null,null,null,null,"00:00:00"]
[]
[null,null,null,null,null,null,{"$f":"C16+D16+E16+F16","v":"00:00:00"}]
[null,null,null,null,null,null,{"$f":"C17+D17+E17+F17","v":"00:00:00"}]
[null,null,null,null,null,null,{"$f":"C18+D18+E18+F18","v":"00:00:00"}]
[]
[null,null,null,null,null,null,{"$f":"C20+D20+E20+F20","v":"00:00:00"}]
[null,null,null,null,null,null,{"$f":"C21+D21+E21+F21","v":"00:00:00"}]
[]
[null,null,null,null,null,null,{"$f":"C23+D23+E23+F23","v":"00:00:00"}]
[null,null,null,null,null,null,"00:00:00"]
[null,null,null,null,null,null,"00:00:00"]
[null,null,null,null,null,null,"00:00:00"]
[null,null,null,null,null,null,"00:00:00"]
[null,null,null,null,null,null,"00:00:00"]
[null,null,null,null,null,null,"00:00:00"]
[]
[null,null,null,null,null,null,{"$f":"C31+D31+E31+F31","v":"00:00:00"}]
[null,null,null,null,null,null,"00:00:00"]
[null,null,null,null,null,null,"00:00:00"]
[null,null,null,null,null,null,"00:00:00"]
[null,null,null,null,null,null,"00:00:00"]
[null,null,null,null,null,null,"00:00:00"]
[null,null,null,null,null,null,{"$f":"C37+D37+E37+F37","v":"00:00:00"}]
[null,null,null,null,null,null,{"$f":"C38+D38+E38+F38","v":"00:00:00"}]
[null,null,null,null,null,null,{"$f":"C39+D39+E39+F39","v":"00:00:00"}]
[null,null,null,null,null,null,{"$f":"C40+D40+E40+F40","v":"00:00:00"}]
[]
[null,null,null,null,null,null,{"$f":"C42+D42+E42+F42","v":"00:00:00"}]
[null,null,null,null,null,null,"00:00:00"]
[null,null,null,null,null,null,"00:00:00"]
[null,null,null,null,null,null,"00:00:00"]
[null,null,null,null,null,null,"00:00:00"]
[null,null,null,null,null,null,"00:00:00"]
[null,null,null,null,null,null,"00:00:00"]
[]
[null,null,null,null,null,null,{"$f":"C50+D50+E50+F50","v":"00:00:00"}]
[null,null,null,null,null,null,"00:00:00"]
[null,null,null,null,null,null,"00:00:00"]
[null,null,null,null,null,null,"00:00:00"]
[null,null,null,null,null,null,"00:00:00"]
[null,null,null,null,null,null,"00:00:00"]
[null,null,null,null,null,null,"00:00:00"]
[]
[null,null,null,null,null,null,{"$f":"C58+D58+E58+F58","v":"00:00:00"}]
[null,null,null,null,null,null,{"$f":"C59+D59+E59+F59","v":"00:00:00"}]
[null,null,null,null,null,null,{"$f":"C60+D60+E60+F60","v":"00:00:00"}]
[null,null,null,null,null,null,{"$f":"C61+D61+E61+F61","v":"00:00:00"}]

{"sheet":"ADD TIMES (2.2)","index":28,"n_rows":55,"n_cols":7,"rows_kept":55,"cut":false,"hidden":true,"merged":[]}
[null,"TEAM","RACE 1","RACE 2","RACE 3","RACE 4","TOTAL TIME"]
[null,null,null,null,null,null,{"$f":"C2+D2+E2+F2","v":"00:00:00"}]
[null,null,null,null,null,null,{"$f":"C3+D3+E3+F3","v":"00:00:00"}]
[null,null,null,null,null,null,{"$f":"C4+D4+E4+F4","v":"00:00:00"}]
[null,null,null,null,null,null,{"$f":"C5+D5+E5+F5","v":"00:00:00"}]
[]
[null,null,null,null,null,null,{"$f":"C7+D7+E7+F7","v":"00:00:00"}]
[null,null,null,null,null,null,{"$f":"C8+D8+E8+F8","v":"00:00:00"}]
[null,null,null,null,null,null,{"$f":"C9+D9+E9+F9","v":"00:00:00"}]
[null,null,null,null,null,null,{"$f":"C10+D10+E10+F10","v":"00:00:00"}]
[null,null,null,null,null,null,{"$f":"C11+D11+E11+F11","v":"00:00:00"}]
[]
[null,null,null,null,null,null,{"$f":"C13+D13+E13+F13","v":"00:00:00"}]
[null,null,null,null,null,null,{"$f":"C14+D14+E14+F14","v":"00:00:00"}]
[null,null,null,null,null,null,{"$f":"C15+D15+E15+F15","v":"00:00:00"}]
[null,null,null,null,null,null,{"$f":"C16+D16+E16+F16","v":"00:00:00"}]
[null,null,null,null,null,null,{"$f":"C17+D17+E17+F17","v":"00:00:00"}]
[]
[null,null,null,null,null,null,{"$f":"C19+D19+E19+F19","v":"00:00:00"}]
[null,null,null,null,null,null,"00:00:00"]
[null,null,null,null,null,null,"00:00:00"]
[null,null,null,null,null,null,"00:00:00"]
[null,null,null,null,null,null,"00:00:00"]
[null,null,null,null,null,null,"00:00:00"]
[null,null,null,null,null,null,"00:00:00"]
[]
[null,null,null,null,null,null,"TOTAL TIME"]
[null,null,null,null,null,null,{"$f":"C28+D28+E28+F28","v":"00:00:00"}]
[null,null,null,null,null,null,{"$f":"C29+D29+E29+F29","v":"00:00:00"}]
[null,null,null,null,null,null,{"$f":"C30+D30+E30+F30","v":"00:00:00"}]
[]
[null,null,null,null,null,null,{"$f":"C32+D32+E32+F32","v":"00:00:00"}]
[null,null,null,null,null,null,{"$f":"C33+D33+E33+F33","v":"00:00:00"}]
[null,null,null,null,null,null,{"$f":"C34+D34+E34+F34","v":"00:00:00"}]
[]
[null,null,null,null,null,null,{"$f":"C36+D36+E36+F36","v":"00:00:00"}]
[null,null,null,null,null,null,"00:00:00"]
[null,null,null,null,null,null,"00:00:00"]
[null,null,null,null,null,null,"00:00:00"]
[null,null,null,null,null,null,"00:00:00"]
[null,null,null,null,null,null,"00:00:00"]
[null,null,null,null,null,null,"00:00:00"]
[]
[null,null,null,null,null,null,{"$f":"C44+D44+E44+F44","v":"00:00:00"}]
[null,null,null,null,null,null,"00:00:00"]
[null,null,null,null,null,null,"00:00:00"]
[null,null,null,null,null,null,"00:00:00"]
[null,null,null,null,null,null,"00:00:00"]
[null,null,null,null,null,null,"00:00:00"]
[null,null,null,null,null,null,"00:00:00"]
[]
[null,null,null,null,null,null,{"$f":"C52+D52+E52+F52","v":"00:00:00"}]
[null,null,null,null,null,null,{"$f":"C53+D53+E53+F53","v":"00:00:00"}]
[null,null,null,null,null,null,{"$f":"C54+D54+E54+F54","v":"00:00:00"}]
[null,null,null,null,null,null,{"$f":"C55+D55+E55+F55","v":"00:00:00"}]

{"sheet":"1","index":29,"n_rows":13,"n_cols":6,"rows_kept":13,"cut":false,"hidden":true,"merged":[[1,1,2,1],[1,3,2,3]]}
[]
["Race",{"$f":"SCHEDULE!C5","v":"Senior C Mixed 10"},{"$f":"SCHEDULE!E5","v":1},{"$f":"SCHEDULE!D5","v":200},"Sched Time","Start time"]
[1,null,{"$f":"SCHEDULE!F5","v":1},null,{"$f":"SCHEDULE!A5","v":"8.30"}]
["Position","Teams",null,"Race time","Lane","Finish time"]
[1,{"$f":"SCHEDULE!G5","v":"Kombo Dragons Black"},null,{"$f":"IF(F5=0,\"\",F5-$F$3)","v":""},1]
[2,{"$f":"SCHEDULE!H5","v":"Mildura"},null,"",2]
[3,{"$f":"SCHEDULE!I5","v":"Black Sea Dragons"},null,"",3]
[4,{"$f":"SCHEDULE!J5","v":"Dragon Masters - Red"},null,"",4]
[5,{"$f":"SCHEDULE!K5","v":"Motley Crew "},null,"",5]
[6,{"$f":"SCHEDULE!L5","v":"Southern Warriors"},null,"",6]
[7,{"$f":"SCHEDULE!M5","v":" "},null,"",7]
[8,{"$f":"SCHEDULE!N5","v":" "},null,"",8]
[9,{"$f":"SCHEDULE!O5","v":" "},null,"",9]

{"sheet":"2","index":30,"n_rows":13,"n_cols":6,"rows_kept":13,"cut":false,"hidden":true,"merged":[[1,1,2,1],[1,3,2,3]]}
[]
["Race",{"$f":"SCHEDULE!C6","v":"Senior C Mixed 10"},{"$f":"SCHEDULE!E6","v":1},{"$f":"SCHEDULE!D6","v":200},"Sched Time","Start time"]
[2,null,{"$f":"SCHEDULE!F6","v":2},null,{"$f":"SCHEDULE!A6","v":"8.36"}]
["Position","Teams",null,"Race time","Lane","Finish time"]
[1,{"$f":"SCHEDULE!G6","v":"Deepwater Dragons"},null,{"$f":"IF(F5=0,\"\",F5-$F$3)","v":""},1]
[2,{"$f":"SCHEDULE!H6","v":"Peninsula Dragonflys"},null,"",2]
[3,{"$f":"SCHEDULE!I6","v":"SADA Sonix Yellow"},null,"",3]
[4,{"$f":"SCHEDULE!J6","v":"Gippsland United Orange"},null,"",4]
[5,{"$f":"SCHEDULE!K6","v":"Newcastle Dragon Hunters - Red"},null,"",5]
[6,{"$f":"SCHEDULE!L6","v":"Rainbow Dragons Teal"},null,"",6]
[7,{"$f":"SCHEDULE!M6","v":" "},null,"",7]
[8,{"$f":"SCHEDULE!N6","v":" "},null,"",8]
[9,{"$f":"SCHEDULE!O6","v":" "},null,"",9]

{"sheet":"3","index":31,"n_rows":13,"n_cols":6,"rows_kept":13,"cut":false,"hidden":true,"merged":[[1,1,2,1],[1,3,2,3]]}
[]
["Race",{"$f":"SCHEDULE!C7","v":"Senior C Mixed 10"},{"$f":"SCHEDULE!E7","v":1},{"$f":"SCHEDULE!D7","v":200},"Sched Time","Start time"]
[3,null,{"$f":"SCHEDULE!F7","v":3},null,{"$f":"SCHEDULE!A7","v":"8.42"}]
["Position","Teams",null,"Race time","Lane","Finish time"]
[1,{"$f":"SCHEDULE!G7","v":"Gypsy Dragons"},null,{"$f":"IF(F5=0,\"\",F5-$F$3)","v":""},1]
[2,{"$f":"SCHEDULE!H7","v":"Dragon Masters  Yellow"},null,"",2]
[3,{"$f":"SCHEDULE!I7","v":"Kombo Dragons Purple "},null,"",3]
[4,{"$f":"SCHEDULE!J7","v":"FNC"},null,"",4]
[5,{"$f":"SCHEDULE!K7","v":"Kangaroo Island Dragons"},null,"",5]
[6,{"$f":"SCHEDULE!L7","v":"Outback Dragons"},null,"",6]
[7,{"$f":"SCHEDULE!M7","v":" "},null,"",7]
[8,{"$f":"SCHEDULE!N7","v":" "},null,"",8]
[9,{"$f":"SCHEDULE!O7","v":" "},null,"",9]

{"sheet":"4","index":32,"n_rows":13,"n_cols":6,"rows_kept":13,"cut":false,"hidden":true,"merged":[[1,1,2,1],[1,3,2,3]]}
[]
["Race",{"$f":"SCHEDULE!C8","v":"Senior C Mixed 10"},{"$f":"SCHEDULE!E8","v":1},{"$f":"SCHEDULE!D8","v":200},"Sched Time","Start time"]
[4,null,{"$f":"SCHEDULE!F8","v":4},null,{"$f":"SCHEDULE!A8","v":"8.48"}]
["Position","Teams",null,"Race time","Lane","Finish time"]
[1,{"$f":"SCHEDULE!G8","v":"Newcastle Dragon Hunters - Purple"},null,{"$f":"IF(F5=0,\"\",F5-$F$3)","v":""},1]
[2,{"$f":"SCHEDULE!H8","v":"Gippsland United Blue"},null,"",2]
[3,{"$f":"SCHEDULE!I8","v":"Rainbow Dragons White"},null,"",3]
[4,{"$f":"SCHEDULE!J8","v":"Goolwa River Dragons"},null,"",4]
[5,{"$f":"SCHEDULE!K8","v":"SADA Sonix Blue"},null,"",5]
[6,{"$f":"SCHEDULE!L8","v":"Powerblades"},null,"",6]
[7,{"$f":"SCHEDULE!M8","v":" "},null,"",7]
[8,{"$f":"SCHEDULE!N8","v":" "},null,"",8]
[9,{"$f":"SCHEDULE!O8","v":" "},null,"",9]

{"sheet":"5","index":33,"n_rows":13,"n_cols":6,"rows_kept":13,"cut":false,"hidden":true,"merged":[[1,1,2,1],[1,3,2,3]]}
[]
["Race",{"$f":"SCHEDULE!C9","v":"Senior B Mixed 10's"},{"$f":"SCHEDULE!E9","v":1},{"$f":"SCHEDULE!D9","v":200},"Sched Time","Start time"]
[5,null,{"$f":"SCHEDULE!F9","v":1},null,{"$f":"SCHEDULE!A9","v":"8.54"}]
["Position","Teams",null,"Race time","Lane","Finish time"]
[1,{"$f":"SCHEDULE!G9","v":"Kombo Dragons Purple"},null,{"$f":"IF(F5=0,\"\",F5-$F$3)","v":""},1]
[2,{"$f":"SCHEDULE!H9","v":"Deepwater Dragons"},null,"",2]
[3,{"$f":"SCHEDULE!I9","v":"Newcastle Dragon Hunters - Red"},null,"",3]
[4,{"$f":"SCHEDULE!J9","v":"Hunter River Dragons"},null,"",4]
[5,{"$f":"SCHEDULE!K9","v":"SADA Sonix Yellow"},null,"",5]
[6,{"$f":"SCHEDULE!L9","v":"Southern Warriors"},null,"",6]
[7,{"$f":"SCHEDULE!M9","v":" "},null,"",7]
[8,{"$f":"SCHEDULE!N9","v":" "},null,"",8]
[9,{"$f":"SCHEDULE!O9","v":" "},null,"",9]

{"sheet":"6","index":34,"n_rows":13,"n_cols":6,"rows_kept":13,"cut":false,"hidden":true,"merged":[[1,1,2,1],[1,3,2,3]]}
[]
["Race",{"$f":"SCHEDULE!C10","v":"Senior B Mixed 10's"},{"$f":"SCHEDULE!E10","v":1},{"$f":"SCHEDULE!D10","v":200},"Sched Time","Start time"]
[6,null,{"$f":"SCHEDULE!F10","v":2},null,{"$f":"SCHEDULE!A10","v":"9.00"}]
["Position","Teams",null,"Race time","Lane","Finish time"]
[1,{"$f":"SCHEDULE!G10","v":"Gippsland United "},null,{"$f":"IF(F5=0,\"\",F5-$F$3)","v":""},1]
[2,{"$f":"SCHEDULE!H10","v":"SADA Sonix Blue"},null,"",2]
[3,{"$f":"SCHEDULE!I10","v":"Kombo Dragons Black"},null,"",3]
[4,{"$f":"SCHEDULE!J10","v":"Newcastle Dragon Hunters - Purple"},null,"",4]
[5,{"$f":"SCHEDULE!K10","v":"Mildura"},null,"",5]
[6,{"$f":"SCHEDULE!L10","v":"Powerblades"},null,"",6]
[7,{"$f":"SCHEDULE!M10","v":" "},null,"",7]
[8,{"$f":"SCHEDULE!N10","v":" "},null,"",8]
[9,{"$f":"SCHEDULE!O10","v":" "},null,"",9]

{"sheet":"7","index":35,"n_rows":13,"n_cols":6,"rows_kept":13,"cut":false,"hidden":true,"merged":[[1,1,2,1],[1,3,2,3]]}
[]
["Race",{"$f":"SCHEDULE!C11","v":"Senior B Mixed 10's"},{"$f":"SCHEDULE!E11","v":1},{"$f":"SCHEDULE!D11","v":200},"Sched Time","Start time"]
[7,null,{"$f":"SCHEDULE!F11","v":3},null,{"$f":"SCHEDULE!A11","v":"9.06"}]
["Position","Teams",null,"Race time","Lane","Finish time"]
[1,{"$f":"SCHEDULE!G11","v":"Outback Dragons"},null,{"$f":"IF(F5=0,\"\",F5-$F$3)","v":""},1]
[2,{"$f":"SCHEDULE!H11","v":"Black Sea Dragons"},null,"",2]
[3,{"$f":"SCHEDULE!I11","v":"FNC"},null,"",3]
[4,{"$f":"SCHEDULE!J11","v":"Gypsy Dragons"},null,"",4]
[5,{"$f":"SCHEDULE!K11","v":"Goolwa River Dragons"},null,"",5]
[6,{"$f":"SCHEDULE!L11","v":"Mannum"},null,"",6]
[7,{"$f":"SCHEDULE!M11","v":" "},null,"",7]
[8,{"$f":"SCHEDULE!N11","v":" "},null,"",8]
[9,{"$f":"SCHEDULE!O11","v":" "},null,"",9]

{"sheet":"8","index":36,"n_rows":13,"n_cols":6,"rows_kept":13,"cut":false,"hidden":true,"merged":[[1,1,2,1],[1,3,2,3]]}
[" "]
["Race",{"$f":"SCHEDULE!C12","v":"Senior B Mixed 20's"},{"$f":"SCHEDULE!E12","v":1},{"$f":"SCHEDULE!D12","v":200},"Sched Time","Start time"]
[8,null,{"$f":"SCHEDULE!F12","v":1},null,{"$f":"SCHEDULE!A12","v":"9.12"}]
["Position","Teams",null,"Race time","Lane","Finish time"]
[1,{"$f":"SCHEDULE!G12","v":"Hunter River Dragons"},null,{"$f":"IF(F5=0,\"\",F5-$F$3)","v":""},1]
[2,{"$f":"SCHEDULE!H12","v":"Deep Water Dragons"},null,"",2]
[3,{"$f":"SCHEDULE!I12","v":"Motley Crew"},null,"",3]
[4,{"$f":"SCHEDULE!J12","v":"Mildura"},null,"",4]
[5,{"$f":"SCHEDULE!K12","v":"SADA Sonix"},null,"",5]
[6,{"$f":"SCHEDULE!L12","v":"Newcastle Dragon Hunters - Red"},null,"",6]
[7,{"$f":"SCHEDULE!M12","v":" "},null,"",7]
[8,{"$f":"SCHEDULE!N12","v":" "},null,"",8]
[9,{"$f":"SCHEDULE!O12","v":" "},null,"",9]

{"sheet":"9","index":37,"n_rows":13,"n_cols":6,"rows_kept":13,"cut":false,"hidden":true,"merged":[[1,1,2,1],[1,3,2,3]]}
[]
["Race",null,{"$f":"SCHEDULE!E13","v":1},{"$f":"SCHEDULE!D13","v":200},"Sched Time","Start time"]
[9,null,{"$f":"SCHEDULE!F13","v":2},null,{"$f":"SCHEDULE!A13","v":"9.18"}]
["Position","Teams",null,"Race time","Lane","Finish time"]
[1,{"$f":"SCHEDULE!G13","v":"Kombo Dragons Black"},null,{"$f":"IF(F5=0,\"\",F5-$F$3)","v":""},1]
[2,{"$f":"SCHEDULE!H13","v":"Rainbow Dragons"},null,"",2]
[3,{"$f":"SCHEDULE!I13","v":"Dragon Masters"},null,"",3]
[4,{"$f":"SCHEDULE!J13","v":"Powerblades"},null,"",4]
[5,{"$f":"SCHEDULE!K13","v":"Newcastle Dragon Hunters - Purple"},null,"",5]
[6,{"$f":"SCHEDULE!L13","v":"Gippsland United "},null,"",6]
[7,{"$f":"SCHEDULE!M13","v":" "},null,"",7]
[8,{"$f":"SCHEDULE!N13","v":" "},null,"",8]
[9,{"$f":"SCHEDULE!O13","v":" "},null,"",9]

{"sheet":"10","index":38,"n_rows":13,"n_cols":6,"rows_kept":13,"cut":false,"hidden":true,"merged":[[1,1,2,1],[1,3,2,3]]}
[]
["Race",{"$f":"SCHEDULE!C14","v":"Senior A Mixed 10's"},{"$f":"SCHEDULE!E14","v":1},{"$f":"SCHEDULE!D14","v":200},"Sched Time","Start time"]
[10,null,{"$f":"SCHEDULE!F14","v":1},null,{"$f":"SCHEDULE!A14","v":"9.24"}]
["Position","Teams",null,"Race time","Lane","Finish time"]
[1,{"$f":"SCHEDULE!G14","v":"Hunter River Dragons"},null,{"$f":"IF(F5=0,\"\",F5-$F$3)","v":""},1]
[2,{"$f":"SCHEDULE!H14","v":"Goolwa River Dragons"},null,"",2]
[3,{"$f":"SCHEDULE!I14","v":"Broadwater Dragons"},null,"",3]
[4,{"$f":"SCHEDULE!J14","v":"Deepwater Dragons"},null,"",4]
[5,{"$f":"SCHEDULE!K14","v":"Peninsula Dragonfly"},null,"",5]
[6,{"$f":"SCHEDULE!L14","v":" "},null,"",6]
[7,{"$f":"SCHEDULE!M14","v":" "},null,"",7]
[8,{"$f":"SCHEDULE!N14","v":" "},null,"",8]
[9,{"$f":"SCHEDULE!O14","v":" "},null,"",9]

{"sheet":"11","index":39,"n_rows":13,"n_cols":6,"rows_kept":13,"cut":false,"hidden":true,"merged":[[1,1,2,1],[1,3,2,3]]}
[]
["Race",{"$f":"SCHEDULE!C83","v":"Senior B Women 20"},{"$f":"SCHEDULE!E83","v":2},{"$f":"SCHEDULE!D83","v":200},"Sched Time","Start time"]
[11,null,{"$f":"SCHEDULE!F83","v":1},null,{"$f":"SCHEDULE!A83","v":"9.00"}]
["Position","Teams",null,"Race time","Lane","Finish time"]
[1,{"$f":"SCHEDULE!G83","v":"Deepwater Purple"},null,{"$f":"IF(F5=0,\"\",F5-$F$3)","v":""},1]
[2,{"$f":"SCHEDULE!H83","v":"Kombo Dragons Black"},null,"",2]
[3,{"$f":"SCHEDULE!I83","v":"Rainbow Dragons"},null,"",3]
[4,{"$f":"SCHEDULE!J83","v":"Newcastle Dragon Hunters Purple"},null,"",4]
[5,{"$f":"SCHEDULE!K83","v":"FNC"},null,"",5]
[6,{"$f":"SCHEDULE!L83","v":"Mildura"},null,"",6]
[7,{"$f":"SCHEDULE!M83","v":"Motley Crew"},null,"",7]
[8,{"$f":"SCHEDULE!N83","v":" "},null,"",8]
[9,{"$f":"SCHEDULE!O83","v":" "},null,"",9]

{"sheet":"12","index":40,"n_rows":13,"n_cols":6,"rows_kept":13,"cut":false,"hidden":true,"merged":[[1,1,2,1],[1,3,2,3]]}
[]
["Race",{"$f":"SCHEDULE!C84","v":"Senior B Women 20"},{"$f":"SCHEDULE!E84","v":2},{"$f":"SCHEDULE!D84","v":200},"Sched Time","Start time"]
[12,null,{"$f":"SCHEDULE!F84","v":2},null,{"$f":"SCHEDULE!A84","v":"9.32"}]
["Position","Teams",null,"Race time","Lane","Finish time"]
[1,{"$f":"SCHEDULE!G84","v":"Gippsland United"},null,{"$f":"IF(F5=0,\"\",F5-$F$3)","v":""},1]
[2,{"$f":"SCHEDULE!H84","v":"SADA Sonix"},null,"",2]
[3,{"$f":"SCHEDULE!I84","v":"Newcastle Dsragon Hunters Red"},null,"",3]
[4,{"$f":"SCHEDULE!J84","v":"Southern Warriors"},null,"",4]
[5,{"$f":"SCHEDULE!K84","v":"Deepwater Green"},null,"",5]
[6,{"$f":"SCHEDULE!L84","v":"Hunter River Dragons"},null,"",6]
[7,{"$f":"SCHEDULE!M84","v":"Gragons Afloat Bendigo"},null,"",7]
[8,{"$f":"SCHEDULE!N84","v":" "},null,"",8]
[9,{"$f":"SCHEDULE!O84","v":" "},null,"",9]

{"sheet":"13","index":41,"n_rows":15,"n_cols":6,"rows_kept":15,"cut":false,"hidden":true,"merged":[[1,1,2,1],[1,3,2,3]]}
[]
["Race",{"$f":"SCHEDULE!C85","v":"Senior B Open 20"},{"$f":"SCHEDULE!E85","v":2},{"$f":"SCHEDULE!D85","v":200},"Sched Time","Start time"]
[13,null,{"$f":"SCHEDULE!F85","v":1},null,{"$f":"SCHEDULE!A85","v":"9.40"}]
["Position","Teams",null,"Race time","Lane","Finish time"]
[1,{"$f":"SCHEDULE!G85","v":"Southern Warriors"},null,{"$f":"IF(F5=0,\"\",F5-$F$3)","v":""},1]
[2,{"$f":"SCHEDULE!H85","v":"Deepwater"},null,"",2]
[3,{"$f":"SCHEDULE!I85","v":"Outback Dragons"},null,"",3]
[4,{"$f":"SCHEDULE!J85","v":"Newcastle Dragon Hunters Purple"},null,"",4]
[5,{"$f":"SCHEDULE!K85","v":"Motley Crew"},null,"",5]
[6,{"$f":"SCHEDULE!L85","v":" "},null,"",6]
[7,{"$f":"SCHEDULE!M85","v":" "},null,"",7]
[8,{"$f":"SCHEDULE!N85","v":" "},null,"",8]
[9,{"$f":"SCHEDULE!O85","v":" "},null,"",9]
[]
[null,null,null,null,null,":"]

{"sheet":"14","index":42,"n_rows":13,"n_cols":6,"rows_kept":13,"cut":false,"hidden":true,"merged":[[1,1,2,1],[1,3,2,3]]}
[]
["Race",{"$f":"SCHEDULE!C86","v":"Senior B Open 20"},{"$f":"SCHEDULE!E86","v":2},{"$f":"SCHEDULE!D86","v":200},"Sched Time","Start time"]
[14,null,{"$f":"SCHEDULE!F86","v":2},null,{"$f":"SCHEDULE!A86","v":"9.48"}]
["Position","Teams",null,"Race time","Lane","Finish time"]
[1,{"$f":"SCHEDULE!G86","v":"Kombo Dragons"},null,{"$f":"IF(F5=0,\"\",F5-$F$3)","v":""},1]
[2,{"$f":"SCHEDULE!H86","v":"Gippsland United"},null,"",2]
[3,{"$f":"SCHEDULE!I86","v":"Hunter River Dragons"},null,"",3]
[4,{"$f":"SCHEDULE!J86","v":"Gypsy Dragons"},null,"",4]
[5,{"$f":"SCHEDULE!K86","v":"Newcastle Dsragon Hunters Red"},null,"",5]
[6,{"$f":"SCHEDULE!L86","v":" "},null,"",6]
[7,{"$f":"SCHEDULE!M86","v":" "},null,"",7]
[8,{"$f":"SCHEDULE!N86","v":" "},null,"",8]
[9,{"$f":"SCHEDULE!O86","v":" "},null,"",9]

{"sheet":"15","index":43,"n_rows":13,"n_cols":6,"rows_kept":13,"cut":false,"hidden":true,"merged":[[1,1,2,1],[1,3,2,3]]}
[]
["Race",{"$f":"SCHEDULE!C87","v":"Senior A Women 10"},{"$f":"SCHEDULE!E87","v":2},{"$f":"SCHEDULE!D87","v":200},"Sched Time","Start time"]
[15,null,{"$f":"SCHEDULE!F87","v":1},null,{"$f":"SCHEDULE!A87","v":"9.54"}]
["Position","Teams",null,"Race time","Lane","Finish time"]
[1,{"$f":"SCHEDULE!G87","v":"Sada Sonix"},null,{"$f":"IF(F5=0,\"\",F5-$F$3)","v":""},1]
[2,{"$f":"SCHEDULE!H87","v":"Dragonfire"},null,"",2]
[3,{"$f":"SCHEDULE!I87","v":"Southern Warriors"},null,"",3]
[4,{"$f":"SCHEDULE!J87","v":"Pink Dragons"},null,"",4]
[5,{"$f":"SCHEDULE!K87","v":"Powerblades"},null,"",5]
[6,{"$f":"SCHEDULE!L87","v":"Newcastle Dragon Hunters"},null,"",6]
[7,{"$f":"SCHEDULE!M87","v":"Mildura"},null,"",7]
[8,{"$f":"SCHEDULE!N87","v":" "},null,"",8]
[9,{"$f":"SCHEDULE!O87","v":" "},null,"",9]

{"sheet":"16","index":44,"n_rows":13,"n_cols":6,"rows_kept":13,"cut":false,"hidden":true,"merged":[[1,1,2,1],[1,3,2,3]]}
[]
["Race",{"$f":"SCHEDULE!C88","v":"Senior A Women 10"},{"$f":"SCHEDULE!E88","v":2},{"$f":"SCHEDULE!D88","v":200},"Sched Time","Start time"]
[16,null,{"$f":"SCHEDULE!F88","v":2},null,{"$f":"SCHEDULE!A88","v":"10.00"}]
["Position","Teams",null,"Race time","Lane","Finish time"]
[1,{"$f":"SCHEDULE!G88","v":"Kombo Dragons Purple"},null,{"$f":"IF(F5=0,\"\",F5-$F$3)","v":""},1]
[2,{"$f":"SCHEDULE!H88","v":"Peninsula Dragonflys"},null,"",2]
[3,{"$f":"SCHEDULE!I88","v":"Golden Dragons"},null,"",3]
[4,{"$f":"SCHEDULE!J88","v":"Hunter River Dragons"},null,"",4]
[5,{"$f":"SCHEDULE!K88","v":"FNC"},null,"",5]
[6,{"$f":"SCHEDULE!L88","v":"Dragons Abreast Adelaide"},null,"",6]
[7,{"$f":"SCHEDULE!M88","v":" "},null,"",7]
[8,{"$f":"SCHEDULE!N88","v":" "},null,"",8]
[9,{"$f":"SCHEDULE!O88","v":" "},null,"",9]

{"sheet":"17","index":45,"n_rows":13,"n_cols":6,"rows_kept":13,"cut":false,"hidden":true,"merged":[[1,1,2,1],[1,3,2,3]]}
[]
["Race",{"$f":"SCHEDULE!C89","v":"Senior A Women 10"},{"$f":"SCHEDULE!E89","v":2},{"$f":"SCHEDULE!D89","v":200},"Sched Time","Start time"]
[17,null,{"$f":"SCHEDULE!F89","v":3},null,{"$f":"SCHEDULE!A89","v":"10.06"}]
["Position","Teams",null,"Race time","Lane","Finish time"]
[1,{"$f":"SCHEDULE!G89","v":"Goolwa River Dragons"},null,{"$f":"IF(F5=0,\"\",F5-$F$3)","v":""},1]
[2,{"$f":"SCHEDULE!H89","v":"Diamond Phoenix"},null,"",2]
[3,{"$f":"SCHEDULE!I89","v":"Black Sea Dragons"},null,"",3]
[4,{"$f":"SCHEDULE!J89","v":"Rainbow Dragons"},null,"",4]
[5,{"$f":"SCHEDULE!K89","v":"Gippsland United"},null,"",5]
[6,{"$f":"SCHEDULE!L89","v":"Deepwater"},null,"",6]
[7,{"$f":"SCHEDULE!M89","v":"Kombo Dragons Black"},null,"",7]
[8,{"$f":"SCHEDULE!N89","v":" "},null,"",8]
[9,{"$f":"SCHEDULE!O89","v":" "},null,"",9]

{"sheet":"18","index":46,"n_rows":13,"n_cols":6,"rows_kept":13,"cut":false,"hidden":true,"merged":[[1,1,2,1],[1,3,2,3]]}
[]
["Race",{"$f":"SCHEDULE!C90","v":"Senior A Open 10"},{"$f":"SCHEDULE!E90","v":2},{"$f":"SCHEDULE!D90","v":200},"Sched Time","Start time"]
[18,null,{"$f":"SCHEDULE!F90","v":1},null,{"$f":"SCHEDULE!A90","v":"10.12"}]
["Position","Teams",null,"Race time","Lane","Finish time"]
[1,{"$f":"SCHEDULE!G90","v":"Pink Dragons"},null,{"$f":"IF(F5=0,\"\",F5-$F$3)","v":""},1]
[2,{"$f":"SCHEDULE!H90","v":"Mildura"},null,"",2]
[3,{"$f":"SCHEDULE!I90","v":"Goolwa River Dragons"},null,"",3]
[4,{"$f":"SCHEDULE!J90","v":"Black Sea Dragons"},null,"",4]
[5,{"$f":"SCHEDULE!K90","v":"Gippsland United"},null,"",5]
[6,{"$f":"SCHEDULE!L90","v":" "},null,"",6]
[7,{"$f":"SCHEDULE!M90","v":" "},null,"",7]
[8,{"$f":"SCHEDULE!N90","v":" "},null,"",8]
[9,{"$f":"SCHEDULE!O90","v":" "},null,"",9]

{"sheet":"19","index":47,"n_rows":13,"n_cols":6,"rows_kept":13,"cut":false,"hidden":true,"merged":[[1,1,2,1],[1,3,2,3]]}
[]
["Race",{"$f":"SCHEDULE!C91","v":"Senior A Open 10"},{"$f":"SCHEDULE!E91","v":2},{"$f":"SCHEDULE!D91","v":200},"Sched Time","Start time"]
[19,null,{"$f":"SCHEDULE!F91","v":2},null,{"$f":"SCHEDULE!A91","v":"10.18"}]
["Position","Teams",null,"Race time","Lane","Finish time"]
[1,{"$f":"SCHEDULE!G91","v":"Southern Warriors"},null,{"$f":"IF(F5=0,\"\",F5-$F$3)","v":""},1]
[2,{"$f":"SCHEDULE!H91","v":"Kombo Dragons Purple"},null,"",2]
[3,{"$f":"SCHEDULE!I91","v":"Kombo Dragons Black"},null,"",3]
[4,{"$f":"SCHEDULE!J91","v":"FNC"},null,"",4]
[5,{"$f":"SCHEDULE!K91","v":"Diamond Phoenix"},null,"",5]
[6,{"$f":"SCHEDULE!L91","v":" "},null,"",6]
[7,{"$f":"SCHEDULE!M91","v":" "},null,"",7]
[8,{"$f":"SCHEDULE!N91","v":" "},null,"",8]
[9,{"$f":"SCHEDULE!O91","v":" "},null,"",9]

{"sheet":"20","index":48,"n_rows":13,"n_cols":6,"rows_kept":13,"cut":false,"hidden":true,"merged":[[1,1,2,1],[1,3,2,3]]}
[]
["Race",{"$f":"SCHEDULE!C92","v":"Senior A Open 10"},{"$f":"SCHEDULE!E92","v":2},{"$f":"SCHEDULE!D92","v":200},"Sched Time","Start time"]
[20,null,{"$f":"SCHEDULE!F92","v":3},null,{"$f":"SCHEDULE!A92","v":"10.24"}]
["Position","Teams",null,"Race time","Lane","Finish time"]
[1,{"$f":"SCHEDULE!G92","v":"Kombo Dragons Green"},null,{"$f":"IF(F5=0,\"\",F5-$F$3)","v":""},1]
[2,{"$f":"SCHEDULE!H92","v":"Deepwater Dragons"},null,"",2]
[3,{"$f":"SCHEDULE!I92","v":"Hunter River Dragons"},null,"",3]
[4,{"$f":"SCHEDULE!J92","v":"Dragonfire"},null,"",4]
[5,{"$f":"SCHEDULE!K92","v":"Broadwater Dragons"},null,"",5]
[6,{"$f":"SCHEDULE!L92","v":" "},null,"",6]
[7,{"$f":"SCHEDULE!M92","v":" "},null,"",7]
[8,{"$f":"SCHEDULE!N92","v":" "},null,"",8]
[9,{"$f":"SCHEDULE!O92","v":" "},null,"",9]

{"sheet":"21","index":49,"n_rows":13,"n_cols":6,"rows_kept":13,"cut":false,"hidden":true,"merged":[[1,1,2,1],[1,3,2,3]]}
[]
["Race",{"$f":"SCHEDULE!C93","v":"Senior A Women 20"},{"$f":"SCHEDULE!E93","v":2},{"$f":"SCHEDULE!D93","v":200},"Sched Time","Start time"]
[21,null,{"$f":"SCHEDULE!F93","v":1},null,{"$f":"SCHEDULE!A93","v":"10.30"}]
["Position","Teams",null,"Race time","Lane","Finish time"]
[1,{"$f":"SCHEDULE!G93","v":"Pink Dragons"},null,{"$f":"IF(F5=0,\"\",F5-$F$3)","v":""},1]
[2,{"$f":"SCHEDULE!H93","v":"Golden Dragons"},null,"",2]
[3,{"$f":"SCHEDULE!I93","v":"Powerblades"},null,"",3]
[4,{"$f":"SCHEDULE!J93","v":"Peninsula Dragonflys"},null,"",4]
[5,{"$f":"SCHEDULE!K93","v":"SADA Sonix"},null,"",5]
[6,{"$f":"SCHEDULE!L93","v":" "},null,"",6]
[7,{"$f":"SCHEDULE!M93","v":" "},null,"",7]
[8,{"$f":"SCHEDULE!N93","v":" "},null,"",8]
[9,{"$f":"SCHEDULE!O93","v":" "},null,"",9]

{"sheet":"22","index":50,"n_rows":13,"n_cols":6,"rows_kept":13,"cut":false,"hidden":true,"merged":[[1,1,2,1],[1,3,2,3]]}
[]
["Race",{"$f":"SCHEDULE!C94","v":"Senior A Women 20"},{"$f":"SCHEDULE!E94","v":2},{"$f":"SCHEDULE!D94","v":200},"Sched Time","Start time"]
[22,null,{"$f":"SCHEDULE!F94","v":2},null,{"$f":"SCHEDULE!A94","v":"10.36"}]
["Position","Teams",null,"Race time","Lane","Finish time"]
[1,{"$f":"SCHEDULE!G94","v":"Black Sea Dragons"},null,{"$f":"IF(F5=0,\"\",F5-$F$3)","v":""},1]
[2,{"$f":"SCHEDULE!H94","v":"Southern Warriors"},null,"",2]
[3,{"$f":"SCHEDULE!I94","v":"Motley Crew"},null,"",3]
[4,{"$f":"SCHEDULE!J94","v":"Gippsland United"},null,"",4]
[5,{"$f":"SCHEDULE!K94","v":"Kombo Dragons Black"},null,"",5]
[6,{"$f":"SCHEDULE!L94","v":" "},null,"",6]
[7,{"$f":"SCHEDULE!M94","v":" "},null,"",7]
[8,{"$f":"SCHEDULE!N94","v":" "},null,"",8]
[9,{"$f":"SCHEDULE!O94","v":" "},null,"",9]

{"sheet":"23","index":51,"n_rows":13,"n_cols":6,"rows_kept":13,"cut":false,"hidden":true,"merged":[[1,1,2,1],[1,3,2,3]]}
[]
["Race",{"$f":"SCHEDULE!C95","v":"Senior A Women 20"},{"$f":"SCHEDULE!E95","v":2},{"$f":"SCHEDULE!D95","v":200},"Sched Time","Start time"]
[23,null,{"$f":"SCHEDULE!F95","v":3},null,{"$f":"SCHEDULE!A95","v":"10.42"}]
["Position","Teams",null,"Race time","Lane","Finish time"]
[1,{"$f":"SCHEDULE!G95","v":"Broadwater Dragons"},null,{"$f":"IF(F5=0,\"\",F5-$F$3)","v":""},1]
[2,{"$f":"SCHEDULE!H95","v":"Hunter River Dragons"},null,"",2]
[3,{"$f":"SCHEDULE!I95","v":"Newcastle Dragon Hunters"},null,"",3]
[4,{"$f":"SCHEDULE!J95","v":"Deepwater"},null,"",4]
[5,{"$f":"SCHEDULE!K95","v":"Dragons Abreast Adelaide"},null,"",5]
[6,{"$f":"SCHEDULE!L95","v":" "},null,"",6]
[7,{"$f":"SCHEDULE!M95","v":" "},null,"",7]
[8,{"$f":"SCHEDULE!N95","v":" "},null,"",8]
[9,{"$f":"SCHEDULE!O95","v":" "},null,"",9]

{"sheet":"24","index":52,"n_rows":13,"n_cols":6,"rows_kept":13,"cut":false,"hidden":true,"merged":[[1,1,2,1],[1,3,2,3]]}
[]
["Race",{"$f":"SCHEDULE!C96","v":"Senior A Open 20"},{"$f":"SCHEDULE!E96","v":2},{"$f":"SCHEDULE!D96","v":200},"Sched Time","Start time"]
[24,null,{"$f":"SCHEDULE!F96","v":1},null,{"$f":"SCHEDULE!A96","v":"10.48"}]
["Position","Teams",null,"Race time","Lane","Finish time"]
[1,{"$f":"SCHEDULE!G96","v":"FNC"},null,{"$f":"IF(F5=0,\"\",F5-$F$3)","v":""},1]
[2,{"$f":"SCHEDULE!H96","v":"Kombo Dragons Purple"},null,"",2]
[3,{"$f":"SCHEDULE!I96","v":"Peninsula Dragonflys"},null,"",3]
[4,{"$f":"SCHEDULE!J96","v":"Goolwa River Dragons"},null,"",4]
[5,{"$f":"SCHEDULE!K96","v":"Southern Warriors"},null,"",5]
[6,{"$f":"SCHEDULE!L96","v":" "},null,"",6]
[7,{"$f":"SCHEDULE!M96","v":" "},null,"",7]
[8,{"$f":"SCHEDULE!N96","v":" "},null,"",8]
[9,{"$f":"SCHEDULE!O96","v":" "},null,"",9]

{"sheet":"25","index":53,"n_rows":13,"n_cols":6,"rows_kept":13,"cut":false,"hidden":true,"merged":[[1,1,2,1],[1,3,2,3]]}
[]
["Race",{"$f":"SCHEDULE!C97","v":"Senior A Open 20"},{"$f":"SCHEDULE!E97","v":2},{"$f":"SCHEDULE!D97","v":200},"Sched Time","Start time"]
[25,null,{"$f":"SCHEDULE!F97","v":2},null,{"$f":"SCHEDULE!A97","v":"10.54"}]
["Position","Teams",null,"Race time","Lane","Finish time"]
[1,{"$f":"SCHEDULE!G97","v":"Dragonfire"},null,{"$f":"IF(F5=0,\"\",F5-$F$3)","v":""},1]
[2,{"$f":"SCHEDULE!H97","v":"Motley Crew"},null,"",2]
[3,{"$f":"SCHEDULE!I97","v":"Deepwater Hunter"},null,"",3]
[4,{"$f":"SCHEDULE!J97","v":"Kombo Dragons Black"},null,"",4]
[5,{"$f":"SCHEDULE!K97","v":"Gippsland United"},null,"",5]
[6,{"$f":"SCHEDULE!L97","v":" "},null,"",6]
[7,{"$f":"SCHEDULE!M97","v":" "},null,"",7]
[8,{"$f":"SCHEDULE!N97","v":" "},null,"",8]
[9,{"$f":"SCHEDULE!O97","v":" "},null,"",9]

{"sheet":"26","index":54,"n_rows":13,"n_cols":6,"rows_kept":13,"cut":false,"hidden":true,"merged":[[1,1,2,1],[1,3,2,3]]}
[]
["Race",{"$f":"SCHEDULE!C98","v":"Senior C Mixed 10"},{"$f":"SCHEDULE!E98","v":3},{"$f":"SCHEDULE!D98","v":200},"Sched Time","Start time"]
[26,null,{"$f":"SCHEDULE!F98","v":1},null,{"$f":"SCHEDULE!A98","v":"11.06"}]
["Position","Teams",null,"Race time","Lane","Finish time"]
[1,{"$f":"SCHEDULE!G98","v":"Rainbow Dragons Teal"},null,{"$f":"IF(F5=0,\"\",F5-$F$3)","v":""},1]
[2,{"$f":"SCHEDULE!H98","v":"SADA Sonix Yellow"},null,"",2]
[3,{"$f":"SCHEDULE!I98","v":"Newcastle Dragon Hunters Red"},null,"",3]
[4,{"$f":"SCHEDULE!J98","v":"Mildura"},null,"",4]
[5,{"$f":"SCHEDULE!K98","v":"Dragon Masters Red"},null,"",5]
[6,{"$f":"SCHEDULE!L98","v":"Powerblades"},null,"",6]
[7,{"$f":"SCHEDULE!M98","v":" "},null,"",7]
[8,{"$f":"SCHEDULE!N98","v":" "},null,"",8]
[9,{"$f":"SCHEDULE!O98","v":" "},null,"",9]

{"sheet":"27","index":55,"n_rows":13,"n_cols":6,"rows_kept":13,"cut":false,"hidden":true,"merged":[[1,1,2,1],[1,3,2,3]]}
[]
["Race",{"$f":"SCHEDULE!C99","v":"Senior C Mixed 10"},{"$f":"SCHEDULE!E99","v":3},{"$f":"SCHEDULE!D99","v":200},"Sched Time","Start time"]
[27,null,{"$f":"SCHEDULE!F99","v":2},null,{"$f":"SCHEDULE!A99","v":"11.12"}]
["Position","Teams",null,"Race time","Lane","Finish time"]
[1,{"$f":"SCHEDULE!G99","v":"Southern Warriors"},null,{"$f":"IF(F5=0,\"\",F5-$F$3)","v":""},1]
[2,{"$f":"SCHEDULE!H99","v":"Black Sea Dragons"},null,"",2]
[3,{"$f":"SCHEDULE!I99","v":"Motley Crew"},null,"",3]
[4,{"$f":"SCHEDULE!J99","v":"Peninsula Dragonflys"},null,"",4]
[5,{"$f":"SCHEDULE!K99","v":"Gippsland United Orange"},null,"",5]
[6,{"$f":"SCHEDULE!L99","v":"Kombo Dragons Black"},null,"",6]
[7,{"$f":"SCHEDULE!M99","v":" "},null,"",7]
[8,{"$f":"SCHEDULE!N99","v":" "},null,"",8]
[9,{"$f":"SCHEDULE!O99","v":" "},null,"",9]

{"sheet":"28","index":56,"n_rows":13,"n_cols":6,"rows_kept":13,"cut":false,"hidden":true,"merged":[[1,1,2,1],[1,3,2,3]]}
[]
["Race",{"$f":"SCHEDULE!C100","v":"Senior C Mixed 10"},{"$f":"SCHEDULE!E100","v":3},{"$f":"SCHEDULE!D100","v":200},"Sched Time","Start time"]
[28,null,{"$f":"SCHEDULE!F100","v":3},null,{"$f":"SCHEDULE!A100","v":"11.18"}]
["Position","Teams",null,"Race time","Lane","Finish time"]
[1,{"$f":"SCHEDULE!G100","v":"Deepwater Dragons"},null,{"$f":"IF(F5=0,\"\",F5-$F$3)","v":""},1]
[2,{"$f":"SCHEDULE!H100","v":"Kombo Dragons Purple"},null,"",2]
[3,{"$f":"SCHEDULE!I100","v":"Kangaroo Island Dragons"},null,"",3]
[4,{"$f":"SCHEDULE!J100","v":"Gippsland United Blue"},null,"",4]
[5,{"$f":"SCHEDULE!K100","v":"FNC"},null,"",5]
[6,{"$f":"SCHEDULE!L100","v":"Newcastle Dragon Hunters Purple"},null,"",6]
[7,{"$f":"SCHEDULE!M100","v":" "},null,"",7]
[8,{"$f":"SCHEDULE!N100","v":" "},null,"",8]
[9,{"$f":"SCHEDULE!O100","v":" "},null,"",9]

{"sheet":"29","index":57,"n_rows":13,"n_cols":6,"rows_kept":13,"cut":false,"hidden":true,"merged":[[1,1,2,1],[1,3,2,3]]}
[]
["Race",{"$f":"SCHEDULE!C101","v":"Senior C Mixed 10"},{"$f":"SCHEDULE!E101","v":3},{"$f":"SCHEDULE!D101","v":200},"Sched Time","Start time"]
[29,null,{"$f":"SCHEDULE!F101","v":4},null,{"$f":"SCHEDULE!A101","v":"11.24"}]
["Position","Teams",null,"Race time","Lane","Finish time"]
[1,{"$f":"SCHEDULE!G101","v":"Outback Dragons"},null,{"$f":"IF(F5=0,\"\",F5-$F$3)","v":""},1]
[2,{"$f":"SCHEDULE!H101","v":"Goolwa River Dragons"},null,"",2]
[3,{"$f":"SCHEDULE!I101","v":"SADA Sonix Blue"},null,"",3]
[4,{"$f":"SCHEDULE!J101","v":"Dragon Masters Yellow"},null,"",4]
[5,{"$f":"SCHEDULE!K101","v":"Rainbow Dragons White"},null,"",5]
[6,{"$f":"SCHEDULE!L101","v":"Gypsy Dragons"},null,"",6]
[7,{"$f":"SCHEDULE!M101","v":" "},null,"",7]
[8,{"$f":"SCHEDULE!N101","v":" "},null,"",8]
[9,{"$f":"SCHEDULE!O101","v":" "},null,"",9]

{"sheet":"30","index":58,"n_rows":13,"n_cols":6,"rows_kept":13,"cut":false,"hidden":true,"merged":[[1,1,2,1],[1,3,2,3]]}
[]
["Race",{"$f":"SCHEDULE!C102","v":"Senior B Mixed 10's"},{"$f":"SCHEDULE!E102","v":3},{"$f":"SCHEDULE!D102","v":200},"Sched Time","Start time"]
[30,null,{"$f":"SCHEDULE!F102","v":1},null,{"$f":"SCHEDULE!A102","v":"11.30"}]
["Position","Teams",null,"Race time","Lane","Finish time"]
[1,{"$f":"SCHEDULE!G102","v":"Hunter River Dragons"},null,{"$f":"IF(F5=0,\"\",F5-$F$3)","v":""},1]
[2,{"$f":"SCHEDULE!H102","v":"Mannum"},null,"",2]
[3,{"$f":"SCHEDULE!I102","v":"Black Sea Dragons"},null,"",3]
[4,{"$f":"SCHEDULE!J102","v":"Mildura"},null,"",4]
[5,{"$f":"SCHEDULE!K102","v":"Kombo Dragons Purple"},null,"",5]
[6,{"$f":"SCHEDULE!L102","v":"Newcastle Dragon Hunters Purple"},null,"",6]
[7,{"$f":"SCHEDULE!M102","v":" "},null,"",7]
[8,{"$f":"SCHEDULE!N102","v":" "},null,"",8]
[9,{"$f":"SCHEDULE!O102","v":" "},null,"",9]

{"sheet":"31","index":59,"n_rows":13,"n_cols":6,"rows_kept":13,"cut":false,"hidden":true,"merged":[[1,1,2,1],[1,3,2,3]]}
[]
["Race",{"$f":"SCHEDULE!C103","v":"Senior B Mixed 10's"},{"$f":"SCHEDULE!E103","v":3},{"$f":"SCHEDULE!D103","v":200},"Sched Time","Start time"]
[31,null,{"$f":"SCHEDULE!F103","v":2},null,{"$f":"SCHEDULE!A103","v":"11.36"}]
["Position","Teams",null,"Race time","Lane","Finish time"]
[1,{"$f":"SCHEDULE!G103","v":"FNC"},null,{"$f":"IF(F5=0,\"\",F5-$F$3)","v":""},1]
[2,{"$f":"SCHEDULE!H103","v":"Southern Warriors"},null,"",2]
[3,{"$f":"SCHEDULE!I103","v":"SADA Sonix Blue"},null,"",3]
[4,{"$f":"SCHEDULE!J103","v":"Deepwater Dragons"},null,"",4]
[5,{"$f":"SCHEDULE!K103","v":"Powerblades"},null,"",5]
[6,{"$f":"SCHEDULE!L103","v":"Newcastle Dragon Hunters Red"},null,"",6]
[7,{"$f":"SCHEDULE!M103","v":" "},null,"",7]
[8,{"$f":"SCHEDULE!N103","v":" "},null,"",8]
[9,{"$f":"SCHEDULE!O103","v":" "},null,"",9]

{"sheet":"32","index":60,"n_rows":13,"n_cols":6,"rows_kept":13,"cut":false,"hidden":true,"merged":[[1,1,2,1],[1,3,2,3]]}
[]
["Race",{"$f":"SCHEDULE!C104","v":"Senior B Mixed 10's"},{"$f":"SCHEDULE!E104","v":3},{"$f":"SCHEDULE!D104","v":200},"Sched Time","Start time"]
[32,null,{"$f":"SCHEDULE!F104","v":3},null,{"$f":"SCHEDULE!A104","v":"11.42"}]
["Position","Teams",null,"Race time","Lane","Finish time"]
[1,{"$f":"SCHEDULE!G104","v":"Kombo Dragons Black"},null,{"$f":"IF(F5=0,\"\",F5-$F$3)","v":""},1]
[2,{"$f":"SCHEDULE!H104","v":"Outback Dragons"},null,"",2]
[3,{"$f":"SCHEDULE!I104","v":"Goolwa River Dragons"},null,"",3]
[4,{"$f":"SCHEDULE!J104","v":"SADA Sonix Yellow"},null,"",4]
[5,{"$f":"SCHEDULE!K104","v":"Gippsland United"},null,"",5]
[6,{"$f":"SCHEDULE!L104","v":"Gypsy Dragons"},null,"",6]
[7,{"$f":"SCHEDULE!M104","v":" "},null,"",7]
[8,{"$f":"SCHEDULE!N104","v":" "},null,"",8]
[9,{"$f":"SCHEDULE!O104","v":" "},null,"",9]

{"sheet":"33","index":61,"n_rows":13,"n_cols":6,"rows_kept":13,"cut":false,"hidden":true,"merged":[[1,1,2,1],[1,3,2,3]]}
[]
["Race",{"$f":"SCHEDULE!C105","v":"Senior B Mixed 20's"},{"$f":"SCHEDULE!E105","v":3},{"$f":"SCHEDULE!D105","v":200},"Sched Time","Start time"]
[33,null,{"$f":"SCHEDULE!F105","v":1},null,{"$f":"SCHEDULE!A105","v":"11.48"}]
["Position","Teams",null,"Race time","Lane","Finish time"]
[1,{"$f":"SCHEDULE!G105","v":"Newcastle Dragon Hunters Red"},null,{"$f":"IF(F5=0,\"\",F5-$F$3)","v":""},1]
[2,{"$f":"SCHEDULE!J105","v":"Mildura"},null,"",4]
[3,{"$f":"SCHEDULE!I105","v":"Deepwater Dragons"},null,"",3]
[4,{"$f":"SCHEDULE!H105","v":"Powerblades"},null,"",2]
[5,{"$f":"SCHEDULE!K105","v":"Dragon Masters"},null,"",5]
[6,{"$f":"SCHEDULE!L105","v":"Hunter River Dragons"},null,"",6]
[7,{"$f":"SCHEDULE!M105","v":" "},null,"",7]
[8,{"$f":"SCHEDULE!N105","v":" "},null,"",8]
[9,{"$f":"SCHEDULE!O105","v":" "},null,"",9]

{"sheet":"34","index":62,"n_rows":13,"n_cols":6,"rows_kept":13,"cut":false,"hidden":true,"merged":[[1,1,2,1],[1,3,2,3]]}
[]
["Race",{"$f":"SCHEDULE!C106","v":"Senior B Mixed 20's"},{"$f":"SCHEDULE!E106","v":3},{"$f":"SCHEDULE!D106","v":200},"Sched Time","Start time"]
[34,null,{"$f":"SCHEDULE!F106","v":2},null,{"$f":"SCHEDULE!A106","v":"11.54"}]
["Position","Teams",null,"Race time","Lane","Finish time"]
[1,{"$f":"SCHEDULE!G106","v":"Gippsland United"},null,{"$f":"IF(F5=0,\"\",F5-$F$3)","v":""},1]
[2,{"$f":"SCHEDULE!H106","v":"Rainbow Dragons"},null,"",2]
[3,{"$f":"SCHEDULE!I106","v":"Newcastle Dragon Hunters Purple"},null,"",3]
[4,{"$f":"SCHEDULE!J106","v":"SADA Sonix"},null,"",4]
[5,{"$f":"SCHEDULE!K106","v":"Motley Crew"},null,"",5]
[6,{"$f":"SCHEDULE!L106","v":"Kombo Dragons Black"},null,"",6]
[7,{"$f":"SCHEDULE!M106","v":" "},null,"",7]
[8,{"$f":"SCHEDULE!N106","v":" "},null,"",8]
[9,{"$f":"SCHEDULE!O106","v":" "},null,"",9]

{"sheet":"35","index":63,"n_rows":13,"n_cols":6,"rows_kept":13,"cut":false,"hidden":true,"merged":[[1,1,2,1],[1,3,2,3]]}
[]
["Race",{"$f":"SCHEDULE!C107","v":"Senior A Mixed 10's"},{"$f":"SCHEDULE!E107","v":3},{"$f":"SCHEDULE!D107","v":200},"Sched Time","Start time"]
[35,null,{"$f":"SCHEDULE!F107","v":1},null,{"$f":"SCHEDULE!A107","v":"12.00"}]
["Position","Teams",null,"Race time","Lane","Finish time"]
[1,{"$f":"SCHEDULE!G107","v":"Goolwa River Dragons"},null,{"$f":"IF(F5=0,\"\",F5-$F$3)","v":""},1]
[2,{"$f":"SCHEDULE!I107","v":"Southern Warriors"},null,"",3]
[3,{"$f":"SCHEDULE!H107","v":"Deepwater Dragons"},null,"",2]
[4,{"$f":"SCHEDULE!J107","v":"Peninsula Dragonfly"},null,"",4]
[5,{"$f":"SCHEDULE!K107","v":"Gippsland United"},null,"",5]
[6,{"$f":"SCHEDULE!L107","v":" "},null,"",6]
[7,{"$f":"SCHEDULE!M107","v":" "},null,"",7]
[8,{"$f":"SCHEDULE!N107","v":" "},null,"",8]
[9,{"$f":"SCHEDULE!O107","v":" "},null,"",9]

{"sheet":"36","index":64,"n_rows":13,"n_cols":6,"rows_kept":13,"cut":false,"hidden":true,"merged":[[1,1,2,1],[1,3,2,3]]}
[]
["Race",{"$f":"SCHEDULE!C108","v":"Senior A Mixed 10's"},{"$f":"SCHEDULE!E108","v":3},{"$f":"SCHEDULE!D108","v":200},"Sched Time","Start time"]
[36,null,{"$f":"SCHEDULE!F108","v":2},null,{"$f":"SCHEDULE!A108","v":"12.06"}]
["Position","Teams",null,"Race time","Lane","Finish time"]
[1,{"$f":"SCHEDULE!G108","v":"Powerblades"},null,{"$f":"IF(F5=0,\"\",F5-$F$3)","v":""},1]
[2,{"$f":"SCHEDULE!H108","v":"Kombo Dragons Black"},null,"",2]
[3,{"$f":"SCHEDULE!I108","v":"Mildura"},null,"",3]
[4,{"$f":"SCHEDULE!J108","v":"Kombo Dragons Purple"},null,"",4]
[5,{"$f":"SCHEDULE!K108","v":"Black Sea Dragons"},null,"",5]
[6,{"$f":"SCHEDULE!L108","v":" "},null,"",6]
[7,{"$f":"SCHEDULE!M108","v":" "},null,"",7]
[8,{"$f":"SCHEDULE!N108","v":" "},null,"",8]
[9,{"$f":"SCHEDULE!O108","v":" "},null,"",9]

{"sheet":"37","index":65,"n_rows":13,"n_cols":6,"rows_kept":13,"cut":false,"hidden":true,"merged":[[1,1,2,1],[1,3,2,3]]}
[]
["Race",{"$f":"SCHEDULE!C109","v":"Senior A Mixed 10's"},{"$f":"SCHEDULE!E109","v":3},{"$f":"SCHEDULE!D109","v":200},"Sched Time","Start time"]
[37,null,{"$f":"SCHEDULE!F109","v":3},null,{"$f":"SCHEDULE!A109","v":"12.12"}]
["Position","Teams",null,"Race time","Lane","Finish time"]
[1,{"$f":"SCHEDULE!G109","v":"Rainbow Dragons"},null,{"$f":"IF(F5=0,\"\",F5-$F$3)","v":""},1]
[2,{"$f":"SCHEDULE!H109","v":"Dragonfire"},null,"",2]
[3,{"$f":"SCHEDULE!I109","v":"Hunter River Dragons"},null,"",3]
[4,{"$f":"SCHEDULE!J109","v":"Newcastle Dragon Hunters"},null,"",4]
[5,{"$f":"SCHEDULE!K109","v":"Broadwater Dragons"},null,"",5]
[6,{"$f":"SCHEDULE!L109","v":" "},null,"",6]
[7,{"$f":"SCHEDULE!M109","v":" "},null,"",7]
[8,{"$f":"SCHEDULE!N109","v":" "},null,"",8]
[9,{"$f":"SCHEDULE!O109","v":" "},null,"",9]

{"sheet":"38","index":66,"n_rows":13,"n_cols":6,"rows_kept":13,"cut":false,"hidden":true,"merged":[[1,1,2,1],[1,3,2,3]]}
[]
["Race",{"$f":"SCHEDULE!C110","v":"Senior A Mixed 20"},{"$f":"SCHEDULE!E110","v":3},{"$f":"SCHEDULE!D110","v":200},"Sched Time","Start time"]
[38,null,{"$f":"SCHEDULE!F110","v":1},null,{"$f":"SCHEDULE!A110","v":"12.42"}]
["Position","Teams",null,"Race time","Lane","Finish time"]
[1,{"$f":"SCHEDULE!G110","v":"Mildura"},null,{"$f":"IF(F5=0,\"\",F5-$F$3)","v":""},1]
[2,{"$f":"SCHEDULE!H110","v":"Deepwater Dragons"},null,"",2]
[3,{"$f":"SCHEDULE!I110","v":"Hunter River Dragons"},null,"",3]
[4,{"$f":"SCHEDULE!J110","v":"Gippsland United"},null,"",4]
[5,{"$f":"SCHEDULE!K110","v":"Motley Crew"},null,"",5]
[6,{"$f":"SCHEDULE!L110","v":"Kombo Dragons Black"},null,"",6]
[7,{"$f":"SCHEDULE!M110","v":" "},null,"",7]
[8,{"$f":"SCHEDULE!N110","v":" "},null,"",8]
[9,{"$f":"SCHEDULE!O110","v":" "},null,"",9]

{"sheet":"39","index":67,"n_rows":13,"n_cols":6,"rows_kept":13,"cut":false,"hidden":true,"merged":[[1,1,2,1],[1,3,2,3]]}
[]
["Race",{"$f":"SCHEDULE!C111","v":"Senior C Women 10"},{"$f":"SCHEDULE!E111","v":3},{"$f":"SCHEDULE!D111","v":200},"Sched Time","Start time"]
[39,null,{"$f":"SCHEDULE!F111","v":1},null,{"$f":"SCHEDULE!A111","v":"12.48"}]
["Position","Teams",null,"Race time","Lane","Finish time"]
[1,{"$f":"SCHEDULE!G111","v":"SADA Sonix Yellow"},null,{"$f":"IF(F5=0,\"\",F5-$F$3)","v":""},1]
[2,{"$f":"SCHEDULE!H111","v":"FNC"},null,"",2]
[3,{"$f":"SCHEDULE!I111","v":"Dragons Afloat Bendigo"},null,"",3]
[4,{"$f":"SCHEDULE!J111","v":"Dragons Afloat Port Lincoln"},null,"",4]
[5,{"$f":"SCHEDULE!K111","v":"Motley Crew"},null,"",5]
[6,{"$f":"SCHEDULE!L111","v":"Mildura"},null,"",6]
[7,{"$f":"SCHEDULE!M111","v":" "},null,"",7]
[8,{"$f":"SCHEDULE!N111","v":" "},null,"",8]
[9,{"$f":"SCHEDULE!O111","v":" "},null,"",9]

{"sheet":"40","index":68,"n_rows":13,"n_cols":6,"rows_kept":13,"cut":false,"hidden":true,"merged":[[1,1,2,1],[1,3,2,3]]}
[]
["Race",{"$f":"SCHEDULE!C112","v":"Senior C Women 10"},{"$f":"SCHEDULE!E112","v":3},{"$f":"SCHEDULE!D112","v":200},"Sched Time","Start time"]
[40,null,{"$f":"SCHEDULE!F112","v":2},null,{"$f":"SCHEDULE!A112","v":"12.54"}]
["Position","Teams",null,"Race time","Lane","Finish time"]
[1,{"$f":"SCHEDULE!G112","v":"DA Bendigo Blue"},null,{"$f":"IF(F5=0,\"\",F5-$F$3)","v":""},1]
[2,{"$f":"SCHEDULE!H112","v":"Southern Warriors Blue"},null,"",2]
[3,{"$f":"SCHEDULE!I112","v":"Gippsland Orange"},null,"",3]
[4,{"$f":"SCHEDULE!J112","v":"Newcastle Dragon Hunters Red"},null,"",4]
[5,{"$f":"SCHEDULE!K112","v":"Juggernauts"},null,"",5]
[6,{"$f":"SCHEDULE!L112","v":"Kangaroo Island Dragons"},null,"",6]
[7,{"$f":"SCHEDULE!M112","v":" "},null,"",7]
[8,{"$f":"SCHEDULE!N112","v":" "},null,"",8]
[9,{"$f":"SCHEDULE!O112","v":" "},null,"",9]

{"sheet":"41","index":69,"n_rows":13,"n_cols":6,"rows_kept":13,"cut":false,"hidden":true,"merged":[[1,1,2,1],[1,3,2,3]]}
[]
["Race",{"$f":"SCHEDULE!C113","v":"Senior C Women 10"},{"$f":"SCHEDULE!E113","v":3},{"$f":"SCHEDULE!D113","v":200},"Sched Time","Start time"]
[41,null,{"$f":"SCHEDULE!F113","v":3},null,{"$f":"SCHEDULE!A113","v":"13.00"}]
["Position","Teams",null,"Race time","Lane","Finish time"]
[1,{"$f":"SCHEDULE!G113","v":"Scd Warrnambool"},null,{"$f":"IF(F5=0,\"\",F5-$F$3)","v":""},1]
[2,{"$f":"SCHEDULE!H113","v":"Rainbow Dragons Blue"},null,"",2]
[3,{"$f":"SCHEDULE!I113","v":"Deepwater Purple"},null,"",3]
[4,{"$f":"SCHEDULE!J113","v":"Hunter River Dragons"},null,"",4]
[5,{"$f":"SCHEDULE!K113","v":"Outback Dragons"},null,"",5]
[6,{"$f":"SCHEDULE!L113","v":"Powerblades"},null,"",6]
[7,{"$f":"SCHEDULE!M113","v":" "},null,"",7]
[8,{"$f":"SCHEDULE!N113","v":" "},null,"",8]
[9,{"$f":"SCHEDULE!O113","v":" "},null,"",9]

{"sheet":"42","index":70,"n_rows":13,"n_cols":6,"rows_kept":13,"cut":false,"hidden":true,"merged":[[1,1,2,1],[1,3,2,3]]}
[]
["Race",{"$f":"SCHEDULE!C114","v":"Senior C Women 10"},{"$f":"SCHEDULE!E114","v":3},{"$f":"SCHEDULE!D114","v":200},"Sched Time","Start time"]
[42,null,{"$f":"SCHEDULE!F114","v":4},null,{"$f":"SCHEDULE!A114","v":"13.06"}]
["Position","Teams",null,"Race time","Lane","Finish time"]
[1,{"$f":"SCHEDULE!G114","v":"Peninsula Dragonfly"},null,{"$f":"IF(F5=0,\"\",F5-$F$3)","v":""},1]
[2,{"$f":"SCHEDULE!J114","v":"DA Bendigo Pink"},null,"",4]
[3,{"$f":"SCHEDULE!I114","v":"SADA Sonix Blue"},null,"",3]
[4,{"$f":"SCHEDULE!H114","v":"Gypsy Dragons"},null,"",2]
[5,{"$f":"SCHEDULE!K114","v":"Deepwater Green"},null,"",5]
[6,{"$f":"SCHEDULE!L114","v":"Rainbow Dragons Red"},null,"",6]
[7,{"$f":"SCHEDULE!M114","v":" "},null,"",7]
[8,{"$f":"SCHEDULE!N114","v":" "},null,"",8]
[9,{"$f":"SCHEDULE!O114","v":" "},null,"",9]

{"sheet":"43","index":71,"n_rows":13,"n_cols":6,"rows_kept":13,"cut":false,"hidden":true,"merged":[[1,1,2,1],[1,3,2,3]]}
[]
["Race",{"$f":"SCHEDULE!C115","v":"Senior C Women 10"},{"$f":"SCHEDULE!E115","v":3},{"$f":"SCHEDULE!D115","v":200},"Sched Time","Start time"]
[43,null,{"$f":"SCHEDULE!F115","v":5},null,{"$f":"SCHEDULE!A115","v":"13.12"}]
["Position","Teams",null,"Race time","Lane","Finish time"]
[1,{"$f":"SCHEDULE!G115","v":"Gippsland Blue"},null,{"$f":"IF(F5=0,\"\",F5-$F$3)","v":""},1]
[2,{"$f":"SCHEDULE!H115","v":"Black Sea Dragons"},null,"",2]
[3,{"$f":"SCHEDULE!I115","v":"Kombo Dragons Black"},null,"",3]
[4,{"$f":"SCHEDULE!J115","v":"Golden Dragons"},null,"",4]
[5,{"$f":"SCHEDULE!K115","v":"Southern Warriors White"},null,"",5]
[6,{"$f":"SCHEDULE!L115","v":"Newcastle Dragon Hunters Purple"},null,"",6]
[7,{"$f":"SCHEDULE!M115","v":"Dragon Masters"},null,"",7]
[8,{"$f":"SCHEDULE!N115","v":" "},null,"",8]
[9,{"$f":"SCHEDULE!O115","v":" "},null,"",9]

{"sheet":"44","index":72,"n_rows":13,"n_cols":6,"rows_kept":13,"cut":false,"hidden":true,"merged":[[1,1,2,1],[1,3,2,3]]}
[]
["Race",{"$f":"SCHEDULE!C116","v":"Senior C Open 10's"},{"$f":"SCHEDULE!E116","v":3},{"$f":"SCHEDULE!D116","v":200},"Sched Time","Start time"]
[44,null,{"$f":"SCHEDULE!F116","v":1},null,{"$f":"SCHEDULE!A116","v":"13.18"}]
["Position","Teams",null,"Race time","Lane","Finish time"]
[1,{"$f":"SCHEDULE!G116","v":"Rainbow Dragons"},null,{"$f":"IF(F5=0,\"\",F5-$F$3)","v":""},1]
[2,{"$f":"SCHEDULE!I116","v":"Gippsland United"},null,"",3]
[3,{"$f":"SCHEDULE!H116","v":"Hunter River Dragons"},null,"",2]
[4,{"$f":"SCHEDULE!J116","v":"Motley Crew"},null,"",4]
[5,{"$f":"SCHEDULE!K116","v":"FNC"},null,"",5]
[6,{"$f":"SCHEDULE!L116","v":"Southern Warriors Blue"},null,"",6]
[7,{"$f":"SCHEDULE!M116","v":" "},null,"",7]
[8,{"$f":"SCHEDULE!N116","v":" "},null,"",8]
[9,{"$f":"SCHEDULE!O116","v":" "},null,"",9]

{"sheet":"45","index":73,"n_rows":13,"n_cols":6,"rows_kept":13,"cut":false,"hidden":true,"merged":[[1,1,2,1],[1,3,2,3]]}
[]
["Race",{"$f":"SCHEDULE!C117","v":"Senior C Open 10's"},{"$f":"SCHEDULE!E117","v":2},{"$f":"SCHEDULE!D117","v":200},"Sched Time","Start time"]
[45,null,{"$f":"SCHEDULE!F117","v":2},null,{"$f":"SCHEDULE!A117","v":"13.24"}]
["Position","Teams",null,"Race time","Lane","Finish time"]
[1,{"$f":"SCHEDULE!G117","v":"Kombo Dragons Purple"},null,{"$f":"IF(F5=0,\"\",F5-$F$3)","v":""},1]
[2,{"$f":"SCHEDULE!H117","v":"Dragon Masters"},null,"",2]
[3,{"$f":"SCHEDULE!I117","v":"Outback Dragons"},null,"",3]
[4,{"$f":"SCHEDULE!J117","v":"Kangaroo Island Dragons"},null,"",4]
[5,{"$f":"SCHEDULE!K117","v":"Gypsy Dragons"},null,"",5]
[6,{"$f":"SCHEDULE!L117","v":"Southern Warriors White"},null,"",6]
[7,{"$f":"SCHEDULE!M117","v":"Powerblades"},null,"",7]
[8,{"$f":"SCHEDULE!N117","v":" "},null,"",8]
[9,{"$f":"SCHEDULE!O117","v":" "},null,"",9]

{"sheet":"46","index":74,"n_rows":13,"n_cols":6,"rows_kept":13,"cut":false,"hidden":true,"merged":[[1,1,2,1],[1,3,2,3]]}
[]
["Race",{"$f":"SCHEDULE!C118","v":"Senior C Open 10's"},{"$f":"SCHEDULE!E118","v":3},{"$f":"SCHEDULE!D118","v":200},"Sched Time","Start time"]
[46,null,{"$f":"SCHEDULE!F118","v":3},null,{"$f":"SCHEDULE!A118","v":"13.30"}]
["Position","Teams",null,"Race time","Lane","Finish time"]
[1,{"$f":"SCHEDULE!G118","v":"SADA Sonix"},null,{"$f":"IF(F5=0,\"\",F5-$F$3)","v":""},1]
[2,{"$f":"SCHEDULE!H118","v":"Kombo Dragons Black"},null,"",2]
[3,{"$f":"SCHEDULE!I118","v":"Mildura"},null,"",3]
[4,{"$f":"SCHEDULE!J118","v":"ASA"},null,"",4]
[5,{"$f":"SCHEDULE!K118","v":"Deepwater"},null,"",5]
[6,{"$f":"SCHEDULE!L118","v":"Newcastle Dragon Hunters Red"},null,"",6]
[7,{"$f":"SCHEDULE!M118","v":" "},null,"",7]
[8,{"$f":"SCHEDULE!N118","v":" "},null,"",8]
[9,{"$f":"SCHEDULE!O118","v":" "},null,"",9]

{"sheet":"47","index":75,"n_rows":13,"n_cols":6,"rows_kept":13,"cut":false,"hidden":true,"merged":[[1,1,2,1],[1,3,2,3]]}
[]
["Race",{"$f":"SCHEDULE!C119","v":"BCS 10"},{"$f":"SCHEDULE!E119","v":3},{"$f":"SCHEDULE!D119","v":200},"Sched Time","Start time"]
[47,null,{"$f":"SCHEDULE!F119","v":1},null,{"$f":"SCHEDULE!A119","v":"13.36"}]
["Position","Teams",null,"Race time","Lane","Finish time"]
[1,{"$f":"SCHEDULE!G119","v":"DA Bendigo Pink"},null,{"$f":"IF(F5=0,\"\",F5-$F$3)","v":""},1]
[2,{"$f":"SCHEDULE!H119","v":"Dragons Abreast Adelaide"},null,"",2]
[3,{"$f":"SCHEDULE!I119","v":"ASA"},null,"",3]
[4,{"$f":"SCHEDULE!J119","v":"SADA Sonix"},null,"",4]
[5,{"$f":"SCHEDULE!K119","v":" "},null,"",5]
[6,{"$f":"SCHEDULE!L119","v":" "},null,"",6]
[7,{"$f":"SCHEDULE!M119","v":" "},null,"",7]
[8,{"$f":"SCHEDULE!N119","v":" "},null,"",8]
[9,{"$f":"SCHEDULE!O119","v":" "},null,"",9]

{"sheet":"48","index":76,"n_rows":13,"n_cols":6,"rows_kept":13,"cut":false,"hidden":true,"merged":[[1,1,2,1],[1,3,2,3]]}
[]
["Race",{"$f":"SCHEDULE!C120","v":"BCS 10"},{"$f":"SCHEDULE!E120","v":3},{"$f":"SCHEDULE!D120","v":200},"Sched Time","Start time"]
[48,null,{"$f":"SCHEDULE!F120","v":2},null,{"$f":"SCHEDULE!A120","v":"13.42"}]
["Position","Teams",null,"Race time","Lane","Finish time"]
[1,{"$f":"SCHEDULE!G120","v":"Pink Dragons"},null,{"$f":"IF(F5=0,\"\",F5-$F$3)","v":""},1]
[2,{"$f":"SCHEDULE!H120","v":"Rainbow Dragons"},null,"",2]
[3,{"$f":"SCHEDULE!I120","v":"DA Bendigo Blue"},null,"",3]
[4,{"$f":"SCHEDULE!J120","v":"Juggernauts"},null,"",4]
[5,{"$f":"SCHEDULE!K120","v":"Motley Crew"},null,"",5]
[6,{"$f":"SCHEDULE!L120","v":" "},null,"",6]
[7,{"$f":"SCHEDULE!M120","v":" "},null,"",7]
[8,{"$f":"SCHEDULE!N120","v":" "},null,"",8]
[9,{"$f":"SCHEDULE!O120","v":" "},null,"",9]

{"sheet":"49","index":77,"n_rows":13,"n_cols":6,"rows_kept":13,"cut":false,"hidden":true,"merged":[[1,1,2,1],[1,3,2,3]]}
[]
["Race",{"$f":"SCHEDULE!C121","v":"Senior B Women 10"},{"$f":"SCHEDULE!E121","v":3},{"$f":"SCHEDULE!D121","v":200},"Sched Time","Start time"]
[49,null,{"$f":"SCHEDULE!F121","v":1},null,{"$f":"SCHEDULE!A121","v":"13.48"}]
["Position","Teams",null,"Race time","Lane","Finish time"]
[1,{"$f":"SCHEDULE!G121","v":"Dragons Afloat Bendigo"},null,{"$f":"IF(F5=0,\"\",F5-$F$3)","v":""},1]
[2,{"$f":"SCHEDULE!H121","v":"Dragons Afloat Port Lincoln"},null,"",2]
[3,{"$f":"SCHEDULE!I121","v":"SCD Warrnambool"},null,"",3]
[4,{"$f":"SCHEDULE!J121","v":"Outback Dragons"},null,"",4]
[5,{"$f":"SCHEDULE!K121","v":"Sada Sonix Yellow"},null,"",5]
[6,{"$f":"SCHEDULE!L121","v":"Powerblades"},null,"",6]
[7,{"$f":"SCHEDULE!M121","v":" "},null,"",7]
[8,{"$f":"SCHEDULE!N121","v":" "},null,"",8]
[9,{"$f":"SCHEDULE!O121","v":" "},null,"",9]

{"sheet":"50","index":78,"n_rows":13,"n_cols":6,"rows_kept":13,"cut":false,"hidden":true,"merged":[[1,1,2,1],[1,3,2,3]]}
[]
["Race",{"$f":"SCHEDULE!C122","v":"Senior B Women 10"},{"$f":"SCHEDULE!E122","v":3},{"$f":"SCHEDULE!D122","v":200},"Sched Time","Start time"]
[50,null,{"$f":"SCHEDULE!F122","v":2},null,{"$f":"SCHEDULE!A122","v":"13.54"}]
["Position","Teams",null,"Race time","Lane","Finish time"]
[1,{"$f":"SCHEDULE!G122","v":"Newcastle Dragon Hunters Red"},null,{"$f":"IF(F5=0,\"\",F5-$F$3)","v":""},1]
[2,{"$f":"SCHEDULE!H122","v":"Kombo Dragons Purple"},null,"",2]
[3,{"$f":"SCHEDULE!I122","v":"Broadwater Dragons"},null,"",3]
[4,{"$f":"SCHEDULE!J122","v":"Mildura"},null,"",4]
[5,{"$f":"SCHEDULE!K122","v":"Gypsy Dragons"},null,"",5]
[6,{"$f":"SCHEDULE!L122","v":"Deepwater"},null,"",6]
[7,{"$f":"SCHEDULE!M122","v":"Gippsland United"},null,"",7]
[8,{"$f":"SCHEDULE!N122","v":" "},null,"",8]
[9,{"$f":"SCHEDULE!O122","v":" "},null,"",9]

{"sheet":"51","index":79,"n_rows":13,"n_cols":6,"rows_kept":13,"cut":false,"hidden":true,"merged":[[1,1,2,1],[1,3,2,3]]}
[]
["Race",{"$f":"SCHEDULE!C123","v":"Senior B Women 10"},{"$f":"SCHEDULE!E123","v":3},{"$f":"SCHEDULE!D123","v":200},"Sched Time","Start time"]
[51,null,{"$f":"SCHEDULE!F123","v":3},null,{"$f":"SCHEDULE!A123","v":"14.00"}]
["Position","Teams",null,"Race time","Lane","Finish time"]
[1,{"$f":"SCHEDULE!G123","v":"Juggernauts"},null,{"$f":"IF(F5=0,\"\",F5-$F$3)","v":""},1]
[2,{"$f":"SCHEDULE!H123","v":"Hunter River Dragons"},null,"",2]
[3,{"$f":"SCHEDULE!I123","v":"Goolwa River Dragons"},null,"",3]
[4,{"$f":"SCHEDULE!J123","v":"FNC"},null,"",4]
[5,{"$f":"SCHEDULE!K123","v":"Kombo Dragons Black"},null,"",5]
[6,{"$f":"SCHEDULE!L123","v":"Newcastle Dragon Hunters Purple"},null,"",6]
[7,{"$f":"SCHEDULE!M123","v":" "},null,"",7]
[8,{"$f":"SCHEDULE!N123","v":" "},null,"",8]
[9,{"$f":"SCHEDULE!O123","v":" "},null,"",9]

{"sheet":"52","index":80,"n_rows":13,"n_cols":6,"rows_kept":13,"cut":false,"hidden":true,"merged":[[1,1,2,1],[1,3,2,3]]}
[]
["Race",{"$f":"SCHEDULE!C124","v":"Senior B Women 10"},{"$f":"SCHEDULE!E124","v":3},{"$f":"SCHEDULE!D124","v":200},"Sched Time","Start time"]
[52,null,{"$f":"SCHEDULE!F124","v":4},null,{"$f":"SCHEDULE!A124","v":"14.06"}]
["Position","Teams",null,"Race time","Lane","Finish time"]
[1,{"$f":"SCHEDULE!G124","v":"Black Sea Dragons"},null,{"$f":"IF(F5=0,\"\",F5-$F$3)","v":""},1]
[2,{"$f":"SCHEDULE!J124","v":"SADA Sonix Blue"},null,"",4]
[3,{"$f":"SCHEDULE!I124","v":"DA Bendigo"},null,"",3]
[4,{"$f":"SCHEDULE!H124","v":"Southern Warriors"},null,"",2]
[5,{"$f":"SCHEDULE!K124","v":"Golden Dragons"},null,"",5]
[6,{"$f":"SCHEDULE!L124","v":"Dragonfire"},null,"",6]
[7,{"$f":"SCHEDULE!M124","v":" "},null,"",7]
[8,{"$f":"SCHEDULE!N124","v":" "},null,"",8]
[9,{"$f":"SCHEDULE!O124","v":" "},null,"",9]

{"sheet":"53","index":81,"n_rows":13,"n_cols":6,"rows_kept":13,"cut":false,"hidden":true,"merged":[[1,1,2,1],[1,3,2,3]]}
[]
["Race",{"$f":"SCHEDULE!C125","v":"Senior B Open 10"},{"$f":"SCHEDULE!E125","v":3},{"$f":"SCHEDULE!D125","v":200},"Sched Time","Start time"]
[53,null,{"$f":"SCHEDULE!F125","v":1},null,{"$f":"SCHEDULE!A125","v":"14.12"}]
["Position","Teams",null,"Race time","Lane","Finish time"]
[1,{"$f":"SCHEDULE!G125","v":"Hunter River Dragons"},null,{"$f":"IF(F5=0,\"\",F5-$F$3)","v":""},1]
[2,{"$f":"SCHEDULE!H125","v":"Deepwater"},null,"",2]
[3,{"$f":"SCHEDULE!I125","v":"Kombo Dragons Black"},null,"",3]
[4,{"$f":"SCHEDULE!J125","v":"Southern Warriors"},null,"",4]
[5,{"$f":"SCHEDULE!K125","v":"Goolwa River Dragons"},null,"",5]
[6,{"$f":"SCHEDULE!L125","v":"Newcastle Dragon Hunters Red"},null,"",6]
[7,{"$f":"SCHEDULE!M125","v":" "},null,"",7]
[8,{"$f":"SCHEDULE!N125","v":" "},null,"",8]
[9,{"$f":"SCHEDULE!O125","v":" "},null,"",9]

{"sheet":"54","index":82,"n_rows":13,"n_cols":6,"rows_kept":13,"cut":false,"hidden":true,"merged":[[1,1,2,1],[1,3,2,3]]}
[]
["Race",{"$f":"SCHEDULE!C126","v":"Senior B Open 10"},{"$f":"SCHEDULE!E126","v":3},{"$f":"SCHEDULE!D126","v":200},"Sched Time","Start time"]
[54,null,{"$f":"SCHEDULE!F126","v":2},null,{"$f":"SCHEDULE!A126","v":"14.18"}]
["Position","Teams",null,"Race time","Lane","Finish time"]
[1,{"$f":"SCHEDULE!G126","v":"SADA Sonix"},null,{"$f":"IF(F5=0,\"\",F5-$F$3)","v":""},1]
[2,{"$f":"SCHEDULE!I126","v":"ASA"},null,"",3]
[3,{"$f":"SCHEDULE!H126","v":"Outback Dragons"},null,"",2]
[4,{"$f":"SCHEDULE!J126","v":"Gippsland United"},null,"",4]
[5,{"$f":"SCHEDULE!K126","v":"Dragonfire"},null,"",5]
[6,{"$f":"SCHEDULE!L126","v":"Kombo Dragons Green"},null,"",6]
[7,{"$f":"SCHEDULE!M126","v":" "},null,"",7]
[8,{"$f":"SCHEDULE!N126","v":" "},null,"",8]
[9,{"$f":"SCHEDULE!O126","v":" "},null,"",9]

{"sheet":"55","index":83,"n_rows":13,"n_cols":6,"rows_kept":13,"cut":false,"hidden":true,"merged":[[1,1,2,1],[1,3,2,3]]}
[]
["Race",{"$f":"SCHEDULE!C127","v":"Senior B Open 10"},{"$f":"SCHEDULE!E127","v":3},{"$f":"SCHEDULE!D127","v":200},"Sched Time","Start time"]
[55,null,{"$f":"SCHEDULE!F127","v":3},null,{"$f":"SCHEDULE!A127","v":"14.24"}]
["Position","Teams",null,"Race time","Lane","Finish time"]
[1,{"$f":"SCHEDULE!G127","v":"Black Sea Dragons"},null,{"$f":"IF(F5=0,\"\",F5-$F$3)","v":""},1]
[2,{"$f":"SCHEDULE!H127","v":"Gypsy Dragons"},null,"",2]
[3,{"$f":"SCHEDULE!I127","v":"Mildura"},null,"",3]
[4,{"$f":"SCHEDULE!J127","v":"Kombo Dragons Purple"},null,"",4]
[5,{"$f":"SCHEDULE!K127","v":"Mannum"},null,"",5]
[6,{"$f":"SCHEDULE!L127","v":" "},null,"",6]
[7,{"$f":"SCHEDULE!M127","v":" "},null,"",7]
[8,{"$f":"SCHEDULE!N127","v":" "},null,"",8]
[9,{"$f":"SCHEDULE!O127","v":" "},null,"",9]

{"sheet":"56","index":84,"n_rows":13,"n_cols":6,"rows_kept":13,"cut":false,"hidden":true,"merged":[[1,1,2,1],[1,3,2,3]]}
[]
["Race",{"$f":"SCHEDULE!C128","v":"BCS 20"},{"$f":"SCHEDULE!E128","v":3},{"$f":"SCHEDULE!D128","v":200},"Sched Time","Start time"]
[56,null,{"$f":"SCHEDULE!F128","v":1},null,{"$f":"SCHEDULE!A128","v":"14.30"}]
["Position","Teams",null,"Race time","Lane","Finish time"]
[1,{"$f":"SCHEDULE!G128","v":" "},null,{"$f":"IF(F5=0,\"\",F5-$F$3)","v":""},1]
[2,{"$f":"SCHEDULE!H128","v":"Juggernauts"},null,"",2]
[3,{"$f":"SCHEDULE!I128","v":"DA Bendigo"},null,"",3]
[4,{"$f":"SCHEDULE!J128","v":"Dragons Afloat Port Lincoln"},null,"",4]
[5,{"$f":"SCHEDULE!K128","v":" "},null,"",5]
[6,{"$f":"SCHEDULE!L128","v":" "},null,"",6]
[7,{"$f":"SCHEDULE!M128","v":" "},null,"",7]
[8,{"$f":"SCHEDULE!N128","v":" "},null,"",8]
[9,{"$f":"SCHEDULE!O128","v":" "},null,"",9]

{"sheet":"57","index":85,"n_rows":13,"n_cols":6,"rows_kept":13,"cut":false,"hidden":true,"merged":[[1,1,2,1],[1,3,2,3]]}
[]
["Race",{"$f":"SCHEDULE!C129","v":"Senior B Women 20"},{"$f":"SCHEDULE!E129","v":3},{"$f":"SCHEDULE!D129","v":200},"Sched Time","Start time"]
[57,null,{"$f":"SCHEDULE!F129","v":1},null,{"$f":"SCHEDULE!A129","v":"14.36"}]
["Position","Teams",null,"Race time","Lane","Finish time"]
[1,{"$f":"SCHEDULE!G129","v":"Newcastle Dragon Hunters Red"},null,{"$f":"IF(F5=0,\"\",F5-$F$3)","v":""},1]
[2,{"$f":"SCHEDULE!H129","v":"Deepwater Green"},null,"",2]
[3,{"$f":"SCHEDULE!I129","v":"Gippsland United"},null,"",3]
[4,{"$f":"SCHEDULE!J129","v":"SADA Sonix"},null,"",4]
[5,{"$f":"SCHEDULE!K129","v":"Hunter River Dragons"},null,"",5]
[6,{"$f":"SCHEDULE!L129","v":"Motley Crew"},null,"",6]
[7,{"$f":"SCHEDULE!M129","v":"Southern Warriors"},null,"",7]
[8,{"$f":"SCHEDULE!N129","v":" "},null,"",8]
[9,{"$f":"SCHEDULE!O129","v":" "},null,"",9]

{"sheet":"58","index":86,"n_rows":13,"n_cols":6,"rows_kept":13,"cut":false,"hidden":true,"merged":[[1,1,2,1],[1,3,2,3]]}
[]
["Race",{"$f":"SCHEDULE!C131","v":"Senior B Open 20"},{"$f":"SCHEDULE!E131","v":3},{"$f":"SCHEDULE!D131","v":200},"Sched Time","Start time"]
[58,null,{"$f":"SCHEDULE!F131","v":1},null,{"$f":"SCHEDULE!A131","v":"14.48"}]
["Position","Teams",null,"Race time","Lane","Finish time"]
[1,{"$f":"SCHEDULE!G131","v":"Hunter River Dragons"},null,{"$f":"IF(F5=0,\"\",F5-$F$3)","v":""},1]
[2,{"$f":"SCHEDULE!H131","v":"Gypsy Dragons"},null,"",2]
[3,{"$f":"SCHEDULE!I131","v":"Newcastle Dragon Hunters Red"},null,"",3]
[4,{"$f":"SCHEDULE!J131","v":"Southern Warriors"},null,"",4]
[5,{"$f":"SCHEDULE!K131","v":"Gippsland United"},null,"",5]
[6,{"$f":"SCHEDULE!L131","v":" "},null,"",6]
[7,{"$f":"SCHEDULE!M131","v":" "},null,"",7]
[8,{"$f":"SCHEDULE!N131","v":" "},null,"",8]
[9,{"$f":"SCHEDULE!O131","v":" "},null,"",9]

{"sheet":"59","index":87,"n_rows":13,"n_cols":6,"rows_kept":13,"cut":false,"hidden":true,"merged":[[1,1,2,1],[1,3,2,3]]}
[]
["Race",{"$f":"SCHEDULE!C132","v":"Senior B Open 20"},{"$f":"SCHEDULE!E132","v":3},{"$f":"SCHEDULE!D132","v":200},"Sched Time","Start time"]
[59,null,{"$f":"SCHEDULE!F132","v":2},null,{"$f":"SCHEDULE!A132","v":"14.54"}]
["Position","Teams",null,"Race time","Lane","Finish time"]
[1,{"$f":"SCHEDULE!G132","v":"Outback Dragons"},null,{"$f":"IF(F5=0,\"\",F5-$F$3)","v":""},1]
[2,{"$f":"SCHEDULE!H132","v":"Newcastle Dragon Hunters Purple"},null,"",2]
[3,{"$f":"SCHEDULE!I132","v":"Motley Crew"},null,"",3]
[4,{"$f":"SCHEDULE!J132","v":"Kombo Dragons"},null,"",4]
[5,{"$f":"SCHEDULE!K132","v":"Deepwater"},null,"",5]
[6,{"$f":"SCHEDULE!L132","v":" "},null,"",6]
[7,{"$f":"SCHEDULE!M132","v":" "},null,"",7]
[8,{"$f":"SCHEDULE!N132","v":" "},null,"",8]
[9,{"$f":"SCHEDULE!O132","v":" "},null,"",9]

{"sheet":"60","index":88,"n_rows":13,"n_cols":6,"rows_kept":13,"cut":false,"hidden":true,"merged":[[1,1,2,1],[1,3,2,3]]}
[]
["Race",{"$f":"SCHEDULE!#REF!","v":{"$error":"#REF!"}},{"$f":"SCHEDULE!#REF!","v":{"$error":"#REF!"}},{"$f":"SCHEDULE!#REF!","v":{"$error":"#REF!"}},"Sched Time","Start time"]
[60,null,{"$f":"SCHEDULE!#REF!","v":{"$error":"#REF!"}},null,{"$f":"SCHEDULE!#REF!","v":{"$error":"#REF!"}}]
["Position","Teams",null,"Race time","Lane","Finish time"]
[1,{"$f":"SCHEDULE!#REF!","v":{"$error":"#REF!"}},null,{"$f":"IF(F5=0,\"\",F5-$F$3)","v":""},1]
[2,{"$f":"SCHEDULE!#REF!","v":{"$error":"#REF!"}},null,"",2]
[3,{"$f":"SCHEDULE!#REF!","v":{"$error":"#REF!"}},null,"",3]
[4,{"$f":"SCHEDULE!#REF!","v":{"$error":"#REF!"}},null,"",4]
[5,{"$f":"SCHEDULE!#REF!","v":{"$error":"#REF!"}},null,"",5]
[6,{"$f":"SCHEDULE!#REF!","v":{"$error":"#REF!"}},null,"",6]
[7,{"$f":"SCHEDULE!#REF!","v":{"$error":"#REF!"}},null,"",7]
[8,{"$f":"SCHEDULE!#REF!","v":{"$error":"#REF!"}},null,"",8]
[9,{"$f":"SCHEDULE!#REF!","v":{"$error":"#REF!"}},null,"",9]

{"sheet":"Ladder","index":89,"n_rows":59,"n_cols":6,"rows_kept":59,"cut":false,"hidden":true,"merged":[[8,0,8,7]]}
[]
[]
[]
[]
[]
[]
[]
[]
["Season Ladder 2003 -04"]
[]
[null,"Open 20's","500m","Round 1","Season Total","Position"]
[null,"Powerblades",null,null,{"$f":"D12","v":0},1]
[null,"Subsonix",null,null,{"$f":"D13","v":0},2]
[null,"Sea Dragons",null,null,{"$f":"D14","v":0},3]
[]
[null,"Open 20's","250m","Round 1","Season Total","Position"]
[null,"Powerblades",null,null,{"$f":"D17","v":0},1]
[null,"Water Warriors",null,null,{"$f":"D18","v":0},2]
[null,"Subsonix",null,null,{"$f":"D19","v":0},3]
[null,"Sea Dragons",null,null,{"$f":"D20","v":0},4]
[]
[null,"Mixed 20's","500m","Round 1","Season Total","Position"]
[null,"Powerblades 1",null,null,{"$f":"D23","v":0},1]
[null,"Sea Dragons",null,null,0,2]
[null,"Water Warriors",null,null,0,3]
[null,"Subsonix",null,null,0,4]
[null,"Powerblades 2",null,null,0,5]
[null,"SA Vipers",null,null,0,6]
[]
[null,"Mixed 20's","250m","Round 1","Season Total","Position"]
[null,"Powerblades 1",null,null,{"$f":"D31","v":0},1]
[null,"Water Warriors",null,null,{"$f":"D32","v":0},2]
[null,"Sea Dragons",null,null,{"$f":"D33","v":0},3]
[null,"Powerblades 2",null,null,{"$f":"D34","v":0},4]
[null,"SA Vipers",null,null,{"$f":"D35","v":0},5]
[]
[null,"Open 10's","250m","Round 1","Season Total","Position"]
[null,"Subsonix",null,null,{"$f":"D38","v":0},1]
[null,"Black Dragons",null,null,{"$f":"D39","v":0},2]
[null,"Sea Dragons",null,null,{"$f":"D40","v":0},3]
[]
[null,"Women's 10's","250m","Round 1","Season Total","Position"]
[null,"Subsonix",null,null,{"$f":"D43","v":0},1]
[null,"Sea Dragons",null,null,0,1]
[null,"Powerblades",null,null,0,3]
[null,"Water Warriors",null,null,0,4]
[null,"SA Vipers",null,null,0,5]
[null,"Dragons Abreast",null,null,0,6]
[]
[null,"Masters (40+)","500m","Round 1","Season Total","Position"]
[null,"Powerblades",null,null,{"$f":"D51","v":0},1]
[null,"Sea Dragons",null,null,{"$f":"D52","v":0},2]
[null,"Subsonix",null,null,{"$f":"D53","v":0},3]
[null,"SA Vipers",null,null,{"$f":"D54","v":0},4]
[]
[null,"Social","250m","Round 1","Season Total","Position"]
[null,"Sea Dragons",null,null,{"$f":"D57","v":0},1]
[null,"Wounded Water Warriors",null,null,{"$f":"D58","v":0},2]
[null,"Dragons Abreast",null,null,{"$f":"D59","v":0},3]

{"sheet":"SEASON","index":90,"n_rows":36,"n_cols":42,"rows_kept":36,"cut":false,"hidden":true,"merged":[[19,26,19,33],[19,34,19,41],[1,2,1,9],[19,2,19,9],[19,10,19,17],[19,18,19,25],[1,10,1,17],[1,18,1,25],[1,26,1,33],[1,34,1,41]]}
[]
[{"$f":"(List_Names!B3)","v":"B Grade  "},"TOTAL","EVENT 1",null,null,null,null,null,null,null,"EVENT 2",null,null,null,null,null,null,null,"EVENT 3",null,null,null,null,null,null,null,"EVENT 4",null,null,null,null,null,null,null,"EVENT 5"]
[{"$f":"(List_Names!C3)","v":"200m"},"SEASON","Race 1",null,null,null,null,null,"Total time","Pts","Race 1",null,null,null,null,null,"Total time","Pts","Race 1",null,null,null,null,null,"Total time","Pts","Race 1",null,null,null,null,null,"Total time","Pts","Race 1",null,null,null,null,null,"Total time","Pts"]
[{"$f":"(List_Names!#REF!)","v":{"$error":"#REF!"}},null,null,null,null,null,null,null,{"$f":"SUM(C4:H4)","v":"00:00:00"},null,null,null,null,null,null,null,{"$f":"SUM(K4:P4)","v":"00:00:00"},null,null,null,null,null,null,null,{"$f":"SUM(S4:X4)","v":"00:00:00"},null,null,null,null,null,null,null,{"$f":"SUM(AA4:AF4)","v":"00:00:00"},null,null,null,null,null,null,null,{"$f":"SUM(AI4:AN4)","v":"00:00:00"}]
[null,null,null,null,null,null,null,null,"00:00:00",null,null,null,null,null,null,null,"00:00:00",null,null,null,null,null,null,null,"00:00:00",null,null,null,null,null,null,null,"00:00:00",null,null,null,null,null,null,null,"00:00:00"]
[null,null,null,null,null,null,null,null,"00:00:00",null,null,null,null,null,null,null,"00:00:00",null,null,null,null,null,null,null,"00:00:00",null,null,null,null,null,null,null,"00:00:00",null,null,null,null,null,null,null,"00:00:00"]
[null,null,null,null,null,null,null,null,"00:00:00",null,null,null,null,null,null,null,"00:00:00",null,null,null,null,null,null,null,"00:00:00",null,null,null,null,null,null,null,"00:00:00",null,null,null,null,null,null,null,"00:00:00"]
[null,null,null,null,null,null,null,null,{"$f":"SUM(C8:H8)","v":"00:00:00"},null,null,null,null,null,null,null,"00:00:00",null,null,null,null,null,null,null,"00:00:00",null,null,null,null,null,null,null,"00:00:00",null,null,null,null,null,null,null,"00:00:00"]
[null,null,null,null,null,null,null,null,"00:00:00",null,null,null,null,null,null,null,"00:00:00",null,null,null,null,null,null,null,"00:00:00",null,null,null,null,null,null,null,"00:00:00",null,null,null,null,null,null,null,"00:00:00"]
[null,null,null,null,null,null,null,null,"00:00:00",null,null,null,null,null,null,null,"00:00:00",null,null,null,null,null,null,null,"00:00:00",null,null,null,null,null,null,null,"00:00:00",null,null,null,null,null,null,null,"00:00:00"]
[null,null,null,null,null,null,null,null,"00:00:00",null,null,null,null,null,null,null,"00:00:00",null,null,null,null,null,null,null,"00:00:00",null,null,null,null,null,null,null,"00:00:00",null,null,null,null,null,null,null,"00:00:00"]
[null,null,null,null,null,null,null,null,{"$f":"SUM(C12:H12)","v":"00:00:00"},null,null,null,null,null,null,null,"00:00:00",null,null,null,null,null,null,null,"00:00:00",null,null,null,null,null,null,null,"00:00:00",null,null,null,null,null,null,null,"00:00:00"]
[null,null,null,null,null,null,null,null,"00:00:00",null,null,null,null,null,null,null,"00:00:00",null,null,null,null,null,null,null,"00:00:00",null,null,null,null,null,null,null,"00:00:00",null,null,null,null,null,null,null,"00:00:00"]
[null,null,null,null,null,null,null,null,"00:00:00",null,null,null,null,null,null,null,"00:00:00",null,null,null,null,null,null,null,"00:00:00",null,null,null,null,null,null,null,"00:00:00",null,null,null,null,null,null,null,"00:00:00"]
[null,null,null,null,null,null,null,null,"00:00:00",null,null,null,null,null,null,null,"00:00:00",null,null,null,null,null,null,null,"00:00:00",null,null,null,null,null,null,null,"00:00:00",null,null,null,null,null,null,null,"00:00:00"]
[null,null,null,null,null,null,null,null,{"$f":"SUM(C16:H16)","v":"00:00:00"},null,null,null,null,null,null,null,"00:00:00",null,null,null,null,null,null,null,"00:00:00",null,null,null,null,null,null,null,"00:00:00",null,null,null,null,null,null,null,"00:00:00"]
[null,null,null,null,null,null,null,null,"00:00:00",null,null,null,null,null,null,null,"00:00:00",null,null,null,null,null,null,null,"00:00:00",null,null,null,null,null,null,null,"00:00:00",null,null,null,null,null,null,null,"00:00:00"]
[null,null,null,null,null,null,null,null,"00:00:00",null,null,null,null,null,null,null,"00:00:00",null,null,null,null,null,null,null,"00:00:00",null,null,null,null,null,null,null,"00:00:00",null,null,null,null,null,null,null,"00:00:00"]
[]
[{"$f":"(List_Names!B21)","v":"Snr A Open 20"},"TOTAL","EVENT 1",null,null,null,null,null,null,null,"EVENT 2",null,null,null,null,null,null,null,"EVENT 3",null,null,null,null,null,null,null,"EVENT 4",null,null,null,null,null,null,null,"EVENT 5"]
[{"$f":"(List_Names!C21)","v":0},"SEASON","Race 1",null,null,null,null,null,"Total time","Pts","Race 1",null,null,null,null,null,"Total time","Pts","Race 1",null,null,null,null,null,"Total time","Pts","Race 1",null,null,null,null,null,"Total time","Pts","Race 1",null,null,null,null,null,"Total time","Pts"]
[{"$f":"(List_Names!F30)","v":0},null,null,null,null,null,null,null,{"$f":"SUM(C22:H22)","v":"00:00:00"},null,null,null,null,null,null,null,{"$f":"SUM(K22:P22)","v":"00:00:00"},null,null,null,null,null,null,null,{"$f":"SUM(S22:X22)","v":"00:00:00"},null,null,null,null,null,null,null,{"$f":"SUM(AA22:AF22)","v":"00:00:00"},null,null,null,null,null,null,null,{"$f":"SUM(AI22:AN22)","v":"00:00:00"}]
[null,null,null,null,null,null,null,null,"00:00:00",null,null,null,null,null,null,null,"00:00:00",null,null,null,null,null,null,null,"00:00:00",null,null,null,null,null,null,null,"00:00:00",null,null,null,null,null,null,null,"00:00:00"]
[null,null,null,null,null,null,null,null,"00:00:00",null,null,null,null,null,null,null,"00:00:00",null,null,null,null,null,null,null,"00:00:00",null,null,null,null,null,null,null,"00:00:00",null,null,null,null,null,null,null,"00:00:00"]
[null,null,null,null,null,null,null,null,"00:00:00",null,null,null,null,null,null,null,"00:00:00",null,null,null,null,null,null,null,"00:00:00",null,null,null,null,null,null,null,"00:00:00",null,null,null,null,null,null,null,"00:00:00"]
[null,null,null,null,null,null,null,null,"00:00:00",null,null,null,null,null,null,null,"00:00:00",null,null,null,null,null,null,null,"00:00:00",null,null,null,null,null,null,null,"00:00:00",null,null,null,null,null,null,null,"00:00:00"]
[null,null,null,null,null,null,null,null,"00:00:00",null,null,null,null,null,null,null,"00:00:00",null,null,null,null,null,null,null,"00:00:00",null,null,null,null,null,null,null,"00:00:00",null,null,null,null,null,null,null,"00:00:00"]
[null,null,null,null,null,null,null,null,"00:00:00",null,null,null,null,null,null,null,"00:00:00",null,null,null,null,null,null,null,"00:00:00",null,null,null,null,null,null,null,"00:00:00",null,null,null,null,null,null,null,"00:00:00"]
[null,null,null,null,null,null,null,null,"00:00:00",null,null,null,null,null,null,null,"00:00:00",null,null,null,null,null,null,null,"00:00:00",null,null,null,null,null,null,null,"00:00:00",null,null,null,null,null,null,null,"00:00:00"]
[null,null,null,null,null,null,null,null,"00:00:00",null,null,null,null,null,null,null,"00:00:00",null,null,null,null,null,null,null,"00:00:00",null,null,null,null,null,null,null,"00:00:00",null,null,null,null,null,null,null,"00:00:00"]
[null,null,null,null,null,null,null,null,{"$f":"SUM(C31:H31)","v":"00:00:00"},null,null,null,null,null,null,null,"00:00:00",null,null,null,null,null,null,null,"00:00:00",null,null,null,null,null,null,null,"00:00:00",null,null,null,null,null,null,null,"00:00:00"]
[null,null,null,null,null,null,null,null,"00:00:00",null,null,null,null,null,null,null,"00:00:00",null,null,null,null,null,null,null,"00:00:00",null,null,null,null,null,null,null,"00:00:00",null,null,null,null,null,null,null,"00:00:00"]
[null,null,null,null,null,null,null,null,"00:00:00",null,null,null,null,null,null,null,"00:00:00",null,null,null,null,null,null,null,"00:00:00",null,null,null,null,null,null,null,"00:00:00",null,null,null,null,null,null,null,"00:00:00"]
[null,null,null,null,null,null,null,null,"00:00:00",null,null,null,null,null,null,null,"00:00:00",null,null,null,null,null,null,null,"00:00:00",null,null,null,null,null,null,null,"00:00:00",null,null,null,null,null,null,null,"00:00:00"]
[null,null,null,null,null,null,null,null,"00:00:00",null,null,null,null,null,null,null,"00:00:00",null,null,null,null,null,null,null,"00:00:00",null,null,null,null,null,null,null,"00:00:00",null,null,null,null,null,null,null,"00:00:00"]
[null,null,null,null,null,null,null,null,"00:00:00",null,null,null,null,null,null,null,"00:00:00",null,null,null,null,null,null,null,"00:00:00",null,null,null,null,null,null,null,"00:00:00",null,null,null,null,null,null,null,"00:00:00"]

{"sheet":"TIMECODE","index":91,"n_rows":7,"n_cols":24,"rows_kept":7,"cut":false,"hidden":true,"merged":[[3,0,3,23],[6,0,6,23]]}
[]
[]
[]
["TIMECODE"]
[1,2,3,4,5,6,7,8,9,10,11,12,13,14,15,16,17,18,19,20,21,22,23,24]
[0.04,0.08,0.12,0.16,0.2,0.24,0.28000000000000003,0.32,0.36,0.4,0.44,0.48,0.52,0.56000000000000005,0.6,0.64,0.68,0.72,0.76,0.8,0.84,0.88,0.92,0.96]
["100th Sec"]